{"text_format":"1","workbook":"xlsx","n_sheets":19,"sheets":["Guidance","HWB ID","Payment for Performance","1. HWB Funding Sources","2. Summary","3. HWB Expenditure Plan","4. HWB Benefits Plan","Intro","5. HWB P4P metric","6. HWB Supporting Metrics","7. Metric trends","List of Modifications","a","Extraction sheet","8.Non-elective admissions - CCG","9.Non-elective admissions - Map","10.Non-elective admissions -HWB","Data","Sheet2"],"not_rendered":{"charts":4,"images":0,"macros":1,"external_links":0,"defined_names":23,"comments":3,"pivot_tables":1},"unopened":[],"bounds":{"document_bytes":16777216,"sheet_cells":100000,"rows_first":2000,"rows_last":500,"rows_between":2000,"halvings":0,"cell_chars":16384,"cell_head_chars":4096},"cells_cut":0,"cells_raw":0,"read":"whole","date_system":"1900"}

{"sheet":"Guidance","index":0,"n_rows":0,"n_cols":0,"rows_kept":0,"cut":false,"hidden":true,"merged":[]}

{"sheet":"HWB ID","index":1,"n_rows":51,"n_cols":11,"rows_kept":51,"cut":false,"hidden":false,"merged":[[47,4,47,8],[48,4,48,8],[49,4,49,8],[50,4,50,8],[38,4,38,8],[39,4,39,8],[40,4,40,8],[11,4,11,8],[23,4,23,8],[12,4,12,8],[24,4,24,8],[25,4,25,8],[43,2,45,2],[32,4,34,8],[43,4,45,8],[18,4,20,8],[18,2,20,2],[32,2,34,2],[41,4,41,8],[26,4,26,8]]}
[null,null,"Health and Wellbeing Board Details",null,null,null,null,null,null,"ROCR approval applied for"]
[null,null,null,null,null,null,null,null,null,"Version 3"]
[null,null,"Please select Health and Wellbeing Board:"]
[]
[null,null,"Devon",{"$f":"VLOOKUP(C5,a!$P$2:$Q$154,2,FALSE)","v":"E10000008"}]
[]
[]
[]
[]
[null,null,null,null,"Please provide:",null,null,null,null,null,"subcode"]
[null,null,"Description","Blank1","Name","Blank2","Blank3","Blank4","Blank5","Blank6","subcode"]
[null,null,null,null,"<Contact Name>",null,null,null,null,null,100]
[null,null,null,null,"<Contact Email>",null,null,null,null,null,200]
[]
[]
[]
[null,null,"Signed on behalf of the Council:"]
[null,null,"Description","Blank1","Name","Blank2","Blank3","Blank4","Blank5","Blank6","subcode"]
[null,null,null,null,null,null,null,null,null,null,"S01"]
[null,null,null,null,null,null,null,null,null,null,"S02"]
[null,null,null,null,null,null,null,null,null,null,"S03"]
[null,null,null,null,null,null,null,null,null,null,"B01"]
[null,null,null,null,null,null,null,null,null,null,"B02"]
[null,null,"<Print Name>",null,"<Print Name>",null,null,null,null,null,100]
[null,null,"<Organisation>",null,"<Organisation>",null,null,null,null,null,101]
[null,null,"<Date>",null,"<Date>",null,null,null,null,null,102]
[null,null,"<Position>",null,"<Position>",null,null,null,null,null,103]
[]
[]
[]
[null,null,"Signed on behalf of the CCG(s):"]
[null,null,"Description","Blank1","Name","Blank2","Blank3","Blank4","Blank5","Blank6","subcode"]
[null,null,null,null,null,null,null,null,null,null,"S01"]
[null,null,null,null,null,null,null,null,null,null,"S02"]
[null,null,null,null,null,null,null,null,null,null,"S03"]
[null,null,null,null,null,null,null,null,null,null,"B01"]
[null,null,null,null,null,null,null,null,null,null,"B02"]
[null,null,null,null,null,null,null,null,null,null,"B03"]
[null,null,"<Print Name>",null,"<Print Name>",null,null,null,null,null,100]
[null,null,"<Organisation>",null,"<Organisation>",null,null,null,null,null,101]
[null,null,"<Date>",null,"<Date>",null,null,null,null,null,102]
[null,null,"<Position>",null,"<Position>",null,null,null,null,null,103]
[null,null,null,null,null,null,null,null,null,null,"B04"]
[null,null,null,null,null,null,null,null,null,null,"S04"]
[null,null,null,null,null,null,null,null,null,null,"S05"]
[null,null,null,null,null,null,null,null,null,null,"S06"]
[null,null,null,null,null,null,null,null,null,null,"B05"]
[null,null,"<Print Name>",null,"<Print Name>",null,null,null,null,null,200]
[null,null,"<Organisation>",null,"<Organisation>",null,null,null,null,null,201]
[null,null,"<Date>",null,"<Date>",null,null,null,null,null,202]
[null,null,"<Position>",null,"<Position>",null,null,null,null,null,203]

{"sheet":"Payment for Performance","index":2,"n_rows":27,"n_cols":10,"rows_kept":27,"cut":false,"hidden":false,"merged":[[4,4,4,7]]}
["Health and Wellbeing Board Payment for Performance"]
["There is no need to enter any data on this sheet. All values will be populated from entries elsewhere in the template"]
[]
[{"$f":"'HWB ID'!C5","v":"Devon"}]
[null,null,null,null,"2015/16 Quarterly Breakdown of P4P"]
["1. Reduction in non elective activity","Numbers","Subcode"]
[null,null,"B01",null,null,"Q4 14/15","Q1 15/16","Q2 15/16","Q3 15/16","Subcode"]
[null,null,"B02",null,null,null,null,null,null,"B01"]
["Baseline of Non Elective Activity (Q4 13/14 - Q3 14/15)",{"$f":"I9","v":78857},100,null,"Cumulative Quarterly Baseline of Non Elective Activity",{"$f":"'5. HWB P4P metric'!C10","v":19612},{"$f":"'5. HWB P4P metric'!D10+F9","v":38955},{"$f":"'5. HWB P4P metric'!E10+G9","v":58777},{"$f":"'5. HWB P4P metric'!F10+H9","v":78857},100]
[null,null,"B03",null,null,null,null,null,null,"B02"]
["Change in Non Elective Activity",{"$f":"I11","v":-2761},200,null,"Cumulative Change in Non Elective Activity",{"$f":"'5. HWB P4P metric'!G10-'5. HWB P4P metric'!C10","v":-687},{"$f":"'5. HWB P4P metric'!H10-'5. HWB P4P metric'!D10+F11","v":-1364},{"$f":"'5. HWB P4P metric'!I10-'5. HWB P4P metric'!E10+G11","v":-2058},{"$f":"'5. HWB P4P metric'!J10-'5. HWB P4P metric'!F10+H11","v":-2761},200]
[null,null,"B04",null,null,null,null,null,null,"B03"]
["% Change in Non Elective Activity",{"$f":"IFERROR(B11/B9,0)","v":-3.5012744588305417E-2},300,null,"Cumulative % Change in Non Elective Activity",{"$f":"F11/$I$9","v":-8.7119723042976532E-3},{"$f":"G11/$I$9","v":-1.7297132784660843E-2},{"$f":"H11/$I$9","v":-2.6097873365712621E-2},{"$f":"I11/$I$9","v":-3.5012744588305417E-2},300]
[null,null,"B05",null,null,null,null,null,null,"B04"]
[null,null,"B06",null,null,null,null,null,null,"B05"]
["2. Calculation of Performance and NHS Commissioned Ringfenced Funds",null,"T01",null,null,null,null,null,null,"B06"]
["Figures in £",null,"T02",null,null,null,null,null,null,"B07"]
[null,null,"B07",null,null,null,null,null,null,"B08"]
["Financial Value of Non Elective Saving/ Performance Fund",{"$f":"IF('5. HWB P4P metric'!H14<0,0,'5. HWB P4P metric'!H14)","v":4113890},400,null,"Financial Value of Non Elective Saving/ Performance Fund (£)",{"$f":"MIN(IF(F11/$I$11*$B$19<0,0,F11/$I$11*$B$19),B19)","v":1023630},{"$f":"MIN(IF(G11/$I$11*$B$19-F19<0,0,G11/$I$11*$B$19-F19),B19-F19)","v":1008730},{"$f":"MIN(IF(H11/$I$11*$B$19-G19-F19<0,0,H11/$I$11*$B$19-G19-F19),B19-G19-F19)","v":1034060},{"$f":"MIN(IF(I11/$I$11*$B$19-H19-G19-F19<0,0,I11/$I$11*$B$19-H19-G19-F19),B19-H19-G19-F19)","v":1047470},400]
[null,null,"B08"]
["Combined total of Performance and Ringfenced Funds",{"$f":"IFERROR(VLOOKUP(A4,a!$AU$4:$AV$156,2,FALSE)*1000,0)","v":14522543.352601156},500]
[null,null,"B09"]
["Ringfenced Fund",{"$f":"IF(B21-B19<0,0,B21-B19)","v":10408653.352601156},600]
[null,null,"B10"]
["Value of NHS Commissioned Services",{"$f":"'3. HWB Expenditure Plan'!N109*1000","v":26344119.246382978},700]
[null,null,"B11"]
["Shortfall of Contribution to NHS Commissioned Services",{"$f":"IF((B23-B25)<0,0,(B23-B25))","v":0},800]

{"sheet":"1. HWB Funding Sources","index":3,"n_rows":57,"n_cols":4,"rows_kept":57,"cut":false,"hidden":false,"merged":[[6,1,6,2]]}
["Health and Wellbeing Funding Sources"]
[]
[]
[{"$f":"'HWB ID'!C5","v":"Devon"},{"$f":"VLOOKUP(A4,a!$AA$3:$AB$154,2,FALSE)","v":"E10000008"}]
[]
["Please complete white cells"]
[null,"Gross Contribution (£000)"]
["Headings","2014/15","2015/16","Subcode"]
["Local Authority Social Services",null,null,"T01"]
["Devon",16538,9162,100]
["<Please select Local Authority>",null,null,101]
["<Please select Local Authority>"]
["<Please select Local Authority>"]
["<Please select Local Authority>",null,null,102]
["<Please select Local Authority>",null,null,103]
["<Please select Local Authority>",null,null,104]
["Total Local Authority Contribution",{"$f":"SUM(B10:B16)","v":16538},{"$f":"SUM(C10:C16)","v":9162},"TT1"]
[null,null,null,"B01"]
["CCG Minimum Contribution",null,null,"T02"]
[{"$f":"IF(ISERROR(VLOOKUP($A$4&ROW()-19,a!$AM$3:$AP$347,3,FALSE)),\"-\",VLOOKUP($A$4&ROW()-19,a!$AM$3:$AP$347,3,FALSE))","v":"NHS South Devon and Torbay CCG"},null,{"$f":"IF(ISERROR(VLOOKUP($A$4&ROW()-19,a!$AM$3:$AP$347,4,FALSE)),\"-\",VLOOKUP($A$4&ROW()-19,a!$AM$3:$AP$347,4,FALSE))","v":10262},200]
[{"$f":"IF(ISERROR(VLOOKUP($A$4&ROW()-19,a!$AM$3:$AP$347,3,FALSE)),\"-\",VLOOKUP($A$4&ROW()-19,a!$AM$3:$AP$347,3,FALSE))","v":"NHS North, East, West Devon CCG"},null,{"$f":"IF(ISERROR(VLOOKUP($A$4&ROW()-19,a!$AM$3:$AP$347,4,FALSE)),\"-\",VLOOKUP($A$4&ROW()-19,a!$AM$3:$AP$347,4,FALSE))","v":39986},201]
[{"$f":"IF(ISERROR(VLOOKUP($A$4&ROW()-19,a!$AM$3:$AP$347,3,FALSE)),\"-\",VLOOKUP($A$4&ROW()-19,a!$AM$3:$AP$347,3,FALSE))","v":"-"},null,{"$f":"IF(ISERROR(VLOOKUP($A$4&ROW()-19,a!$AM$3:$AP$347,4,FALSE)),\"-\",VLOOKUP($A$4&ROW()-19,a!$AM$3:$AP$347,4,FALSE))","v":"-"},202]
[{"$f":"IF(ISERROR(VLOOKUP($A$4&ROW()-19,a!$AM$3:$AP$347,3,FALSE)),\"-\",VLOOKUP($A$4&ROW()-19,a!$AM$3:$AP$347,3,FALSE))","v":"-"},null,{"$f":"IF(ISERROR(VLOOKUP($A$4&ROW()-19,a!$AM$3:$AP$347,4,FALSE)),\"-\",VLOOKUP($A$4&ROW()-19,a!$AM$3:$AP$347,4,FALSE))","v":"-"},203]
[{"$f":"IF(ISERROR(VLOOKUP($A$4&ROW()-19,a!$AM$3:$AP$347,3,FALSE)),\"-\",VLOOKUP($A$4&ROW()-19,a!$AM$3:$AP$347,3,FALSE))","v":"-"},null,{"$f":"IF(ISERROR(VLOOKUP($A$4&ROW()-19,a!$AM$3:$AP$347,4,FALSE)),\"-\",VLOOKUP($A$4&ROW()-19,a!$AM$3:$AP$347,4,FALSE))","v":"-"},204]
[{"$f":"IF(ISERROR(VLOOKUP($A$4&ROW()-19,a!$AM$3:$AP$347,3,FALSE)),\"-\",VLOOKUP($A$4&ROW()-19,a!$AM$3:$AP$347,3,FALSE))","v":"-"},null,{"$f":"IF(ISERROR(VLOOKUP($A$4&ROW()-19,a!$AM$3:$AP$347,4,FALSE)),\"-\",VLOOKUP($A$4&ROW()-19,a!$AM$3:$AP$347,4,FALSE))","v":"-"},205]
[{"$f":"IF(ISERROR(VLOOKUP($A$4&ROW()-19,a!$AM$3:$AP$347,3,FALSE)),\"-\",VLOOKUP($A$4&ROW()-19,a!$AM$3:$AP$347,3,FALSE))","v":"-"},null,{"$f":"IF(ISERROR(VLOOKUP($A$4&ROW()-19,a!$AM$3:$AP$347,4,FALSE)),\"-\",VLOOKUP($A$4&ROW()-19,a!$AM$3:$AP$347,4,FALSE))","v":"-"},206]
["Total Minimum CCG Contribution",{"$f":"SUM(B20:B25)","v":0},{"$f":"SUM(C20:C26)","v":50248},"TT2"]
[null,null,null,"B02"]
["CCG Share of £1.1bn Contribution to Social Care",null,null,"T02"]
[{"$f":"IF(ISERROR(VLOOKUP($A$4&ROW()-26,a!$AX$2:$BA$244,3,FALSE)),\"-\",VLOOKUP($A$4&ROW()-26,a!$AX$2:$BA$244,3,FALSE))","v":"-"},null,{"$f":"IF(ISERROR(VLOOKUP($A$4&ROW()-26,a!$AX$2:$BA$244,4,FALSE)),\"-\",VLOOKUP($A$4&ROW()-26,a!$AX$2:$BA$244,4,FALSE))","v":"-"},300]
[{"$f":"IF(ISERROR(VLOOKUP($A$4&ROW()-26,a!$AX$2:$BA$244,3,FALSE)),\"-\",VLOOKUP($A$4&ROW()-26,a!$AX$2:$BA$244,3,FALSE))","v":"-"},null,{"$f":"IF(ISERROR(VLOOKUP($A$4&ROW()-26,a!$AX$2:$BA$244,4,FALSE)),\"-\",VLOOKUP($A$4&ROW()-26,a!$AX$2:$BA$244,4,FALSE))","v":"-"},301]
[{"$f":"IF(ISERROR(VLOOKUP($A$4&ROW()-26,a!$AX$2:$BA$244,3,FALSE)),\"-\",VLOOKUP($A$4&ROW()-26,a!$AX$2:$BA$244,3,FALSE))","v":"-"},null,{"$f":"IF(ISERROR(VLOOKUP($A$4&ROW()-26,a!$AX$2:$BA$244,4,FALSE)),\"-\",VLOOKUP($A$4&ROW()-26,a!$AX$2:$BA$244,4,FALSE))","v":"-"},302]
[{"$f":"IF(ISERROR(VLOOKUP($A$4&ROW()-26,a!$AX$2:$BA$244,3,FALSE)),\"-\",VLOOKUP($A$4&ROW()-26,a!$AX$2:$BA$244,3,FALSE))","v":"-"},null,{"$f":"IF(ISERROR(VLOOKUP($A$4&ROW()-26,a!$AX$2:$BA$244,4,FALSE)),\"-\",VLOOKUP($A$4&ROW()-26,a!$AX$2:$BA$244,4,FALSE))","v":"-"},303]
[{"$f":"IF(ISERROR(VLOOKUP($A$4&ROW()-26,a!$AX$2:$BA$244,3,FALSE)),\"-\",VLOOKUP($A$4&ROW()-26,a!$AX$2:$BA$244,3,FALSE))","v":"-"},null,{"$f":"IF(ISERROR(VLOOKUP($A$4&ROW()-26,a!$AX$2:$BA$244,4,FALSE)),\"-\",VLOOKUP($A$4&ROW()-26,a!$AX$2:$BA$244,4,FALSE))","v":"-"},304]
[{"$f":"IF(ISERROR(VLOOKUP($A$4&ROW()-26,a!$AX$2:$BA$244,3,FALSE)),\"-\",VLOOKUP($A$4&ROW()-26,a!$AX$2:$BA$244,3,FALSE))","v":"-"},null,{"$f":"IF(ISERROR(VLOOKUP($A$4&ROW()-26,a!$AX$2:$BA$244,4,FALSE)),\"-\",VLOOKUP($A$4&ROW()-26,a!$AX$2:$BA$244,4,FALSE))","v":"-"},305]
["Total Minimum CCG Share of £1.1bn Contribution to Social Care",{"$f":"SUM(B30:B35)","v":0},{"$f":"SUM(C30:C35)","v":0},"TT2"]
[null,null,null,"B03"]
["CCG Share of £2.4m Minimum Contribution",null,null,"T03"]
[{"$f":"A20","v":"NHS South Devon and Torbay CCG"},null,{"$f":"IF(ISERROR(C20-IF(ISERROR(VLOOKUP(A39,$A$30:$C$35,3,FALSE)),0,VLOOKUP(A39,$A$30:$C$35,3,FALSE))),\"-\",C20-IF(ISERROR(VLOOKUP(A39,$A$30:$C$35,3,FALSE)),0,VLOOKUP(A39,$A$30:$C$35,3,FALSE)))","v":10262},400]
["NHS North, East, West Devon CCG",null,39986,401]
["-",null,"-",402]
["-",null,"-",403]
["-",null,"-",404]
["-",null,"-",405]
["Total CCG Share of Minimum £2.4bn Contribution",{"$f":"SUM(B39:B44)","v":0},{"$f":"SUM(C39:C44)","v":50248},"TT3"]
[null,null,null,"B04"]
["Additional CCG Contribution",null,null,"T04"]
["NHS South Devon and Torbay CCG",702,277,500]
["NHS North, East, West Devon CCG",3198,null,501]
["<Please Select CCG>",null,null,502]
["<Please Select CCG>",null,null,503]
["<Please Select CCG>",null,null,504]
["<Please Select CCG>",null,null,505]
["<Please Select CCG>",null,null,506]
["Total Additional CCG Contribution",{"$f":"SUM(B48:B54)","v":3900},{"$f":"SUM(C48:C54)","v":277},"TT4"]
[null,null,null,"B05"]
["Total Contribution",{"$f":"B17+B27+B55","v":20438},{"$f":"C17+C27+C55","v":59687},"TT3"]

{"sheet":"2. Summary","index":4,"n_rows":46,"n_cols":13,"rows_kept":46,"cut":false,"hidden":false,"merged":[[43,6,43,12],[16,6,16,11],[17,6,17,11],[10,6,10,11],[9,2,9,3],[37,2,37,3],[23,2,23,3],[9,6,9,11],[11,6,11,11],[12,6,12,11],[13,6,13,11],[14,6,14,11],[18,6,18,11],[19,6,19,11],[15,6,15,11],[9,4,9,5]]}
[null,"Summary of Health and Wellbeing Board Schemes"]
[]
[]
[null,{"$f":"'1. HWB Funding Sources'!A4","v":"Devon"}]
[]
[null,"Please complete white cells"]
[]
[null,"Summary of Total BCF Expenditure"]
[null,"Figures in £000"]
[null,null,"From 3. HWB Expenditure Plan",null,"Please confirm the amount allocated for the protection of adult social care",null,"If different to the figure in cell D18, please indicate the total amount from the BCF that has been allocated for the protection of adult social care services"]
[null,"Headings","2014/15 ","2015/16","2014/15","2015/16",null,null,null,null,null,null,"subcode"]
[null,null,null,null,null,null,null,null,null,null,null,null,"B01"]
[null,"Acute",{"$f":"SUMIF('3. HWB Expenditure Plan'!$B$9:$B$108,B13,'3. HWB Expenditure Plan'!$K$9:$K$108)","v":367.13850000000002},{"$f":"SUMIF('3. HWB Expenditure Plan'!$B$9:$B$108,B13,'3. HWB Expenditure Plan'!$L$9:$L$108)","v":794.5},null,null,null,null,null,null,null,null,100]
[null,"Mental Health",{"$f":"SUMIF('3. HWB Expenditure Plan'!$B$9:$B$108,B14,'3. HWB Expenditure Plan'!$K$9:$K$108)","v":1568.4},{"$f":"SUMIF('3. HWB Expenditure Plan'!$B$9:$B$108,B14,'3. HWB Expenditure Plan'!$L$9:$L$108)","v":1657.4},null,null,null,null,null,null,null,null,101]
[null,"Community Health",{"$f":"SUMIF('3. HWB Expenditure Plan'!$B$9:$B$108,B15,'3. HWB Expenditure Plan'!$K$9:$K$108)","v":8250.2978250000015},{"$f":"SUMIF('3. HWB Expenditure Plan'!$B$9:$B$108,B15,'3. HWB Expenditure Plan'!$L$9:$L$108)","v":26776.884140000002},null,null,null,null,null,null,null,null,102]
[null,"Continuing Care",{"$f":"SUMIF('3. HWB Expenditure Plan'!$B$9:$B$108,B16,'3. HWB Expenditure Plan'!$K$9:$K$108)","v":0},{"$f":"SUMIF('3. HWB Expenditure Plan'!$B$9:$B$108,B16,'3. HWB Expenditure Plan'!$L$9:$L$108)","v":0},null,null,null,null,null,null,null,null,103]
[null,"Primary Care",{"$f":"SUMIF('3. HWB Expenditure Plan'!$B$9:$B$108,B17,'3. HWB Expenditure Plan'!$K$9:$K$108)","v":168.99852000000001},{"$f":"SUMIF('3. HWB Expenditure Plan'!$B$9:$B$108,B17,'3. HWB Expenditure Plan'!$L$9:$L$108)","v":199.4},null,null,null,null,null,null,null,null,104]
[null,"Social Care",{"$f":"SUMIF('3. HWB Expenditure Plan'!$B$9:$B$108,B18,'3. HWB Expenditure Plan'!$K$9:$K$108)","v":9548.8134005980392},{"$f":"SUMIF('3. HWB Expenditure Plan'!$B$9:$B$108,B18,'3. HWB Expenditure Plan'!$L$9:$L$108)","v":26397.4},4224,14224,null,null,null,null,null,null,105]
[null,"Other",{"$f":"SUMIF('3. HWB Expenditure Plan'!$B$9:$B$108,B19,'3. HWB Expenditure Plan'!$K$9:$K$108)","v":534},{"$f":"SUMIF('3. HWB Expenditure Plan'!$B$9:$B$108,B19,'3. HWB Expenditure Plan'!$L$9:$L$108)","v":3861},null,null,null,null,null,null,null,null,106]
[null,"Total",{"$f":"SUM(C13:C19)","v":20437.64824559804},{"$f":"SUM(D13:D19)","v":59686.584140000006},null,{"$f":"SUM(F13:F19)","v":14224},null,null,null,null,null,null,"TT1"]
[]
[null,"Summary of NHS Commissioned out of hospital services spend from MINIMUM BCF Pool"]
[null,"Figures in £000"]
[null,null,"From 3. HWB Expenditure Plan"]
[null,"Headings",null,"2015/16","subcode"]
[null,null,null,null,"B01"]
[null,null,null,null,"B01"]
[null,"Mental Health",null,{"$f":"SUMIFS('3. HWB Expenditure Plan'!$N$9:$N$108,'3. HWB Expenditure Plan'!$B$9:$B$108,B28,'3. HWB Expenditure Plan'!$F$9:$F$108,\"Joint\")+\nSUMIFS('3. HWB Expenditure Plan'!$N$9:$N$108,'3. HWB Expenditure Plan'!$B$9:$B$108,B28,'3. HWB Expenditure Plan'!$F$9:$F$108,\"NHS England\")+\nSUMIFS('3. HWB Expenditure Plan'!$N$9:$N$108,'3. HWB Expenditure Plan'!$B$9:$B$108,B28,'3. HWB Expenditure Plan'!$F$9:$F$108,\"CCG\")","v":791.2},100]
[null,"Community Health",null,{"$f":"SUMIFS('3. HWB Expenditure Plan'!$N$9:$N$108,'3. HWB Expenditure Plan'!$B$9:$B$108,B29,'3. HWB Expenditure Plan'!$F$9:$F$108,\"Joint\")+\nSUMIFS('3. HWB Expenditure Plan'!$N$9:$N$108,'3. HWB Expenditure Plan'!$B$9:$B$108,B29,'3. HWB Expenditure Plan'!$F$9:$F$108,\"NHS England\")+\nSUMIFS('3. HWB Expenditure Plan'!$N$9:$N$108,'3. HWB Expenditure Plan'!$B$9:$B$108,B29,'3. HWB Expenditure Plan'!$F$9:$F$108,\"CCG\")","v":23114.076693191491},101]
[null,"Continuing Care",null,{"$f":"SUMIFS('3. HWB Expenditure Plan'!$N$9:$N$108,'3. HWB Expenditure Plan'!$B$9:$B$108,B30,'3. HWB Expenditure Plan'!$F$9:$F$108,\"Joint\")+\nSUMIFS('3. HWB Expenditure Plan'!$N$9:$N$108,'3. HWB Expenditure Plan'!$B$9:$B$108,B30,'3. HWB Expenditure Plan'!$F$9:$F$108,\"NHS England\")+\nSUMIFS('3. HWB Expenditure Plan'!$N$9:$N$108,'3. HWB Expenditure Plan'!$B$9:$B$108,B30,'3. HWB Expenditure Plan'!$F$9:$F$108,\"CCG\")","v":0},102]
[null,"Primary Care",null,{"$f":"SUMIFS('3. HWB Expenditure Plan'!$N$9:$N$108,'3. HWB Expenditure Plan'!$B$9:$B$108,B31,'3. HWB Expenditure Plan'!$F$9:$F$108,\"Joint\")+\nSUMIFS('3. HWB Expenditure Plan'!$N$9:$N$108,'3. HWB Expenditure Plan'!$B$9:$B$108,B31,'3. HWB Expenditure Plan'!$F$9:$F$108,\"NHS England\")+\nSUMIFS('3. HWB Expenditure Plan'!$N$9:$N$108,'3. HWB Expenditure Plan'!$B$9:$B$108,B31,'3. HWB Expenditure Plan'!$F$9:$F$108,\"CCG\")","v":199.4},103]
[null,"Social Care",null,{"$f":"SUMIFS('3. HWB Expenditure Plan'!$N$9:$N$108,'3. HWB Expenditure Plan'!$B$9:$B$108,B32,'3. HWB Expenditure Plan'!$F$9:$F$108,\"Joint\")+\nSUMIFS('3. HWB Expenditure Plan'!$N$9:$N$108,'3. HWB Expenditure Plan'!$B$9:$B$108,B32,'3. HWB Expenditure Plan'!$F$9:$F$108,\"NHS England\")+\nSUMIFS('3. HWB Expenditure Plan'!$N$9:$N$108,'3. HWB Expenditure Plan'!$B$9:$B$108,B32,'3. HWB Expenditure Plan'!$F$9:$F$108,\"CCG\")","v":2027.9425531914894},104]
[null,"Other",null,{"$f":"SUMIFS('3. HWB Expenditure Plan'!$N$9:$N$108,'3. HWB Expenditure Plan'!$B$9:$B$108,B33,'3. HWB Expenditure Plan'!$F$9:$F$108,\"Joint\")+\nSUMIFS('3. HWB Expenditure Plan'!$N$9:$N$108,'3. HWB Expenditure Plan'!$B$9:$B$108,B33,'3. HWB Expenditure Plan'!$F$9:$F$108,\"NHS England\")+\nSUMIFS('3. HWB Expenditure Plan'!$N$9:$N$108,'3. HWB Expenditure Plan'!$B$9:$B$108,B33,'3. HWB Expenditure Plan'!$F$9:$F$108,\"CCG\")","v":211.5},105]
[null,"Total",null,{"$f":"SUM(D27:D33)","v":26344.119246382983},"TT1"]
[null,null,null,null,"TT1"]
[null,"Summary of Benefits"]
[null,"Figures in £000"]
[null,null,"From 4. HWB Benefits",null,"From 5.HWB P4P metric"]
[null,"Headings","2014/15 vs outturn\nfrom 4","2015/16 vs outturn\nfrom 4","2015/16\nfrom 5","Subcode"]
[null,null,null,null,null,"T01"]
[null,"Reduction in permanent residential admissions",{"$f":"SUMIF('4. HWB Benefits Plan'!$A$11:$A$111,B41,'4. HWB Benefits Plan'!$H$11:$H$111)/1000","v":-722.83199999999999},{"$f":"SUMIF('4. HWB Benefits Plan'!$A$119:$A$219,B41,'4. HWB Benefits Plan'!$H$119:$H$219)/1000","v":-1728.672},null,100]
[null,"Increased effectiveness of reablement",{"$f":"SUMIF('4. HWB Benefits Plan'!$A$11:$A$111,B42,'4. HWB Benefits Plan'!$H$11:$H$111)/1000","v":0},{"$f":"SUMIF('4. HWB Benefits Plan'!$A$119:$A$219,B42,'4. HWB Benefits Plan'!$H$119:$H$219)/1000","v":0},null,101]
[null,"Reduction in delayed transfers of care",{"$f":"SUMIF('4. HWB Benefits Plan'!$A$11:$A$111,B43,'4. HWB Benefits Plan'!$H$11:$H$111)/1000","v":-828.85},{"$f":"SUMIF('4. HWB Benefits Plan'!$A$119:$A$219,B43,'4. HWB Benefits Plan'!$H$119:$H$219)/1000","v":-1274.3499999999999},null,102]
[null,"Reduction in non-elective (general + acute only)",{"$f":"SUMIF('4. HWB Benefits Plan'!$A$11:$A$111,B44,'4. HWB Benefits Plan'!$H$11:$H$111)/1000","v":-1023.63},{"$f":"SUMIF('4. HWB Benefits Plan'!$A$119:$A$219,B44,'4. HWB Benefits Plan'!$H$119:$H$219)/1000","v":-4113.8900000000003},{"$f":"'5. HWB P4P metric'!H14/1000","v":4113.8900000000003},103,"<Please explain discrepancy between D44 and E44 if applicable>"]
[null,"Other",{"$f":"SUMIF('4. HWB Benefits Plan'!$A$11:$A$111,B45,'4. HWB Benefits Plan'!$H$11:$H$111)/1000","v":0},{"$f":"SUMIF('4. HWB Benefits Plan'!$A$119:$A$219,B45,'4. HWB Benefits Plan'!$H$119:$H$219)/1000","v":0},null,104]
[null,"Total",{"$f":"SUM(C41:C45)","v":-2575.3119999999999},{"$f":"SUM(D41:D45)","v":-7116.9120000000003},4113.8900000000003,"TT1"]

{"sheet":"3. HWB Expenditure Plan","index":5,"n_rows":109,"n_cols":18,"rows_kept":109,"cut":false,"hidden":false,"merged":[[5,1,5,11]]}
["Health and Wellbeing Board Expenditure Plan"]
[]
[{"$f":"'1. HWB Funding Sources'!A4","v":"Devon"}]
[]
["Please complete white cells (for as many rows as required):"]
[null,"Expenditure",null,null,null,null,null,null,null,null,null,null,null,null,null,null,"Acute",2]
["Scheme Name","Area of Spend","driver column","Specific Line in Financial Plan","Please specify if Other","Commissioner","if Joint % NHS","if Joint % LA","Provider","Source of Funding","2014/15 (£000)","2015/16 (£000)","Validation1415","Validation1516","subcode",null,"Mental Health",3]
[null,null,null,null,null,null,null,null,null,null,null,null,null,null,"B01"]
["Disabled Facilities Grant","Other",{"$f":"VLOOKUP(B9,$Q$3:$R$13,2,FALSE)","v":{"$error":"#N/A"}},null,"DFG","Local Authority",null,null,"Local Authority","Local Authority Social Services",0,3392,{"$f":"IF($B9=\"acute\",0,IF($F9=\"Local Authority\",0,IF(AND($J9=\"CCG Minimum Contribution\",$F9=\"Joint\"),$K9*$G9,IF($J9=\"CCG Minimum Contribution\",$K9,0))))","v":0},{"$f":"IF($B9=\"acute\",0,IF($F9=\"Local Authority\",0,IF(AND($F9=\"Joint\",$J9=\"CCG Minimum Contribution\"),$L9*$G9,IF($J9=\"CCG Minimum Contribution\",$L9,0))))","v":0},100,null,"Community Health",4]
["Enabler","Social Care",null,null,{"$f":"IF(B10=\"Other\",\"<Please specify area of spend>\",\" \")","v":" "},"Local Authority",null,null,"Local Authority","Local Authority Social Services",0,1991,0,0,101,null,"Continuing Care",5]
["Enhanced Carers offer","Community Health",null,null," ","Joint",0.43432624113475182,0.56567375886524818,"Charity/Voluntary Sector","Local Authority Social Services",0,669,0,0,102,null,"Primary Care",6]
["Enhanced Carers offer","Community Health",null,null," ","Joint",0.43432624113475182,0.56567375886524818,"Private Sector","Local Authority Social Services",0,498.5,0,0,103,null,"Other Programme Services",7]
["Enhanced Carers offer","Social Care",null,null," ","Joint",0.43432624113475182,0.56567375886524818,"Charity/Voluntary Sector","Local Authority Social Services",0,669,0,0,104,null,"Running Costs",8]
["Enhanced Carers offer","Social Care",null,null," ","Joint",0.43432624113475182,0.56567375886524818,"Private Sector","Local Authority Social Services",0,498.5,0,0,105]
["Enhanced Community Equipment Service","Community Health",null,null," ","Joint",0.6,0.4,"Charity/Voluntary Sector","Local Authority Social Services",0,686.5,0,0,106]
["Enhanced Community Equipment Service","Social Care",null,null," ","Joint",0.6,0.4,"Charity/Voluntary Sector","Local Authority Social Services",0,686.5,0,0,107]
["Frailty and Community Care","Mental Health",null,null," ","Joint",0.21978021978021978,0.78021978021978022,"Charity/Voluntary Sector","Local Authority Social Services",0,71,0,0,108]
["Enhanced Carers offer","Community Health",null,null," ","Joint",0.43432624113475182,0.56567375886524818,"Charity/Voluntary Sector","Additional CCG Contribution",0,15,0,0,109]
["Enhanced Carers offer","Social Care",null,null," ","Joint",0.43432624113475182,0.56567375886524818,"Charity/Voluntary Sector","Additional CCG Contribution",0,15,0,0,110]
["Enhanced Community Equipment Service","Community Health",null,null," ","Joint",0.6,0.4,"Charity/Voluntary Sector","Additional CCG Contribution",0,121.5,0,0,111]
["Enhanced Community Equipment Service","Social Care",null,null," ","Joint",0.6,0.4,"Charity/Voluntary Sector","Additional CCG Contribution",0,121.5,0,0,112]
["Frailty and Community Care","Mental Health",null,null," ","Joint",0.21978021978021978,0.78021978021978022,"Charity/Voluntary Sector","Additional CCG Contribution",0,4,0,0,113]
["Care Act Implementation","Social Care",null,null," ","Local Authority",null,null,"Local Authority","CCG Minimum Contribution",0,2000,0,0,114]
["Dementia Diagnosis","Mental Health",null,null," ","Joint",0.5,0.5,"Charity/Voluntary Sector","CCG Minimum Contribution",721,719,360.5,359.5,115]
["Enabler","Acute",null,null," ","CCG",null,null,"NHS Acute Provider","CCG Minimum Contribution",367.13850000000002,603.5,0,0,116]
["Enabler","Community Health",null,null," ","CCG",null,null,"NHS Community Health Provider","CCG Minimum Contribution",171.71550000000002,162.5,171.71550000000002,162.5,117]
["Enabler","Mental Health",null,null," ","Joint",0.5,0.5,"Charity/Voluntary Sector","CCG Minimum Contribution",631,631,315.5,315.5,118]
["Enabler","Mental Health",null,null," ","Joint",0.5,0.5,"Private Sector","CCG Minimum Contribution",131,131,65.5,65.5,119]
["Enabler","Other",null,null,"Joint working ","Local Authority",null,null,"Local Authority","CCG Minimum Contribution",196,180,0,0,120]
["Enabler","Other",null,null,"Joint working ","CCG",null,null,"NHS Community Health Provider","CCG Minimum Contribution",123,134,123,134,121]
["Enabler","Other",null,null,"Back office support","Joint",0.5,0.5,"Private Sector","CCG Minimum Contribution",60,0,30,0,122]
["Enabler","Primary Care",null,null,null,"CCG",null,null,"Private Sector","CCG Minimum Contribution",108.59852000000001,139,108.59852000000001,139,123]
["Enabler","Social Care",null,null,null,"Local Authority",null,null,"Charity/Voluntary Sector","CCG Minimum Contribution",37,37,0,0,124]
["Enabler","Social Care",null,null,null,"Local Authority",null,null,"Local Authority","CCG Minimum Contribution",213,124,0,0,125]
["Enabler","Social Care",null,null," ","Local Authority",null,null,"Private Sector","CCG Minimum Contribution",36,36,0,0,126]
["Enabler infrastructure - Hospital Discharge services","Community Health",null,null," ","CCG",null,null,"NHS Acute Provider","CCG Minimum Contribution",200.5,62.5,200.5,62.5,127]
["Enabler infrastructure - Hospital Discharge services","Community Health",null,null," ","CCG",null,null,"NHS Community Health Provider","CCG Minimum Contribution",342.98414000000002,342.98414000000002,342.98414000000002,342.98414000000002,128]
["Enabler infrastructure - Hospital Discharge services","Mental Health",null,null," ","Joint",0.5,0.5,"NHS Mental Health Provider","CCG Minimum Contribution",25,25,12.5,12.5,129]
["Enabler infrastructure - Hospital Discharge services","Social care",null,null," ","Local Authority",null,null,"Local Authority","CCG Minimum Contribution",168,176,0,0,130]
["Enabler infrastructure - Hospital Discharge services","Social care",null,null," ","Joint",0.5,0.5,"NHS Acute Provider","CCG Minimum Contribution",100.863355,62.5,50.431677499999999,31.25,131]
["Enhanced Carers offer","Community Health",null,null," ","Joint",0.43432624113475182,0.56567375886524818,"Charity/Voluntary Sector","CCG Minimum Contribution",0,453.25,{"$f":"IF($B41=\"acute\",0,IF($F41=\"Local Authority\",0,IF(AND($J41=\"CCG Minimum Contribution\",$F41=\"Joint\"),$K41*$G41,IF($J41=\"CCG Minimum Contribution\",$K41,0))))","v":0},{"$f":"IF($B41=\"acute\",0,IF($F41=\"Local Authority\",0,IF(AND($F41=\"Joint\",$J41=\"CCG Minimum Contribution\"),$L41*$G41,IF($J41=\"CCG Minimum Contribution\",$L41,0))))","v":196.85836879432625},132]
["Enhanced Carers offer","Community Health",null,null," ","Joint",0.43432624113475182,0.56567375886524818,"Private Sector","CCG Minimum Contribution",0,385.25,0,167.32418439716315,133]
["Enhanced Carers offer","Social Care",null,null," ","Joint",0.43432624113475182,0.56567375886524818,"Charity/Voluntary Sector","CCG Minimum Contribution",0,453.25,0,196.85836879432625,134]
["Enhanced Carers offer","Social Care",null,null," ","Joint",0.43432624113475182,0.56567375886524818,"Private Sector","CCG Minimum Contribution",0,385.25,0,167.32418439716315,135]
["Enhanced Community Equipment Service","Community Health",null,null," ","Joint",0.6,0.4,"Charity/Voluntary Sector","CCG Minimum Contribution",1939.5,2383,1163.7,1429.8,136]
["Enhanced Community Equipment Service","Social Care",null,null," ","Joint",0.6,0.4,"Charity/Voluntary Sector","CCG Minimum Contribution",1939.5,2383,1163.7,1429.8,137]
["Frailty and Community Care","Community Health",null,null," ","CCG",null,null,"Charity/Voluntary Sector","CCG Minimum Contribution",704.21268499999996,596.4,704.21268499999996,596.4,138]
["Frailty and Community Care","Community Health",null,null," ","CCG",null,null,"NHS Acute Provider","CCG Minimum Contribution",140.048,135,140.048,135,139]
["Frailty and Community Care","Community Health",null,null," ","CCG",null,null,"NHS Community Health Provider","CCG Minimum Contribution",30,{"$f":"10842+40","v":10882},30,10882,140]
["Frailty and Community Care","Mental Health",null,null," ","Joint",0.5,0.5,"Charity/Voluntary Sector","CCG Minimum Contribution",60.4,76.400000000000006,30.2,38.200000000000003,141]
["Frailty and Community Care","Other",null,null,"Community volunteering","Joint",0.5,0.5,"Charity/Voluntary Sector","CCG Minimum Contribution",155,155,77.5,77.5,142]
["Frailty and Community Care","Primary Care",null,null," ","CCG",null,null,"Charity/Voluntary Sector","CCG Minimum Contribution",60.4,60.4,60.4,60.4,143]
["Frailty and Community Care","Social Care",null,null," ","Local Authority",null,null,"Charity/Voluntary Sector","CCG Minimum Contribution",208.21268499999999,120.4,0,0,144]
["Frailty and Community Care","Social Care",null,null," ","Local Authority",null,null,"Local Authority","CCG Minimum Contribution",40,0,0,0,145]
["Frailty and Community Care","Social Care",null,null," ","Local Authority",null,null,"NHS Community Health Provider","CCG Minimum Contribution",11,11,0,0,146]
["Frailty and Community Care","Social Care",null,null," ","Local Authority",null,null,"Private Sector","CCG Minimum Contribution",9.9700000000000006,0,0,0,147]
["Rapid Response Domiciliary Care","Community Health",null,null," ","Joint",0.87,0.13,"NHS Community Health Provider","CCG Minimum Contribution",1883,1883,1638.21,1638.21,148]
["Rapid Response Domiciliary Care","Social Care",null,null,{"$f":"IF(B58=\"Other\",\"<Please specify area of spend>\",\" \")","v":" "},"Joint",0.87,0.13,"NHS Community Health Provider","CCG Minimum Contribution",233,233,202.71,202.71,{"$f":"ROW()+91","v":149}]
["Scaling up of existing services to enable reduction in admissions","Community Health",null,null," ","CCG",null,null,"NHS Community Health Provider","CCG Minimum Contribution",null,{"$f":"4743-4154","v":589},0,589,150]
["Single Point of Co-ordination","Community Health",null,null," ","CCG",null,null,"NHS Community Health Provider","CCG Minimum Contribution",207.53199999999998,226.5,207.53199999999998,226.5,151]
["Single Point of Co-ordination","Social Care",null,null," ","Local Authority",null,null,"Local Authority","CCG Minimum Contribution",164.5,176.5,0,0,152]
["Single Point of Co-ordination","Social Care",null,null," ","Local Authority",null,null,"NHS Community Health Provider","CCG Minimum Contribution",43.031999999999996,50,0,0,153]
["Social Care Reablement","Social Care",null,null," ","Local Authority",null,null,"Local Authority","CCG Minimum Contribution",600,600,0,0,154]
["Step Up Step Down Care","Community Health",null,null," ","CCG",null,null,"Local Authority","CCG Minimum Contribution",320.6105,336,320.6105,336,155]
["Step Up Step Down Care","Community Health",null,null," ","CCG",null,null,"NHS Acute Provider","CCG Minimum Contribution",79.590999999999994,75,79.590999999999994,75,156]
["Step Up Step Down Care","Community Health",null,null," ","CCG",null,null,"NHS Community Health Provider","CCG Minimum Contribution",260.60399999999998,206,260.60399999999998,206,157]
["Step Up Step Down Care","Community Health",null,null," ","CCG",null,null,"Private Sector","CCG Minimum Contribution",1970,1954,1970,1954,158]
["Step Up Step Down Care","Social Care",null,null," ","Local Authority",null,null,"Local Authority","CCG Minimum Contribution",1096.8483605980391,1113,0,0,159]
["Step Up Step Down Care","Social Care",null,null," ","Local Authority",null,null,"NHS Acute Provider","CCG Minimum Contribution",79.590999999999994,75,0,0,160]
["Step Up Step Down Care","Social Care",null,null," ","Local Authority",null,null,"NHS Community Health Provider","CCG Minimum Contribution",225.29599999999999,156,0,0,161]
["Support to social care","Social Care",null,null," ","Local Authority",null,null,"Local Authority","CCG Minimum Contribution",4343,14224,0,0,162]
["SWAST Right Care, Right Place","Acute",null,null," ","CCG",null,null,"NHS Acute Provider","CCG Minimum Contribution",null,191,0,0,163]
["Performance Fund","Community Health",null,null," ","CCG",null,null,"NHS Community Provider","CCG Minimum Contribution",null,4114,{"$f":"IF($B73=\"acute\",0,IF($F73=\"Local Authority\",0,IF(AND($J73=\"CCG Minimum Contribution\",$F73=\"Joint\"),$K73*$G73,IF($J73=\"CCG Minimum Contribution\",$K73,0))))","v":0},{"$f":"IF($B73=\"acute\",0,IF($F73=\"Local Authority\",0,IF(AND($F73=\"Joint\",$J73=\"CCG Minimum Contribution\"),$L73*$G73,IF($J73=\"CCG Minimum Contribution\",$L73,0))))","v":4114},164]
[null,null,null,null," ",null,null,null,null,null,null,null,0,0,165]
[null,null,null,null," ",null,null,null,null,null,null,null,0,0,166]
[null,null,null,null," ",null,null,null,null,null,null,null,0,0,167]
[null,null,null,null," ",null,null,null,null,null,null,null,0,0,168]
[null,null,null,null," ",null,null,null,null,null,null,null,0,0,169]
[null,null,null,null," ",null,null,null,null,null,null,null,0,0,170]
[null,null,null,null," ",null,null,null,null,null,null,null,0,0,171]
[null,null,null,null," ",null,null,null,null,null,null,null,0,0,172]
[null,null,null,null," ",null,null,null,null,null,null,null,0,0,173]
[null,null,null,null," ",null,null,null,null,null,null,null,0,0,174]
[null,null,null,null," ",null,null,null,null,null,null,null,0,0,175]
[null,null,null,null," ",null,null,null,null,null,null,null,0,0,176]
[null,null,null,null," ",null,null,null,null,null,null,null,0,0,177]
[null,null,null,null," ",null,null,null,null,null,null,null,0,0,178]
[null,null,null,null," ",null,null,null,null,null,null,null,0,0,179]
[null,null,null,null," ",null,null,null,null,null,null,null,0,0,180]
[null,null,null,null," ",null,null,null,null,null,null,null,0,0,{"$f":"ROW()+91","v":181}]
[null,null,null,null," ",null,null,null,null,null,null,null,0,0,182]
[null,null,null,null," ",null,null,null,null,null,null,null,0,0,183]
[null,null,null,null," ",null,null,null,null,null,null,null,0,0,184]
[null,null,null,null," ",null,null,null,null,null,null,null,0,0,185]
[null,null,null,null," ",null,null,null,null,null,null,null,0,0,186]
[null,null,null,null," ",null,null,null,null,null,null,null,0,0,187]
[null,null,null,null," ",null,null,null,null,null,null,null,0,0,188]
[null,null,null,null," ",null,null,null,null,null,null,null,0,0,189]
[null,null,null,null," ",null,null,null,null,null,null,null,0,0,190]
[null,null,null,null," ",null,null,null,null,null,null,null,0,0,191]
[null,null,null,null," ",null,null,null,null,null,null,null,0,0,192]
[null,null,null,null," ",null,null,null,null,null,null,null,0,0,193]
[null,null,null,null," ",null,null,null,null,null,null,null,0,0,194]
[null,null,null,null," ",null,null,null,null,null,null,null,0,0,195]
[null,null,null,null," ",null,null,null,null,null,null,null,0,0,196]
[null,null,null,null," ",null,null,null,null,null,null,null,0,0,197]
[null,null,null,null," ",null,null,null,null,null,null,null,0,0,198]
[null,null,null,null," ",null,null,null,null,null,null,null,0,0,199]
["Total",null,null,null,null,null,null,null,null,null,{"$f":"SUM(K$9:K$108)","v":20437.648245598037},59686.584140000006,9830.2480224999999,26344.119246382979,"TT1"]

{"sheet":"4. HWB Benefits Plan","index":6,"n_rows":219,"n_cols":11,"rows_kept":219,"cut":false,"hidden":false,"merged":[[7,3,7,9],[115,3,115,9],[1,2,4,8]]}
["Health and Wellbeing Board Financial Benefits Plan"]
[null,null,"If you would prefer to provide aggregated figures for the savings (columns F-J), for a group of schemes related to one benefit type (e.g. delayed transfers of care), rather than filling in figures against each of your individual schemes, then you may do so. \n\nIf so, please do this as a separate row entitled “Aggregated benefit of schemes for X”, completing columns D, F, G, I and J for that row. But please make sure you do not enter values against both the individual schemes you have listed, and the “aggregated benefit” line. This is to avoid double counting the benefits.\n\nHowever, if the aggregated benefits fall to different organisations (e.g. some to the CCG and some to the local authority) then you will need to provide one row for the aggregated benefits to each type of organisation (identifying the type of organisation in column D) with values entered in columns F-J. \n"]
[{"$f":"'1. HWB Funding Sources'!A4","v":"Devon"}]
[]
["2014/15"]
[]
["Please complete white cells (for as many rows as required):"]
[null,null,null,"2014/15"]
["Benefit achieved from","If other please specifiy","Scheme Name","Organisation to Benefit","Area of spend to benefit","Change in activity measure","Unit\n Price \n(£)","Total (Saving) \n(£)","How was the saving value calculated?","How will the savings against plan be monitored?","subcode"]
[null,null,null,null,null,null,null,null,null,null,"B01"]
["Reduction in non-elective (general + acute only)",{"$f":"IF($A11=\"Other\",\"<Please specify>\",\" \")","v":" "},"Aggregate benefit of schemes for reducing non-elective admissions","NHS Commissioner",null,-687,1490,{"$f":"$F11*$G11","v":-1023630},"Used national average unit cost","Monitoring via System Resilience Group",100]
["Reduction in non-elective (general + acute only)"," ","Enhanced community equipment service","NHS Commissioner",null,null,null,0,null,null,101]
["Reduction in non-elective (general + acute only)"," ","Frailty and community care","NHS Commissioner",null,null,null,0,null,null,102]
["Reduction in non-elective (general + acute only)"," ","SWAST Right Care","NHS Commissioner",null,null,null,0,null,null,103]
["Reduction in non-elective (general + acute only)"," ","Rapid response domiciliary care","NHS Commissioner",null,null,null,0,null,null,104]
["Reduction in non-elective (general + acute only)"," ","Social Care Reablement","NHS Commissioner",null,null,null,0,null,null,105]
["Reduction in non-elective (general + acute only)"," ","Single point of co-ordination","NHS Commissioner",null,null,null,0,null,null,106]
["Reduction in non-elective (general + acute only)"," ","Step up step down care","NHS Commissioner",null,null,null,0,null,null,107]
["Reduction in non-elective (general + acute only)"," ","Enhanced Carers Offer","NHS Commissioner",null,null,null,0,null,null,108]
["Reduction in delayed transfers of care"," ","Aggregate benefit of schemes for reducing delayed transfers of care","NHS Provider",null,-3014,275,-828850,"Average bed day cost (reference costs)","Monitoring via System Resilience Group",109]
["Reduction in delayed transfers of care"," ","Enhanced community equipment service","NHS Provider",null,null,null,0,null,null,110]
["Reduction in delayed transfers of care"," ","Frailty and community care","NHS Provider",null,null,null,0,null,null,111]
["Reduction in delayed transfers of care"," ","Enhanced Carers Offer","NHS Provider",null,null,null,0,null,null,112]
["Reduction in delayed transfers of care"," ","Rapid response domiciliary care","NHS Provider",null,null,null,0,null,null,113]
["Reduction in delayed transfers of care"," ","Social Care Reablement","NHS Provider",null,null,null,0,null,null,114]
["Reduction in delayed transfers of care"," ","Single point of co-ordination","NHS Provider",null,null,null,0,null,null,115]
["Reduction in delayed transfers of care"," ","Step up step down beds","NHS Provider",null,null,null,0,null,null,116]
["Reduction in permanent residential admissions"," ","Aggregate benefit of schemes for reducing care home admissions","Local Authority",null,-1369,528,-722832,"Calculated from average unit cost per week for residential care from PSSEX1 multiplied by numbers of weeks care avoided ","Monitoring via System Resilience Group",117]
["Reduction in permanent residential admissions"," ","Frailty and community care","Local Authority",null,null,null,0,null,null,118]
["Reduction in permanent residential admissions"," ","Enhanced Carers Offer","Local Authority",null,null,null,0,null,null,119]
["Reduction in permanent residential admissions"," ","Social Care Reablement","Local Authority",null,null,null,0,null,null,120]
["Reduction in permanent residential admissions"," ","Step up step down beds","Local Authority",null,null,null,0,null,null,121]
["Increased effectiveness of reablement"," ","Aggregate benefit of schemes for improving reablement rate","NHS Commissioner",null,null,null,0,"Improvement already included in reduction in hospital / care home admissions","Monitoring via System Resilience Group",122]
[null," ",null,null,null,null,null,0,null,null,123]
[null," ",null,null,null,null,null,0,null,null,124]
[null," ",null,null,null,null,null,0,null,null,125]
[null," ",null,null,null,null,null,0,null,null,126]
[null," ",null,null,null,null,null,0,null,null,127]
[null," ",null,null,null,null,null,0,null,null,128]
[null," ",null,null,null,null,null,0,null,null,129]
[null," ",null,null,null,null,null,0,null,null,130]
[null," ",null,null,null,null,null,0,null,null,131]
[null,{"$f":"IF($A43=\"Other\",\"<Please specify>\",\" \")","v":" "},null,null,null,null,null,{"$f":"$F43*$G43","v":0},null,null,132]
[null," ",null,null,null,null,null,0,null,null,133]
[null," ",null,null,null,null,null,0,null,null,134]
[null," ",null,null,null,null,null,0,null,null,135]
[null," ",null,null,null,null,null,0,null,null,136]
[null," ",null,null,null,null,null,0,null,null,137]
[null," ",null,null,null,null,null,0,null,null,138]
[null," ",null,null,null,null,null,0,null,null,139]
[null," ",null,null,null,null,null,0,null,null,140]
[null," ",null,null,null,null,null,0,null,null,141]
[null," ",null,null,null,null,null,0,null,null,142]
[null," ",null,null,null,null,null,0,null,null,143]
[null," ",null,null,null,null,null,0,null,null,144]
[null," ",null,null,null,null,null,0,null,null,145]
[null," ",null,null,null,null,null,0,null,null,146]
[null," ",null,null,null,null,null,0,null,null,147]
[null," ",null,null,null,null,null,0,null,null,148]
[null," ",null,null,null,null,null,0,null,null,149]
[null," ",null,null,null,null,null,0,null,null,{"$f":"ROW()+89","v":150}]
[null," ",null,null,null,null,null,0,null,null,151]
[null," ",null,null,null,null,null,0,null,null,152]
[null," ",null,null,null,null,null,0,null,null,153]
[null," ",null,null,null,null,null,0,null,null,154]
[null," ",null,null,null,null,null,0,null,null,155]
[null," ",null,null,null,null,null,0,null,null,156]
[null," ",null,null,null,null,null,0,null,null,157]
[null," ",null,null,null,null,null,0,null,null,158]
[null," ",null,null,null,null,null,0,null,null,159]
[null," ",null,null,null,null,null,0,null,null,160]
[null," ",null,null,null,null,null,0,null,null,161]
[null," ",null,null,null,null,null,0,null,null,162]
[null," ",null,null,null,null,null,0,null,null,163]
[null," ",null,null,null,null,null,{"$f":"$F75*$G75","v":0},null,null,164]
[null," ",null,null,null,null,null,0,null,null,165]
[null," ",null,null,null,null,null,0,null,null,166]
[null," ",null,null,null,null,null,0,null,null,167]
[null," ",null,null,null,null,null,0,null,null,168]
[null," ",null,null,null,null,null,0,null,null,169]
[null," ",null,null,null,null,null,0,null,null,170]
[null," ",null,null,null,null,null,0,null,null,171]
[null," ",null,null,null,null,null,0,null,null,172]
[null," ",null,null,null,null,null,0,null,null,173]
[null," ",null,null,null,null,null,0,null,null,174]
[null," ",null,null,null,null,null,0,null,null,175]
[null," ",null,null,null,null,null,0,null,null,176]
[null," ",null,null,null,null,null,0,null,null,177]
[null," ",null,null,null,null,null,0,null,null,178]
[null," ",null,null,null,null,null,0,null,null,179]
[null," ",null,null,null,null,null,0,null,null,180]
[null," ",null,null,null,null,null,0,null,null,181]
[null," ",null,null,null,null,null,0,null,null,{"$f":"ROW()+89","v":182}]
[null," ",null,null,null,null,null,0,null,null,183]
[null," ",null,null,null,null,null,0,null,null,184]
[null," ",null,null,null,null,null,0,null,null,185]
[null," ",null,null,null,null,null,0,null,null,186]
[null," ",null,null,null,null,null,0,null,null,187]
[null," ",null,null,null,null,null,0,null,null,188]
[null," ",null,null,null,null,null,0,null,null,189]
[null," ",null,null,null,null,null,0,null,null,190]
[null," ",null,null,null,null,null,0,null,null,191]
[null," ",null,null,null,null,null,0,null,null,192]
[null," ",null,null,null,null,null,0,null,null,193]
[null," ",null,null,null,null,null,0,null,null,194]
[null," ",null,null,null,null,null,0,null,null,195]
[null," ",null,null,null,null,null,0,null,null,196]
[null," ",null,null,null,null,null,0,null,null,197]
[null," ",null,null,null,null,null,0,null,null,198]
[null," ",null,null,null,null,null,0,null,null,199]
["Total"," ",null,null,null,null,null,{"$f":"SUM(H11:H110)","v":-2575312},null,null,"TT1"]
[null," "]
[null," "]
["2015/16"," "]
[null," "]
[null," ",null,"2015/16"]
["Benefit achieved from"," ","Scheme Name","Organisation to Benefit","Area of spend to benefit","Change in activity measure","Unit Price (£)","Total (Saving) (£)","How was the saving value calculated?","How will the savings against plan be monitored?","subcode"]
[null," ",null,null,null,null,null,null,null,null,"B01"]
["Reduction in non-elective (general + acute only)"," ","Aggregate benefit of schemes for reducing non-elective admissions","NHS Commissioner",null,-2761,1490,{"$f":"$F119*$G119","v":-4113890},"Used national average unit cost","Monitoring via System Resilience Group",100]
["Reduction in non-elective (general + acute only)"," ","Enhanced community equipment service","NHS Commissioner",null,null,null,0,null,null,101]
["Reduction in non-elective (general + acute only)"," ","Frailty and community care","NHS Commissioner",null,null,null,0,null,null,102]
["Reduction in non-elective (general + acute only)"," ","SWAST Right Care","NHS Commissioner",null,null,null,0,null,null,103]
["Reduction in non-elective (general + acute only)"," ","Rapid response domiciliary care","NHS Commissioner",null,null,null,0,null,null,104]
["Reduction in non-elective (general + acute only)"," ","Social Care Reablement","NHS Commissioner",null,null,null,0,null,null,105]
["Reduction in non-elective (general + acute only)"," ","Single point of co-ordination","NHS Commissioner",null,null,null,0,null,null,106]
["Reduction in non-elective (general + acute only)"," ","Step up step down care","NHS Commissioner",null,null,null,0,null,null,107]
["Reduction in non-elective (general + acute only)"," ","Enhanced Carers Offer","NHS Commissioner",null,null,null,0,null,null,108]
["Reduction in delayed transfers of care"," ","Aggregate benefit of schemes for reducing delayed transfers of care","NHS Provider",null,-4634,275,-1274350,"Average bed day cost (reference costs)","Monitoring via System Resilience Group",109]
["Reduction in delayed transfers of care"," ","Enhanced community equipment service","NHS Provider",null,null,null,0,null,null,110]
["Reduction in delayed transfers of care"," ","Frailty and community care","NHS Provider",null,null,null,0,null,null,111]
["Reduction in delayed transfers of care"," ","Enhanced Carers Offer","NHS Provider",null,null,null,0,null,null,112]
["Reduction in delayed transfers of care"," ","Rapid response domiciliary care","NHS Provider",null,null,null,0,null,null,113]
["Reduction in delayed transfers of care"," ","Social Care Reablement","NHS Provider",null,null,null,0,null,null,114]
["Reduction in delayed transfers of care"," ","Single point of co-ordination","NHS Provider",null,null,null,0,null,null,115]
["Reduction in delayed transfers of care"," ","Step up step down beds","NHS Provider",null,null,null,0,null,null,116]
["Reduction in permanent residential admissions"," ","Aggregate benefit of schemes for reducing care home admissions","Local Authority",null,-3274,528,-1728672,"Calculated from average unit cost per week for residential care from PSSEX1 multiplied by numbers of weeks care avoided ","Monitoring via System Resilience Group",117]
["Reduction in permanent residential admissions"," ","Frailty and community care","Local Authority",null,null,null,0,null,null,118]
["Reduction in permanent residential admissions"," ","Enhanced Carers Offer","Local Authority",null,null,null,0,null,null,119]
["Reduction in permanent residential admissions"," ","Social Care Reablement","Local Authority",null,null,null,0,null,null,120]
["Reduction in permanent residential admissions"," ","Step up step down beds","Local Authority",null,null,null,0,null,null,121]
["Increased effectiveness of reablement"," ","Aggregate benefit of schemes for improving reablement rate","NHS Commissioner",null,null,null,0,"Improvement already included in reduction in hospital / care home admissions","Monitoring via System Resilience Group",122]
[null,{"$f":"IF($A142=\"Other\",\"<Please specify>\",\" \")","v":" "},null,null,null,null,null,0,null,null,123]
[null," ",null,null,null,null,null,0,null,null,124]
[null," ",null,null,null,null,null,0,null,null,125]
[null," ",null,null,null,null,null,0,null,null,126]
[null," ",null,null,null,null,null,0,null,null,127]
[null," ",null,null,null,null,null,0,null,null,128]
[null," ",null,null,null,null,null,0,null,null,129]
[null," ",null,null,null,null,null,0,null,null,130]
[null," ",null,null,null,null,null,0,null,null,131]
[null," ",null,null,null,null,null,{"$f":"$F151*$G151","v":0},null,null,132]
[null," ",null,null,null,null,null,0,null,null,133]
[null," ",null,null,null,null,null,0,null,null,134]
[null," ",null,null,null,null,null,0,null,null,135]
[null," ",null,null,null,null,null,0,null,null,136]
[null," ",null,null,null,null,null,0,null,null,137]
[null,{"$f":"IF($A157=\"Other\",\"<Please specify>\",\" \")","v":" "},null,null,null,null,null,0,null,null,138]
[null," ",null,null,null,null,null,0,null,null,139]
[null," ",null,null,null,null,null,0,null,null,140]
[null," ",null,null,null,null,null,0,null,null,141]
[null," ",null,null,null,null,null,0,null,null,142]
[null," ",null,null,null,null,null,0,null,null,143]
[null," ",null,null,null,null,null,0,null,null,144]
[null," ",null,null,null,null,null,0,null,null,145]
[null," ",null,null,null,null,null,0,null,null,146]
[null," ",null,null,null,null,null,0,null,null,147]
[null," ",null,null,null,null,null,0,null,null,148]
[null," ",null,null,null,null,null,0,null,null,149]
[null," ",null,null,null,null,null,0,null,null,{"$f":"ROW()-19","v":150}]
[null," ",null,null,null,null,null,0,null,null,151]
[null," ",null,null,null,null,null,0,null,null,152]
[null," ",null,null,null,null,null,0,null,null,153]
[null," ",null,null,null,null,null,0,null,null,154]
[null," ",null,null,null,null,null,0,null,null,155]
[null," ",null,null,null,null,null,0,null,null,156]
[null," ",null,null,null,null,null,0,null,null,157]
[null," ",null,null,null,null,null,0,null,null,158]
[null," ",null,null,null,null,null,0,null,null,159]
[null," ",null,null,null,null,null,0,null,null,160]
[null," ",null,null,null,null,null,0,null,null,161]
[null," ",null,null,null,null,null,0,null,null,162]
[null," ",null,null,null,null,null,0,null,null,163]
[null," ",null,null,null,null,null,{"$f":"$F183*$G183","v":0},null,null,164]
[null," ",null,null,null,null,null,0,null,null,165]
[null," ",null,null,null,null,null,0,null,null,166]
[null," ",null,null,null,null,null,0,null,null,167]
[null," ",null,null,null,null,null,0,null,null,168]
[null," ",null,null,null,null,null,0,null,null,169]
[null," ",null,null,null,null,null,0,null,null,170]
[null," ",null,null,null,null,null,0,null,null,171]
[null," ",null,null,null,null,null,0,null,null,172]
[null," ",null,null,null,null,null,0,null,null,173]
[null," ",null,null,null,null,null,0,null,null,174]
[null," ",null,null,null,null,null,0,null,null,175]
[null," ",null,null,null,null,null,0,null,null,176]
[null," ",null,null,null,null,null,0,null,null,177]
[null," ",null,null,null,null,null,0,null,null,178]
[null," ",null,null,null,null,null,0,null,null,179]
[null," ",null,null,null,null,null,0,null,null,180]
[null," ",null,null,null,null,null,0,null,null,181]
[null," ",null,null,null,null,null,0,null,null,{"$f":"ROW()-19","v":182}]
[null," ",null,null,null,null,null,0,null,null,183]
[null," ",null,null,null,null,null,0,null,null,184]
[null," ",null,null,null,null,null,0,null,null,185]
[null," ",null,null,null,null,null,0,null,null,186]
[null," ",null,null,null,null,null,0,null,null,187]
[null," ",null,null,null,null,null,0,null,null,188]
[null," ",null,null,null,null,null,0,null,null,189]
[null," ",null,null,null,null,null,0,null,null,190]
[null," ",null,null,null,null,null,0,null,null,191]
[null," ",null,null,null,null,null,0,null,null,192]
[null," ",null,null,null,null,null,0,null,null,193]
[null," ",null,null,null,null,null,0,null,null,194]
[null," ",null,null,null,null,null,0,null,null,195]
[null," ",null,null,null,null,null,0,null,null,196]
[null," ",null,null,null,null,null,0,null,null,197]
[null," ",null,null,null,null,null,0,null,null,198]
[null," ",null,null,null,null,null,0,null,null,199]
["Total",null,null,null,null,null,null,{"$f":"SUM(H119:H218)","v":-7116912},null,null,"TT1"]

{"sheet":"Intro","index":7,"n_rows":0,"n_cols":0,"rows_kept":0,"cut":false,"hidden":true,"merged":[]}

{"sheet":"5. HWB P4P metric","index":8,"n_rows":44,"n_cols":13,"rows_kept":44,"cut":false,"hidden":false,"merged":[[17,8,17,11],[5,6,5,9],[13,5,13,6],[12,5,12,6],[11,5,11,6],[6,9,7,9],[6,10,7,10],[6,8,7,8],[12,8,14,8],[17,6,18,6],[17,2,17,5],[7,12,11,12],[40,0,40,1],[36,0,36,1],[37,0,37,1],[38,0,38,1],[39,0,39,1],[31,0,31,1],[32,0,32,1],[33,0,33,1],[34,0,34,1],[35,0,35,1],[26,0,26,1],[27,0,27,1],[28,0,28,1],[29,0,29,1],[30,0,30,1],[23,0,23,1],[22,0,22,1],[21,0,21,1],[20,0,20,1],[19,0,19,1],[43,0,46,9],[12,10,14,10],[2,0,3,6],[8,0,10,0],[6,5,7,5],[6,6,7,6],[6,7,7,7],[5,0,7,1],[6,3,7,3],[6,4,7,4],[6,2,7,2],[5,2,5,5],[24,0,24,1],[25,0,25,1],[17,0,18,1],[17,7,18,7]]}
[{"$f":"'1. HWB Funding Sources'!A4","v":"Devon"},null,null,null,null,null,null,null,"Red triangles indicate comments"]
[null,null,null,null,null,null,null,null,"Planned deterioration on baseline (or validity issue)"]
["Please complete the five white cells in the Non-Elective admissions table. Other white cells can be completed/revised as appropriate.",null,null,null,null,null,null,null,"Planned improvement on baseline of less than 3.5%"]
[null,null,null,null,null,null,null,null,"Planned improvement on baseline of 3.5% or more"]
["Non - Elective admissions (general and acute)"]
["Metric",null,"Baseline (14-15 figures are CCG plans)",null,null,null,"Pay for performance period"]
[null,null,"  Q4\n(Jan 14 - Mar 14)","  Q1\n(Apr 14 - Jun 14)","  Q2\n(Jul 14 - Sep 14)","  Q3\n(Oct 14 - Dec 14)","  Q4\n(Jan 15 - Mar 15)","  Q1\n(Apr 15 - Jun 15)","  Q2\n(Jul 15 - Sep 15)","  Q3\n(Oct 15 - Dec 15)","  Q4\n(Jan 16 - Mar 16)"]
[null,null,null,null,null,null,null,null,null,null,null,null,"Rationale for red/amber ratings"]
["Total non-elective admissions in to hospital (general & acute), all-age, per 100,000 population ","Quarterly rate",{"$f":"C10/C11*100000","v":2580.3634473229367},2544.9709443997331,2607.9932823187464,2641.938508170741,2476.6714594043665,2442.7767218621875,2503.2376050455337,2535.8236654625316,2462.7281514790729]
[null,"Numerator",{"$f":"ROUND(I41,0)","v":19612},{"$f":"ROUND(J41,0)","v":19343},19822,20080,18925,18666,19128,19377,18925]
[null,"Denominator",{"$f":"VLOOKUP($A$1,Data!$CM$5:$FK$156,75,0)","v":760047.97},{"$f":"VLOOKUP($A$1,Data!$CM$5:$FK$156,75,0)","v":760047.97},{"$f":"VLOOKUP($A$1,Data!$CM$5:$FK$156,75,0)","v":760047.97},{"$f":"VLOOKUP($A$1,Data!$CM$5:$FK$156,75,0)","v":760047.97},{"$f":"VLOOKUP($A$1,Data!$CM$5:$FK$156,76,0)","v":764130.41899999999},{"$f":"VLOOKUP($A$1,Data!$CM$5:$FK$156,76,0)","v":764130.41899999999},{"$f":"VLOOKUP($A$1,Data!$CM$5:$FK$156,76,0)","v":764130.41899999999},{"$f":"VLOOKUP($A$1,Data!$CM$5:$FK$156,76,0)","v":764130.41899999999},{"$f":"VLOOKUP($A$1,Data!$CM$5:$FK$156,77,0)","v":768456.72100000014}]
[null,null,null,null,null,"P4P annual change in admissions",null,{"$f":"IF(SUM(G10:J10)=0,0,SUM(G10:J10)-SUM(C10:F10))","v":-2761}]
[null,null,null,null,null,"P4P annual change in admissions (%)",null,{"$f":"IF(OR(G10<0,H10<0,I10<0,J10<0),\"\",IF(OR(ISTEXT(G10),ISTEXT(H10),ISTEXT(I10),ISTEXT(J10)),\"\",IF(SUM(G10:J10)=0,\"\",(SUM(G10:J10)/SUM(C10:F10))-1)))","v":-3.5012744588305389E-2},"Please enter the average cost of a non-elective admission1",null,"Rationale for change from £1,490"]
[null,null,null,null,null,"P4P annual saving",null,{"$f":"IF(H13=\"\",\"\",-H12*J14)","v":4113890},null,1490]
[]
[]
["The figures above are mapped from the following CCG operational plans. If any CCG plans are updated then the white cells can be revised:"]
["Contributing CCGs",null,"CCG  baseline activity (14-15 figures are CCG plans)",null,null,null,{"$f":"\"% CCG registered population that has resident population in \"& A1","v":"% CCG registered population that has resident population in Devon"},{"$f":"\"% \"&A1&\" resident population that is in CCG registered population\"","v":"% Devon resident population that is in CCG registered population"},"Contributing CCG activity"]
[null,null,"Q4 \n(Jan 14 - Mar 14)","Q1\n(Apr 14 - Jun 14)","Q2\n(Jul 14 - Sep 14)","Q3\n(Oct 14 - Dec 14)",null,null,"Q4 \n(Jan 14 - Mar 14)","Q1\n(Apr 14 - Jun 14)","Q2\n(Jul 14 - Sep 14)","Q3\n(Oct 14 - Dec 14)"]
[{"$f":"IF(ISERROR(VLOOKUP($A$1&$M20,'9.Non-elective admissions - Map'!$F$5:$U$899,2,0)),\"\",VLOOKUP($A$1&$M20,'9.Non-elective admissions - Map'!$F$5:$U$899,2,0))","v":"NHS Dorset CCG"},null,{"$f":"IF(ISERROR(VLOOKUP($A20,'8.Non-elective admissions - CCG'!$E$5:$Q$216,5,0)),\"\",VLOOKUP($A20,'8.Non-elective admissions - CCG'!$E$5:$Q$216,5,0))","v":21156},{"$f":"IF(ISERROR(VLOOKUP($A20,'8.Non-elective admissions - CCG'!$E$5:$Q$216,6,0)),\"\",VLOOKUP($A20,'8.Non-elective admissions - CCG'!$E$5:$Q$216,6,0))","v":19263},{"$f":"IF(ISERROR(VLOOKUP($A20,'8.Non-elective admissions - CCG'!$E$5:$Q$216,7,0)),\"\",VLOOKUP($A20,'8.Non-elective admissions - CCG'!$E$5:$Q$216,7,0))","v":19576},{"$f":"IF(ISERROR(VLOOKUP($A20,'8.Non-elective admissions - CCG'!$E$5:$Q$216,8,0)),\"\",VLOOKUP($A20,'8.Non-elective admissions - CCG'!$E$5:$Q$216,8,0))","v":20281},{"$f":"IF(ISERROR(VLOOKUP($A$1&M20,'9.Non-elective admissions - Map'!$F$5:$U$899,3,0)),\"\",VLOOKUP($A$1&M20,'9.Non-elective admissions - Map'!$F$5:$U$899,3,0))","v":3.2212489403786381E-3},{"$f":"IF(ISERROR(VLOOKUP($A$1&M20,'9.Non-elective admissions - Map'!$F$5:$U$899,4,0)),\"\",VLOOKUP($A$1&M20,'9.Non-elective admissions - Map'!$F$5:$U$899,4,0))","v":3.1889368811739557E-3},{"$f":"IF($G20=\"\",\"\",C20*$G20)","v":68.14874258265047},62.050918338513704,63.059169256852222,65.330149759819165,1]
[{"$f":"IF(ISERROR(VLOOKUP($A$1&$M21,'9.Non-elective admissions - Map'!$F$5:$U$899,2,0)),\"\",VLOOKUP($A$1&$M21,'9.Non-elective admissions - Map'!$F$5:$U$899,2,0))","v":"NHS Kernow CCG"},null,{"$f":"IF(ISERROR(VLOOKUP($A21,'8.Non-elective admissions - CCG'!$E$5:$Q$216,5,0)),\"\",VLOOKUP($A21,'8.Non-elective admissions - CCG'!$E$5:$Q$216,5,0))","v":13647},{"$f":"IF(ISERROR(VLOOKUP($A21,'8.Non-elective admissions - CCG'!$E$5:$Q$216,6,0)),\"\",VLOOKUP($A21,'8.Non-elective admissions - CCG'!$E$5:$Q$216,6,0))","v":11490},{"$f":"IF(ISERROR(VLOOKUP($A21,'8.Non-elective admissions - CCG'!$E$5:$Q$216,7,0)),\"\",VLOOKUP($A21,'8.Non-elective admissions - CCG'!$E$5:$Q$216,7,0))","v":11434},{"$f":"IF(ISERROR(VLOOKUP($A21,'8.Non-elective admissions - CCG'!$E$5:$Q$216,8,0)),\"\",VLOOKUP($A21,'8.Non-elective admissions - CCG'!$E$5:$Q$216,8,0))","v":11976},{"$f":"IF(ISERROR(VLOOKUP($A$1&M21,'9.Non-elective admissions - Map'!$F$5:$U$899,3,0)),\"\",VLOOKUP($A$1&M21,'9.Non-elective admissions - Map'!$F$5:$U$899,3,0))","v":2.7348869010312801E-3},{"$f":"IF(ISERROR(VLOOKUP($A$1&M21,'9.Non-elective admissions - Map'!$F$5:$U$899,4,0)),\"\",VLOOKUP($A$1&M21,'9.Non-elective admissions - Map'!$F$5:$U$899,4,0))","v":1.9530331138290257E-3},37.32300153837388,31.423850492849407,31.270696826391656,32.753005526750613,2]
[{"$f":"IF(ISERROR(VLOOKUP($A$1&$M22,'9.Non-elective admissions - Map'!$F$5:$U$899,2,0)),\"\",VLOOKUP($A$1&$M22,'9.Non-elective admissions - Map'!$F$5:$U$899,2,0))","v":"NHS North, East, West Devon CCG"},null,23004,{"$f":"IF(ISERROR(VLOOKUP($A22,'8.Non-elective admissions - CCG'!$E$5:$Q$216,6,0)),\"\",VLOOKUP($A22,'8.Non-elective admissions - CCG'!$E$5:$Q$216,6,0))","v":21324},{"$f":"IF(ISERROR(VLOOKUP($A22,'8.Non-elective admissions - CCG'!$E$5:$Q$216,7,0)),\"\",VLOOKUP($A22,'8.Non-elective admissions - CCG'!$E$5:$Q$216,7,0))","v":21891},{"$f":"IF(ISERROR(VLOOKUP($A22,'8.Non-elective admissions - CCG'!$E$5:$Q$216,8,0)),\"\",VLOOKUP($A22,'8.Non-elective admissions - CCG'!$E$5:$Q$216,8,0))","v":21985},{"$f":"IF(ISERROR(VLOOKUP($A$1&M22,'9.Non-elective admissions - Map'!$F$5:$U$899,3,0)),\"\",VLOOKUP($A$1&M22,'9.Non-elective admissions - Map'!$F$5:$U$899,3,0))","v":0.69837424740826048},{"$f":"IF(ISERROR(VLOOKUP($A$1&M22,'9.Non-elective admissions - Map'!$F$5:$U$899,4,0)),\"\",VLOOKUP($A$1&M22,'9.Non-elective admissions - Map'!$F$5:$U$899,4,0))","v":0.80499040648773179},16065.401187379624,14892.132451733747,15288.11065001423,15353.757829270608,3]
[{"$f":"IF(ISERROR(VLOOKUP($A$1&$M23,'9.Non-elective admissions - Map'!$F$5:$U$899,2,0)),\"\",VLOOKUP($A$1&$M23,'9.Non-elective admissions - Map'!$F$5:$U$899,2,0))","v":"NHS Somerset CCG"},null,{"$f":"IF(ISERROR(VLOOKUP($A23,'8.Non-elective admissions - CCG'!$E$5:$Q$216,5,0)),\"\",VLOOKUP($A23,'8.Non-elective admissions - CCG'!$E$5:$Q$216,5,0))","v":14655},{"$f":"IF(ISERROR(VLOOKUP($A23,'8.Non-elective admissions - CCG'!$E$5:$Q$216,6,0)),\"\",VLOOKUP($A23,'8.Non-elective admissions - CCG'!$E$5:$Q$216,6,0))","v":16641},{"$f":"IF(ISERROR(VLOOKUP($A23,'8.Non-elective admissions - CCG'!$E$5:$Q$216,7,0)),\"\",VLOOKUP($A23,'8.Non-elective admissions - CCG'!$E$5:$Q$216,7,0))","v":16654},{"$f":"IF(ISERROR(VLOOKUP($A23,'8.Non-elective admissions - CCG'!$E$5:$Q$216,8,0)),\"\",VLOOKUP($A23,'8.Non-elective admissions - CCG'!$E$5:$Q$216,8,0))","v":17370},{"$f":"IF(ISERROR(VLOOKUP($A$1&M23,'9.Non-elective admissions - Map'!$F$5:$U$899,3,0)),\"\",VLOOKUP($A$1&M23,'9.Non-elective admissions - Map'!$F$5:$U$899,3,0))","v":4.1492275566563912E-3},{"$f":"IF(ISERROR(VLOOKUP($A$1&M23,'9.Non-elective admissions - Map'!$F$5:$U$899,4,0)),\"\",VLOOKUP($A$1&M23,'9.Non-elective admissions - Map'!$F$5:$U$899,4,0))","v":2.9181061173421965E-3},60.806929842799413,69.04729577031901,69.101235728555537,72.07208265912152,4]
[{"$f":"IF(ISERROR(VLOOKUP($A$1&$M24,'9.Non-elective admissions - Map'!$F$5:$U$899,2,0)),\"\",VLOOKUP($A$1&$M24,'9.Non-elective admissions - Map'!$F$5:$U$899,2,0))","v":"NHS South Devon and Torbay CCG"},null,6627,{"$f":"IF(ISERROR(VLOOKUP($A24,'8.Non-elective admissions - CCG'!$E$5:$Q$216,6,0)),\"\",VLOOKUP($A24,'8.Non-elective admissions - CCG'!$E$5:$Q$216,6,0))","v":8406},{"$f":"IF(ISERROR(VLOOKUP($A24,'8.Non-elective admissions - CCG'!$E$5:$Q$216,7,0)),\"\",VLOOKUP($A24,'8.Non-elective admissions - CCG'!$E$5:$Q$216,7,0))","v":8567},{"$f":"IF(ISERROR(VLOOKUP($A24,'8.Non-elective admissions - CCG'!$E$5:$Q$216,8,0)),\"\",VLOOKUP($A24,'8.Non-elective admissions - CCG'!$E$5:$Q$216,8,0))","v":8932},{"$f":"IF(ISERROR(VLOOKUP($A$1&M24,'9.Non-elective admissions - Map'!$F$5:$U$899,3,0)),\"\",VLOOKUP($A$1&M24,'9.Non-elective admissions - Map'!$F$5:$U$899,3,0))","v":0.51012407016764738},{"$f":"IF(ISERROR(VLOOKUP($A$1&M24,'9.Non-elective admissions - Map'!$F$5:$U$899,4,0)),\"\",VLOOKUP($A$1&M24,'9.Non-elective admissions - Map'!$F$5:$U$899,4,0))","v":0.18694951739992294},3380.592213000999,{"$f":"IF($G24=\"\",\"\",D24*$G24)","v":4288.1029338292437},{"$f":"IF($G24=\"\",\"\",E24*$G24)","v":4370.2329091262354},{"$f":"IF($G24=\"\",\"\",F24*$G24)","v":4556.4281947374266},5]
[{"$f":"IF(ISERROR(VLOOKUP($A$1&$M25,'9.Non-elective admissions - Map'!$F$5:$U$899,2,0)),\"\",VLOOKUP($A$1&$M25,'9.Non-elective admissions - Map'!$F$5:$U$899,2,0))","v":""},null,{"$f":"IF(ISERROR(VLOOKUP($A25,'8.Non-elective admissions - CCG'!$E$5:$Q$216,5,0)),\"\",VLOOKUP($A25,'8.Non-elective admissions - CCG'!$E$5:$Q$216,5,0))","v":""},{"$f":"IF(ISERROR(VLOOKUP($A25,'8.Non-elective admissions - CCG'!$E$5:$Q$216,6,0)),\"\",VLOOKUP($A25,'8.Non-elective admissions - CCG'!$E$5:$Q$216,6,0))","v":""},{"$f":"IF(ISERROR(VLOOKUP($A25,'8.Non-elective admissions - CCG'!$E$5:$Q$216,7,0)),\"\",VLOOKUP($A25,'8.Non-elective admissions - CCG'!$E$5:$Q$216,7,0))","v":""},{"$f":"IF(ISERROR(VLOOKUP($A25,'8.Non-elective admissions - CCG'!$E$5:$Q$216,8,0)),\"\",VLOOKUP($A25,'8.Non-elective admissions - CCG'!$E$5:$Q$216,8,0))","v":""},{"$f":"IF(ISERROR(VLOOKUP($A$1&M25,'9.Non-elective admissions - Map'!$F$5:$U$899,3,0)),\"\",VLOOKUP($A$1&M25,'9.Non-elective admissions - Map'!$F$5:$U$899,3,0))","v":""},{"$f":"IF(ISERROR(VLOOKUP($A$1&M25,'9.Non-elective admissions - Map'!$F$5:$U$899,4,0)),\"\",VLOOKUP($A$1&M25,'9.Non-elective admissions - Map'!$F$5:$U$899,4,0))","v":""},"","","","",6]
[{"$f":"IF(ISERROR(VLOOKUP($A$1&$M26,'9.Non-elective admissions - Map'!$F$5:$U$899,2,0)),\"\",VLOOKUP($A$1&$M26,'9.Non-elective admissions - Map'!$F$5:$U$899,2,0))","v":""},null,{"$f":"IF(ISERROR(VLOOKUP($A26,'8.Non-elective admissions - CCG'!$E$5:$Q$216,5,0)),\"\",VLOOKUP($A26,'8.Non-elective admissions - CCG'!$E$5:$Q$216,5,0))","v":""},{"$f":"IF(ISERROR(VLOOKUP($A26,'8.Non-elective admissions - CCG'!$E$5:$Q$216,6,0)),\"\",VLOOKUP($A26,'8.Non-elective admissions - CCG'!$E$5:$Q$216,6,0))","v":""},{"$f":"IF(ISERROR(VLOOKUP($A26,'8.Non-elective admissions - CCG'!$E$5:$Q$216,7,0)),\"\",VLOOKUP($A26,'8.Non-elective admissions - CCG'!$E$5:$Q$216,7,0))","v":""},{"$f":"IF(ISERROR(VLOOKUP($A26,'8.Non-elective admissions - CCG'!$E$5:$Q$216,8,0)),\"\",VLOOKUP($A26,'8.Non-elective admissions - CCG'!$E$5:$Q$216,8,0))","v":""},{"$f":"IF(ISERROR(VLOOKUP($A$1&M26,'9.Non-elective admissions - Map'!$F$5:$U$899,3,0)),\"\",VLOOKUP($A$1&M26,'9.Non-elective admissions - Map'!$F$5:$U$899,3,0))","v":""},{"$f":"IF(ISERROR(VLOOKUP($A$1&M26,'9.Non-elective admissions - Map'!$F$5:$U$899,4,0)),\"\",VLOOKUP($A$1&M26,'9.Non-elective admissions - Map'!$F$5:$U$899,4,0))","v":""},"","","","",7]
[{"$f":"IF(ISERROR(VLOOKUP($A$1&$M27,'9.Non-elective admissions - Map'!$F$5:$U$899,2,0)),\"\",VLOOKUP($A$1&$M27,'9.Non-elective admissions - Map'!$F$5:$U$899,2,0))","v":""},null,{"$f":"IF(ISERROR(VLOOKUP($A27,'8.Non-elective admissions - CCG'!$E$5:$Q$216,5,0)),\"\",VLOOKUP($A27,'8.Non-elective admissions - CCG'!$E$5:$Q$216,5,0))","v":""},{"$f":"IF(ISERROR(VLOOKUP($A27,'8.Non-elective admissions - CCG'!$E$5:$Q$216,6,0)),\"\",VLOOKUP($A27,'8.Non-elective admissions - CCG'!$E$5:$Q$216,6,0))","v":""},{"$f":"IF(ISERROR(VLOOKUP($A27,'8.Non-elective admissions - CCG'!$E$5:$Q$216,7,0)),\"\",VLOOKUP($A27,'8.Non-elective admissions - CCG'!$E$5:$Q$216,7,0))","v":""},{"$f":"IF(ISERROR(VLOOKUP($A27,'8.Non-elective admissions - CCG'!$E$5:$Q$216,8,0)),\"\",VLOOKUP($A27,'8.Non-elective admissions - CCG'!$E$5:$Q$216,8,0))","v":""},{"$f":"IF(ISERROR(VLOOKUP($A$1&M27,'9.Non-elective admissions - Map'!$F$5:$U$899,3,0)),\"\",VLOOKUP($A$1&M27,'9.Non-elective admissions - Map'!$F$5:$U$899,3,0))","v":""},{"$f":"IF(ISERROR(VLOOKUP($A$1&M27,'9.Non-elective admissions - Map'!$F$5:$U$899,4,0)),\"\",VLOOKUP($A$1&M27,'9.Non-elective admissions - Map'!$F$5:$U$899,4,0))","v":""},"","","","",8]
[{"$f":"IF(ISERROR(VLOOKUP($A$1&$M28,'9.Non-elective admissions - Map'!$F$5:$U$899,2,0)),\"\",VLOOKUP($A$1&$M28,'9.Non-elective admissions - Map'!$F$5:$U$899,2,0))","v":""},null,{"$f":"IF(ISERROR(VLOOKUP($A28,'8.Non-elective admissions - CCG'!$E$5:$Q$216,5,0)),\"\",VLOOKUP($A28,'8.Non-elective admissions - CCG'!$E$5:$Q$216,5,0))","v":""},{"$f":"IF(ISERROR(VLOOKUP($A28,'8.Non-elective admissions - CCG'!$E$5:$Q$216,6,0)),\"\",VLOOKUP($A28,'8.Non-elective admissions - CCG'!$E$5:$Q$216,6,0))","v":""},{"$f":"IF(ISERROR(VLOOKUP($A28,'8.Non-elective admissions - CCG'!$E$5:$Q$216,7,0)),\"\",VLOOKUP($A28,'8.Non-elective admissions - CCG'!$E$5:$Q$216,7,0))","v":""},{"$f":"IF(ISERROR(VLOOKUP($A28,'8.Non-elective admissions - CCG'!$E$5:$Q$216,8,0)),\"\",VLOOKUP($A28,'8.Non-elective admissions - CCG'!$E$5:$Q$216,8,0))","v":""},{"$f":"IF(ISERROR(VLOOKUP($A$1&M28,'9.Non-elective admissions - Map'!$F$5:$U$899,3,0)),\"\",VLOOKUP($A$1&M28,'9.Non-elective admissions - Map'!$F$5:$U$899,3,0))","v":""},{"$f":"IF(ISERROR(VLOOKUP($A$1&M28,'9.Non-elective admissions - Map'!$F$5:$U$899,4,0)),\"\",VLOOKUP($A$1&M28,'9.Non-elective admissions - Map'!$F$5:$U$899,4,0))","v":""},"","","","",9]
[{"$f":"IF(ISERROR(VLOOKUP($A$1&$M29,'9.Non-elective admissions - Map'!$F$5:$U$899,2,0)),\"\",VLOOKUP($A$1&$M29,'9.Non-elective admissions - Map'!$F$5:$U$899,2,0))","v":""},null,{"$f":"IF(ISERROR(VLOOKUP($A29,'8.Non-elective admissions - CCG'!$E$5:$Q$216,5,0)),\"\",VLOOKUP($A29,'8.Non-elective admissions - CCG'!$E$5:$Q$216,5,0))","v":""},{"$f":"IF(ISERROR(VLOOKUP($A29,'8.Non-elective admissions - CCG'!$E$5:$Q$216,6,0)),\"\",VLOOKUP($A29,'8.Non-elective admissions - CCG'!$E$5:$Q$216,6,0))","v":""},{"$f":"IF(ISERROR(VLOOKUP($A29,'8.Non-elective admissions - CCG'!$E$5:$Q$216,7,0)),\"\",VLOOKUP($A29,'8.Non-elective admissions - CCG'!$E$5:$Q$216,7,0))","v":""},{"$f":"IF(ISERROR(VLOOKUP($A29,'8.Non-elective admissions - CCG'!$E$5:$Q$216,8,0)),\"\",VLOOKUP($A29,'8.Non-elective admissions - CCG'!$E$5:$Q$216,8,0))","v":""},{"$f":"IF(ISERROR(VLOOKUP($A$1&M29,'9.Non-elective admissions - Map'!$F$5:$U$899,3,0)),\"\",VLOOKUP($A$1&M29,'9.Non-elective admissions - Map'!$F$5:$U$899,3,0))","v":""},{"$f":"IF(ISERROR(VLOOKUP($A$1&M29,'9.Non-elective admissions - Map'!$F$5:$U$899,4,0)),\"\",VLOOKUP($A$1&M29,'9.Non-elective admissions - Map'!$F$5:$U$899,4,0))","v":""},"","","","",10]
[{"$f":"IF(ISERROR(VLOOKUP($A$1&$M30,'9.Non-elective admissions - Map'!$F$5:$U$899,2,0)),\"\",VLOOKUP($A$1&$M30,'9.Non-elective admissions - Map'!$F$5:$U$899,2,0))","v":""},null,{"$f":"IF(ISERROR(VLOOKUP($A30,'8.Non-elective admissions - CCG'!$E$5:$Q$216,5,0)),\"\",VLOOKUP($A30,'8.Non-elective admissions - CCG'!$E$5:$Q$216,5,0))","v":""},{"$f":"IF(ISERROR(VLOOKUP($A30,'8.Non-elective admissions - CCG'!$E$5:$Q$216,6,0)),\"\",VLOOKUP($A30,'8.Non-elective admissions - CCG'!$E$5:$Q$216,6,0))","v":""},{"$f":"IF(ISERROR(VLOOKUP($A30,'8.Non-elective admissions - CCG'!$E$5:$Q$216,7,0)),\"\",VLOOKUP($A30,'8.Non-elective admissions - CCG'!$E$5:$Q$216,7,0))","v":""},{"$f":"IF(ISERROR(VLOOKUP($A30,'8.Non-elective admissions - CCG'!$E$5:$Q$216,8,0)),\"\",VLOOKUP($A30,'8.Non-elective admissions - CCG'!$E$5:$Q$216,8,0))","v":""},{"$f":"IF(ISERROR(VLOOKUP($A$1&M30,'9.Non-elective admissions - Map'!$F$5:$U$899,3,0)),\"\",VLOOKUP($A$1&M30,'9.Non-elective admissions - Map'!$F$5:$U$899,3,0))","v":""},{"$f":"IF(ISERROR(VLOOKUP($A$1&M30,'9.Non-elective admissions - Map'!$F$5:$U$899,4,0)),\"\",VLOOKUP($A$1&M30,'9.Non-elective admissions - Map'!$F$5:$U$899,4,0))","v":""},"","","","",11]
[{"$f":"IF(ISERROR(VLOOKUP($A$1&$M31,'9.Non-elective admissions - Map'!$F$5:$U$899,2,0)),\"\",VLOOKUP($A$1&$M31,'9.Non-elective admissions - Map'!$F$5:$U$899,2,0))","v":""},null,{"$f":"IF(ISERROR(VLOOKUP($A31,'8.Non-elective admissions - CCG'!$E$5:$Q$216,5,0)),\"\",VLOOKUP($A31,'8.Non-elective admissions - CCG'!$E$5:$Q$216,5,0))","v":""},{"$f":"IF(ISERROR(VLOOKUP($A31,'8.Non-elective admissions - CCG'!$E$5:$Q$216,6,0)),\"\",VLOOKUP($A31,'8.Non-elective admissions - CCG'!$E$5:$Q$216,6,0))","v":""},{"$f":"IF(ISERROR(VLOOKUP($A31,'8.Non-elective admissions - CCG'!$E$5:$Q$216,7,0)),\"\",VLOOKUP($A31,'8.Non-elective admissions - CCG'!$E$5:$Q$216,7,0))","v":""},{"$f":"IF(ISERROR(VLOOKUP($A31,'8.Non-elective admissions - CCG'!$E$5:$Q$216,8,0)),\"\",VLOOKUP($A31,'8.Non-elective admissions - CCG'!$E$5:$Q$216,8,0))","v":""},{"$f":"IF(ISERROR(VLOOKUP($A$1&M31,'9.Non-elective admissions - Map'!$F$5:$U$899,3,0)),\"\",VLOOKUP($A$1&M31,'9.Non-elective admissions - Map'!$F$5:$U$899,3,0))","v":""},{"$f":"IF(ISERROR(VLOOKUP($A$1&M31,'9.Non-elective admissions - Map'!$F$5:$U$899,4,0)),\"\",VLOOKUP($A$1&M31,'9.Non-elective admissions - Map'!$F$5:$U$899,4,0))","v":""},"","","","",12]
[{"$f":"IF(ISERROR(VLOOKUP($A$1&$M32,'9.Non-elective admissions - Map'!$F$5:$U$899,2,0)),\"\",VLOOKUP($A$1&$M32,'9.Non-elective admissions - Map'!$F$5:$U$899,2,0))","v":""},null,{"$f":"IF(ISERROR(VLOOKUP($A32,'8.Non-elective admissions - CCG'!$E$5:$Q$216,5,0)),\"\",VLOOKUP($A32,'8.Non-elective admissions - CCG'!$E$5:$Q$216,5,0))","v":""},{"$f":"IF(ISERROR(VLOOKUP($A32,'8.Non-elective admissions - CCG'!$E$5:$Q$216,6,0)),\"\",VLOOKUP($A32,'8.Non-elective admissions - CCG'!$E$5:$Q$216,6,0))","v":""},{"$f":"IF(ISERROR(VLOOKUP($A32,'8.Non-elective admissions - CCG'!$E$5:$Q$216,7,0)),\"\",VLOOKUP($A32,'8.Non-elective admissions - CCG'!$E$5:$Q$216,7,0))","v":""},{"$f":"IF(ISERROR(VLOOKUP($A32,'8.Non-elective admissions - CCG'!$E$5:$Q$216,8,0)),\"\",VLOOKUP($A32,'8.Non-elective admissions - CCG'!$E$5:$Q$216,8,0))","v":""},{"$f":"IF(ISERROR(VLOOKUP($A$1&M32,'9.Non-elective admissions - Map'!$F$5:$U$899,3,0)),\"\",VLOOKUP($A$1&M32,'9.Non-elective admissions - Map'!$F$5:$U$899,3,0))","v":""},{"$f":"IF(ISERROR(VLOOKUP($A$1&M32,'9.Non-elective admissions - Map'!$F$5:$U$899,4,0)),\"\",VLOOKUP($A$1&M32,'9.Non-elective admissions - Map'!$F$5:$U$899,4,0))","v":""},"","","","",13]
[{"$f":"IF(ISERROR(VLOOKUP($A$1&$M33,'9.Non-elective admissions - Map'!$F$5:$U$899,2,0)),\"\",VLOOKUP($A$1&$M33,'9.Non-elective admissions - Map'!$F$5:$U$899,2,0))","v":""},null,{"$f":"IF(ISERROR(VLOOKUP($A33,'8.Non-elective admissions - CCG'!$E$5:$Q$216,5,0)),\"\",VLOOKUP($A33,'8.Non-elective admissions - CCG'!$E$5:$Q$216,5,0))","v":""},{"$f":"IF(ISERROR(VLOOKUP($A33,'8.Non-elective admissions - CCG'!$E$5:$Q$216,6,0)),\"\",VLOOKUP($A33,'8.Non-elective admissions - CCG'!$E$5:$Q$216,6,0))","v":""},{"$f":"IF(ISERROR(VLOOKUP($A33,'8.Non-elective admissions - CCG'!$E$5:$Q$216,7,0)),\"\",VLOOKUP($A33,'8.Non-elective admissions - CCG'!$E$5:$Q$216,7,0))","v":""},{"$f":"IF(ISERROR(VLOOKUP($A33,'8.Non-elective admissions - CCG'!$E$5:$Q$216,8,0)),\"\",VLOOKUP($A33,'8.Non-elective admissions - CCG'!$E$5:$Q$216,8,0))","v":""},{"$f":"IF(ISERROR(VLOOKUP($A$1&M33,'9.Non-elective admissions - Map'!$F$5:$U$899,3,0)),\"\",VLOOKUP($A$1&M33,'9.Non-elective admissions - Map'!$F$5:$U$899,3,0))","v":""},{"$f":"IF(ISERROR(VLOOKUP($A$1&M33,'9.Non-elective admissions - Map'!$F$5:$U$899,4,0)),\"\",VLOOKUP($A$1&M33,'9.Non-elective admissions - Map'!$F$5:$U$899,4,0))","v":""},"","","","",14]
[{"$f":"IF(ISERROR(VLOOKUP($A$1&$M34,'9.Non-elective admissions - Map'!$F$5:$U$899,2,0)),\"\",VLOOKUP($A$1&$M34,'9.Non-elective admissions - Map'!$F$5:$U$899,2,0))","v":""},null,{"$f":"IF(ISERROR(VLOOKUP($A34,'8.Non-elective admissions - CCG'!$E$5:$Q$216,5,0)),\"\",VLOOKUP($A34,'8.Non-elective admissions - CCG'!$E$5:$Q$216,5,0))","v":""},{"$f":"IF(ISERROR(VLOOKUP($A34,'8.Non-elective admissions - CCG'!$E$5:$Q$216,6,0)),\"\",VLOOKUP($A34,'8.Non-elective admissions - CCG'!$E$5:$Q$216,6,0))","v":""},{"$f":"IF(ISERROR(VLOOKUP($A34,'8.Non-elective admissions - CCG'!$E$5:$Q$216,7,0)),\"\",VLOOKUP($A34,'8.Non-elective admissions - CCG'!$E$5:$Q$216,7,0))","v":""},{"$f":"IF(ISERROR(VLOOKUP($A34,'8.Non-elective admissions - CCG'!$E$5:$Q$216,8,0)),\"\",VLOOKUP($A34,'8.Non-elective admissions - CCG'!$E$5:$Q$216,8,0))","v":""},{"$f":"IF(ISERROR(VLOOKUP($A$1&M34,'9.Non-elective admissions - Map'!$F$5:$U$899,3,0)),\"\",VLOOKUP($A$1&M34,'9.Non-elective admissions - Map'!$F$5:$U$899,3,0))","v":""},{"$f":"IF(ISERROR(VLOOKUP($A$1&M34,'9.Non-elective admissions - Map'!$F$5:$U$899,4,0)),\"\",VLOOKUP($A$1&M34,'9.Non-elective admissions - Map'!$F$5:$U$899,4,0))","v":""},"","","","",15]
[{"$f":"IF(ISERROR(VLOOKUP($A$1&$M35,'9.Non-elective admissions - Map'!$F$5:$U$899,2,0)),\"\",VLOOKUP($A$1&$M35,'9.Non-elective admissions - Map'!$F$5:$U$899,2,0))","v":""},null,{"$f":"IF(ISERROR(VLOOKUP($A35,'8.Non-elective admissions - CCG'!$E$5:$Q$216,5,0)),\"\",VLOOKUP($A35,'8.Non-elective admissions - CCG'!$E$5:$Q$216,5,0))","v":""},{"$f":"IF(ISERROR(VLOOKUP($A35,'8.Non-elective admissions - CCG'!$E$5:$Q$216,6,0)),\"\",VLOOKUP($A35,'8.Non-elective admissions - CCG'!$E$5:$Q$216,6,0))","v":""},{"$f":"IF(ISERROR(VLOOKUP($A35,'8.Non-elective admissions - CCG'!$E$5:$Q$216,7,0)),\"\",VLOOKUP($A35,'8.Non-elective admissions - CCG'!$E$5:$Q$216,7,0))","v":""},{"$f":"IF(ISERROR(VLOOKUP($A35,'8.Non-elective admissions - CCG'!$E$5:$Q$216,8,0)),\"\",VLOOKUP($A35,'8.Non-elective admissions - CCG'!$E$5:$Q$216,8,0))","v":""},{"$f":"IF(ISERROR(VLOOKUP($A$1&M35,'9.Non-elective admissions - Map'!$F$5:$U$899,3,0)),\"\",VLOOKUP($A$1&M35,'9.Non-elective admissions - Map'!$F$5:$U$899,3,0))","v":""},{"$f":"IF(ISERROR(VLOOKUP($A$1&M35,'9.Non-elective admissions - Map'!$F$5:$U$899,4,0)),\"\",VLOOKUP($A$1&M35,'9.Non-elective admissions - Map'!$F$5:$U$899,4,0))","v":""},"","","","",16]
[{"$f":"IF(ISERROR(VLOOKUP($A$1&$M36,'9.Non-elective admissions - Map'!$F$5:$U$899,2,0)),\"\",VLOOKUP($A$1&$M36,'9.Non-elective admissions - Map'!$F$5:$U$899,2,0))","v":""},null,{"$f":"IF(ISERROR(VLOOKUP($A36,'8.Non-elective admissions - CCG'!$E$5:$Q$216,5,0)),\"\",VLOOKUP($A36,'8.Non-elective admissions - CCG'!$E$5:$Q$216,5,0))","v":""},{"$f":"IF(ISERROR(VLOOKUP($A36,'8.Non-elective admissions - CCG'!$E$5:$Q$216,6,0)),\"\",VLOOKUP($A36,'8.Non-elective admissions - CCG'!$E$5:$Q$216,6,0))","v":""},{"$f":"IF(ISERROR(VLOOKUP($A36,'8.Non-elective admissions - CCG'!$E$5:$Q$216,7,0)),\"\",VLOOKUP($A36,'8.Non-elective admissions - CCG'!$E$5:$Q$216,7,0))","v":""},{"$f":"IF(ISERROR(VLOOKUP($A36,'8.Non-elective admissions - CCG'!$E$5:$Q$216,8,0)),\"\",VLOOKUP($A36,'8.Non-elective admissions - CCG'!$E$5:$Q$216,8,0))","v":""},{"$f":"IF(ISERROR(VLOOKUP($A$1&M36,'9.Non-elective admissions - Map'!$F$5:$U$899,3,0)),\"\",VLOOKUP($A$1&M36,'9.Non-elective admissions - Map'!$F$5:$U$899,3,0))","v":""},{"$f":"IF(ISERROR(VLOOKUP($A$1&M36,'9.Non-elective admissions - Map'!$F$5:$U$899,4,0)),\"\",VLOOKUP($A$1&M36,'9.Non-elective admissions - Map'!$F$5:$U$899,4,0))","v":""},{"$f":"IF($G36=\"\",\"\",C36*$G36)","v":""},"","","",17]
[{"$f":"IF(ISERROR(VLOOKUP($A$1&$M37,'9.Non-elective admissions - Map'!$F$5:$U$899,2,0)),\"\",VLOOKUP($A$1&$M37,'9.Non-elective admissions - Map'!$F$5:$U$899,2,0))","v":""},null,{"$f":"IF(ISERROR(VLOOKUP($A37,'8.Non-elective admissions - CCG'!$E$5:$Q$216,5,0)),\"\",VLOOKUP($A37,'8.Non-elective admissions - CCG'!$E$5:$Q$216,5,0))","v":""},{"$f":"IF(ISERROR(VLOOKUP($A37,'8.Non-elective admissions - CCG'!$E$5:$Q$216,6,0)),\"\",VLOOKUP($A37,'8.Non-elective admissions - CCG'!$E$5:$Q$216,6,0))","v":""},{"$f":"IF(ISERROR(VLOOKUP($A37,'8.Non-elective admissions - CCG'!$E$5:$Q$216,7,0)),\"\",VLOOKUP($A37,'8.Non-elective admissions - CCG'!$E$5:$Q$216,7,0))","v":""},{"$f":"IF(ISERROR(VLOOKUP($A37,'8.Non-elective admissions - CCG'!$E$5:$Q$216,8,0)),\"\",VLOOKUP($A37,'8.Non-elective admissions - CCG'!$E$5:$Q$216,8,0))","v":""},{"$f":"IF(ISERROR(VLOOKUP($A$1&M37,'9.Non-elective admissions - Map'!$F$5:$U$899,3,0)),\"\",VLOOKUP($A$1&M37,'9.Non-elective admissions - Map'!$F$5:$U$899,3,0))","v":""},{"$f":"IF(ISERROR(VLOOKUP($A$1&M37,'9.Non-elective admissions - Map'!$F$5:$U$899,4,0)),\"\",VLOOKUP($A$1&M37,'9.Non-elective admissions - Map'!$F$5:$U$899,4,0))","v":""},"","","","",18]
[{"$f":"IF(ISERROR(VLOOKUP($A$1&$M38,'9.Non-elective admissions - Map'!$F$5:$U$899,2,0)),\"\",VLOOKUP($A$1&$M38,'9.Non-elective admissions - Map'!$F$5:$U$899,2,0))","v":""},null,{"$f":"IF(ISERROR(VLOOKUP($A38,'8.Non-elective admissions - CCG'!$E$5:$Q$216,5,0)),\"\",VLOOKUP($A38,'8.Non-elective admissions - CCG'!$E$5:$Q$216,5,0))","v":""},{"$f":"IF(ISERROR(VLOOKUP($A38,'8.Non-elective admissions - CCG'!$E$5:$Q$216,6,0)),\"\",VLOOKUP($A38,'8.Non-elective admissions - CCG'!$E$5:$Q$216,6,0))","v":""},{"$f":"IF(ISERROR(VLOOKUP($A38,'8.Non-elective admissions - CCG'!$E$5:$Q$216,7,0)),\"\",VLOOKUP($A38,'8.Non-elective admissions - CCG'!$E$5:$Q$216,7,0))","v":""},{"$f":"IF(ISERROR(VLOOKUP($A38,'8.Non-elective admissions - CCG'!$E$5:$Q$216,8,0)),\"\",VLOOKUP($A38,'8.Non-elective admissions - CCG'!$E$5:$Q$216,8,0))","v":""},{"$f":"IF(ISERROR(VLOOKUP($A$1&M38,'9.Non-elective admissions - Map'!$F$5:$U$899,3,0)),\"\",VLOOKUP($A$1&M38,'9.Non-elective admissions - Map'!$F$5:$U$899,3,0))","v":""},{"$f":"IF(ISERROR(VLOOKUP($A$1&M38,'9.Non-elective admissions - Map'!$F$5:$U$899,4,0)),\"\",VLOOKUP($A$1&M38,'9.Non-elective admissions - Map'!$F$5:$U$899,4,0))","v":""},"","","","",19]
[{"$f":"IF(ISERROR(VLOOKUP($A$1&$M39,'9.Non-elective admissions - Map'!$F$5:$U$899,2,0)),\"\",VLOOKUP($A$1&$M39,'9.Non-elective admissions - Map'!$F$5:$U$899,2,0))","v":""},null,{"$f":"IF(ISERROR(VLOOKUP($A39,'8.Non-elective admissions - CCG'!$E$5:$Q$216,5,0)),\"\",VLOOKUP($A39,'8.Non-elective admissions - CCG'!$E$5:$Q$216,5,0))","v":""},{"$f":"IF(ISERROR(VLOOKUP($A39,'8.Non-elective admissions - CCG'!$E$5:$Q$216,6,0)),\"\",VLOOKUP($A39,'8.Non-elective admissions - CCG'!$E$5:$Q$216,6,0))","v":""},{"$f":"IF(ISERROR(VLOOKUP($A39,'8.Non-elective admissions - CCG'!$E$5:$Q$216,7,0)),\"\",VLOOKUP($A39,'8.Non-elective admissions - CCG'!$E$5:$Q$216,7,0))","v":""},{"$f":"IF(ISERROR(VLOOKUP($A39,'8.Non-elective admissions - CCG'!$E$5:$Q$216,8,0)),\"\",VLOOKUP($A39,'8.Non-elective admissions - CCG'!$E$5:$Q$216,8,0))","v":""},{"$f":"IF(ISERROR(VLOOKUP($A$1&M39,'9.Non-elective admissions - Map'!$F$5:$U$899,3,0)),\"\",VLOOKUP($A$1&M39,'9.Non-elective admissions - Map'!$F$5:$U$899,3,0))","v":""},{"$f":"IF(ISERROR(VLOOKUP($A$1&M39,'9.Non-elective admissions - Map'!$F$5:$U$899,4,0)),\"\",VLOOKUP($A$1&M39,'9.Non-elective admissions - Map'!$F$5:$U$899,4,0))","v":""},"","","","",20]
[{"$f":"IF(ISERROR(VLOOKUP($A$1&$M40,'9.Non-elective admissions - Map'!$F$5:$U$899,2,0)),\"\",VLOOKUP($A$1&$M40,'9.Non-elective admissions - Map'!$F$5:$U$899,2,0))","v":""},null,{"$f":"IF(ISERROR(VLOOKUP($A40,'8.Non-elective admissions - CCG'!$E$5:$Q$216,5,0)),\"\",VLOOKUP($A40,'8.Non-elective admissions - CCG'!$E$5:$Q$216,5,0))","v":""},{"$f":"IF(ISERROR(VLOOKUP($A40,'8.Non-elective admissions - CCG'!$E$5:$Q$216,6,0)),\"\",VLOOKUP($A40,'8.Non-elective admissions - CCG'!$E$5:$Q$216,6,0))","v":""},{"$f":"IF(ISERROR(VLOOKUP($A40,'8.Non-elective admissions - CCG'!$E$5:$Q$216,7,0)),\"\",VLOOKUP($A40,'8.Non-elective admissions - CCG'!$E$5:$Q$216,7,0))","v":""},{"$f":"IF(ISERROR(VLOOKUP($A40,'8.Non-elective admissions - CCG'!$E$5:$Q$216,8,0)),\"\",VLOOKUP($A40,'8.Non-elective admissions - CCG'!$E$5:$Q$216,8,0))","v":""},{"$f":"IF(ISERROR(VLOOKUP($A$1&M40,'9.Non-elective admissions - Map'!$F$5:$U$899,3,0)),\"\",VLOOKUP($A$1&M40,'9.Non-elective admissions - Map'!$F$5:$U$899,3,0))","v":""},{"$f":"IF(ISERROR(VLOOKUP($A$1&M40,'9.Non-elective admissions - Map'!$F$5:$U$899,4,0)),\"\",VLOOKUP($A$1&M40,'9.Non-elective admissions - Map'!$F$5:$U$899,4,0))","v":""},"","","","",21]
["Total",null,null,null,null,null,null,{"$f":"SUM(H20:H40)","v":0.99999999999999989},{"$f":"SUM(I20:I40)","v":19612.272074344448},{"$f":"SUM(J20:J40)","v":19342.757450164674},19821.774660952266,20080.341261953727]
[]
["References"]
["1 The default figure of £1,490 in the template is based on the average reported cost of a non-elective inpatient episode (excluding excess bed days), taken from the latest (2012/13) Reference Costs. Alternatively the average reported spell cost of a non-elective inpatient admission (including excess bed days) from the same source is £2,118.  To note, these average figures do not account for the 30% marginal rate rule and may not reflect costs variations to a locality such as MFF or cohort pricing. In recognition of these variations the average cost can be revised in the template although a rationale for any change should be provided."]

{"sheet":"6. HWB Supporting Metrics","index":9,"n_rows":60,"n_cols":17,"rows_kept":60,"cut":false,"hidden":false,"merged":[[26,8,27,8],[17,0,19,0],[6,6,8,6],[7,0,9,0],[5,3,6,3],[15,0,16,1],[15,2,16,2],[15,3,16,3],[15,4,16,4],[5,0,6,1],[5,2,6,2],[5,4,6,4],[26,13,27,13],[26,12,27,12],[26,11,27,11],[26,10,27,10],[26,9,27,9],[27,16,29,16],[45,0,46,1],[28,0,30,0],[45,4,46,4],[45,3,46,3],[36,3,37,3],[36,4,37,4],[36,0,37,1],[25,0,27,1],[25,2,25,5],[25,6,25,9],[25,10,25,13],[26,2,27,2],[26,3,27,3],[26,4,27,4],[26,5,27,5],[2,0,3,5],[38,0,40,0],[47,0,49,0],[26,7,27,7],[26,6,27,6],[17,6,19,6]]}
[{"$f":"'1. HWB Funding Sources'!A4","v":"Devon"},null,null,null,null,null,null,null,"Red triangles indicate comments"]
[null,null,null,null,null,null,null,null,"Planned deterioration on baseline (or validity issue)"]
["Please complete all white cells in tables. Other white cells should be completed/revised as appropriate.",null,null,null,null,null,null,null,"Planned improvement on baseline"]
[]
["Residential admissions"]
["Metric",null,"Baseline\n(2013/14)","Planned \n14/15","Planned 15/16"]
[null,null,null,null,null,null,"Rationale for red rating"]
["Permanent admissions of older people (aged 65 and over) to residential and nursing care homes, per 100,000 population","Annual rate",{"$f":"VLOOKUP($A$1,Data!$D$5:$Z$156,12,0)","v":556.4},{"$f":"D9/D10*100000","v":526.47816925232019},{"$f":"E9/E10*100000","v":514.82124665603862}]
[null,"Numerator",{"$f":"VLOOKUP($A$1,Data!$D$5:$Z$156,4,0)","v":980},980,980]
[null,"Denominator",{"$f":"VLOOKUP($A$1,Data!$D$5:$Z$156,6,0)","v":176490},{"$f":"VLOOKUP($A$1,Data!$D$5:$Z$156,8,0)","v":186142.57099999997},{"$f":"VLOOKUP($A$1,Data!$D$5:$Z$156,9,0)","v":190357.33400000015}]
[null,null,"Annual change in admissions",{"$f":"IF(D9=0,0,D9-C9)","v":0},{"$f":"IF(E9=0,0,E9-D9)","v":0}]
[null,null,"Annual change in admissions %",{"$f":"IF(D9=0,0,D9/C9-1)","v":0},{"$f":"IF(E9=0,0,E9/D9-1)","v":0}]
[null,null,"Estimated savings",{"$f":"ROUND((-D11*G13),-3)","v":0},{"$f":"ROUND((-E11*G13),-3)","v":0},null,25950,"Average annual cost of permanent admission to residential care1"]
[]
["Reablement"]
["Metric",null,"Baseline\n(2013/14)","Planned \n14/15","Planned 15/16"]
[]
["Proportion of older people (65 and over) who were still at home 91 days after discharge from hospital into reablement / rehabilitation services","Annual %",{"$f":"VLOOKUP($A$1,Data!$Q$5:$AB$156,10,0)","v":89.8},{"$f":"IF(ISERROR(D19/D20*100),0,D19/D20*100)","v":81.524249422632806},{"$f":"IF(ISERROR(E19/E20*100),0,E19/E20*100)","v":81.524249422632806},null,"Rationale for red rating","Significant expansion in coverage will include focus on cohort f patients with higher needs"]
[null,"Numerator",{"$f":"VLOOKUP($A$1,Data!$Q$5:$AB$156,4,0)","v":465},706,706]
[null,"Denominator",{"$f":"VLOOKUP($A$1,Data!$Q$5:$AB$156,7,0)","v":520},866,866]
[null,null,"Annual change in proportion",{"$f":"IF(D19=0,0,D18-C18)","v":-8.2757505773671909},{"$f":"IF(E19=0,0,E18-D18)","v":0}]
[null,null,"Annual change in proportion %",{"$f":"IF(D19=0,0,D18/C18-1)","v":-9.2157578812552265E-2},{"$f":"IF(E19=0,0,E18/D18-1)","v":0}]
[null,null,"Estimated savings",{"$f":"ROUND(D21*G23,-3)","v":0},{"$f":"ROUND(E21*G23,-3)","v":0},null,null,"Average annual saving due to being at home 91 days from discharge2"]
[]
["Delayed transfers of care"]
["Metric",null,"13-14 Baseline",null,null,null,"14/15 plans",null,null,null,"15-16 plans"]
[null,null," Q1\n(Apr 13 - Jun 13)"," Q2\n(Jul 13 - Sep 13)"," Q3\n(Oct 13 - Dec 13)"," Q4\n(Jan 14 - Mar 14)","  Q1\n(Apr 14 - Jun 14)","  Q2\n(Jul 14 - Sep 14)","  Q3\n(Oct 14 - Dec 14)","  Q4\n(Jan 15 - Mar 15)","  Q1\n(Apr 15 - Jun 15)","  Q2\n(Jul 15 - Sep 15)","  Q3\n(Oct 15 - Dec 15)","  Q4\n(Jan 16 - Mar 16)"]
[null,null,null,null,null,null,null,null,null,null,null,null,null,null,null,null,"Rationale for red ratings"]
["Delayed transfers of care (delayed days) from hospital per 100,000 population (aged 18+).","Quarterly rate",{"$f":"C30/C31*100000","v":1087.9033003680411},1107.692207874363,957.00454333851849,1009.056268688308,970.55748831834694,938.20557204106865,905.85365576379036,845.80410380677915,845.80410380677915,845.80410380677915,845.80410380677915,841.09173028600833]
[null,"Numerator",{"$f":"VLOOKUP($A$1,Data!$AC$5:$CL$156,46,0)","v":6707},{"$f":"VLOOKUP($A$1,Data!$AC$5:$CL$156,47,0)","v":6829},{"$f":"VLOOKUP($A$1,Data!$AC$5:$CL$156,48,0)","v":5900},{"$f":"VLOOKUP($A$1,Data!$AC$5:$CL$156,49,0)","v":6238},6000,5800,5600,5260,5260,5260,5260,5260]
[null,"Denominator",{"$f":"VLOOKUP($A$1,Data!$AC$5:$CL$156,59,0)","v":616507},{"$f":"VLOOKUP($A$1,Data!$AC$5:$CL$156,59,0)","v":616507},{"$f":"VLOOKUP($A$1,Data!$AC$5:$CL$156,59,0)","v":616507},{"$f":"VLOOKUP($A$1,Data!$AC$5:$CL$156,60,0)","v":618201.4019999993},{"$f":"VLOOKUP($A$1,Data!$AC$5:$CL$156,60,0)","v":618201.4019999993},{"$f":"VLOOKUP($A$1,Data!$AC$5:$CL$156,60,0)","v":618201.4019999993},{"$f":"VLOOKUP($A$1,Data!$AC$5:$CL$156,60,0)","v":618201.4019999993},{"$f":"VLOOKUP($A$1,Data!$AC$5:$CL$156,61,0)","v":621893.41199999989},{"$f":"VLOOKUP($A$1,Data!$AC$5:$CL$156,61,0)","v":621893.41199999989},{"$f":"VLOOKUP($A$1,Data!$AC$5:$CL$156,61,0)","v":621893.41199999989},{"$f":"VLOOKUP($A$1,Data!$AC$5:$CL$156,61,0)","v":621893.41199999989},{"$f":"VLOOKUP($A$1,Data!$AC$5:$CL$156,62,0)","v":625377.68599999999}]
[null,null,null,null,null,null,null,null,"Annual change in admissions",{"$f":"IF(SUM(G30:J30)=0,0,SUM(G30:J30)-SUM(C30:F30))","v":-3014},null,null,"Annual change in admissions",{"$f":"IF(SUM(K30:N30)=0,0,SUM(K30:N30)-SUM(G30:J30))","v":-1620}]
[null,null,null,null,null,null,null,null,"Annual change in admissions %",{"$f":"IF(SUM(G30:J30)=0,0,(SUM(G30:J30)/SUM(C30:F30))-1)","v":-0.11739502999143103},null,null,"Annual change in admissions %",{"$f":"IF(SUM(K30:N30)=0,0,(SUM(K30:N30)/SUM(G30:J30))-1)","v":-7.1491615180935608E-2}]
[null,null,null,null,null,null,null,null,"Annual saving",{"$f":"ROUND(-J32*P34,-3)","v":829000},null,null,"Annual saving",{"$f":"ROUND(-N32*P34,-3)","v":446000},null,275,"Average cost of delayed transfer day3"]
[]
["Patient / Service User Experience Metric"]
["Metric",null,"Baseline\n","Planned 14/15 \n(if available)","Planned 15/16"]
[null,null,"2013/14"]
["% of adults using services satisfied with the care and support they receive (ASCOF 3A)","Metric Value",66.744186046511629,67.707641196013284,68.504983388704318]
[null,"Numerator",10045,10190,10310]
[null,"Denominator",15050,15050,15050]
["Improvement indicated by:","Increase"]
[]
[]
["Local Metric"]
["Metric",null,"Baseline\n","Planned 14/15 \n(if available)","Planned 15/16"]
[null,null,"2012/13"]
["Dementia diagnosis rate","Metric Value",{"$f":"SUM(C49/C50)*100","v":37.078393881453152},{"$f":"SUM(D49/D50)*100","v":51.458610987709164},{"$f":"SUM(E49/E50)*100","v":55.530875166592629}]
[null,"Numerator",4848,6950,7500]
[null,"Denominator",13075,13506,13506]
["Improvement indicated by:","Increase"]
[]
[]
["References/notes"]
[]
["Population projections are based on Subnational Population Projections, Interim 2012-based (published May 2014)\n"]
[]
["1.  Based on \"Personal Social Services: Expenditure and Unit Costs, England\n2012-13\" (HSCIC) http://www.hscic.gov.uk/catalogue/PUB13085/pss-exp-eng-12-13-fin-rpt.pdf"]
["2.  There is no robust national source for the average annual saving due to being at home 91 days after discharge from hospital in to reablement / rehabilitation services. Therefore HWBs should provide the estimate that underpins their planned financial savings, which it is assumed will include the impact of reduction admissions to hospital and to residential care"]
["3.  Based on 12-13 Reference Costs:  average cost of an excess bed day. https://www.gov.uk/government/uploads/system/uploads/attachment_data/file/261154/nhs_reference_costs_2012-13_acc.pdf "]

{"sheet":"7. Metric trends","index":10,"n_rows":115,"n_cols":71,"rows_kept":115,"cut":false,"hidden":false,"merged":[[29,1,31,2],[85,1,87,2],[85,3,85,34],[70,6,73,10],[0,0,0,1],[40,1,41,2],[42,1,44,1],[63,1,64,2],[65,1,67,1],[2,0,2,9],[7,1,9,2],[32,1,34,1],[40,5,41,5],[110,1,112,1],[85,35,85,46],[85,47,85,70],[107,1,109,2],[107,3,107,10],[108,3,108,6],[108,7,108,10]]}
[{"$f":"'1. HWB Funding Sources'!A4","v":"Devon"}]
[]
["To support finalisation of plans, we have provided estimates of future performance, based on a simple ‘straight line’ projection of historic data for each metric.  We recognise that these are crude methodologies, but it may be useful to consider when setting your plans for each of the national metrics in 2014/15 and 2015/16. As part of the assurance process centrally we will be looking at plans compared to the counterfactual (what the performance might have been if there was no BCF). "]
["No cells need to be completed in this tab. However, 2014-15 and 2015-16 projected counts for each metric can be overwritten (white cells) if areas wish to set their own projections."]
[]
[null,"Non-elective admissions (general and acute)"]
[null,null,null,1,2,3,4,5,6,7,8,9,10,11,12]
[null,"Metric",null,"Historic",null,null,"Baseline",null,null,null,"Projection"]
[null,null,null,1,2,3,4,5,6,7,8,9,10,11,12]
[null,null,null,"13-14 Q1","13-14 Q2","13-14 Q3","13-14 Q4","14-15 Q1","14-15 Q2","14-15 Q3","14-15 Q4","15-16 Q1","15-16 Q2","15-16 Q3","15-16 Q4"]
[null,"Total non-elective admissions (general & acute), all-age","No. of admissions - historic and projected",{"$f":"VLOOKUP($A$1,'10.Non-elective admissions -HWB'!$E$5:$M$155,2,0)","v":19646.085083059479},{"$f":"VLOOKUP($A$1,'10.Non-elective admissions -HWB'!$E$5:$M$155,3,0)","v":20799.860581126395},{"$f":"VLOOKUP($A$1,'10.Non-elective admissions -HWB'!$E$5:$M$155,4,0)","v":20865.674436086287},{"$f":"VLOOKUP($A$1,'10.Non-elective admissions -HWB'!$E$5:$M$155,5,0)","v":20415.068881085717},{"$f":"VLOOKUP($A$1,'10.Non-elective admissions -HWB'!$E$5:$M$155,6,0)","v":19342.757450164674},{"$f":"VLOOKUP($A$1,'10.Non-elective admissions -HWB'!$E$5:$M$155,7,0)","v":19821.774660952266},{"$f":"VLOOKUP($A$1,'10.Non-elective admissions -HWB'!$E$5:$M$155,8,0)","v":20080.341261953727},{"$f":"IF(FORECAST(K7,$D$11:$J$11,$D$7:$J$7)<0,0,FORECAST(K7,$D$11:$J$11,$D$7:$J$7))","v":19827.891723548772},{"$f":"IF(FORECAST(L7,$D$11:$J$11,$D$7:$J$7)<0,0,FORECAST(L7,$D$11:$J$11,$D$7:$J$7))","v":19750.16599892066},{"$f":"IF(FORECAST(M7,$D$11:$J$11,$D$7:$J$7)<0,0,FORECAST(M7,$D$11:$J$11,$D$7:$J$7))","v":19672.440274292549},{"$f":"IF(FORECAST(N7,$D$11:$J$11,$D$7:$J$7)<0,0,FORECAST(N7,$D$11:$J$11,$D$7:$J$7))","v":19594.714549664437},{"$f":"IF(FORECAST(O7,$D$11:$J$11,$D$7:$J$7)<0,0,FORECAST(O7,$D$11:$J$11,$D$7:$J$7))","v":19516.988825036326}]
[null,null,"Planned (from 'HWB P4P metric' tab)",{"$f":"D11","v":19646.085083059479},20799.860581126395,20865.674436086287,20415.068881085717,19342.757450164674,19821.774660952266,20080.341261953727,{"$f":"'5. HWB P4P metric'!G10","v":18925},{"$f":"'5. HWB P4P metric'!H10","v":18666},{"$f":"'5. HWB P4P metric'!I10","v":19128},{"$f":"'5. HWB P4P metric'!J10","v":19377},{"$f":"'5. HWB P4P metric'!K10","v":18925}]
[]
[]
[]
[]
[]
[]
[]
[]
[]
[]
[]
[]
[]
[]
[]
[]
[]
[null,"Metric",null,"Projected rates"]
[null,null,null,"2014 -2015","2015-16","2015-16","2015-16","2015-16"]
[null,null,null,"Q4 ","Q1 ","Q2 ","Q3 ","Q4 "]
[null,"Total non-elective admissions (general & acute), all-age","Quarterly rate",{"$f":"D34/D35*100000","v":2608.7684601734773},{"$f":"E34/E35*100000","v":2584.6590461307965},{"$f":"F34/F35*100000","v":2574.4872583449069},{"$f":"G34/G35*100000","v":2564.3154705590168},{"$f":"H34/H35*100000","v":2539.7642172533383}]
[null,null,"Numerator",{"$f":"K11","v":19827.891723548772},{"$f":"L11","v":19750.16599892066},{"$f":"M11","v":19672.440274292549},{"$f":"N11","v":19594.714549664437},{"$f":"O11","v":19516.988825036326}]
[null,null,"Denominator",{"$f":"VLOOKUP($A$1,Data!$CM$5:$FK$156,75,0)","v":760047.97},{"$f":"VLOOKUP($A$1,Data!$CM$5:$FK$156,76,0)","v":764130.41899999999},{"$f":"VLOOKUP($A$1,Data!$CM$5:$FK$156,76,0)","v":764130.41899999999},{"$f":"VLOOKUP($A$1,Data!$CM$5:$FK$156,76,0)","v":764130.41899999999},{"$f":"VLOOKUP($A$1,Data!$CM$5:$FK$156,77,0)","v":768456.72100000014}]
[]
[null,"* The projected rates are based on annual population projections and therefore will not change linearly"]
[]
[null,"Residential admissions"]
[null,null,null,1,2,3,4,5]
[null,"Metric",null,"2011-12","2012-13","2013-14 baseline","2014-15","2015-16"]
[null,null,null,"Historic","historic",null,"Projected","Projected"]
[null,"Permanent admissions of older people (aged 65 and over) to residential and nursing care homes, per 100,000 population","Historic and projected annual rate",{"$f":"VLOOKUP($A$1,Data!$D$5:$P$156,10,0)","v":625.29999999999995},{"$f":"VLOOKUP($A$1,Data!$D$5:$P$156,11,0)","v":625},{"$f":"VLOOKUP($A$1,Data!$D$5:$P$156,12,0)","v":556.4},{"$f":"IF(FORECAST(G40,$D$43:$F$43,$D$40:$F$40)<0,0,FORECAST(G40,$D$43:$F$43,$D$40:$F$40))","v":533.33333333333326},{"$f":"IF(FORECAST(H40,$D$43:$F$43,$D$40:$F$40)<0,0,FORECAST(H40,$D$43:$F$43,$D$40:$F$40))","v":498.88333333333327}]
[null,null,"Numerator",{"$f":"VLOOKUP($A$1,Data!$D$5:$P$156,2,0)","v":1060},{"$f":"VLOOKUP($A$1,Data!$D$5:$P$156,3,0)","v":1105},{"$f":"VLOOKUP($A$1,Data!$D$5:$P$156,4,0)","v":980},{"$f":"G43/100000*G45","v":992.76037866666627},{"$f":"H43/100000*H45","v":949.6610131036673}]
[null,null,"Denominator",{"$f":"VLOOKUP($A$1,Data!$D$5:$P$156,5,0)","v":169840},{"$f":"VLOOKUP($A$1,Data!$D$5:$P$156,6,0)","v":176490},{"$f":"VLOOKUP($A$1,Data!$D$5:$P$156,6,0)","v":176490},{"$f":"VLOOKUP($A$1,Data!$D$5:$P$156,8,0)","v":186142.57099999997},{"$f":"VLOOKUP($A$1,Data!$D$5:$P$156,9,0)","v":190357.33400000015}]
[null,null,"Planned (from ''HWB Supporting Metrics' tab)",{"$f":"D43","v":625.29999999999995},{"$f":"E43","v":625},{"$f":"F43","v":556.4},{"$f":"'6. HWB Supporting Metrics'!D8","v":526.47816925232019},{"$f":"'6. HWB Supporting Metrics'!E8","v":514.82124665603862}]
[]
[null,null,null,null,null,null,"This is based on a simple projection of the metric proportion."]
[]
[]
[]
[]
[]
[]
[]
[]
[]
[]
[]
[]
[]
[null,"Reablement"]
[null,null,null,1,2,3,4,5]
[null,"Metric",null,"2011-12","2012-13","2013-14","2014-15","2015-16"]
[null,null,null,"Historic","Historic","Baseline","Projected","Projected"]
[null,"Proportion of older people (65 and over) who were still at home 91 days after discharge from hospital into reablement / rehabilitation services","Historic and projected annual %",{"$f":"VLOOKUP($A$1,Data!$Q$5:$AB$156,8,0)","v":85.8},{"$f":"VLOOKUP($A$1,Data!$Q$5:$AB$156,9,0)","v":87.7},{"$f":"VLOOKUP($A$1,Data!$Q$5:$AB$156,10,0)","v":89.8},{"$f":"IF(FORECAST(G63,$D$66:$F$66,$D$63:$F$63)<0,0,IF(FORECAST(G63,$D$66:$F$66,$D$63:$F$63)>100,100,FORECAST(G63,$D$66:$F$66,$D$63:$F$63)))","v":91.766666666666666},{"$f":"IF(FORECAST(H63,$D$66:$F$66,$D$63:$F$63)<0,0,IF(FORECAST(H63,$D$66:$F$66,$D$63:$F$63)>100,100,FORECAST(H63,$D$66:$F$66,$D$63:$F$63)))","v":93.766666666666666}]
[null,null,"Numerator",{"$f":"VLOOKUP($A$1,Data!$Q$5:$AB$156,2,0)","v":400},{"$f":"VLOOKUP($A$1,Data!$Q$5:$AB$156,3,0)","v":400},{"$f":"VLOOKUP($A$1,Data!$Q$5:$AB$156,4,0)","v":465},{"$f":"G66/100*G68","v":477.18666666666667},{"$f":"H66/100*H68","v":487.58666666666664}]
[null,null,"Denominator",{"$f":"VLOOKUP($A$1,Data!$Q$5:$AB$156,5,0)","v":465},{"$f":"VLOOKUP($A$1,Data!$Q$5:$AB$156,6,0)","v":455},{"$f":"VLOOKUP($A$1,Data!$Q$5:$AB$156,7,0)","v":520},{"$f":"F68","v":520},{"$f":"F68","v":520}]
[null,null,"Planned (from ''HWB Supporting Metrics' tab)",{"$f":"D66","v":85.8},{"$f":"E66","v":87.7},89.8,{"$f":"'6. HWB Supporting Metrics'!D18","v":81.524249422632806},{"$f":"'6. HWB Supporting Metrics'!E18","v":81.524249422632806}]
[]
[null,null,null,null,null,null,"This is based on a simple projection of the metric proportion, and an unchanging denominator (number of people offered reablement)"]
[]
[]
[]
[]
[]
[]
[]
[]
[]
[]
[]
[]
[null,"Delayed transfers"]
[]
[null,"Metric",null,"Historic",null,null,null,null,null,null,null,null,null,null,null,null,null,null,null,null,null,null,null,null,null,null,null,null,null,null,null,null,null,null,null,"Baseline",null,null,null,null,null,null,null,null,null,null,null,"Linear projection* (set so cannot fall below zero)"]
[null,null,null,1,2,3,4,5,6,7,8,9,10,11,12,13,14,15,16,17,18,19,20,21,22,23,24,25,26,27,28,29,30,31,32,33,34,35,36,37,38,39,40,41,42,43,44,45,46,47,48,49,50,51,52,53,54,55,56,57,58,59,60,61,62,63,64,65,66,67,68]
[null,null,null,"2010-08-01","2010-09-01","2010-10-01","2010-11-01","2010-12-01","2011-01-01","2011-02-01","2011-03-01","2011-04-01","2011-05-01","2011-06-01","2011-07-01","2011-08-01","2011-09-01","2011-10-01","2011-11-01","2011-12-01","2012-01-01","2012-02-01","2012-03-01","2012-04-01","2012-05-01","2012-06-01","2012-07-01","2012-08-01","2012-09-01","2012-10-01","2012-11-01","2012-12-01","2013-01-01","2013-02-01","2013-03-01","2013-04-01","2013-05-01","2013-06-01","2013-07-01","2013-08-01","2013-09-01","2013-10-01","2013-11-01","2013-12-01","2014-01-01","2014-02-01","2014-03-01","2014-04-01","2014-05-01","2014-06-01","2014-07-01","2014-08-01","2014-09-01","2014-10-01","2014-11-01","2014-12-01","2015-01-01","2015-02-01","2015-03-01","2015-04-01","2015-05-01","2015-06-01","2015-07-01","2015-08-01","2015-09-01","2015-10-01","2015-11-01","2015-12-01","2016-01-01","2016-02-01","2016-03-01"]
[null,"Delayed transfers of care (delayed days) from hospital ","Historic and projected delayed transfers",{"$f":"VLOOKUP($A$1,Data!$AC$5:$CL$156,D87+1,0)","v":2553},{"$f":"VLOOKUP($A$1,Data!$AC$5:$CL$156,E87+1,0)","v":2788},{"$f":"VLOOKUP($A$1,Data!$AC$5:$CL$156,F87+1,0)","v":2658},{"$f":"VLOOKUP($A$1,Data!$AC$5:$CL$156,G87+1,0)","v":2305},{"$f":"VLOOKUP($A$1,Data!$AC$5:$CL$156,H87+1,0)","v":3008},{"$f":"VLOOKUP($A$1,Data!$AC$5:$CL$156,I87+1,0)","v":3127},{"$f":"VLOOKUP($A$1,Data!$AC$5:$CL$156,J87+1,0)","v":2903},{"$f":"VLOOKUP($A$1,Data!$AC$5:$CL$156,K87+1,0)","v":3285},{"$f":"VLOOKUP($A$1,Data!$AC$5:$CL$156,L87+1,0)","v":2672},{"$f":"VLOOKUP($A$1,Data!$AC$5:$CL$156,M87+1,0)","v":2599},{"$f":"VLOOKUP($A$1,Data!$AC$5:$CL$156,N87+1,0)","v":2603},{"$f":"VLOOKUP($A$1,Data!$AC$5:$CL$156,O87+1,0)","v":2506},{"$f":"VLOOKUP($A$1,Data!$AC$5:$CL$156,P87+1,0)","v":2519},{"$f":"VLOOKUP($A$1,Data!$AC$5:$CL$156,Q87+1,0)","v":2694},{"$f":"VLOOKUP($A$1,Data!$AC$5:$CL$156,R87+1,0)","v":2665},{"$f":"VLOOKUP($A$1,Data!$AC$5:$CL$156,S87+1,0)","v":2864},{"$f":"VLOOKUP($A$1,Data!$AC$5:$CL$156,T87+1,0)","v":2286},{"$f":"VLOOKUP($A$1,Data!$AC$5:$CL$156,U87+1,0)","v":2446},{"$f":"VLOOKUP($A$1,Data!$AC$5:$CL$156,V87+1,0)","v":2338},{"$f":"VLOOKUP($A$1,Data!$AC$5:$CL$156,W87+1,0)","v":2295},{"$f":"VLOOKUP($A$1,Data!$AC$5:$CL$156,X87+1,0)","v":2137},{"$f":"VLOOKUP($A$1,Data!$AC$5:$CL$156,Y87+1,0)","v":2194},{"$f":"VLOOKUP($A$1,Data!$AC$5:$CL$156,Z87+1,0)","v":2313},{"$f":"VLOOKUP($A$1,Data!$AC$5:$CL$156,AA87+1,0)","v":2487},{"$f":"VLOOKUP($A$1,Data!$AC$5:$CL$156,AB87+1,0)","v":2186},{"$f":"VLOOKUP($A$1,Data!$AC$5:$CL$156,AC87+1,0)","v":2597},{"$f":"VLOOKUP($A$1,Data!$AC$5:$CL$156,AD87+1,0)","v":2301},{"$f":"VLOOKUP($A$1,Data!$AC$5:$CL$156,AE87+1,0)","v":2416},{"$f":"VLOOKUP($A$1,Data!$AC$5:$CL$156,AF87+1,0)","v":1589},{"$f":"VLOOKUP($A$1,Data!$AC$5:$CL$156,AG87+1,0)","v":2302},{"$f":"VLOOKUP($A$1,Data!$AC$5:$CL$156,AH87+1,0)","v":2008},{"$f":"VLOOKUP($A$1,Data!$AC$5:$CL$156,AI87+1,0)","v":2067},{"$f":"VLOOKUP($A$1,Data!$AC$5:$CL$156,AJ87+1,0)","v":2080},{"$f":"VLOOKUP($A$1,Data!$AC$5:$CL$156,AK87+1,0)","v":2298},{"$f":"VLOOKUP($A$1,Data!$AC$5:$CL$156,AL87+1,0)","v":2329},{"$f":"VLOOKUP($A$1,Data!$AC$5:$CL$156,AM87+1,0)","v":2205},{"$f":"VLOOKUP($A$1,Data!$AC$5:$CL$156,AN87+1,0)","v":2305},{"$f":"VLOOKUP($A$1,Data!$AC$5:$CL$156,AO87+1,0)","v":2319},{"$f":"VLOOKUP($A$1,Data!$AC$5:$CL$156,AP87+1,0)","v":2349},{"$f":"VLOOKUP($A$1,Data!$AC$5:$CL$156,AQ87+1,0)","v":2117},{"$f":"VLOOKUP($A$1,Data!$AC$5:$CL$156,AR87+1,0)","v":1434},{"$f":"VLOOKUP($A$1,Data!$AC$5:$CL$156,AS87+1,0)","v":2091},{"$f":"VLOOKUP($A$1,Data!$AC$5:$CL$156,AT87+1,0)","v":1906},{"$f":"VLOOKUP($A$1,Data!$AC$5:$CL$156,AU87+1,0)","v":2241},{"$f":"IF(FORECAST(AV87,$D$89:$AU$89,$D$87:$AU$87)<0,0,FORECAST(AV87,$D$89:$AU$89,$D$87:$AU$87))","v":1947.446088794926},1927.5497533474277,1907.6534178999295,1887.7570824524314,1867.860747004933,1847.9644115574347,1828.0680761099366,1808.1717406624384,1788.2754052149401,1768.3790697674419,1748.4827343199436,1728.5863988724454,1708.6900634249471,1688.793727977449,1668.8973925299506,1649.0010570824525,1629.1047216349541,1609.208386187456,1589.3120507399576,1569.4157152924595,1549.5193798449613,1529.623044397463,1509.7267089499649,1489.8303735024665]
[null,null,"Planned (from ''HWB Supporting Metrics' tab)",{"$f":"D89","v":2553},{"$f":"E89","v":2788},2658,2305,3008,3127,2903,3285,2672,2599,2603,2506,2519,2694,2665,2864,2286,2446,2338,2295,2137,2194,2313,2487,2186,2597,2301,2416,1589,2302,2008,2067,2080,2298,2329,2205,2305,2319,2349,2117,1434,2091,1906,2241,{"$f":"'6. HWB Supporting Metrics'!$G30/3","v":2000},{"$f":"'6. HWB Supporting Metrics'!$G30/3","v":2000},{"$f":"'6. HWB Supporting Metrics'!$G30/3","v":2000},{"$f":"'6. HWB Supporting Metrics'!$H30/3","v":1933.3333333333333},{"$f":"'6. HWB Supporting Metrics'!$H30/3","v":1933.3333333333333},{"$f":"'6. HWB Supporting Metrics'!$H30/3","v":1933.3333333333333},{"$f":"'6. HWB Supporting Metrics'!$I30/3","v":1866.6666666666667},{"$f":"'6. HWB Supporting Metrics'!$I30/3","v":1866.6666666666667},{"$f":"'6. HWB Supporting Metrics'!$I30/3","v":1866.6666666666667},{"$f":"'6. HWB Supporting Metrics'!$J30/3","v":1753.3333333333333},{"$f":"'6. HWB Supporting Metrics'!$J30/3","v":1753.3333333333333},{"$f":"'6. HWB Supporting Metrics'!$J30/3","v":1753.3333333333333},{"$f":"'6. HWB Supporting Metrics'!$K30/3","v":1753.3333333333333},{"$f":"'6. HWB Supporting Metrics'!$K30/3","v":1753.3333333333333},{"$f":"'6. HWB Supporting Metrics'!$K30/3","v":1753.3333333333333},{"$f":"'6. HWB Supporting Metrics'!$L30/3","v":1753.3333333333333},{"$f":"'6. HWB Supporting Metrics'!$L30/3","v":1753.3333333333333},{"$f":"'6. HWB Supporting Metrics'!$L30/3","v":1753.3333333333333},{"$f":"'6. HWB Supporting Metrics'!$M30/3","v":1753.3333333333333},{"$f":"'6. HWB Supporting Metrics'!$M30/3","v":1753.3333333333333},{"$f":"'6. HWB Supporting Metrics'!$M30/3","v":1753.3333333333333},{"$f":"'6. HWB Supporting Metrics'!$N30/3","v":1753.3333333333333},{"$f":"'6. HWB Supporting Metrics'!$N30/3","v":1753.3333333333333},{"$f":"'6. HWB Supporting Metrics'!$N30/3","v":1753.3333333333333}]
[]
[]
[]
[]
[]
[]
[]
[]
[]
[]
[]
[]
[]
[]
[]
[]
[]
[null,"Metric",null,"Projected rates*"]
[null,null,null,"2014-15",null,null,null,"2015-16"]
[null,null,null,"Q1 ","Q2 ","Q3 ","Q4 ","Q1 ","Q2 ","Q3 ","Q4 "]
[null,"Delayed transfers of care (delayed days) from hospital per 100,000 population (aged 18+).","Quarterly rate",{"$f":"D112/D113*100000","v":935.39892360876411},906.43311757076947,877.46731153277472,843.46418562154383,814.67034160065157,785.87649757975942,757.08265355886726,724.23116913862748]
[null,null,"Numerator",{"$f":"SUM(AV89:AX89)","v":5782.6492600422825},{"$f":"SUM(AY89:BA89)","v":5603.5822410147994},{"$f":"SUM(BB89:BD89)","v":5424.5152219873153},{"$f":"SUM(BE89:BG89)","v":5245.4482029598312},{"$f":"SUM(BH89:BJ89)","v":5066.3811839323462},{"$f":"SUM(BK89:BM89)","v":4887.314164904863},{"$f":"SUM(BN89:BP89)","v":4708.247145877378},{"$f":"SUM(BQ89:BS89)","v":4529.1801268498948}]
[null,null,"Denominator",{"$f":"VLOOKUP($A$1,Data!$AC$5:$CL$156,60,0)","v":618201.4019999993},{"$f":"VLOOKUP($A$1,Data!$AC$5:$CL$156,60,0)","v":618201.4019999993},{"$f":"VLOOKUP($A$1,Data!$AC$5:$CL$156,60,0)","v":618201.4019999993},{"$f":"VLOOKUP($A$1,Data!$AC$5:$CL$156,61,0)","v":621893.41199999989},{"$f":"VLOOKUP($A$1,Data!$AC$5:$CL$156,61,0)","v":621893.41199999989},{"$f":"VLOOKUP($A$1,Data!$AC$5:$CL$156,61,0)","v":621893.41199999989},{"$f":"VLOOKUP($A$1,Data!$AC$5:$CL$156,61,0)","v":621893.41199999989},{"$f":"VLOOKUP($A$1,Data!$AC$5:$CL$156,62,0)","v":625377.68599999999}]
[]
[null,"* The projected rates are based on annual population projections and therefore will not change linearly"]

{"sheet":"List of Modifications","index":11,"n_rows":43,"n_cols":4,"rows_kept":43,"cut":false,"hidden":false,"merged":[]}
["HWB Financial Plan"]
[]
["Date","Sheet","Cells","Description"]
["2014-07-28","Payment for Performance","B23","formula modified to =IF(B21-B19<0,0,B21-B19)"]
["2014-07-28","1. HWB Funding Sources","C27","formula modified to =SUM(C20:C26)"]
["2014-07-28","HWB ID","J2","Changed to Version 2"]
["2014-07-28","a","Various ","Data mapped correctly for Bournemouth & Poole "]
["2014-07-29","a","AP1:AP348","Allocation updated for changes"]
["2014-07-28","All sheets","Columns","Allowed to modify column width if required"]
["2014-07-30","8. Non elective admissions - CCG",null,"Updated CCG plans for Wolverhampton, Ashford and Canterbury CCGs"]
["2014-07-30","6. HWB supporting metrics","D18","Updated conditional formatting to not show green if baseline is 0"]
["2014-07-30","6. HWB supporting metrics","D19","Comment added"]
["2014-07-30","7. Metric trends","K11:O11, G43:H43,G66:H66","Updated forecast formulas"]
["2014-07-30","Data","Various","Changed a couple of 'dashes' to zeros"]
["2014-07-30","5. HWB P4P metric","H14","Removed rounding "]
["2014-07-31","1. HWB Funding Sources","A48:C54","Unprotect cells and allow entry"]
["2014-08-01","5. HWB P4P metric","G10:K10","Updated conditional formatting"]
["2014-08-01","5. HWB P4P metric","H13","formula modified to =IF(OR(G10<0,H10<0,I10<0,J10<0),\"\",IF(OR(ISTEXT(G10),ISTEXT(H10),ISTEXT(I10),ISTEXT(J10)),\"\",IF(SUM(G10:J10)=0,\"\",(SUM(G10:J10)/SUM(C10:F10))-1)))"]
["2014-08-01","5. HWB P4P metric","H13","Apply conditional formatting"]
["2014-08-01","5. HWB P4P metric","H14","formula modified to =if(H13=\"\",\"\",-H12*J14)"]
["2014-08-01","4. HWB Benefits Plan","J69:J118","Remove formula"]
["2014-08-01","4. HWB Benefits Plan","B11:B60, B69:B118","Texted modified"]
["Version 2"]
["2014-08-13","4. HWB Benefits Plan","I61, I119, J61, J119","Delete formula"]
["2014-08-13","4. HWB Benefits Plan","rows 119:168","Additional 50 rows added to 14-15 table for orgaanisations that need it.  Please unhide to use"]
["2014-08-13","4. HWB Benefits Plan","rows 59:108","Additional 50 rows added to 15-16 table for orgaanisations that need it.  Please unhide to use"]
["2014-08-13","3. HWB Expenditure Plan","rows 59:108","Additional 50 rows added to table for orgaanisations that need it.  Please unhide to use"]
["2014-08-13","a","M8 ","Add Primary Care to drop down list in column I on sheet '3. HWB Expenditure Plan'"]
["2014-08-13","HWB ID","J2","Changed to Version 3"]
["2014-08-13","6. HWB supporting metrics","C11, I32, M32","Change text to  ‘Annual change in admissions’"]
["2014-08-13","6. HWB supporting metrics","C12, I33, M33","Change text to ‘Annual change in admissions %’"]
["2014-08-13","6. HWB supporting metrics","C21","Change text to ‘Annual change in proportion’"]
["2014-08-13","6. HWB supporting metrics","C22","Change text  to ‘Annual change in proportion %’"]
["2014-08-13","6. HWB supporting metrics","D21","Change formula to =if(D19=0,0,D18-C18) "]
["2014-08-13","6. HWB supporting metrics","D21","Change format to 1.dec. place"]
["2014-08-13","6. HWB supporting metrics","E21","Change formula  to = if(E19=0,0,E18-D18)"]
["2014-08-13","6. HWB supporting metrics","E21","Change format to 1.dec. place"]
["2014-08-13","6. HWB supporting metrics","D22","Change formula to =if(D19=0,0,D18/C18-1)"]
["2014-08-13","6. HWB supporting metrics","E22","Change formula to =if(E19=0,0,E18/D18-1)"]
["2014-08-13","5. HWB P4P metric","J14","Cell can now be modified  - £1,490 in as a placeholder"]
["2014-08-13","5. HWB P4P metric","N9:AL9","Test box for an explanation of why different to £1,490 if it is."]
["2014-08-13","4. HWB Benefits Plan","H11:H110, H119:H218","Change formula to  eg. =H11*G11"]
["2014-08-13","2. Summary","G44:M44","Test box for an explanation for the difference between the calculated NEL saving on the metrics tab and the benefits tab"]

{"sheet":"a","index":12,"n_rows":348,"n_cols":53,"rows_kept":348,"cut":false,"hidden":true,"merged":[]}
[null,null,null,null,null,null,null,null,null,null,null,null,null,null,null,null,null,null,null,null,"<Please Select CCG>",null,null,null,null,null,null,null,null,null,null,null,null,null,null,null,null,null,null,null,"Split of £3.46bn",null,null,null,null,null,null,null,null,null,"HWB","CCG","£1.1bn"]
[null,"<Please select>","<Please select>",null,"Acute contracts -NHS (includes Ambulance services)",null,null,null,null,null,"<Please select>",null,"<Please select>","<Please select>",null,"<Please select HWB>",null,null,"Yes",null,"NHS Airedale, Wharfedale and Craven CCG","02N",3173,10032,null,null,"<Please select Local Authority>",null,null,null,"NHS CCG",null,"Reduction in permanent residential admissions",null,null,null,null,"<Please select>","gu","HWB","CCG","£m",null,null,null,null,"Sum of £1bn",null,null,{"$f":"AY2&COUNTIF($AY2:AY$3,AY2)","v":"Barking and Dagenham1"},"Barking and Dagenham","NHS Barking and Dagenham CCG",4184.8649999999998]
[null,"Acute","Acute",null,"Acute contracts - Other providers (non-nhs, incl. VS)",null,null,null,null,null,"CCG",null,"NHS Acute Provider","Local Authority","E09000002","Barking and Dagenham",{"$f":"O3","v":"E09000002"},null,"No",null,"NHS Ashford CCG","09C",2443,7321,null,"E09000002","Barking and Dagenham","E09000002",null,null,"NHS Provider",null,"Increased effectiveness of reablement",null,null,null,null,"Red","Barking and Dagenham1","Barking and Dagenham","NHS Barking and Dagenham CCG",13055,null,null,null,null,"HWB","Total",null,{"$f":"AY3&COUNTIF($AY3:AY$3,AY3)","v":"Barnet1"},"Barnet","NHS Barnet CCG",6634.3239999999996]
[null,"Mental Health","Mental Health",null,"Acute - Other",null,null,null,null,null,"Local Authority",null,"NHS Mental Health Provider","NHS Commissioner","E09000003","Barnet",{"$f":"O4","v":"E09000003"},null,null,null,"NHS Aylesbury Vale CCG","10Y",3012,10382,null,"E09000003","Barnet","E09000003",null,null,"NHS England",null,"Reduction in delayed transfers of care",null,null,null,null,"Amber","Barnet1","Barnet","NHS Barnet CCG",21540,null,null,null,null,"Barking and Dagenham",3773.1213872832368,null,{"$f":"AY4&COUNTIF($AY$3:AY4,AY4)","v":"Barnsley1"},"Barnsley","NHS Barnsley CCG",5676.0039999999999]
[null,"Community Health","Community Health",null,"Acute - Exclusions / cost per case",null,null,null,null,null,"NHS England",null,"NHS Community Provider","NHS Provider","E08000016","Barnsley","E08000016",null,null,null,"NHS Barking & Dagenham CCG","07L",4185,13055,null,"E08000016","Barnsley","E08000016",null,null,"Local Authority",null,"Reduction in non-elective (general + acute only)",null,null,null,null,"Green","Barnsley1","Barnsley","NHS Barnsley CCG",18358,null,null,null,null,"Barnet",6225.4335260115604,null,{"$f":"AY5&COUNTIF($AY$3:AY5,AY5)","v":"Bath and North East Somerset1"},"Bath and North East Somerset","NHS Bath and North East Somerset CCG",3344.7]
[null,"Continuing Care","Continuing Care",null,"Acute - NCAs",null,null,null,null,null,"Joint",null,"CCG",null,"E06000022","Bath and North East Somerset","E06000022",null,null,null,"NHS Barnet CCG","07M",6634,21540,null,"E06000022","Bath and North East Somerset","E06000022",null,null,null,null,"Other",null,null,null,null,null,"Bath and North East Somerset1","Bath and North East Somerset","NHS Bath and North East Somerset CCG",11091,null,null,null,null,"Barnsley",5305.7803468208094,null,{"$f":"AY6&COUNTIF($AY$3:AY6,AY6)","v":"Bedford1"},"Bedford","NHS Bedfordshire CCG",2845.3890000000001]
[null,"Primary Care","Primary Care",null,"Acute - Pass-through payments",null,null,null,null,null,null,null,"Primary Care",null,"E06000055","Bedford","E06000055",null,null,null,"NHS Barnsley CCG","02P",5676,18358,null,"E06000055","Bedford","E06000055",null,null,null,null,null,null,null,null,null,null,"Bedford1","Bedford","NHS Bedfordshire CCG",9396,null,null,null,null,"Bath and North East Somerset",3205.4913294797689,null,{"$f":"AY7&COUNTIF($AY$3:AY7,AY7)","v":"Bexley1"},"Bexley","NHS Bexley CCG",4255.05]
[null,"Other Programme Services","Social Care",null,null,null,null,null,null,null,null,null,"Local Authority",null,"E09000004","Bexley","E09000004",null,null,null,"NHS Basildon and Brentwood CCG","99E",4854,16041,null,"E09000004","Bexley","E09000004",null,null,null,null,null,null,null,null,null,null,"Bexley1","Bexley","NHS Bexley CCG",13708,null,null,null,null,"Bedford",2715.6069364161849,null,{"$f":"AY8&COUNTIF($AY$3:AY8,AY8)","v":"Birmingham1"},"Birmingham","NHS Birmingham South and Central CCG",4619.440219092332]
[null,"Running Costs","Other",null,"Sub-total Acute services",null,null,null,null,null,null,null,"Charity/Voluntary Sector",null,"E08000025","Birmingham","E08000025",null,null,null,"NHS Bassetlaw CCG","02Q",2277,7526,null,"E08000025","Birmingham","E08000025",null,null,null,null,null,null,null,null,null,null,"Birmingham1","Birmingham","NHS Sandwell and West Birmingham CCG",10977,null,null,null,null,"Bexley",3961.849710982659,null,{"$f":"AY9&COUNTIF($AY$3:AY9,AY9)","v":"Birmingham2"},"Birmingham","NHS Sandwell and West Birmingham CCG",3695.5521752738655]
[null,null,null,null,null,null,null,null,null,null,null,null,"Private Sector",null,"E06000008","Blackburn with Darwen","E06000008",null,null,null,"NHS Bath and North East Somerset CCG","11E",3345,11091,null,"E06000008","Blackburn with Darwen","E06000008",null,null,null,null,null,null,null,null,null,null,"Birmingham2","Birmingham","NHS Birmingham South and Central CCG",14448,null,null,null,null,"Birmingham",21454.046242774566,null,{"$f":"AY10&COUNTIF($AY$3:AY10,AY10)","v":"Birmingham3"},"Birmingham","NHS Birmingham CrossCity CCG",17353.027605633804]
[null,null,null,null,"Mental Health services ",null,null,null,null,null,null,null,null,null,"E06000009","Blackpool","E06000009",null,null,null,"NHS Bedfordshire CCG","06F",6814,23350,null,"E06000009","Blackpool","E06000009",null,null,null,null,null,null,null,null,null,null,"Birmingham3","Birmingham","NHS Birmingham Crosscity CCG",48806,null,null,null,null,"Blackburn with Darwen",3123.1213872832368,null,{"$f":"AY11&COUNTIF($AY$3:AY11,AY11)","v":"Blackburn with Darwen1"},"Blackburn with Darwen","NHS Blackburn with Darwen CCG",3503.576]
[null,null,null,null,"MH contracts - NHS",null,null,null,null,null,null,null,null,null,"E08000001","Bolton","E08000001",null,null,null,"NHS Bexley CCG","07N",4255,13708,null,"E08000001","Bolton","E08000001",null,null,null,null,null,null,null,null,null,null,"Blackburn with Darwen1","Blackburn with Darwen","NHS Blackburn with Darwen CCG",10806,null,null,null,null,"Blackpool",3593.0635838150288,null,{"$f":"AY12&COUNTIF($AY$3:AY12,AY12)","v":"Blackpool1"},"Blackpool","NHS Blackpool CCG",4141.8879999999999]
[null,null,null,null,"MH contracts - Other providers (non-nhs, incl. VS)",null,null,null,null,null,null,null,null,null,"E06000028","Bournemouth & Poole","E06000028",null,null,null,"NHS Birmingham CrossCity CCG","04W",17353,48807,null,"E06000028","Bournemouth","E06000028",null,null,null,null,null,null,null,null,null,null,"Blackpool1","Blackpool","NHS Blackpool CCG",12432,null,null,null,null,"Bolton",5479.7687861271679,null,{"$f":"AY13&COUNTIF($AY$3:AY13,AY13)","v":"Bolton1"},"Bolton","NHS Bolton CCG",6371.3029999999999]
[null,null,null,null,"MH - Other",null,null,null,null,null,"<Please select>",null,null,null,"E06000036","Bracknell Forest","E06000036",null,null,null,"NHS Birmingham South and Central CCG","04X",4619,14448,null,"E06000036","Bracknell Forest","E06000036",null,null,null,null,null,null,null,null,null,null,"Bolton1","Bolton","NHS Bolton CCG",18960,null,null,null,null,"Bournemouth",3532.6589595375722,null,{"$f":"AY14&COUNTIF($AY$3:AY14,AY14)","v":"Bournemouth1"},"Bournemouth","NHS Dorset CCG",4051.2730000000001]
[null,null,null,null,"MH - Exclusions / cost per case",null,null,null,null,null,"Local Authority Social Services",null,null,null,"E08000032","Bradford","E08000032",null,null,null,"NHS Blackburn with Darwen CCG","00Q",3505,10806,null,"E08000032","Bradford","E08000032",null,null,null,null,null,null,null,null,null,null,"Bournemouth & Poole1","Bournemouth & Poole","NHS Dorset CCG - Bournemouth element",12223,null,null,null,null,"Bracknell Forest",1761.2716763005781,null,{"$f":"AY15&COUNTIF($AY$3:AY15,AY15)","v":"Bracknell Forest1"},"Bracknell Forest","NHS Bracknell and Ascot CCG",1658.414]
[null,null,null,null,"MH - NCAs",null,null,null,null,null,"CCG Minimum Contribution",null,null,null,"E09000005","Brent","E09000005",null,null,null,"NHS Blackpool CCG","00R",4142,12432,null,"E09000005","Brent","E09000005",null,null,null,null,null,null,null,null,null,null,"Bracknell Forest1","Bracknell Forest","NHS Bracknell and Ascot CCG",6094,null,null,null,null,"Bradford",9866.184971098266,null,{"$f":"AY16&COUNTIF($AY$3:AY16,AY16)","v":"Bradford1"},"Bradford","NHS Airedale, Wharfedale and Craven CCG",2309.5598967741935]
[null,null,null,null,"MH - Pass-through payments",null,null,null,null,null,"Additional CCG Contribution",null,null,null,"E06000043","Brighton and Hove","E06000043",null,null,null,"NHS Bolton CCG","00T",6371,18960,null,"E06000043","Brighton and Hove","E06000043",null,null,null,null,null,null,null,null,null,null,"Bradford1","Bradford","NHS Bradford Districts CCG",21314,null,null,null,null,"Brent",5731.7919075144509,null,{"$f":"AY17&COUNTIF($AY$3:AY17,AY17)","v":"Bradford2"},"Bradford","NHS Bradford Districts CCG",6758.8591096774198]
[null,null,null,null,null,null,null,null,null,null,null,null,null,null,"E06000023","Bristol, City of","E06000023",null,null,null,"NHS Bracknell and Ascot CCG","10G",1905,6931,null,"E06000023","Bristol, City of","E06000023",null,null,null,null,null,null,null,null,null,null,"Bradford2","Bradford","NHS Bradford City CCG",5705,null,null,null,null,"Brighton and Hove",5221.0982658959538,null,{"$f":"AY18&COUNTIF($AY$3:AY18,AY18)","v":"Bradford3"},"Bradford","NHS Bradford City CCG",1460.4569935483871]
[null,null,null,null,"Sub-total MH services",null,null,null,null,null,null,null,null,null,"E09000006","Bromley","E09000006",null,null,null,"NHS Bradford City CCG","02W",1460,5705,null,"E09000006","Bromley","E09000006",null,null,null,null,null,null,null,null,null,null,"Bradford3","Bradford","NHS Airedale, Wharfedale and Craven CCG",7118,null,null,null,null,"Bristol, City of",8070.5202312138726,null,{"$f":"AY19&COUNTIF($AY$3:AY19,AY19)","v":"Brent1"},"Brent","NHS Brent CCG",6155.585]
[null,null,null,null,null,null,null,null,null,null,null,null,null,null,"E10000002","Buckinghamshire","E10000002",null,null,null,"NHS Bradford Districts CCG","02R",6759,21314,null,"E10000002","Buckinghamshire","E10000002",null,null,null,null,null,null,null,null,null,null,"Brent1","Brent","NHS Brent CCG",19832,null,null,null,null,"Bromley",5558.3815028901736,null,{"$f":"AY20&COUNTIF($AY$3:AY20,AY20)","v":"Brighton and Hove1"},"Brighton and Hove","NHS Brighton and Hove CCG",5631.3590000000004]
[null,null,null,null,"Community Health Services",null,null,null,null,null,null,null,null,null,"E08000002","Bury","E08000002",null,null,null,"NHS Brent CCG","07P",6156,19832,null,"E08000002","Bury","E08000002",null,null,null,null,null,null,null,null,null,null,"Brighton and Hove1","Brighton and Hove","NHS Brighton and Hove CCG",18065,null,null,null,null,"Buckinghamshire",7626.3005780346821,null,{"$f":"AY21&COUNTIF($AY$3:AY21,AY21)","v":"Bristol, City of1"},"Bristol, City of","NHS Bristol CCG",9296.6769999999997]
[null,null,null,null,"CH Contracts - NHS",null,null,null,null,null,null,null,null,null,"E08000033","Calderdale","E08000033",null,null,null,"NHS Brighton & Hove CCG","09D",5631,18065,null,"E08000033","Calderdale","E08000033",null,null,null,null,null,null,null,null,null,null,"Bristol, City of1","Bristol, City of","NHS Bristol CCG",27924,null,null,null,null,"Bury",3389.3063583815028,null,{"$f":"AY22&COUNTIF($AY$3:AY22,AY22)","v":"Bromley1"},"Bromley","NHS Bromley CCG",5456.2529999999997]
[null,null,null,null,"CH Contracts - Other providers (non-nhs, incl. VS)",null,null,null,null,null,null,null,null,null,"E10000003","Cambridgeshire","E10000003",null,null,null,"NHS Bristol CCG","11H",9297,27924,null,"E10000003","Cambridgeshire","E10000003",null,null,null,null,null,null,null,null,null,null,"Bromley1","Bromley","NHS Bromley CCG",19232,null,null,null,null,"Calderdale",4001.7341040462429,null,{"$f":"AY23&COUNTIF($AY$3:AY23,AY23)","v":"Buckinghamshire1"},"Buckinghamshire","NHS Milton Keynes CCG",96.052777429467085]
[null,null,null,null,"CH - Other",null,null,null,null,null,null,null,null,null,"E09000007","Camden","E09000007",null,null,null,"NHS Bromley CCG","07Q",5456,19232,null,"E09000007","Camden","E09000007",null,null,null,null,null,null,null,null,null,null,"Buckinghamshire1","Buckinghamshire","NHS Milton Keynes CCG",340,null,null,null,null,"Cambridgeshire",9956.9364161849717,null,{"$f":"AY24&COUNTIF($AY$3:AY24,AY24)","v":"Buckinghamshire2"},"Buckinghamshire","NHS Chiltern CCG",4682.57289968652]
[null,null,null,null,"CH - Exclusions / cost per case",null,null,null,null,null,null,null,null,null,"E06000056","Central Bedfordshire","E06000056",null,null,null,"NHS Bury CCG","00V",3743,11727,null,"E06000056","Central Bedfordshire","E06000056",null,null,null,null,null,null,null,null,null,null,"Buckinghamshire2","Buckinghamshire","NHS Chiltern CCG",16088,null,null,null,null,"Camden",5251.4450867052019,null,{"$f":"AY25&COUNTIF($AY$3:AY25,AY25)","v":"Buckinghamshire3"},"Buckinghamshire","NHS Aylesbury Vale CCG",2881.5833228840124]
[null,null,null,null,"CH - NCAs",null,null,null,null,null,null,null,null,null,"E06000049","Cheshire East","E06000049",null,null,null,"NHS Calderdale CCG","02T",4219,13846,null,"E06000049","Cheshire East","E06000049",null,null,null,null,null,null,null,null,null,null,"Buckinghamshire3","Buckinghamshire","NHS Aylesbury Vale CCG",9959,null,null,null,null,"Central Bedfordshire",4032.9479768786127,null,{"$f":"AY26&COUNTIF($AY$3:AY26,AY26)","v":"Bury1"},"Bury","NHS Bury CCG",3743.2579999999998]
[null,null,null,null,"CH - Pass-through payments",null,null,null,null,null,null,null,null,null,"E06000050","Cheshire West and Chester","E06000050",null,null,null,"NHS Cambridgeshire and Peterborough CCG","06H",14857,47034,null,"E06000050","Cheshire West and Chester","E06000050",null,null,null,null,null,null,null,null,null,null,"0",null,"","",null,null,null,null,"Cheshire East",6385.2601156069359,null,{"$f":"AY27&COUNTIF($AY$3:AY27,AY27)","v":"Calderdale1"},"Calderdale","NHS Calderdale CCG",4219.4939999999997]
[null,null,null,null,null,null,null,null,null,null,null,null,null,null,"E09000001","City of London","E09000001",null,null,null,"NHS Camden CCG","07R",5893,18170,null,"E09000001","City of London","E09000001",null,null,null,null,null,null,null,null,null,null,"Bury1","Bury","NHS Bury CCG",11727,null,null,null,null,"Cheshire West and Chester",6389.3063583815028,null,{"$f":"AY28&COUNTIF($AY$3:AY28,AY28)","v":"Cambridgeshire1"},"Cambridgeshire","NHS Cambridgeshire and Peterborough CCG",10651.925999999999]
[null,null,null,null,"Sub-total Community services",null,null,null,null,null,null,null,null,null,"E06000052","Cornwall","E06000052",null,null,null,"NHS Cannock Chase CCG","04Y",2521,8048,null,"E06000052","Cornwall","E06000052",null,null,null,null,null,null,null,null,null,null,"Calderdale1","Calderdale","NHS Calderdale CCG",13846,null,null,null,null,"City of London",211.56069364161849,null,{"$f":"AY29&COUNTIF($AY$3:AY29,AY29)","v":"Camden1"},"Camden","NHS Camden CCG",5893.076]
[null,null,null,null,null,null,null,null,null,null,null,null,null,null,"E06000047","County Durham","E06000047",null,null,null,"NHS Canterbury and Coastal CCG","09E",3727,12564,null,"E06000047","County Durham","E06000047",null,null,null,null,null,null,null,null,null,null,"Cambridgeshire1","Cambridgeshire","NHS Cambridgeshire and Peterborough CCG",34451,null,null,null,null,"Cornwall",10934.971098265896,null,{"$f":"AY30&COUNTIF($AY$3:AY30,AY30)","v":"Central Bedfordshire1"},"Central Bedfordshire","NHS Bedfordshire CCG",3969.0390000000002]
[null,null,null,null,"Continuing Care Services (All Care Groups)",null,null,null,null,null,null,null,null,null,"E08000026","Coventry","E08000026",null,null,null,"NHS Castle Point, Rayleigh and Rochford CCG","99F",3422,10833,null,"E08000026","Coventry","E08000026",null,null,null,null,null,null,null,null,null,null,"0",null,null,"",null,null,null,null,"County Durham",11327.456647398843,null,{"$f":"AY31&COUNTIF($AY$3:AY31,AY31)","v":"Cheshire East1"},"Cheshire East","NHS Eastern Cheshire CCG",3466.4454358974363]
[null,null,null,null,"Local Authority / Joint Services",null,null,null,null,null,null,null,null,null,"E09000008","Croydon","E09000008",null,null,null,"NHS Central London (Westminster) CCG","09A",4454,13553,null,"E09000008","Croydon","E09000008",null,null,null,null,null,null,null,null,null,null,"0",null,null,"",null,null,null,null,"Coventry",6294.2196531791906,null,{"$f":"AY32&COUNTIF($AY$3:AY32,AY32)","v":"Cheshire East2"},"Cheshire East","NHS South Cheshire CCG",3182.3105641025645]
[null,null,null,null,"Free Nursing Care",null,null,null,null,null,null,null,null,null,"E10000006","Cumbria","E10000006",null,null,null,"NHS Central Manchester CCG","00W",3943,12564,null,"E10000006","Cumbria","E10000006",null,null,null,null,null,null,null,null,null,null,"0",null,null,"",null,null,null,null,"Croydon",6213.2947976878613,null,{"$f":"AY33&COUNTIF($AY$3:AY33,AY33)","v":"Cheshire West and Chester1"},"Cheshire West and Chester","NHS Vale Royal CCG",2030.114113207547]
[null,null,null,null,null,null,null,null,null,null,null,null,null,null,"E06000005","Darlington","E06000005",null,null,null,"NHS Chiltern CCG","10H",4683,16088,null,"E06000005","Darlington","E06000005",null,null,null,null,null,null,null,null,null,null,"0",null,null,"",null,null,null,null,"Cumbria",10408.381502890174,null,{"$f":"AY34&COUNTIF($AY$3:AY34,AY34)","v":"Cheshire West and Chester2"},"Cheshire West and Chester","NHS West Cheshire CCG",4694.6388867924525]
[null,null,null,null,"Sub-total Continuing Care  services",null,null,null,null,null,null,null,null,null,"E06000015","Derby","E06000015",null,null,null,"NHS Chorley and South Ribble CCG","00X",3412,11332,null,"E06000015","Derby","E06000015",null,null,null,null,null,null,null,null,null,null,"Camden1","Camden","NHS Camden CCG",18170,null,null,null,null,"Darlington",2073.6994219653179,null,{"$f":"AY35&COUNTIF($AY$3:AY35,AY35)","v":"City of London1"},"City of London","NHS City and Hackney CCG",223.624]
[null,null,null,null,null,null,null,null,null,null,null,null,null,null,"E10000007","Derbyshire","E10000007",null,null,null,"NHS City and Hackney CCG","07T",6663,19381,null,"E10000007","Derbyshire","E10000007",null,null,null,null,null,null,null,null,null,null,"Central Bedfordshire1","Central Bedfordshire","NHS Bedfordshire CCG",13954,null,null,null,null,"Derby",4585.5491329479764,null,{"$f":"AY36&COUNTIF($AY$3:AY36,AY36)","v":"Cornwall1"},"Cornwall","NHS Kernow CCG",12803.01]
[null,null,null,null,"Primary Care services",null,null,null,null,null,null,null,null,null,"E10000008","Devon","E10000008",null,null,null,"NHS Coastal West Sussex CCG","09G",8935,31215,null,"E10000008","Devon","E10000008",null,null,null,null,null,null,null,null,null,null,"Cheshire East1","Cheshire East","NHS South Cheshire CCG",10481,null,null,null,null,"Derbyshire",15070.231213872834,null,{"$f":"AY37&COUNTIF($AY$3:AY37,AY37)","v":"County Durham1"},"County Durham","NHS Durham Dales, Easington and Sedgefield CCG",7146.6788641975318]
[null,null,null,null,"Prescribing",null,null,null,null,null,null,null,null,null,"E08000017","Doncaster","E08000017",null,null,null,"NHS Corby CCG","03V",1210,4123,null,"E08000017","Doncaster","E08000017",null,null,null,null,null,null,null,null,null,null,"Cheshire East2","Cheshire East","NHS Eastern Cheshire CCG",11612,null,null,null,null,"Devon",14522.543352601155,null,{"$f":"AY38&COUNTIF($AY$3:AY38,AY38)","v":"County Durham2"},"County Durham","NHS North Durham CCG",5789.2091358024691]
[null,null,null,null,"Enhanced services",null,null,null,null,null,null,null,null,null,"E10000009","Dorset","E10000009",null,null,null,"NHS Coventry and Rugby CCG","05A",8952,28210,null,"E10000009","Dorset","E10000009",null,null,null,null,null,null,null,null,null,null,"Cheshire West and Chester1","Cheshire West and Chester","NHS West Cheshire CCG",15812,null,null,null,null,"Doncaster",6380.9248554913293,null,{"$f":"AY39&COUNTIF($AY$3:AY39,AY39)","v":"Coventry1"},"Coventry","NHS Coventry and Rugby CCG",7109.0330000000004]
[null,null,null,null,"Out of Hours",null,null,null,null,null,null,null,null,null,"E08000027","Dudley","E08000027",null,null,null,"NHS Crawley CCG","09H",1980,7244,null,"E08000027","Dudley","E08000027",null,null,null,null,null,null,null,null,null,null,"Cheshire West and Chester2","Cheshire West and Chester","NHS Vale Royal CCG",6295,null,null,null,null,"Dorset",7909.8265895953755,null,{"$f":"AY40&COUNTIF($AY$3:AY40,AY40)","v":"Croydon1"},"Croydon","NHS Croydon CCG",6422.8050000000003]
[null,null,null,null,"PC - Other",null,null,null,null,null,null,null,null,null,"E09000009","Ealing","E09000009",null,null,null,"NHS Croydon CCG","07V",6423,21498,null,"E09000009","Ealing","E09000009",null,null,null,null,null,null,null,null,null,null,"City of London1","City of London","NHS City and Hackney CCG",732,null,null,null,null,"Dudley",5979.7687861271679,null,{"$f":"AY41&COUNTIF($AY$3:AY41,AY41)","v":"Cumbria1"},"Cumbria","NHS Cumbria CCG",11491.433000000001]
[null,null,null,null,null,null,null,null,null,null,null,null,null,null,"E06000011","East Riding of Yorkshire","E06000011",null,null,null,"NHS Cumbria CCG","01H",11581,36332,null,"E06000011","East Riding of Yorkshire","E06000011",null,null,null,null,null,null,null,null,null,null,"Cornwall1","Cornwall","NHS Kernow CCG",37835,null,null,null,null,"Ealing",6440.1734104046245,null,{"$f":"AY42&COUNTIF($AY$3:AY42,AY42)","v":"Darlington1"},"Darlington","NHS Darlington CCG",2297.038]
[null,null,null,null,"Sub-total Primary Care services",null,null,null,null,null,null,null,null,null,"E10000011","East Sussex","E10000011",null,null,null,"NHS Darlington CCG","00C",2297,7175,null,"E10000011","East Sussex","E10000011",null,null,null,null,null,null,null,null,null,null,"County Durham1","County Durham","NHS North Durham CCG",17226,null,null,null,null,"East Riding of Yorkshire",5916.184971098266,null,{"$f":"AY43&COUNTIF($AY$3:AY43,AY43)","v":"Derby1"},"Derby","NHS Southern Derbyshire CCG",5264.2749999999996]
[null,null,null,null,null,null,null,null,null,null,null,null,null,null,"E09000010","Enfield","E09000010",null,null,null,"NHS Dartford, Gravesham and Swanley CCG","09J",4792,14947,null,"E09000010","Enfield","E09000010",null,null,null,null,null,null,null,null,null,null,"County Durham2","County Durham","NHS Durham Dales, Easington and Sedgefield CCG",21967,null,null,null,null,"East Sussex",10563.872832369943,null,{"$f":"AY44&COUNTIF($AY$3:AY44,AY44)","v":"Derbyshire1"},"Derbyshire","NHS Tameside and Glossop CCG",711.05538085539706]
[null,null,null,null,"Other Programme services",null,null,null,null,null,null,null,null,null,"E10000012","Essex","E10000012",null,null,null,"NHS Doncaster CCG","02X",6920,22078,null,"E10000012","Essex","E10000012",null,null,null,null,null,null,null,null,null,null,"Coventry1","Coventry","NHS Coventry and Rugby CCG",21778,null,null,null,null,"Enfield",5352.023121387283,null,{"$f":"AY45&COUNTIF($AY$3:AY45,AY45)","v":"Derbyshire2"},"Derbyshire","NHS Erewash CCG",2099.3063625254581]
[null,null,null,null,"GP IT Costs",null,null,null,null,null,null,null,null,null,"E08000020","Gateshead","E08000020",null,null,null,"NHS Dorset CCG","11J",15843,49424,null,"E08000020","Gateshead","E08000020",null,null,null,null,null,null,null,null,null,null,"Croydon1","Croydon","NHS Croydon CCG",21498,null,null,null,null,"Essex",25129.190751445083,null,{"$f":"AY46&COUNTIF($AY$3:AY46,AY46)","v":"Derbyshire3"},"Derbyshire","NHS Hardwick CCG",2370.1846028513232]
[null,null,null,null,"Voluntary Sector Grants / Services",null,null,null,null,null,null,null,null,null,"E10000013","Gloucestershire","E10000013",null,null,null,"NHS Dudley CCG","05C",7157,20690,null,"E10000013","Gloucestershire","E10000013",null,null,null,null,null,null,null,null,null,null,"Cumbria1","Cumbria","NHS Cumbria CCG",36013,null,null,null,null,"Gateshead",4531.2138728323698,null,{"$f":"AY47&COUNTIF($AY$3:AY47,AY47)","v":"Derbyshire4"},"Derbyshire","NHS North Derbyshire CCG",5925.4615071283088]
[null,null,null,null,"Other CCG reserves",null,null,null,null,null,null,null,null,null,"E09000011","Greenwich","E09000011",null,null,null,"NHS Durham Dales, Easington and Sedgefield CCG","00D",7147,21967,null,"E09000011","Greenwich","E09000011",null,null,null,null,null,null,null,null,null,null,"0",null,"","",null,null,null,null,"Gloucestershire",10401.445086705202,null,{"$f":"AY48&COUNTIF($AY$3:AY48,AY48)","v":"Derbyshire5"},"Derbyshire","NHS Southern Derbyshire CCG",5519.1441466395108]
[null,null,null,null,"Other Programme Services",null,null,null,null,null,null,null,null,null,"E09000012","Hackney","E09000012",null,null,null,"NHS Ealing CCG","07W",6497,22283,null,"E09000012","Hackney","E09000012",null,null,null,null,null,null,null,null,null,null,"0",null,"","",null,null,null,null,"Greenwich",5205.2023121387283,null,{"$f":"AY49&COUNTIF($AY$3:AY49,AY49)","v":"Devon1"},"Devon","NHS North, East, West Devon CCG",13088.769814004378]
[null,null,null,null,null,null,null,null,null,null,null,null,null,null,"E06000006","Halton","E06000006",null,null,null,"NHS East and North Hertfordshire CCG","06K",9063,31426,null,"E06000006","Halton","E06000006",null,null,null,null,null,null,null,null,null,null,"0",null,"","",null,null,null,null,"Hackney",5389.884393063584,null,{"$f":"AY50&COUNTIF($AY$3:AY50,AY50)","v":"Devon2"},"Devon","NHS South Devon and Torbay CCG",3299.0871859956237]
[null,null,null,null,"Sub-total Other Programme services",null,null,null,null,null,null,null,null,null,"E09000013","Hammersmith and Fulham","E09000013",null,null,null,"NHS EAST LANCASHIRE CCG","01A",8163,26095,null,"E09000013","Hammersmith and Fulham","E09000013",null,null,null,null,null,null,null,null,null,null,"0",null,"","",null,null,null,null,"Halton",2731.5028901734104,null,{"$f":"AY51&COUNTIF($AY$3:AY51,AY51)","v":"Doncaster1"},"Doncaster","NHS Doncaster CCG",6920.2820000000002]
[null,null,null,null,null,null,null,null,null,null,null,null,null,null,"E10000014","Hampshire","E10000014",null,null,null,"NHS East Leicestershire and Rutland CCG","03W",5344,17232,null,"E10000014","Hampshire","E10000014",null,null,null,null,null,null,null,null,null,null,"0",null,"","",null,null,null,null,"Hammersmith and Fulham",3800,null,{"$f":"AY52&COUNTIF($AY$3:AY52,AY52)","v":"Dorset1"},"Dorset","NHS Dorset CCG",8869.6110000000008]
[null,null,null,null,"Total - Commissioning services ",null,null,null,null,null,null,null,null,null,"E09000014","Haringey","E09000014",null,null,null,"NHS East Riding of Yorkshire CCG","02Y",6217,19212,null,"E09000014","Haringey","E09000014",null,null,null,null,null,null,null,null,null,null,"Darlington1","Darlington","NHS Darlington CCG",7175,null,null,null,null,"Hampshire",21047.109826589593,null,{"$f":"AY53&COUNTIF($AY$3:AY53,AY53)","v":"Dudley1"},"Dudley","NHS Dudley CCG",7157.4269999999997]
[null,null,null,null,null,null,null,null,null,null,null,null,null,null,"E09000015","Harrow","E09000015",null,null,null,"NHS East Staffordshire CCG","05D",2367,7480,null,"E09000015","Harrow","E09000015",null,null,null,null,null,null,null,null,null,null,"Derby1","Derby","NHS Southern Derbyshire CCG",15866,null,null,null,null,"Haringey",4760.9826589595377,null,{"$f":"AY54&COUNTIF($AY$3:AY54,AY54)","v":"Ealing1"},"Ealing","NHS Ealing CCG",6497.1890000000003]
[null,null,null,null,"Running Costs",null,null,null,null,null,null,null,null,null,"E06000001","Hartlepool","E06000001",null,null,null,"NHS East Surrey CCG","09L",2711,9397,null,"E06000001","Hartlepool","E06000001",null,null,null,null,null,null,null,null,null,null,"Derbyshire1","Derbyshire","NHS Tameside and Glossop CCG",2178,null,null,null,null,"Harrow",3810.115606936416,null,{"$f":"AY55&COUNTIF($AY$3:AY55,AY55)","v":"East Riding of Yorkshire1"},"East Riding of Yorkshire","NHS East Riding of Yorkshire CCG",6217.0901666666659]
[null,null,null,null,"CCG Pay costs",null,null,null,null,null,null,null,null,null,"E09000016","Havering","E09000016",null,null,null,"NHS Eastbourne, Hailsham and Seaford CCG","09F",4106,12749,null,"E09000016","Havering","E09000016",null,null,null,null,null,null,null,null,null,null,"Derbyshire2","Derbyshire","NHS Southern Derbyshire CCG",16963,null,null,null,null,"Hartlepool",1922.2543352601156,null,{"$f":"AY56&COUNTIF($AY$3:AY56,AY56)","v":"East Riding of Yorkshire2"},"East Riding of Yorkshire","NHS Vale of York CCG",410.26483333333334]
[null,null,null,null,"CSU Re-charge",null,null,null,null,null,null,null,null,null,"E06000019","Herefordshire, County of","E06000019",null,null,null,"NHS Eastern Cheshire CCG","01C",3466,11612,null,"E06000019","Herefordshire, County of","E06000019",null,null,null,null,null,null,null,null,null,null,"Derbyshire3","Derbyshire","NHS North Derbyshire CCG",19439,null,null,null,null,"Havering",4478.3236994219651,null,{"$f":"AY57&COUNTIF($AY$3:AY57,AY57)","v":"East Sussex1"},"East Sussex","NHS Eastbourne, Hailsham and Seaford CCG",4106.3905349544066]
[null,null,null,null,"NHS Property Services re-charge",null,null,null,null,null,null,null,null,null,"E10000015","Hertfordshire","E10000015",null,null,null,"NHS ENFIELD CCG","07X",5952,18518,null,"E10000015","Hertfordshire","E10000015",null,null,null,null,null,null,null,null,null,null,"Derbyshire4","Derbyshire","NHS Hardwick CCG",7263,null,null,null,null,"Herefordshire, County of",3379.7687861271675,null,{"$f":"AY58&COUNTIF($AY$3:AY58,AY58)","v":"East Sussex2"},"East Sussex","NHS Hastings and Rother CCG",3998.3276261398178]
[null,null,null,null,"Running Costs - Other Non-pay",null,null,null,null,null,null,null,null,null,"E09000017","Hillingdon","E09000017",null,null,null,"NHS Erewash CCG","03X",2099,6300,null,"E09000017","Hillingdon","E09000017",null,null,null,null,null,null,null,null,null,null,"Derbyshire5","Derbyshire","NHS Erewash CCG",6300,null,null,null,null,"Hertfordshire",18956.647398843932,null,{"$f":"AY59&COUNTIF($AY$3:AY59,AY59)","v":"East Sussex3"},"East Sussex","NHS High Weald Lewes Havens CCG",3746.1808389057746]
[null,null,null,null,null,null,null,null,null,null,null,null,null,null,"E09000018","Hounslow","E09000018",null,null,null,"NHS Fareham and Gosport CCG","10K",3300,10876,null,"E09000018","Hounslow","E09000018",null,null,null,null,null,null,null,null,null,null,"0",null,"","",null,null,null,null,"Hillingdon",4520.8092485549132,null,{"$f":"AY60&COUNTIF($AY$3:AY60,AY60)","v":"Enfield1"},"Enfield","NHS Enfield CCG",5952.0789999999997]
[null,null,null,null,"Total - Running costs",null,null,null,null,null,null,null,null,null,"E06000046","Isle of Wight","E06000046",null,null,null,"NHS Fylde & Wyre CCG","02M",3680,10961,null,"E06000046","Isle of Wight","E06000046",null,null,null,null,null,null,null,null,null,null,"0",null,"","",null,null,null,null,"Hounslow",4418.4971098265896,null,{"$f":"AY61&COUNTIF($AY$3:AY61,AY61)","v":"Essex1"},"Essex","NHS Mid Essex CCG",7280.5705389908253]
[null,null,null,null,null,null,null,null,null,null,null,null,null,null,"E06000053","Isles of Scilly","E06000053",null,null,null,"NHS Gateshead CCG","00F",5194,15678,null,"E06000053","Isles of Scilly","E06000053",null,null,null,null,null,null,null,null,null,null,"0",null,"","",null,null,null,null,"Isle of Wight",3122.2543352601156,null,{"$f":"AY62&COUNTIF($AY$3:AY62,AY62)","v":"Essex2"},"Essex","NHS North East Essex CCG",6036.0285665137617]
[null,null,null,null,"Contingency",null,null,null,null,null,null,null,null,null,"E09000019","Islington","E09000019",null,null,null,"NHS Gloucestershire CCG","11M",11596,35989,null,"E09000019","Islington","E09000019",null,null,null,null,null,null,null,null,null,null,"Devon1","Devon","NHS South Devon and Torbay CCG",10262,null,null,null,null,"Isles of Scilly",39.017341040462426,null,{"$f":"AY63&COUNTIF($AY$3:AY63,AY63)","v":"Essex3"},"Essex","NHS West Essex CCG",5538.2117775229353]
[null,null,null,null,null,null,null,null,null,null,null,null,null,null,"E09000020","Kensington and Chelsea","E09000020",null,null,null,"NHS Great Yarmouth & Waveney CCG","06M",4646,15516,null,"E09000020","Kensington and Chelsea","E09000020",null,null,null,null,null,null,null,null,null,null,"Devon2","Devon","NHS North, East, West Devon CCG",39986,null,null,null,null,"Islington",4907.8034682080925,null,{"$f":"AY64&COUNTIF($AY$3:AY64,AY64)","v":"Essex4"},"Essex","NHS Basildon and Brentwood CCG",4853.7136926605508]
[null,null,null,null,"Total Application of Funds ",null,null,null,null,null,null,null,null,null,"E10000016","Kent","E10000016",null,null,null,"NHS Greater Huddersfield CCG","03A",4739,14697,null,"E10000016","Kent","E10000016",null,null,null,null,null,null,null,null,null,null,"0",null,"","",null,null,null,null,"Kensington and Chelsea",3809.2485549132948,null,{"$f":"AY65&COUNTIF($AY$3:AY65,AY65)","v":"Essex5"},"Essex","NHS Castle Point and Rochford CCG",3422.4904243119263]
[null,null,null,null,null,null,null,null,null,null,null,null,null,null,"E06000010","Kingston upon Hull, City of","E06000010",null,null,null,"NHS Greater Preston CCG","01E",4282,13223,null,"E06000010","Kingston upon Hull, City of","E06000010",null,null,null,null,null,null,null,null,null,null,"0",null,"","",null,null,null,null,"Kent",26232.369942196532,null,{"$f":"AY66&COUNTIF($AY$3:AY66,AY66)","v":"Gateshead1"},"Gateshead","NHS Gateshead CCG",5194.2209999999995]
[null,null,null,null,null,null,null,null,null,null,null,null,null,null,"E09000021","Kingston upon Thames","E09000021",null,null,null,"NHS Greenwich CCG","08A",6097,18010,null,"E09000021","Kingston upon Thames","E09000021",null,null,null,null,null,null,null,null,null,null,"0",null,"","",null,null,null,null,"Kingston upon Hull, City of",5729.4797687861274,null,{"$f":"AY67&COUNTIF($AY$3:AY67,AY67)","v":"Gloucestershire1"},"Gloucestershire","NHS Gloucestershire CCG",11595.761]
[null,null,null,null,null,null,null,null,null,null,null,null,null,null,"E08000034","Kirklees",{"$f":"O68","v":"E08000034"},null,null,null,"NHS Guildford and Waverley CCG","09N",3322,11609,null,"E08000034","Kirklees","E08000034",null,null,null,null,null,null,null,null,null,null,"0",null,"","",null,null,null,null,"Kingston upon Thames",2856.0693641618495,null,{"$f":"AY68&COUNTIF($AY$3:AY68,AY68)","v":"Greenwich1"},"Greenwich","NHS Greenwich CCG",6097.1009999999997]
[null,null,null,null,null,null,null,null,null,null,null,null,null,null,"E08000011","Knowsley","E08000011",null,null,null,"NHS Halton CCG","01F",2929,9451,null,"E08000011","Knowsley","E08000011",null,null,null,null,null,null,null,null,null,null,"0",null,"","",null,null,null,null,"Kirklees",7674.8554913294793,null,{"$f":"AY69&COUNTIF($AY$3:AY69,AY69)","v":"Hackney1"},"Hackney","NHS City and Hackney CCG",6439.598]
[null,null,null,null,null,null,null,null,null,null,null,null,null,null,"E09000022","Lambeth","E09000022",null,null,null,"NHS Hambleton, Richmondshire and Whitby CCG","03D",2829,9152,null,"E09000022","Lambeth","E09000022",null,null,null,null,null,null,null,null,null,null,"0",null,"","",null,null,null,null,"Knowsley",3878.6127167630057,null,{"$f":"AY70&COUNTIF($AY$3:AY70,AY70)","v":"Halton1"},"Halton","NHS Halton CCG",2929.355]
[null,null,null,null,null,null,null,null,null,null,null,null,null,null,"E10000017","Lancashire","E10000017",null,null,null,"NHS Hammersmith and Fulham CCG","08C",4209,13148,null,"E10000017","Lancashire","E10000017",null,null,null,null,null,null,null,null,null,null,"Doncaster1","Doncaster","NHS Doncaster CCG",22078,null,null,null,null,"Lambeth",6360.4046242774566,null,{"$f":"AY71&COUNTIF($AY$3:AY71,AY71)","v":"Hammersmith and Fulham1"},"Hammersmith and Fulham","NHS Hammersmith and Fulham CCG",4209.2470000000003]
[null,null,null,null,null,null,null,null,null,null,null,null,null,null,"E08000035","Leeds","E08000035",null,null,null,"NHS Hardwick CCG","03Y",2370,7263,null,"E08000035","Leeds","E08000035",null,null,null,null,null,null,null,null,null,null,"Dorset1","Dorset","NHS Dorset CCG",27368,null,null,null,null,"Lancashire",22974.566473988441,null,{"$f":"AY72&COUNTIF($AY$3:AY72,AY72)","v":"Hampshire1"},"Hampshire","NHS North Hampshire CCG",3588.2546009615385]
[null,null,null,null,null,null,null,null,null,null,null,null,null,null,"E06000016","Leicester","E06000016",null,null,null,"NHS Haringey CCG","08D",5263,16473,null,"E06000016","Leicester","E06000016",null,null,null,null,null,null,null,null,null,null,"0",null,"","",null,null,null,null,"Leeds",14485.838150289017,null,{"$f":"AY73&COUNTIF($AY$3:AY73,AY73)","v":"Hampshire2"},"Hampshire","NHS Fareham and Gosport CCG",3300.1465673076918]
[null,null,null,null,null,null,null,null,null,null,null,null,null,null,"E10000018","Leicestershire","E10000018",null,null,null,"NHS Harrogate and Rural District CCG","03E",3097,9557,null,"E10000018","Leicestershire","E10000018",null,null,null,null,null,null,null,null,null,null,"0",null,"","",null,null,null,null,"Leicester",6180.3468208092481,null,{"$f":"AY74&COUNTIF($AY$3:AY74,AY74)","v":"Hampshire3"},"Hampshire","NHS South Eastern Hampshire CCG",3483.4880432692303]
[null,null,null,null,null,null,null,null,null,null,null,null,null,null,"E09000023","Lewisham","E09000023",null,null,null,"NHS Harrow CCG","08E",4445,13183,null,"E09000023","Lewisham","E09000023",null,null,null,null,null,null,null,null,null,null,"0",null,"","",null,null,null,null,"Leicestershire",10190.751445086706,null,{"$f":"AY75&COUNTIF($AY$3:AY75,AY75)","v":"Hampshire4"},"Hampshire","NHS West Hampshire CCG",8774.1992067307692]
[null,null,null,null,null,null,null,null,null,null,null,null,null,null,"E10000019","Lincolnshire","E10000019",null,null,null,"NHS Hartlepool and Stockton-on-Tees CCG","00K",6171,19533,null,"E10000019","Lincolnshire","E10000019",null,null,null,null,null,null,null,null,null,null,"0",null,"","",null,null,null,null,"Lewisham",5705.2023121387283,null,{"$f":"AY76&COUNTIF($AY$3:AY76,AY76)","v":"Hampshire5"},"Hampshire","NHS North East Hampshire and Farnham CCG",2645.3555817307692]
[null,null,null,null,null,null,null,null,null,null,null,null,null,null,"E08000012","Liverpool","E08000012",null,null,null,"NHS Hastings & Rother CCG","09P",3998,13188,null,"E08000012","Liverpool","E08000012",null,null,null,null,null,null,null,null,null,null,"0",null,"","",null,null,null,null,"Lincolnshire",13988.150289017343,null,{"$f":"AY77&COUNTIF($AY$3:AY77,AY77)","v":"Haringey1"},"Haringey","NHS Haringey CCG",5262.5940000000001]
[null,null,null,null,null,null,null,null,null,null,null,null,null,null,"E06000032","Luton","E06000032",null,null,null,"NHS Havering CCG","08F",4609,15495,null,"E06000032","Luton","E06000032",null,null,null,null,null,null,null,null,null,null,"Dudley1","Dudley","NHS Dudley CCG",20690,null,null,null,null,"Liverpool",11512.1387283237,null,{"$f":"AY78&COUNTIF($AY$3:AY78,AY78)","v":"Harrow1"},"Harrow","NHS Harrow CCG",4445.0469999999996]
[null,null,null,null,null,null,null,null,null,null,null,null,null,null,"E08000003","Manchester","E08000003",null,null,null,"NHS Herefordshire CCG","05F",4036,11694,null,"E08000003","Manchester","E08000003",null,null,null,null,null,null,null,null,null,null,"Ealing1","Ealing","NHS Ealing CCG",22283,null,null,null,null,"Luton",3467.6300578034684,null,{"$f":"AY79&COUNTIF($AY$3:AY79,AY79)","v":"Hartlepool1"},"Hartlepool","NHS Hartlepool and Stockton-on-Tees CCG",2296.8159999999998]
[null,null,null,null,null,null,null,null,null,null,null,null,null,null,"E06000035","Medway","E06000035",null,null,null,"NHS Herts Valleys CCG","06N",9585,33164,null,"E06000035","Medway","E06000035",null,null,null,null,null,null,null,null,null,null,"East Riding of Yorkshire1","East Riding of Yorkshire","NHS Vale of York CCG",1258,null,null,null,null,"Manchester",10878.034682080925,null,{"$f":"AY80&COUNTIF($AY$3:AY80,AY80)","v":"Havering1"},"Havering","NHS Havering CCG",4609.3810000000003]
[null,null,null,null,null,null,null,null,null,null,null,null,null,null,"E09000024","Merton","E09000024",null,null,null,"NHS Heywood, Middleton & Rochdale CCG","01D",5080,15125,null,"E09000024","Merton","E09000024",null,null,null,null,null,null,null,null,null,null,"East Riding of Yorkshire2","East Riding of Yorkshire","NHS East Riding of Yorkshire CCG",19212,null,null,null,null,"Medway",4668.7861271676302,null,{"$f":"AY81&COUNTIF($AY$3:AY81,AY81)","v":"Herefordshire, County of1"},"Herefordshire, County of","NHS Herefordshire CCG",4036.1460000000002]
[null,null,null,null,null,null,null,null,null,null,null,null,null,null,"E06000002","Middlesbrough","E06000002",null,null,null,"NHS High Weald Lewes Havens CCG","99K",3746,10614,null,"E06000002","Middlesbrough","E06000002",null,null,null,null,null,null,null,null,null,null,"East Sussex1","East Sussex","NHS High Weald Lewes Havens CCG",10614,null,null,null,null,"Merton",3252.6011560693642,null,{"$f":"AY82&COUNTIF($AY$3:AY82,AY82)","v":"Hertfordshire1"},"Hertfordshire","NHS Cambridgeshire and Peterborough CCG",302.09191594202895]
[null,null,null,null,null,null,null,null,null,null,null,null,null,null,"E06000042","Milton Keynes","E06000042",null,null,null,"NHS Hillingdon CCG","08G",4772,15642,null,"E06000042","Milton Keynes","E06000042",null,null,null,null,null,null,null,null,null,null,"East Sussex2","East Sussex","NHS Hastings and Rother CCG",13188,null,null,null,null,"Middlesbrough",3013.872832369942,null,{"$f":"AY83&COUNTIF($AY$3:AY83,AY83)","v":"Hertfordshire2"},"Hertfordshire","NHS East and North Hertfordshire CCG",9062.7574782608681]
[null,null,null,null,null,null,null,null,null,null,null,null,null,null,"E08000021","Newcastle upon Tyne","E08000021",null,null,null,"NHS Horsham and Mid Sussex CCG","09X",4109,12712,null,"E08000021","Newcastle upon Tyne","E08000021",null,null,null,null,null,null,null,null,null,null,"East Sussex3","East Sussex","NHS Eastbourne, Hailsham and Seaford CCG",12749,null,null,null,null,"Milton Keynes",3886.7052023121387,null,{"$f":"AY84&COUNTIF($AY$3:AY84,AY84)","v":"Hertfordshire3"},"Hertfordshire","NHS Herts Valleys CCG",9584.5526057971001]
[null,null,null,null,null,null,null,null,null,null,null,null,null,null,"E09000025","Newham","E09000025",null,null,null,"NHS Hounslow CCG","07Y",4580,15288,null,"E09000025","Newham","E09000025",null,null,null,null,null,null,null,null,null,null,"0",null,"","",null,null,null,null,"Newcastle upon Tyne",5759.2485549132944,null,{"$f":"AY85&COUNTIF($AY$3:AY85,AY85)","v":"Hillingdon1"},"Hillingdon","NHS Hillingdon CCG",4771.7430000000004]
[null,null,null,null,null,null,null,null,null,null,null,null,null,null,"E10000020","Norfolk","E10000020",null,null,null,"NHS Hull CCG","03F",6659,19824,null,"E10000020","Norfolk","E10000020",null,null,null,null,null,null,null,null,null,null,"0",null,"","",null,null,null,null,"Newham",6080.9248554913293,null,{"$f":"AY86&COUNTIF($AY$3:AY86,AY86)","v":"Hounslow1"},"Hounslow","NHS Hounslow CCG",4580.3159999999998]
[null,null,null,null,null,null,null,null,null,null,null,null,null,null,"E06000012","North East Lincolnshire","E06000012",null,null,null,"NHS Ipswich and East Suffolk CCG","06L",8067,22885,null,"E06000012","North East Lincolnshire","E06000012",null,null,null,null,null,null,null,null,null,null,"Enfield1","Enfield","NHS Enfield CCG",18518,null,null,null,null,"Norfolk",16295.086705202311,null,{"$f":"AY87&COUNTIF($AY$3:AY87,AY87)","v":"Isle of Wight1"},"Isle of Wight","NHS Isle of Wight CCG",3512.7370000000001]
[null,null,null,null,null,null,null,null,null,null,null,null,null,null,"E06000013","North Lincolnshire","E06000013",null,null,null,"NHS Isle of Wight CCG","10L",3513,10803,null,"E06000013","North Lincolnshire","E06000013",null,null,null,null,null,null,null,null,null,null,"Essex1","Essex","NHS West Essex CCG",17435,null,null,null,null,"North East Lincolnshire",3250.2890173410406,null,{"$f":"AY88&COUNTIF($AY$3:AY88,AY88)","v":"Isles of Scilly1"},"Isles of Scilly","NHS Kernow CCG",58.029000000000003]
[null,null,null,null,null,null,null,null,null,null,null,null,null,null,"E06000024","North Somerset","E06000024",null,null,null,"NHS Islington CCG","08H",5894,16981,null,"E06000024","North Somerset","E06000024",null,null,null,null,null,null,null,null,null,null,"Essex2","Essex","NHS North East Essex CCG",20987,null,null,null,null,"North Lincolnshire",3180.9248554913293,null,{"$f":"AY89&COUNTIF($AY$3:AY89,AY89)","v":"Islington1"},"Islington","NHS Islington CCG",5893.6580000000004]
[null,null,null,null,null,null,null,null,null,null,null,null,null,null,"E08000022","North Tyneside","E08000022",null,null,null,"NHS Kernow CCG","11N",12861,37970,null,"E08000022","North Tyneside","E08000022",null,null,null,null,null,null,null,null,null,null,"Essex3","Essex","NHS Mid Essex CCG",21651,null,null,null,null,"North Somerset",3821.6763005780349,null,{"$f":"AY90&COUNTIF($AY$3:AY90,AY90)","v":"Kensington and Chelsea1"},"Kensington and Chelsea","NHS West London (K&C & QPP) CCG",3972.86]
[null,null,null,null,null,null,null,null,null,null,null,null,null,null,"E10000023","North Yorkshire","E10000023",null,null,null,"NHS Kingston CCG","08J",2627,9882,null,"E10000023","North Yorkshire","E10000023",null,null,null,null,null,null,null,null,null,null,"Essex4","Essex","NHS Castle Point and Rochford CCG",10833,null,null,null,null,"North Tyneside",4402.6011560693642,null,{"$f":"AY91&COUNTIF($AY$3:AY91,AY91)","v":"Kent1"},"Kent","NHS Ashford CCG",2443.2208935698445]
[null,null,null,null,null,null,null,null,null,null,null,null,null,null,"E10000021","Northamptonshire","E10000021",null,null,null,"NHS Knowsley CCG","01J",4478,13420,null,"E10000021","Northamptonshire","E10000021",null,null,null,null,null,null,null,null,null,null,"Essex5","Essex","NHS Basildon and Brentwood CCG",16041,null,null,null,null,"North Yorkshire",10523.699421965317,null,{"$f":"AY92&COUNTIF($AY$3:AY92,AY92)","v":"Kent2"},"Kent","NHS Canterbury and Coastal CCG",3727.4780299334811]
[null,null,null,null,null,null,null,null,null,null,null,null,null,null,"E06000048","Northumberland","E06000048",null,null,null,"NHS Lambeth CCG","08K",6916,22007,null,"E06000048","Northumberland","E06000048",null,null,null,null,null,null,null,null,null,null,"0",null,"","",null,null,null,null,"Northamptonshire",11734.971098265896,null,{"$f":"AY93&COUNTIF($AY$3:AY93,AY93)","v":"Kent3"},"Kent","NHS Dartford, Gravesham and Swanley CCG",4792.4717527716184]
[null,null,null,null,null,null,null,null,null,null,null,null,null,null,"E06000018","Nottingham","E06000018",null,null,null,"NHS Lancashire North CCG","01K",3312,10462,null,"E06000018","Nottingham","E06000018",null,null,null,null,null,null,null,null,null,null,"0",null,"","",null,null,null,null,"Northumberland",6435.5491329479764,null,{"$f":"AY94&COUNTIF($AY$3:AY94,AY94)","v":"Kent4"},"Kent","NHS South Kent Coast CCG",3884.0947538802661]
[null,null,null,null,null,null,null,null,null,null,null,null,null,null,"E10000024","Nottinghamshire","E10000024",null,null,null,"NHS Leeds North CCG","02V",4157,12665,null,"E10000024","Nottinghamshire","E10000024",null,null,null,null,null,null,null,null,null,null,"0",null,"","",null,null,null,null,"Nottingham",6191.0404624277453,null,{"$f":"AY95&COUNTIF($AY$3:AY95,AY95)","v":"Kent5"},"Kent","NHS Swale CCG",2067.3407560975606]
[null,null,null,null,null,null,null,null,null,null,null,null,null,null,"E08000004","Oldham","E08000004",null,null,null,"NHS Leeds South and East CCG","03G",4880,17351,null,"E08000004","Oldham","E08000004",null,null,null,null,null,null,null,null,null,null,"0",null,"","",null,null,null,null,"Nottinghamshire",14374.855491329481,null,{"$f":"AY96&COUNTIF($AY$3:AY96,AY96)","v":"Kent6"},"Kent","NHS Thanet CCG",2631.1609623059867]
[null,null,null,null,null,null,null,null,null,null,null,null,null,null,"E10000025","Oxfordshire","E10000025",null,null,null,"NHS Leeds West CCG","03C",6139,20105,null,"E10000025","Oxfordshire","E10000025",null,null,null,null,null,null,null,null,null,null,"0",null,"","",null,null,null,null,"Oldham",4634.6820809248557,null,{"$f":"AY97&COUNTIF($AY$3:AY97,AY97)","v":"Kent7"},"Kent","NHS West Kent CCG",8707.8898514412413]
[null,null,null,null,null,null,null,null,null,null,null,null,null,null,"E06000031","Peterborough","E06000031",null,null,null,"NHS Leicester City CCG","04C",7213,21384,null,"E06000031","Peterborough","E06000031",null,null,null,null,null,null,null,null,null,null,"0",null,"","",null,null,null,null,"Oxfordshire",9796.8208092485547,null,{"$f":"AY98&COUNTIF($AY$3:AY98,AY98)","v":"Kingston upon Hull, City of1"},"Kingston upon Hull, City of","NHS Hull CCG",6659.3220000000001]
[null,null,null,null,null,null,null,null,null,null,null,null,null,null,"E06000026","Plymouth","E06000026",null,null,null,"NHS Lewisham CCG","08L",6269,19740,null,"E06000026","Plymouth","E06000026",null,null,null,null,null,null,null,null,null,null,"0",null,"","",null,null,null,null,"Peterborough",3105.7803468208094,null,{"$f":"AY99&COUNTIF($AY$3:AY99,AY99)","v":"Kingston upon Thames1"},"Kingston upon Thames","NHS Kingston CCG",2627.07]
[null,null,null,null,null,null,null,null,null,null,null,null,null,null,"E06000044","Portsmouth","E06000044",null,null,null,"NHS Lincolnshire East CCG","03T",4815,16187,null,"E0600002","Poole","E0600002",null,null,null,null,null,null,null,null,null,null,"Gateshead1","Gateshead","NHS Gateshead CCG",15678,null,null,null,null,"Plymouth",5130.0578034682085,null,{"$f":"AY100&COUNTIF($AY$3:AY100,AY100)","v":"Kirklees1"},"Kirklees","NHS Greater Huddersfield CCG",4739.4658841698838]
[null,null,null,null,null,null,null,null,null,null,null,null,null,null,"E06000038","Reading","E06000038",null,null,null,"NHS Lincolnshire West CCG","04D",5035,14497,null,"E06000044","Portsmouth","E06000044",null,null,null,null,null,null,null,null,null,null,"Gloucestershire1","Gloucestershire","NHS Gloucestershire CCG",35989,null,null,null,null,"Poole",2841.3294797687863,null,{"$f":"AY101&COUNTIF($AY$3:AY101,AY101)","v":"Kirklees2"},"Kirklees","NHS North Kirklees CCG",3784.9901158301159]
[null,null,null,null,null,null,null,null,null,null,null,null,null,null,"E09000026","Redbridge","E09000026",null,null,null,"NHS Liverpool CCG","99A",13553,39832,null,"E06000038","Reading","E06000038",null,null,null,null,null,null,null,null,null,null,"0",null,"","",null,null,null,null,"Portsmouth",3772.2543352601156,null,{"$f":"AY102&COUNTIF($AY$3:AY102,AY102)","v":"Knowsley1"},"Knowsley","NHS Knowsley CCG",4478.1719999999996]
[null,null,null,null,null,null,null,null,null,null,null,null,null,null,"E06000003","Redcar and Cleveland","E06000003",null,null,null,"NHS Luton CCG","06P",3612,11998,null,"E09000026","Redbridge","E09000026",null,null,null,null,null,null,null,null,null,null,"0",null,"","",null,null,null,null,"Reading",2623.1213872832368,null,{"$f":"AY103&COUNTIF($AY$3:AY103,AY103)","v":"Lambeth1"},"Lambeth","NHS Lambeth CCG",6915.866]
[null,null,null,null,null,null,null,null,null,null,null,null,null,null,"E09000027","Richmond upon Thames","E09000027",null,null,null,"NHS Mansfield & Ashfield CCG","04E",3936,12418,null,"E06000003","Redcar and Cleveland","E06000003",null,null,null,null,null,null,null,null,null,null,"0",null,"","",null,null,null,null,"Redbridge",4633.5260115606934,null,{"$f":"AY104&COUNTIF($AY$3:AY104,AY104)","v":"Lancashire1"},"Lancashire","NHS Chorley and South Ribble CCG",3412.3491507936506]
[null,null,null,null,null,null,null,null,null,null,null,null,null,null,"E08000005","Rochdale","E08000005",null,null,null,"NHS Medway CCG","09W",4574,16154,null,"E09000027","Richmond upon Thames","E09000027",null,null,null,null,null,null,null,null,null,null,"0",null,"","",null,null,null,null,"Redcar and Cleveland",3010.4046242774566,null,{"$f":"AY105&COUNTIF($AY$3:AY105,AY105)","v":"Lancashire2"},"Lancashire","NHS East Lancashire CCG",8162.8744391534383]
[null,null,null,null,null,null,null,null,null,null,null,null,null,null,"E08000018","Rotherham","E08000018",null,null,null,"NHS Merton CCG","08R",3428,11254,null,"E08000005","Rochdale","E08000005",null,null,null,null,null,null,null,null,null,null,"0",null,"","",null,null,null,null,"Richmond upon Thames",3089.3063583815028,null,{"$f":"AY106&COUNTIF($AY$3:AY106,AY106)","v":"Lancashire3"},"Lancashire","NHS Greater Preston CCG",4282.1636402116401]
[null,null,null,null,null,null,null,null,null,null,null,null,null,null,"E06000017","Rutland","E06000017",null,null,null,"NHS Mid Essex CCG","06Q",7281,21651,null,"E08000018","Rotherham","E08000018",null,null,null,null,null,null,null,null,null,null,"Greenwich1","Greenwich","NHS Greenwich CCG",18010,null,null,null,null,"Rochdale",4371.3872832369943,null,{"$f":"AY107&COUNTIF($AY$3:AY107,AY107)","v":"Lancashire4"},"Lancashire","NHS Lancashire North CCG",3311.9859404761905]
[null,null,null,null,null,null,null,null,null,null,null,null,null,null,"E08000006","Salford","E08000006",null,null,null,"NHS Milton Keynes CCG","04F",4258,13788,null,"E06000017","Rutland","E06000017",null,null,null,null,null,null,null,null,null,null,"Hackney1","Hackney","NHS City and Hackney CCG",18649,null,null,null,null,"Rotherham",5303.4682080924858,null,{"$f":"AY108&COUNTIF($AY$3:AY108,AY108)","v":"Lancashire5"},"Lancashire","NHS West Lancashire CCG",2442.171451058201]
[null,null,null,null,null,null,null,null,null,null,null,null,null,null,"E08000028","Sandwell","E08000028",null,null,null,"NHS Nene CCG","04G",10978,35643,null,"E08000006","Salford","E08000006",null,null,null,null,null,null,null,null,null,null,"Halton1","Halton","NHS Halton CCG",9451,null,null,null,null,"Rutland",591.32947976878609,null,{"$f":"AY109&COUNTIF($AY$3:AY109,AY109)","v":"Lancashire6"},"Lancashire","NHS Fylde and Wyre CCG",3679.9843783068777]
[null,null,null,null,null,null,null,null,null,null,null,null,null,null,"E08000014","Sefton","E08000014",null,null,null,"NHS Newark & Sherwood CCG","04H",2309,7718,null,"E08000028","Sandwell","E08000028",null,null,null,null,null,null,null,null,null,null,"Hammersmith and Fulham1","Hammersmith and Fulham","NHS Hammersmith and Fulham CCG",13148,null,null,null,null,"Salford",5225.4335260115604,null,{"$f":"AY110&COUNTIF($AY$3:AY110,AY110)","v":"Leeds1"},"Leeds","NHS Leeds North CCG",4155.5834688796685]
[null,null,null,null,null,null,null,null,null,null,null,null,null,null,"E08000019","Sheffield","E08000019",null,null,null,"NHS Newbury and District CCG","10M",1538,5722,null,"E08000014","Sefton","E08000014",null,null,null,null,null,null,null,null,null,null,"Hampshire1","Hampshire","NHS West Hampshire CCG",29845,null,null,null,null,"Sandwell",6702.8901734104047,null,{"$f":"AY111&COUNTIF($AY$3:AY111,AY111)","v":"Leeds2"},"Leeds","NHS Leeds West CCG",6138.9301244813278]
[null,null,null,null,null,null,null,null,null,null,null,null,null,null,"E06000051","Shropshire","E06000051",null,null,null,"NHS Newcastle North and East CCG","00G",3341,9691,null,"E08000019","Sheffield","E08000019",null,null,null,null,null,null,null,null,null,null,"Hampshire2","Hampshire","NHS South Eastern Hampshire CCG",11617,null,null,null,null,"Sefton",6136.4161849710981,null,{"$f":"AY112&COUNTIF($AY$3:AY112,AY112)","v":"Leeds3"},"Leeds","NHS Leeds South and East CCG",4879.6624066390041]
[null,null,null,null,null,null,null,null,null,null,null,null,null,null,"E06000039","Slough","E06000039",null,null,null,"NHS Newcastle West CCG","00H",3538,10236,null,"E06000051","Shropshire","E06000051",null,null,null,null,null,null,null,null,null,null,"Hampshire3","Hampshire","NHS North Hampshire CCG",11391,null,null,null,null,"Sheffield",10919.942196531792,null,{"$f":"AY113&COUNTIF($AY$3:AY113,AY113)","v":"Leicester1"},"Leicester","NHS Leicester City CCG",7212.9679999999998]
[null,null,null,null,null,null,null,null,null,null,null,null,null,null,"E08000029","Solihull","E08000029",null,null,null,"NHS Newham CCG","08M",6730,21040,null,"E06000039","Slough","E06000039",null,null,null,null,null,null,null,null,null,null,"Hampshire4","Hampshire","NHS North East Hampshire and Farnham CCG",9094,null,null,null,null,"Shropshire",5576.8786127167632,null,{"$f":"AY114&COUNTIF($AY$3:AY114,AY114)","v":"Leicestershire1"},"Leicestershire","NHS East Leicestershire and Rutland CCG",4722.3123737373735]
[null,null,null,null,null,null,null,null,null,null,null,null,null,null,"E10000027","Somerset","E10000027",null,null,null,"NHS North & West Reading CCG","10N",1618,5716,null,"E08000029","Solihull","E08000029",null,null,null,null,null,null,null,null,null,null,"Hampshire5","Hampshire","NHS Fareham and Gosport CCG",10876,null,null,null,null,"Slough",2331.7919075144509,null,{"$f":"AY115&COUNTIF($AY$3:AY115,AY115)","v":"Leicestershire2"},"Leicestershire","NHS West Leicestershire CCG",6342.9876262626258]
[null,null,null,null,null,null,null,null,null,null,null,null,null,null,"E06000025","South Gloucestershire","E06000025",null,null,null,"NHS North Derbyshire CCG","04J",5925,19439,null,"E10000027","Somerset","E10000027",null,null,null,null,null,null,null,null,null,null,"0",null,"","",null,null,null,null,"Solihull",3965.0289017341042,null,{"$f":"AY116&COUNTIF($AY$3:AY116,AY116)","v":"Lewisham1"},"Lewisham","NHS Lewisham CCG",6269.4589999999998]
[null,null,null,null,null,null,null,null,null,null,null,null,null,null,"E08000023","South Tyneside","E08000023",null,null,null,"NHS North Durham CCG","00J",5789,17226,null,"E06000025","South Gloucestershire","E06000025",null,null,null,null,null,null,null,null,null,null,"0",null,"","",null,null,null,null,"Somerset",10134.971098265896,null,{"$f":"AY117&COUNTIF($AY$3:AY117,AY117)","v":"Lincolnshire1"},"Lincolnshire","NHS Lincolnshire East CCG",4814.6982071428574]
[null,null,null,null,null,null,null,null,null,null,null,null,null,null,"E06000045","Southampton","E06000045",null,null,null,"NHS North East Essex CCG","06T",6036,20987,null,"E08000023","South Tyneside","E08000023",null,null,null,null,null,null,null,null,null,null,"0",null,"","",null,null,null,null,"South Gloucestershire",3908.9595375722542,null,{"$f":"AY118&COUNTIF($AY$3:AY118,AY118)","v":"Lincolnshire2"},"Lincolnshire","NHS Lincolnshire West CCG",5035.2187357142857]
[null,null,null,null,null,null,null,null,null,null,null,null,null,null,"E06000033","Southend-on-Sea","E06000033",null,null,null,"NHS North East Hampshire and Farnham CCG","99M",3394,11695,null,"E06000045","Southampton","E06000045",null,null,null,null,null,null,null,null,null,null,"0",null,"","",null,null,null,null,"South Tyneside",3617.0520231213873,null,{"$f":"AY119&COUNTIF($AY$3:AY119,AY119)","v":"Lincolnshire3"},"Lincolnshire","NHS South West Lincolnshire CCG",2499.2326571428571]
[null,null,null,null,null,null,null,null,null,null,null,null,null,null,"E09000028","Southwark","E09000028",null,null,null,"NHS North East Lincolnshire CCG","03H",3574,11246,null,"E06000033","Southend-on-Sea","E06000033",null,null,null,null,null,null,null,null,null,null,"0",null,"","",null,null,null,null,"Southampton",4429.1907514450868,null,{"$f":"AY120&COUNTIF($AY$3:AY120,AY120)","v":"Lincolnshire4"},"Lincolnshire","NHS South Lincolnshire CCG",3087.2874000000002]
[null,null,null,null,null,null,null,null,null,null,null,null,null,null,"E08000013","St. Helens","E08000013",null,null,null,"NHS North Hampshire CCG","10J",3588,11391,null,"E09000028","Southwark","E09000028",null,null,null,null,null,null,null,null,null,null,"0",null,"","",null,null,null,null,"Southend-on-Sea",3358.092485549133,null,{"$f":"AY121&COUNTIF($AY$3:AY121,AY121)","v":"Liverpool1"},"Liverpool","NHS Liverpool CCG",13553.41]
[null,null,null,null,null,null,null,null,null,null,null,null,null,null,"E10000028","Staffordshire","E10000028",null,null,null,"NHS North Kirklees CCG","03J",3785,11858,null,"E08000013","St. Helens","E08000013",null,null,null,null,null,null,null,null,null,null,"Haringey1","Haringey","NHS Haringey CCG",16473,null,null,null,null,"Southwark",5918.4971098265896,null,{"$f":"AY122&COUNTIF($AY$3:AY122,AY122)","v":"Luton1"},"Luton","NHS Luton CCG",3612.2379999999998]
[null,null,null,null,null,null,null,null,null,null,null,null,null,null,"E08000007","Stockport","E08000007",null,null,null,"NHS North Lincolnshire CCG","03K",3489,11006,null,"E10000028","Staffordshire","E10000028",null,null,null,null,null,null,null,null,null,null,"Harrow1","Harrow","NHS Harrow CCG",13183,null,null,null,null,"St. Helens",4099.4219653179189,null,{"$f":"AY123&COUNTIF($AY$3:AY123,AY123)","v":"Manchester1"},"Manchester","NHS Central Manchester CCG",3943.1381028368796]
[null,null,null,null,null,null,null,null,null,null,null,null,null,null,"E06000004","Stockton-on-Tees","E06000004",null,null,null,"NHS North Manchester CCG","01M",4160,13436,null,"E08000007","Stockport","E08000007",null,null,null,null,null,null,null,null,null,null,"Hartlepool1","Hartlepool","NHS Hartlepool and Stockton-On-Tees CCG",6651,null,null,null,null,"Staffordshire",14535.838150289017,null,{"$f":"AY124&COUNTIF($AY$3:AY124,AY124)","v":"Manchester2"},"Manchester","NHS North Manchester CCG",4159.7940425531915]
[null,null,null,null,null,null,null,null,null,null,null,null,null,null,"E06000021","Stoke-on-Trent","E06000021",null,null,null,"NHS North Norfolk CCG","06V",3809,11553,null,"E06000004","Stockton-on-Tees","E06000004",null,null,null,null,null,null,null,null,null,null,"Havering1","Havering","NHS Havering CCG",15495,null,null,null,null,"Stockport",5319.0751445086707,null,{"$f":"AY125&COUNTIF($AY$3:AY125,AY125)","v":"Manchester3"},"Manchester","NHS South Manchester CCG",4116.4628546099293]
[null,null,null,null,null,null,null,null,null,null,null,null,null,null,"E10000029","Suffolk","E10000029",null,null,null,"NHS North Somerset CCG","11T",4235,13223,null,"E06000021","Stoke-on-Trent","E06000021",null,null,null,null,null,null,null,null,null,null,"Herefordshire, County of1","Herefordshire, County of","NHS Herefordshire CCG",11694,null,null,null,null,"Stockton-on-Tees",3723.1213872832368,null,{"$f":"AY126&COUNTIF($AY$3:AY126,AY126)","v":"Medway1"},"Medway","NHS Medway CCG",4573.5770000000002]
[null,null,null,null,null,null,null,null,null,null,null,null,null,null,"E08000024","Sunderland","E08000024",null,null,null,"NHS North Staffordshire CCG","05G",4120,13399,null,"E10000029","Suffolk","E10000029",null,null,null,null,null,null,null,null,null,null,"Hertfordshire1","Hertfordshire","NHS Herts Valleys CCG",33164,null,null,null,null,"Stoke-on-Trent",5323.4104046242774,null,{"$f":"AY127&COUNTIF($AY$3:AY127,AY127)","v":"Merton1"},"Merton","NHS Merton CCG",3427.92]
[null,null,null,null,null,null,null,null,null,null,null,null,null,null,"E10000030","Surrey","E10000030",null,null,null,"NHS North Tyneside CCG","99C",4726,15233,null,"E08000024","Sunderland","E08000024",null,null,null,null,null,null,null,null,null,null,"Hertfordshire2","Hertfordshire","NHS East and North Hertfordshire CCG",31426,null,null,null,null,"Suffolk",13151.156069364162,null,{"$f":"AY128&COUNTIF($AY$3:AY128,AY128)","v":"Middlesbrough1"},"Middlesbrough","NHS South Tees CCG",3473.88]
[null,null,null,null,null,null,null,null,null,null,null,null,null,null,"E09000029","Sutton","E09000029",null,null,null,"NHS North West Surrey CCG","09Y",5475,19808,null,"E10000030","Surrey","E10000030",null,null,null,null,null,null,null,null,null,null,"Hertfordshire3","Hertfordshire","NHS Cambridgeshire and Peterborough CCG",1000,null,null,null,null,"Sunderland",6483.2369942196528,null,{"$f":"AY129&COUNTIF($AY$3:AY129,AY129)","v":"Milton Keynes1"},"Milton Keynes","NHS Milton Keynes CCG",4162.0240000000003]
[null,null,null,null,null,null,null,null,null,null,null,null,null,null,"E06000030","Swindon","E06000030",null,null,null,"NHS North, East, West Devon CCG","99P",18974,57737,null,"E09000029","Sutton","E09000029",null,null,null,null,null,null,null,null,null,null,"0",null,"","",null,null,null,null,"Surrey",18923.410404624276,null,{"$f":"AY130&COUNTIF($AY$3:AY130,AY130)","v":"Newcastle upon Tyne1"},"Newcastle upon Tyne","NHS Newcastle North and East CCG",3341.1353142857142]
[null,null,null,null,null,null,null,null,null,null,null,null,null,null,"E08000008","Tameside","E08000008",null,null,null,"NHS Northumberland CCG","00L",6973,22267,null,"E06000030","Swindon","E06000030",null,null,null,null,null,null,null,null,null,null,"0",null,"","",null,null,null,null,"Sutton",3206.9364161849712,null,{"$f":"AY131&COUNTIF($AY$3:AY131,AY131)","v":"Newcastle upon Tyne2"},"Newcastle upon Tyne","NHS Newcastle West CCG",3537.6726857142853]
[null,null,null,null,null,null,null,null,null,null,null,null,null,null,"E06000020","Telford and Wrekin",{"$f":"O132","v":"E06000020"},null,null,null,"NHS Norwich CCG","06W",4343,12245,null,"E08000008","Tameside","E08000008",null,null,null,null,null,null,null,null,null,null,"0",null,"","",null,null,null,null,"Swindon",3396.8208092485547,null,{"$f":"AY132&COUNTIF($AY$3:AY132,AY132)","v":"Newham1"},"Newham","NHS Newham CCG",6730.2259999999997]
[null,null,null,null,null,null,null,null,null,null,null,null,null,null,"E06000034","Thurrock","E06000034",null,null,null,"NHS Nottingham City CCG","04K",7104,21421,null,"E06000020","Telford and Wrekin","E06000020",null,null,null,null,null,null,null,null,null,null,"0",null,"","",null,null,null,null,"Tameside",4375.722543352601,null,{"$f":"AY133&COUNTIF($AY$3:AY133,AY133)","v":"Norfolk1"},"Norfolk","NHS Great Yarmouth and Waveney CCG",2171.5403605947959]
[null,null,null,null,null,null,null,null,null,null,null,null,null,null,"E06000027","Torbay","E06000027",null,null,null,"NHS Nottingham North & East CCG","04L",3124,9115,null,"E06000034","Thurrock","E06000034",null,null,null,null,null,null,null,null,null,null,"0",null,"","",null,null,null,null,"Telford and Wrekin",3008.6705202312137,null,{"$f":"AY134&COUNTIF($AY$3:AY134,AY134)","v":"Norfolk2"},"Norfolk","NHS North Norfolk CCG",3809.0953866171008]
[null,null,null,null,null,null,null,null,null,null,null,null,null,null,"E09000030","Tower Hamlets","E09000030",null,null,null,"NHS Nottingham West CCG","04M",2309,6180,null,"E06000027","Torbay","E06000027",null,null,null,null,null,null,null,null,null,null,"0",null,"","",null,null,null,null,"Thurrock",2809.2485549132948,null,{"$f":"AY135&COUNTIF($AY$3:AY135,AY135)","v":"Norfolk3"},"Norfolk","NHS Norwich CCG",4343.0807211895917]
[null,null,null,null,null,null,null,null,null,null,null,null,null,null,"E08000009","Trafford","E08000009",null,null,null,"NHS Oldham CCG","00Y",5144,16036,null,"E09000030","Tower Hamlets","E09000030",null,null,null,null,null,null,null,null,null,null,"0",null,"","",null,null,null,null,"Torbay",3044.2196531791906,null,{"$f":"AY136&COUNTIF($AY$3:AY136,AY136)","v":"Norfolk4"},"Norfolk","NHS South Norfolk CCG",5197.457256505576]
[null,null,null,null,null,null,null,null,null,null,null,null,null,null,"E08000036","Wakefield","E08000036",null,null,null,"NHS Oxfordshire CCG","10Q",10271,33120,null,"E08000009","Trafford","E08000009",null,null,null,null,null,null,null,null,null,null,"Hillingdon1","Hillingdon","NHS Hillingdon CCG",15642,null,null,null,null,"Tower Hamlets",5415.6069364161849,null,{"$f":"AY137&COUNTIF($AY$3:AY137,AY137)","v":"Norfolk5"},"Norfolk","NHS West Norfolk CCG",3631.100275092937]
[null,null,null,null,null,null,null,null,null,null,null,null,null,null,"E08000030","Walsall","E08000030",null,null,null,"NHS Portsmouth CCG","10R",4081,13052,null,"E08000036","Wakefield","E08000036",null,null,null,null,null,null,null,null,null,null,"Hounslow1","Hounslow","NHS Hounslow CCG",15288,null,null,null,null,"Trafford",4076.0115606936415,null,{"$f":"AY138&COUNTIF($AY$3:AY138,AY138)","v":"North East Lincolnshire1"},"North East Lincolnshire","NHS North East Lincolnshire CCG",3573.67]
[null,null,null,null,null,null,null,null,null,null,null,null,null,null,"E09000031","Waltham Forest","E09000031",null,null,null,"NHS Redbridge CCG","08N",5115,16032,null,"E08000030","Walsall","E08000030",null,null,null,null,null,null,null,null,null,null,"Isle of Wight1","Isle of Wight","NHS Isle of Wight CCG",10803,null,null,null,null,"Wakefield",7015.8959537572255,null,{"$f":"AY139&COUNTIF($AY$3:AY139,AY139)","v":"North Lincolnshire1"},"North Lincolnshire","NHS North Lincolnshire CCG",3487.5459999999998]
[null,null,null,null,null,null,null,null,null,null,null,null,null,null,"E09000032","Wandsworth","E09000032",null,null,null,"NHS Redditch and Bromsgrove CCG","05J",3393,10069,null,"E09000031","Waltham Forest","E09000031",null,null,null,null,null,null,null,null,null,null,"Isles of Scilly1","Isles of Scilly","NHS Kernow CCG",135,null,null,null,null,"Walsall",5590.1734104046245,null,{"$f":"AY140&COUNTIF($AY$3:AY140,AY140)","v":"North Somerset1"},"North Somerset","NHS North Somerset CCG",4234.75]
[null,null,null,null,null,null,null,null,null,null,null,null,null,null,"E06000007","Warrington","E06000007",null,null,null,"NHS Richmond CCG","08P",3029,10689,null,"E09000032","Wandsworth","E09000032",null,null,null,null,null,null,null,null,null,null,"Islington1","Islington","NHS Islington CCG",16981,null,null,null,null,"Waltham Forest",4639.884393063584,null,{"$f":"AY141&COUNTIF($AY$3:AY141,AY141)","v":"North Tyneside1"},"North Tyneside","NHS North Tyneside CCG",4725.7690000000002]
[null,null,null,null,null,null,null,null,null,null,null,null,null,null,"E10000031","Warwickshire","E10000031",null,null,null,"NHS Rotherham CCG","03L",6166,18350,null,"E06000007","Warrington","E06000007",null,null,null,null,null,null,null,null,null,null,"Kensington and Chelsea1","Kensington and Chelsea","NHS West London (K&C & QPP) CCG",13180,null,null,null,null,"Wandsworth",5782.3699421965321,null,{"$f":"AY142&COUNTIF($AY$3:AY142,AY142)","v":"North Yorkshire1"},"North Yorkshire","NHS Cumbria CCG",89.341857908847189]
[null,null,null,null,null,null,null,null,null,null,null,null,null,null,"E06000037","West Berkshire","E06000037",null,null,null,"NHS Rushcliffe CCG","04N",2212,6780,null,"E10000031","Warwickshire","E10000031",null,null,null,null,null,null,null,null,null,null,"Kent1","Kent","NHS West Kent CCG",26394,null,null,null,null,"Warrington",3652.6011560693642,null,{"$f":"AY143&COUNTIF($AY$3:AY143,AY143)","v":"North Yorkshire2"},"North Yorkshire","NHS Airedale, Wharfedale and Craven CCG",863.63795978552275]
[null,null,null,null,null,null,null,null,null,null,null,null,null,null,"E10000032","West Sussex","E10000032",null,null,null,"NHS Salford CCG","01G",6039,18080,null,"E06000037","West Berkshire","E06000037",null,null,null,null,null,null,null,null,null,null,"Kent2","Kent","NHS Thanet CCG",9699,null,null,null,null,"Warwickshire",9528.323699421966,null,{"$f":"AY144&COUNTIF($AY$3:AY144,AY144)","v":"North Yorkshire3"},"North Yorkshire","NHS Hambleton, Richmondshire and Whitby CCG",2829.1588337801609]
[null,null,null,null,null,null,null,null,null,null,null,null,null,null,"E09000033","Westminster","E09000033",null,null,null,"NHS Sandwell and West Birmingham CCG","05L",12165,34169,null,"E10000032","West Sussex","E10000032",null,null,null,null,null,null,null,null,null,null,"Kent3","Kent","NHS Swale CCG",6556,null,null,null,null,"West Berkshire",2464.7398843930637,null,{"$f":"AY145&COUNTIF($AY$3:AY145,AY145)","v":"North Yorkshire4"},"North Yorkshire","NHS Harrogate and Rural District CCG",3097.1844075067029]
[null,null,null,null,null,null,null,null,null,null,null,null,null,null,"E08000010","Wigan","E08000010",null,null,null,"NHS Scarborough and Ryedale CCG","03M",2055,7538,null,"E09000033","Westminster","E09000033",null,null,null,null,null,null,null,null,null,null,"Kent4","Kent","NHS South Kent Coast CCG",13283,null,null,null,null,"West Sussex",14898.843930635838,null,{"$f":"AY146&COUNTIF($AY$3:AY146,AY146)","v":"North Yorkshire5"},"North Yorkshire","NHS Scarborough and Ryedale CCG",2054.8627319034854]
[null,null,null,null,null,null,null,null,null,null,null,null,null,null,"E06000054","Wiltshire","E06000054",null,null,null,"NHS Sheffield CCG","03N",12399,37783,null,"E08000010","Wigan","E08000010",null,null,null,null,null,null,null,null,null,null,"Kent5","Kent","NHS Dartford, Gravesham and Swanley CCG",14947,null,null,null,null,"Westminster",5260.9826589595377,null,{"$f":"AY147&COUNTIF($AY$3:AY147,AY147)","v":"North Yorkshire6"},"North Yorkshire","NHS Vale of York CCG",2173.9852091152816]
[null,null,null,null,null,null,null,null,null,null,null,null,null,null,"E06000040","Windsor and Maidenhead","E06000040",null,null,null,"NHS Shropshire CCG","05N",6388,19296,null,"E06000054","Wiltshire","E06000054",null,null,null,null,null,null,null,null,null,null,"Kent6","Kent","NHS Canterbury and Coastal CCG",12564,null,null,null,null,"Wigan",6456.9364161849708,null,{"$f":"AY148&COUNTIF($AY$3:AY148,AY148)","v":"Northamptonshire1"},"Northamptonshire","NHS Corby CCG",1209.9284597156397]
[null,null,null,null,null,null,null,null,null,null,null,null,null,null,"E08000015","Wirral","E08000015",null,null,null,"NHS Slough CCG","10T",2362,8068,null,"E06000040","Windsor and Maidenhead","E06000040",null,null,null,null,null,null,null,null,null,null,"Kent7","Kent","NHS Ashford CCG",7321,null,null,null,null,"Wiltshire",7824.5664739884396,null,{"$f":"AY149&COUNTIF($AY$3:AY149,AY149)","v":"Northamptonshire2"},"Northamptonshire","NHS Nene CCG",10977.887488151659]
[null,null,null,null,null,null,null,null,null,null,null,null,null,null,"E06000041","Wokingham","E06000041",null,null,null,"NHS Solihull CCG","05P",3989,13719,null,"E08000015","Wirral","E08000015",null,null,null,null,null,null,null,null,null,null,"0",null,"","",null,null,null,null,"Windsor and Maidenhead",2265.8959537572255,null,{"$f":"AY150&COUNTIF($AY$3:AY150,AY150)","v":"Northamptonshire3"},"Northamptonshire","NHS Cambridgeshire and Peterborough CCG",265.59405213270145]
[null,null,null,null,null,null,null,null,null,null,null,null,null,null,"E08000031","Wolverhampton","E08000031",null,null,null,"NHS Somerset CCG","11X",11447,35067,null,"E06000041","Wokingham","E06000041",null,null,null,null,null,null,null,null,null,null,"0",null,"","",null,null,null,null,"Wirral",7206.06936416185,null,{"$f":"AY151&COUNTIF($AY$3:AY151,AY151)","v":"Northumberland1"},"Northumberland","NHS Northumberland CCG",6973.3230000000003]
[null,null,null,null,null,null,null,null,null,null,null,null,null,null,"E10000034","Worcestershire","E10000034",null,null,null,"NHS South Cheshire CCG","01R",3182,10481,null,"E08000031","Wolverhampton","E08000031",null,null,null,null,null,null,null,null,null,null,"0",null,"","",null,null,null,null,"Wokingham",2147.6878612716764,null,{"$f":"AY152&COUNTIF($AY$3:AY152,AY152)","v":"Nottingham1"},"Nottingham","NHS Nottingham City CCG",7104.2939999999999]
[null,null,null,null,null,null,null,null,null,null,null,null,null,null,"E06000014","York","E06000014",null,null,null,"NHS South Devon and Torbay CCG","99Q",7097,20795,null,"E10000034","Worcestershire","E10000034",null,null,null,null,null,null,null,null,null,null,"0",null,"","",null,null,null,null,"Wolverhampton",5184.6820809248557,null,{"$f":"AY153&COUNTIF($AY$3:AY153,AY153)","v":"Nottinghamshire1"},"Nottinghamshire","NHS Bassetlaw CCG",2276.8645070422535]
[null,null,null,null,null,null,null,null,null,null,null,null,null,null,null,null,null,null,null,null,"NHS South East Staffs and Seisdon and Peninsular CCG","05Q",4243,12341,null,"E06000014","York","E06000014",null,null,null,null,null,null,null,null,null,null,"0",null,"","",null,null,null,null,"Worcestershire",9684.1040462427736,null,{"$f":"AY154&COUNTIF($AY$3:AY154,AY154)","v":"Nottinghamshire2"},"Nottinghamshire","NHS Mansfield and Ashfield CCG",3935.7229336016098]
[null,null,null,null,null,null,null,null,null,null,null,null,null,null,null,null,null,null,null,null,"NHS South Eastern Hampshire CCG","10V",3483,11617,null,null,null,null,null,null,null,null,null,null,null,null,null,null,"Kingston upon Hull, City of1","Kingston upon Hull, City of","NHS Hull CCG",19824,null,null,null,null,"York",3230.057803468208,null,{"$f":"AY155&COUNTIF($AY$3:AY155,AY155)","v":"Nottinghamshire3"},"Nottinghamshire","NHS Newark and Sherwood CCG",2309.3911428571428]
[null,null,null,null,null,null,null,null,null,null,null,null,null,null,null,null,null,null,null,null,"NHS South Gloucestershire CCG","12A",4286,13525,null,null,null,null,null,null,null,null,null,null,null,null,null,null,"Kingston upon Thames1","Kingston upon Thames","NHS Kingston CCG",9882,null,null,null,null,"(blank)",0,null,{"$f":"AY156&COUNTIF($AY$3:AY156,AY156)","v":"Nottinghamshire4"},"Nottinghamshire","NHS Nottingham North and East CCG",3122.5570382293758]
[null,null,null,null,null,null,null,null,null,null,null,null,null,null,null,null,null,null,null,null,"NHS South Kent Coast CCG","10A",3884,13283,null,null,null,null,null,null,null,null,null,null,null,null,null,null,"Kirklees1","Kirklees","NHS North Kirklees CCG",11858,null,null,null,null,"Grand Total",1000000.0000000002,null,{"$f":"AY157&COUNTIF($AY$3:AY157,AY157)","v":"Nottinghamshire5"},"Nottinghamshire","NHS Nottingham West CCG",2309.3911428571428]
[null,null,null,null,null,null,null,null,null,null,null,null,null,null,null,null,null,null,null,null,"NHS South Lincolnshire CCG","99D",3087,9810,null,null,null,null,null,null,null,null,null,null,null,null,null,null,"Kirklees2","Kirklees","NHS Greater Huddersfield CCG",14697,null,null,null,null,null,null,null,{"$f":"AY158&COUNTIF($AY$3:AY158,AY158)","v":"Nottinghamshire6"},"Nottinghamshire","NHS Rushcliffe CCG",2211.8112354124751]
[null,null,null,null,null,null,null,null,null,null,null,null,null,null,null,null,null,null,null,null,"NHS South Manchester CCG","01N",4116,11638,null,null,null,null,null,null,null,null,null,null,null,null,null,null,"Knowsley1","Knowsley","NHS Knowsley CCG",13420,null,null,null,null,null,null,null,{"$f":"AY159&COUNTIF($AY$3:AY159,AY159)","v":"Oldham1"},"Oldham","NHS Oldham CCG",5144.1239999999998]
[null,null,null,null,null,null,null,null,null,null,null,null,null,null,null,null,null,null,null,null,"NHS South Norfolk CCG","06Y",5197,14020,null,null,null,null,null,null,null,null,null,null,null,null,null,null,"Lambeth1","Lambeth","NHS Lambeth CCG",22007,null,null,null,null,null,null,null,{"$f":"AY160&COUNTIF($AY$3:AY160,AY160)","v":"Oxfordshire1"},"Oxfordshire","NHS Oxfordshire CCG",10270.705857493858]
[null,null,null,null,null,null,null,null,null,null,null,null,null,null,null,null,null,null,null,null,"NHS South Reading CCG","10W",1749,6166,null,null,null,null,null,null,null,null,null,null,null,null,null,null,"Lancashire1","Lancashire","NHS West Lancashire CCG",7419,null,null,null,null,null,null,null,{"$f":"AY161&COUNTIF($AY$3:AY161,AY161)","v":"Oxfordshire2"},"Oxfordshire","NHS Aylesbury Vale CCG",129.02896805896805]
[null,null,null,null,null,null,null,null,null,null,null,null,null,null,null,null,null,null,null,null,"NHS South Sefton CCG","01T",4105,12387,null,null,null,null,null,null,null,null,null,null,null,null,null,null,"Lancashire2","Lancashire","NHS Lancashire North CCG",10462,null,null,null,null,null,null,null,{"$f":"AY162&COUNTIF($AY$3:AY162,AY162)","v":"Oxfordshire3"},"Oxfordshire","NHS Swindon CCG",103.22317444717444]
[null,null,null,null,null,null,null,null,null,null,null,null,null,null,null,null,null,null,null,null,"NHS South Tees CCG","00M",6775,20844,null,null,null,null,null,null,null,null,null,null,null,null,null,null,"Lancashire3","Lancashire","NHS Greater Preston CCG",13223,null,null,null,null,null,null,null,{"$f":"AY163&COUNTIF($AY$3:AY163,AY163)","v":"Peterborough1"},"Peterborough","NHS Cambridgeshire and Peterborough CCG",3637.614]
[null,null,null,null,null,null,null,null,null,null,null,null,null,null,null,null,null,null,null,null,"NHS South Tyneside CCG","00N",4195,12515,null,null,null,null,null,null,null,null,null,null,null,null,null,null,"Lancashire4","Lancashire","NHS Fylde & Wyre CCG",10961,null,null,null,null,null,null,null,{"$f":"AY164&COUNTIF($AY$3:AY164,AY164)","v":"Plymouth1"},"Plymouth","NHS North, East, West Devon CCG",5885.4790000000003]
[null,null,null,null,null,null,null,null,null,null,null,null,null,null,null,null,null,null,null,null,"NHS South Warwickshire CCG","05R",4804,15500,null,null,null,null,null,null,null,null,null,null,null,null,null,null,"Lancashire5","Lancashire","NHS East Lancashire CCG",26095,null,null,null,null,null,null,null,{"$f":"AY165&COUNTIF($AY$3:AY165,AY165)","v":"Poole1"},"Poole","NHS Dorset CCG",2922.09]
[null,null,null,null,null,null,null,null,null,null,null,null,null,null,null,null,null,null,null,null,"NHS South West Lincolnshire CCG ","04Q",2499,7905,null,null,null,null,null,null,null,null,null,null,null,null,null,null,"Lancashire6","Lancashire","NHS Chorley and South Ribble CCG",11332,null,null,null,null,null,null,null,{"$f":"AY166&COUNTIF($AY$3:AY166,AY166)","v":"Portsmouth1"},"Portsmouth","NHS Portsmouth CCG",4081.0790000000002]
[null,null,null,null,null,null,null,null,null,null,null,null,null,null,null,null,null,null,null,null,"NHS South Worcestershire CCG","05T",5585,16866,null,null,null,null,null,null,null,null,null,null,null,null,null,null,"0",null,"","",null,null,null,null,null,null,null,{"$f":"AY167&COUNTIF($AY$3:AY167,AY167)","v":"Reading1"},"Reading","NHS North and West Reading CCG",861.10284536082463]
[null,null,null,null,null,null,null,null,null,null,null,null,null,null,null,null,null,null,null,null,"NHS Southampton CCG","10X",5085,15325,null,null,null,null,null,null,null,null,null,null,null,null,null,null,"0",null,"","",null,null,null,null,null,null,null,{"$f":"AY168&COUNTIF($AY$3:AY168,AY168)","v":"Reading2"},"Reading","NHS South Reading CCG",1749.115154639175]
[null,null,null,null,null,null,null,null,null,null,null,null,null,null,null,null,null,null,null,null,"NHS Southend CCG","99G",3777,11619,null,null,null,null,null,null,null,null,null,null,null,null,null,null,"0",null,"","",null,null,null,null,null,null,null,{"$f":"AY169&COUNTIF($AY$3:AY169,AY169)","v":"Redbridge1"},"Redbridge","NHS Redbridge CCG",5114.8909999999996]
[null,null,null,null,null,null,null,null,null,null,null,null,null,null,null,null,null,null,null,null,"NHS Southern Derbyshire CCG","04R",10783,32829,null,null,null,null,null,null,null,null,null,null,null,null,null,null,"0",null,"","",null,null,null,null,null,null,null,{"$f":"AY170&COUNTIF($AY$3:AY170,AY170)","v":"Redcar and Cleveland1"},"Redcar and Cleveland","NHS South Tees CCG",3301.0309999999999]
[null,null,null,null,null,null,null,null,null,null,null,null,null,null,null,null,null,null,null,null,"NHS Southport and Formby CCG","01V",2884,8845,null,null,null,null,null,null,null,null,null,null,null,null,null,null,"0",null,"","",null,null,null,null,null,null,null,{"$f":"AY171&COUNTIF($AY$3:AY171,AY171)","v":"Richmond upon Thames1"},"Richmond upon Thames","NHS Richmond CCG",3028.8589999999999]
[null,null,null,null,null,null,null,null,null,null,null,null,null,null,null,null,null,null,null,null,"NHS Southwark CCG","08Q",7199,20478,null,null,null,null,null,null,null,null,null,null,null,null,null,null,"0",null,"","",null,null,null,null,null,null,null,{"$f":"AY172&COUNTIF($AY$3:AY172,AY172)","v":"Rochdale1"},"Rochdale","NHS Heywood, Middleton and Rochdale CCG",5079.9759999999997]
[null,null,null,null,null,null,null,null,null,null,null,null,null,null,null,null,null,null,null,null,"NHS St Helens CCG","01X",4413,14184,null,null,null,null,null,null,null,null,null,null,null,null,null,null,"Leeds1","Leeds","NHS Leeds West CCG",20105,null,null,null,null,null,null,null,{"$f":"AY173&COUNTIF($AY$3:AY173,AY173)","v":"Rotherham1"},"Rotherham","NHS Rotherham CCG",6165.8990000000003]
[null,null,null,null,null,null,null,null,null,null,null,null,null,null,null,null,null,null,null,null,"NHS Stafford and Surrounds CCG","05V",2830,8485,null,null,null,null,null,null,null,null,null,null,null,null,null,null,"Leeds2","Leeds","NHS Leeds South and East CCG",17351,null,null,null,null,null,null,null,{"$f":"AY174&COUNTIF($AY$3:AY174,AY174)","v":"Rutland1"},"Rutland","NHS East Leicestershire and Rutland CCG",622.05100000000004]
[null,null,null,null,null,null,null,null,null,null,null,null,null,null,null,null,null,null,null,null,"NHS Stockport CCG","01W",5881,18404,null,null,null,null,null,null,null,null,null,null,null,null,null,null,"Leeds3","Leeds","NHS Leeds North CCG",12665,null,null,null,null,null,null,null,{"$f":"AY175&COUNTIF($AY$3:AY175,AY175)","v":"Salford1"},"Salford","NHS Salford CCG",6039.3119999999999]
[null,null,null,null,null,null,null,null,null,null,null,null,null,null,null,null,null,null,null,null,"NHS Stoke on Trent CCG","05W",6258,18960,null,null,null,null,null,null,null,null,null,null,null,null,null,null,"Leicester1","Leicester","NHS Leicester City CCG",21384,null,null,null,null,null,null,null,{"$f":"AY176&COUNTIF($AY$3:AY176,AY176)","v":"Sandwell1"},"Sandwell","NHS Sandwell and West Birmingham CCG",8469.67]
[null,null,null,null,null,null,null,null,null,null,null,null,null,null,null,null,null,null,null,null,"NHS Sunderland CCG","00P",7186,22432,null,null,null,null,null,null,null,null,null,null,null,null,null,null,"Leicestershire1","Leicestershire","NHS West Leicestershire CCG",20073,null,null,null,null,null,null,null,{"$f":"AY177&COUNTIF($AY$3:AY177,AY177)","v":"Sefton1"},"Sefton","NHS South Sefton CCG",4104.6842698412702]
[null,null,null,null,null,null,null,null,null,null,null,null,null,null,null,null,null,null,null,null,"NHS Surrey Downs CCG","99H",4467,16398,null,null,null,null,null,null,null,null,null,null,null,null,null,null,"Leicestershire2","Leicestershire","NHS East Leicestershire and Rutland CCG",15187,null,null,null,null,null,null,null,{"$f":"AY178&COUNTIF($AY$3:AY178,AY178)","v":"Sefton2"},"Sefton","NHS Southport and Formby CCG",2884.3727301587301]
[null,null,null,null,null,null,null,null,null,null,null,null,null,null,null,null,null,null,null,null,"NHS Surrey Heath CCG","10C",1549,5501,null,null,null,null,null,null,null,null,null,null,null,null,null,null,"0",null,"","",null,null,null,null,null,null,null,{"$f":"AY179&COUNTIF($AY$3:AY179,AY179)","v":"Sheffield1"},"Sheffield","NHS Sheffield CCG",12399.124]
[null,null,null,null,null,null,null,null,null,null,null,null,null,null,null,null,null,null,null,null,"NHS Sutton CCG","08T",3379,11096,null,null,null,null,null,null,null,null,null,null,null,null,null,null,"0",null,"","",null,null,null,null,null,null,null,{"$f":"AY180&COUNTIF($AY$3:AY180,AY180)","v":"Shropshire1"},"Shropshire","NHS Shropshire CCG",6388.357]
[null,null,null,null,null,null,null,null,null,null,null,null,null,null,null,null,null,null,null,null,"NHS Swale CCG","10D",2067,6556,null,null,null,null,null,null,null,null,null,null,null,null,null,null,"0",null,"","",null,null,null,null,null,null,null,{"$f":"AY181&COUNTIF($AY$3:AY181,AY181)","v":"Slough1"},"Slough","NHS Slough CCG",2362.4929999999999]
[null,null,null,null,null,null,null,null,null,null,null,null,null,null,null,null,null,null,null,null,"NHS Swindon CCG","12D",3629,12105,null,null,null,null,null,null,null,null,null,null,null,null,null,null,"0",null,"","",null,null,null,null,null,null,null,{"$f":"AY182&COUNTIF($AY$3:AY182,AY182)","v":"Solihull1"},"Solihull","NHS Solihull CCG",3989.1320000000001]
[null,null,null,null,null,null,null,null,null,null,null,null,null,null,null,null,null,null,null,null,"NHS Tameside and Glossop CCG","01Y",6000,17318,null,null,null,null,null,null,null,null,null,null,null,null,null,null,"0",null,"","",null,null,null,null,null,null,null,{"$f":"AY183&COUNTIF($AY$3:AY183,AY183)","v":"Somerset1"},"Somerset","NHS Somerset CCG",11447.183000000001]
[null,null,null,null,null,null,null,null,null,null,null,null,null,null,null,null,null,null,null,null,"NHS Telford & Wrekin CCG","05X",3549,10410,null,null,null,null,null,null,null,null,null,null,null,null,null,null,"Lewisham1","Lewisham","NHS Lewisham CCG",19740,null,null,null,null,null,null,null,{"$f":"AY184&COUNTIF($AY$3:AY184,AY184)","v":"South Gloucestershire1"},"South Gloucestershire","NHS South Gloucestershire CCG",4285.625]
[null,null,null,null,null,null,null,null,null,null,null,null,null,null,null,null,null,null,null,null,"NHS Thanet CCG","10E",2631,9699,null,null,null,null,null,null,null,null,null,null,null,null,null,null,"Lincolnshire1","Lincolnshire","NHS South West Lincolnshire CCG",7905,null,null,null,null,null,null,null,{"$f":"AY185&COUNTIF($AY$3:AY185,AY185)","v":"South Tyneside1"},"South Tyneside","NHS South Tyneside CCG",4194.9440000000004]
[null,null,null,null,null,null,null,null,null,null,null,null,null,null,null,null,null,null,null,null,"NHS Thurrock CCG","07G",2998,9720,null,null,null,null,null,null,null,null,null,null,null,null,null,null,"Lincolnshire2","Lincolnshire","NHS South Lincolnshire CCG",9810,null,null,null,null,null,null,null,{"$f":"AY186&COUNTIF($AY$3:AY186,AY186)","v":"Southampton1"},"Southampton","NHS Southampton CCG",5084.6859999999997]
[null,null,null,null,null,null,null,null,null,null,null,null,null,null,null,null,null,null,null,null,"NHS Tower Hamlets CCG","08V",6714,18738,null,null,null,null,null,null,null,null,null,null,null,null,null,null,"Lincolnshire3","Lincolnshire","NHS Lincolnshire West CCG",14497,null,null,null,null,null,null,null,{"$f":"AY187&COUNTIF($AY$3:AY187,AY187)","v":"Southend-on-Sea1"},"Southend-on-Sea","NHS Southend CCG",3776.6680000000001]
[null,null,null,null,null,null,null,null,null,null,null,null,null,null,null,null,null,null,null,null,"NHS Trafford CCG","02A",4334,14103,null,null,null,null,null,null,null,null,null,null,null,null,null,null,"Lincolnshire4","Lincolnshire","NHS Lincolnshire East CCG",16187,null,null,null,null,null,null,null,{"$f":"AY188&COUNTIF($AY$3:AY188,AY188)","v":"Southwark1"},"Southwark","NHS Southwark CCG",7198.8010000000004]
[null,null,null,null,null,null,null,null,null,null,null,null,null,null,null,null,null,null,null,null,"NHS Vale of York CCG","03Q",5938,19366,null,null,null,null,null,null,null,null,null,null,null,null,null,null,"0",null,"","",null,null,null,null,null,null,null,{"$f":"AY189&COUNTIF($AY$3:AY189,AY189)","v":"St. Helens1"},"St. Helens","NHS St Helens CCG",4413.0879999999997]
[null,null,null,null,null,null,null,null,null,null,null,null,null,null,null,null,null,null,null,null,"NHS Vale Royal CCG","02D",2030,6295,null,null,null,null,null,null,null,null,null,null,null,null,null,null,"0",null,"","",null,null,null,null,null,null,null,{"$f":"AY190&COUNTIF($AY$3:AY190,AY190)","v":"Staffordshire1"},"Staffordshire","NHS Cannock Chase CCG",2521.189859848485]
[null,null,null,null,null,null,null,null,null,null,null,null,null,null,null,null,null,null,null,null,"NHS Wakefield CCG ","03R",7557,24275,null,null,null,null,null,null,null,null,null,null,null,null,null,null,"0",null,"","",null,null,null,null,null,null,null,{"$f":"AY191&COUNTIF($AY$3:AY191,AY191)","v":"Staffordshire2"},"Staffordshire","NHS East Staffordshire CCG",2367.4587708333333]
[null,null,null,null,null,null,null,null,null,null,null,null,null,null,null,null,null,null,null,null,"NHS Walsall CCG","05Y",6563,19342,null,null,null,null,null,null,null,null,null,null,null,null,null,null,"Liverpool1","Liverpool","NHS Liverpool CCG",39832,null,null,null,null,null,null,null,{"$f":"AY192&COUNTIF($AY$3:AY192,AY192)","v":"Staffordshire3"},"Staffordshire","NHS North Staffordshire CCG",4119.9931856060612]
[null,null,null,null,null,null,null,null,null,null,null,null,null,null,null,null,null,null,null,null,"NHS Waltham Forest CCG","08W",4990,16054,null,null,null,null,null,null,null,null,null,null,null,null,null,null,"Luton1","Luton","NHS Luton CCG",11998,null,null,null,null,null,null,null,{"$f":"AY193&COUNTIF($AY$3:AY193,AY193)","v":"Staffordshire4"},"Staffordshire","NHS South East Staffs and Seisdon Peninsular CCG",4242.9780568181823]
[null,null,null,null,null,null,null,null,null,null,null,null,null,null,null,null,null,null,null,null,"NHS Wandsworth CCG","08X",5947,20007,null,null,null,null,null,null,null,null,null,null,null,null,null,null,"Manchester1","Manchester","NHS South Manchester CCG",11638,null,null,null,null,null,null,null,{"$f":"AY194&COUNTIF($AY$3:AY194,AY194)","v":"Staffordshire5"},"Staffordshire","NHS Stafford and Surrounds CCG",2828.6520378787882]
[null,null,null,null,null,null,null,null,null,null,null,null,null,null,null,null,null,null,null,null,"NHS Warrington CCG","02E",3775,12638,null,null,null,null,null,null,null,null,null,null,null,null,null,null,"Manchester2","Manchester","NHS North Manchester CCG",13436,null,null,null,null,null,null,null,{"$f":"AY195&COUNTIF($AY$3:AY195,AY195)","v":"Staffordshire6"},"Staffordshire","NHS Stoke-on-Trent CCG",153.73108901515153]
[null,null,null,null,null,null,null,null,null,null,null,null,null,null,null,null,null,null,null,null,"NHS Warwickshire North CCG","05H",3595,11036,null,null,null,null,null,null,null,null,null,null,null,null,null,null,"Manchester3","Manchester","NHS Central Manchester CCG",12564,null,null,null,null,null,null,null,{"$f":"AY196&COUNTIF($AY$3:AY196,AY196)","v":"Stockport1"},"Stockport","NHS Stockport CCG",5881.4040000000005]
[null,null,null,null,null,null,null,null,null,null,null,null,null,null,null,null,null,null,null,null,"NHS West Cheshire CCG","02F",4695,15812,null,null,null,null,null,null,null,null,null,null,null,null,null,null,"Medway1","Medway","NHS Medway CCG",16154,null,null,null,null,null,null,null,{"$f":"AY197&COUNTIF($AY$3:AY197,AY197)","v":"Stockton-on-Tees1"},"Stockton-on-Tees","NHS Hartlepool and Stockton-on-Tees CCG",3874.01]
[null,null,null,null,null,null,null,null,null,null,null,null,null,null,null,null,null,null,null,null,"NHS West Essex CCG","07H",5538,17435,null,null,null,null,null,null,null,null,null,null,null,null,null,null,"Merton1","Merton","NHS Merton CCG",11254,null,null,null,null,null,null,null,{"$f":"AY198&COUNTIF($AY$3:AY198,AY198)","v":"Stoke-on-Trent1"},"Stoke-on-Trent","NHS Stoke-on-Trent CCG",6104.5219999999999]
[null,null,null,null,null,null,null,null,null,null,null,null,null,null,null,null,null,null,null,null,"NHS West Hampshire CCG","11A",8774,29845,null,null,null,null,null,null,null,null,null,null,null,null,null,null,"Middlesbrough1","Middlesbrough","NHS South Tees CCG",10428,null,null,null,null,null,null,null,{"$f":"AY199&COUNTIF($AY$3:AY199,AY199)","v":"Suffolk1"},"Suffolk","NHS Ipswich and East Suffolk CCG",8067.217777777777]
[null,null,null,null,null,null,null,null,null,null,null,null,null,null,null,null,null,null,null,null,"NHS West Kent CCG","99J",8708,26394,null,null,null,null,null,null,null,null,null,null,null,null,null,null,"Milton Keynes1","Milton Keynes","NHS Milton Keynes CCG",13448,null,null,null,null,null,null,null,{"$f":"AY200&COUNTIF($AY$3:AY200,AY200)","v":"Suffolk2"},"Suffolk","NHS Great Yarmouth and Waveney CCG",2474.3987301587299]
[null,null,null,null,null,null,null,null,null,null,null,null,null,null,null,null,null,null,null,null,"NHS West Lancashire CCG","02G",2442,7419,null,null,null,null,null,null,null,null,null,null,null,null,null,null,"Newcastle upon Tyne1","Newcastle upon Tyne","NHS Newcastle West CCG",10236,null,null,null,null,null,null,null,{"$f":"AY201&COUNTIF($AY$3:AY201,AY201)","v":"Suffolk3"},"Suffolk","NHS West Suffolk CCG",4406.4634920634917]
[null,null,null,null,null,null,null,null,null,null,null,null,null,null,null,null,null,null,null,null,"NHS West Leicestershire CCG","04V",6343,20073,null,null,null,null,null,null,null,null,null,null,null,null,null,null,"Newcastle upon Tyne2","Newcastle upon Tyne","NHS Newcastle North and East CCG",9691,null,null,null,null,null,null,null,{"$f":"AY202&COUNTIF($AY$3:AY202,AY202)","v":"Sunderland1"},"Sunderland","NHS Sunderland CCG",7185.6469999999999]
[null,null,null,null,null,null,null,null,null,null,null,null,null,null,null,null,null,null,null,null,"NHS West London (K&C & QPP) CCG","08Y",5584,17830,null,null,null,null,null,null,null,null,null,null,null,null,null,null,"Newham1","Newham","NHS Newham CCG",21040,null,null,null,null,null,null,null,{"$f":"AY203&COUNTIF($AY$3:AY203,AY203)","v":"Surrey1"},"Surrey","NHS East Surrey CCG",2711.451579689704]
[null,null,null,null,null,null,null,null,null,null,null,null,null,null,null,null,null,null,null,null,"NHS West Norfolk CCG","07J",3631,11443,null,null,null,null,null,null,null,null,null,null,null,null,null,null,"Norfolk1","Norfolk","NHS West Norfolk CCG",11443,null,null,null,null,null,null,null,{"$f":"AY204&COUNTIF($AY$3:AY204,AY204)","v":"Surrey2"},"Surrey","NHS Guildford and Waverley CCG",3202.0951988716506]
[null,null,null,null,null,null,null,null,null,null,null,null,null,null,null,null,null,null,null,null,"NHS West Suffolk CCG","07K",4406,14222,null,null,null,null,null,null,null,null,null,null,null,null,null,null,"Norfolk2","Norfolk","NHS South Norfolk CCG",14020,null,null,null,null,null,null,null,{"$f":"AY205&COUNTIF($AY$3:AY205,AY205)","v":"Surrey3"},"Surrey","NHS North West Surrey CCG",5474.5498561354016]
[null,null,null,null,null,null,null,null,null,null,null,null,null,null,null,null,null,null,null,null,"NHS Wigan Borough CCG","02H",7298,22341,null,null,null,null,null,null,null,null,null,null,null,null,null,null,"Norfolk3","Norfolk","NHS Norwich CCG",12245,null,null,null,null,null,null,null,{"$f":"AY206&COUNTIF($AY$3:AY206,AY206)","v":"Surrey4"},"Surrey","NHS Surrey Heath CCG",1549.4009026798308]
[null,null,null,null,null,null,null,null,null,null,null,null,null,null,null,null,null,null,null,null,"NHS Wiltshire CCG","99N",8356,27073,null,null,null,null,null,null,null,null,null,null,null,null,null,null,"Norfolk4","Norfolk","NHS North Norfolk CCG",11553,null,null,null,null,null,null,null,{"$f":"AY207&COUNTIF($AY$3:AY207,AY207)","v":"Surrey5"},"Surrey","NHS Windsor, Ascot and Maidenhead CCG",154.94009026798309]
[null,null,null,null,null,null,null,null,null,null,null,null,null,null,null,null,null,null,null,null,"NHS Windsor, Ascot and Maidenhead CCG","11C",2093,7542,null,null,null,null,null,null,null,null,null,null,null,null,null,null,"Norfolk5","Norfolk","NHS Great Yarmouth and Waveney CCG",7120,null,null,null,null,null,null,null,{"$f":"AY208&COUNTIF($AY$3:AY208,AY208)","v":"Surrey6"},"Surrey","NHS Surrey Downs CCG",4467.4392693935124]
[null,null,null,null,null,null,null,null,null,null,null,null,null,null,null,null,null,null,null,null,"NHS Wirral CCG","12F",8252,24933,null,null,null,null,null,null,null,null,null,null,null,null,null,null,"0",null,"","",null,null,null,null,null,null,null,{"$f":"AY209&COUNTIF($AY$3:AY209,AY209)","v":"Surrey7"},"Surrey","NHS North East Hampshire and Farnham CCG",748.87710296191824]
[null,null,null,null,null,null,null,null,null,null,null,null,null,null,null,null,null,null,null,null,"NHS Wokingham CCG","11D",1842,7431,null,null,null,null,null,null,null,null,null,null,null,null,null,null,"0",null,"","",null,null,null,null,null,null,null,{"$f":"AY210&COUNTIF($AY$3:AY210,AY210)","v":"Sutton1"},"Sutton","NHS Sutton CCG",3379.2109999999998]
[null,null,null,null,null,null,null,null,null,null,null,null,null,null,null,null,null,null,null,null,"NHS Wolverhampton CCG","06A",6309,17939,null,null,null,null,null,null,null,null,null,null,null,null,null,null,"North East Lincolnshire1","North East Lincolnshire","NHS North East Lincolnshire CCG",11246,null,null,null,null,null,null,null,{"$f":"AY211&COUNTIF($AY$3:AY211,AY211)","v":"Swindon1"},"Swindon","NHS Swindon CCG",3525.7539999999999]
[null,null,null,null,null,null,null,null,null,null,null,null,null,null,null,null,null,null,null,null,"NHS Wyre Forest CCG","06D",1953,6572,null,null,null,null,null,null,null,null,null,null,null,null,null,null,"North Lincolnshire1","North Lincolnshire","NHS North Lincolnshire CCG",11006,null,null,null,null,null,null,null,{"$f":"AY212&COUNTIF($AY$3:AY212,AY212)","v":"Tameside1"},"Tameside","NHS Tameside and Glossop CCG",5289.3320000000003]
[null,null,null,null,null,null,null,null,null,null,null,null,null,null,null,null,null,null,null,null,null,null,null,null,null,null,null,null,null,null,null,null,null,null,null,null,null,null,"North Somerset1","North Somerset","NHS North Somerset CCG",13223,null,null,null,null,null,null,null,{"$f":"AY213&COUNTIF($AY$3:AY213,AY213)","v":"Telford and Wrekin1"},"Telford and Wrekin","NHS Telford and Wrekin CCG",3548.8319999999999]
[null,null,null,null,null,null,null,null,null,null,null,null,null,null,null,null,null,null,null,null,null,null,null,null,null,null,null,null,null,null,null,null,null,null,null,null,null,null,"North Tyneside1","North Tyneside","NHS North Tyneside CCG",15233,null,null,null,null,null,null,null,{"$f":"AY214&COUNTIF($AY$3:AY214,AY214)","v":"Thurrock1"},"Thurrock","NHS Thurrock CCG",2998.4360000000001]
[null,null,null,null,null,null,null,null,null,null,null,null,null,null,null,null,null,null,null,null,null,null,null,null,null,null,null,null,null,null,null,null,null,null,null,null,null,null,"North Yorkshire1","North Yorkshire","NHS Vale of York CCG",6932,null,null,null,null,null,null,null,{"$f":"AY215&COUNTIF($AY$3:AY215,AY215)","v":"Torbay1"},"Torbay","NHS South Devon and Torbay CCG",3797.6570000000002]
[null,null,null,null,null,null,null,null,null,null,null,null,null,null,null,null,null,null,null,null,null,null,null,null,null,null,null,null,null,null,null,null,null,null,null,null,null,null,"North Yorkshire2","North Yorkshire","NHS Scarborough and Ryedale CCG",7538,null,null,null,null,null,null,null,{"$f":"AY216&COUNTIF($AY$3:AY216,AY216)","v":"Tower Hamlets1"},"Tower Hamlets","NHS Tower Hamlets CCG",6714.4210000000003]
[null,null,null,null,null,null,null,null,null,null,null,null,null,null,null,null,null,null,null,null,null,null,null,null,null,null,null,null,null,null,null,null,null,null,null,null,null,null,"North Yorkshire3","North Yorkshire","NHS Harrogate and Rural District CCG",9557,null,null,null,null,null,null,null,{"$f":"AY217&COUNTIF($AY$3:AY217,AY217)","v":"Trafford1"},"Trafford","NHS Trafford CCG",4334.4799999999996]
[null,null,null,null,null,null,null,null,null,null,null,null,null,null,null,null,null,null,null,null,null,null,null,null,null,null,null,null,null,null,null,null,null,null,null,null,null,null,"North Yorkshire4","North Yorkshire","NHS Hambleton, Richmondshire and Whitby CCG",9152,null,null,null,null,null,null,null,{"$f":"AY218&COUNTIF($AY$3:AY218,AY218)","v":"Wakefield1"},"Wakefield","NHS Wakefield CCG",7557.3459999999995]
[null,null,null,null,null,null,null,null,null,null,null,null,null,null,null,null,null,null,null,null,null,null,null,null,null,null,null,null,null,null,null,null,null,null,null,null,null,null,"North Yorkshire5","North Yorkshire","NHS Cumbria CCG",319,null,null,null,null,null,null,null,{"$f":"AY219&COUNTIF($AY$3:AY219,AY219)","v":"Walsall1"},"Walsall","NHS Walsall CCG",6562.53]
[null,null,null,null,null,null,null,null,null,null,null,null,null,null,null,null,null,null,null,null,null,null,null,null,null,null,null,null,null,null,null,null,null,null,null,null,null,null,"North Yorkshire6","North Yorkshire","NHS Airedale, Wharfedale and Craven CCG",2914,null,null,null,null,null,null,null,{"$f":"AY220&COUNTIF($AY$3:AY220,AY220)","v":"Waltham Forest1"},"Waltham Forest","NHS Waltham Forest CCG",4989.8379999999997]
[null,null,null,null,null,null,null,null,null,null,null,null,null,null,null,null,null,null,null,null,null,null,null,null,null,null,null,null,null,null,null,null,null,null,null,null,null,null,"0",null,"","",null,null,null,null,null,null,null,{"$f":"AY221&COUNTIF($AY$3:AY221,AY221)","v":"Wandsworth1"},"Wandsworth","NHS Wandsworth CCG",5946.6729999999998]
[null,null,null,null,null,null,null,null,null,null,null,null,null,null,null,null,null,null,null,null,null,null,null,null,null,null,null,null,null,null,null,null,null,null,null,null,null,null,"Northamptonshire1","Northamptonshire","NHS Nene CCG",35643,null,null,null,null,null,null,null,{"$f":"AY222&COUNTIF($AY$3:AY222,AY222)","v":"Warrington1"},"Warrington","NHS Warrington CCG",3775.4630000000002]
[null,null,null,null,null,null,null,null,null,null,null,null,null,null,null,null,null,null,null,null,null,null,null,null,null,null,null,null,null,null,null,null,null,null,null,null,null,null,"Northamptonshire2","Northamptonshire","NHS Corby CCG",4123,null,null,null,null,null,null,null,{"$f":"AY223&COUNTIF($AY$3:AY223,AY223)","v":"Warwickshire1"},"Warwickshire","NHS Coventry and Rugby CCG",1842.9276814159291]
[null,null,null,null,null,null,null,null,null,null,null,null,null,null,null,null,null,null,null,null,null,null,null,null,null,null,null,null,null,null,null,null,null,null,null,null,null,null,"Northamptonshire3","Northamptonshire","NHS Cambridgeshire and Peterborough CCG",837,null,null,null,null,null,null,null,{"$f":"AY224&COUNTIF($AY$3:AY224,AY224)","v":"Warwickshire2"},"Warwickshire","NHS Warwickshire North CCG",3595.2195752212388]
[null,null,null,null,null,null,null,null,null,null,null,null,null,null,null,null,null,null,null,null,null,null,null,null,null,null,null,null,null,null,null,null,null,null,null,null,null,null,"0",null,"","",null,null,null,null,null,null,null,{"$f":"AY225&COUNTIF($AY$3:AY225,AY225)","v":"Warwickshire3"},"Warwickshire","NHS South Warwickshire CCG",4803.6967433628315]
[null,null,null,null,null,null,null,null,null,null,null,null,null,null,null,null,null,null,null,null,null,null,null,null,null,null,null,null,null,null,null,null,null,null,null,null,null,null,"0",null,"","",null,null,null,null,null,null,null,{"$f":"AY226&COUNTIF($AY$3:AY226,AY226)","v":"West Berkshire1"},"West Berkshire","NHS Newbury and District CCG",1538.4099484536082]
[null,null,null,null,null,null,null,null,null,null,null,null,null,null,null,null,null,null,null,null,null,null,null,null,null,null,null,null,null,null,null,null,null,null,null,null,null,null,"0",null,"","",null,null,null,null,null,null,null,{"$f":"AY227&COUNTIF($AY$3:AY227,AY227)","v":"West Berkshire2"},"West Berkshire","NHS North and West Reading CCG",757.37105154639175]
[null,null,null,null,null,null,null,null,null,null,null,null,null,null,null,null,null,null,null,null,null,null,null,null,null,null,null,null,null,null,null,null,null,null,null,null,null,null,"0",null,"","",null,null,null,null,null,null,null,{"$f":"AY228&COUNTIF($AY$3:AY228,AY228)","v":"West Sussex1"},"West Sussex","NHS Coastal West Sussex CCG",8934.5834811881177]
[null,null,null,null,null,null,null,null,null,null,null,null,null,null,null,null,null,null,null,null,null,null,null,null,null,null,null,null,null,null,null,null,null,null,null,null,null,null,"Northumberland1","Northumberland","NHS Northumberland CCG",22267,null,null,null,null,null,null,null,{"$f":"AY229&COUNTIF($AY$3:AY229,AY229)","v":"West Sussex2"},"West Sussex","NHS Crawley CCG",1978.8003683168317]
[null,null,null,null,null,null,null,null,null,null,null,null,null,null,null,null,null,null,null,null,null,null,null,null,null,null,null,null,null,null,null,null,null,null,null,null,null,null,"Nottingham1","Nottingham","NHS Nottingham City CCG",21421,null,null,null,null,null,null,null,{"$f":"AY230&COUNTIF($AY$3:AY230,AY230)","v":"West Sussex3"},"West Sussex","NHS Guildford and Waverley CCG",119.92729504950495]
[null,null,null,null,null,null,null,null,null,null,null,null,null,null,null,null,null,null,null,null,null,null,null,null,null,null,null,null,null,null,null,null,null,null,null,null,null,null,"Nottinghamshire1","Nottinghamshire","NHS Rushcliffe CCG",6780,null,null,null,null,null,null,null,{"$f":"AY231&COUNTIF($AY$3:AY231,AY231)","v":"West Sussex4"},"West Sussex","NHS Horsham and Mid Sussex CCG",4107.5098554455444]
[null,null,null,null,null,null,null,null,null,null,null,null,null,null,null,null,null,null,null,null,null,null,null,null,null,null,null,null,null,null,null,null,null,null,null,null,null,null,"Nottinghamshire2","Nottinghamshire","NHS Nottingham West CCG",6180,null,null,null,null,null,null,null,{"$f":"AY232&COUNTIF($AY$3:AY232,AY232)","v":"Westminster1"},"Westminster","NHS West London (K&C & QPP) CCG",1610.8772343750002]
[null,null,null,null,null,null,null,null,null,null,null,null,null,null,null,null,null,null,null,null,null,null,null,null,null,null,null,null,null,null,null,null,null,null,null,null,null,null,"Nottinghamshire3","Nottinghamshire","NHS Nottingham North and East CCG",9115,null,null,null,null,null,null,null,{"$f":"AY233&COUNTIF($AY$3:AY233,AY233)","v":"Westminster2"},"Westminster","NHS Central London (Westminster) CCG",4453.6017656250006]
[null,null,null,null,null,null,null,null,null,null,null,null,null,null,null,null,null,null,null,null,null,null,null,null,null,null,null,null,null,null,null,null,null,null,null,null,null,null,"Nottinghamshire4","Nottinghamshire","NHS Newark & Sherwood CCG",7718,null,null,null,null,null,null,null,{"$f":"AY234&COUNTIF($AY$3:AY234,AY234)","v":"Wigan1"},"Wigan","NHS Wigan Borough CCG",7297.6880000000001]
[null,null,null,null,null,null,null,null,null,null,null,null,null,null,null,null,null,null,null,null,null,null,null,null,null,null,null,null,null,null,null,null,null,null,null,null,null,null,"Nottinghamshire5","Nottinghamshire","NHS Mansfield and Ashfield CCG",12418,null,null,null,null,null,null,null,{"$f":"AY235&COUNTIF($AY$3:AY235,AY235)","v":"Wiltshire1"},"Wiltshire","NHS Wiltshire CCG",8355.7090000000007]
[null,null,null,null,null,null,null,null,null,null,null,null,null,null,null,null,null,null,null,null,null,null,null,null,null,null,null,null,null,null,null,null,null,null,null,null,null,null,"Nottinghamshire6","Nottinghamshire","NHS Bassetlaw CCG",7526,null,null,null,null,null,null,null,{"$f":"AY236&COUNTIF($AY$3:AY236,AY236)","v":"Windsor and Maidenhead1"},"Windsor and Maidenhead","NHS Bracknell and Ascot CCG",245.36651685393261]
[null,null,null,null,null,null,null,null,null,null,null,null,null,null,null,null,null,null,null,null,null,null,null,null,null,null,null,null,null,null,null,null,null,null,null,null,null,null,"0",null,"","",null,null,null,null,null,null,null,{"$f":"AY237&COUNTIF($AY$3:AY237,AY237)","v":"Windsor and Maidenhead2"},"Windsor and Maidenhead","NHS Windsor, Ascot and Maidenhead CCG",1938.3954831460674]
[null,null,null,null,null,null,null,null,null,null,null,null,null,null,null,null,null,null,null,null,null,null,null,null,null,null,null,null,null,null,null,null,null,null,null,null,null,null,"Oldham1","Oldham","NHS Oldham CCG",16036,null,null,null,null,null,null,null,{"$f":"AY238&COUNTIF($AY$3:AY238,AY238)","v":"Wirral1"},"Wirral","NHS Wirral CCG",8251.6949999999997]
[null,null,null,null,null,null,null,null,null,null,null,null,null,null,null,null,null,null,null,null,null,null,null,null,null,null,null,null,null,null,null,null,null,null,null,null,null,null,"Oxfordshire1","Oxfordshire","NHS Swindon CCG",353,null,null,null,null,null,null,null,{"$f":"AY239&COUNTIF($AY$3:AY239,AY239)","v":"Wokingham1"},"Wokingham","NHS Wokingham CCG",1840.617]
[null,null,null,null,null,null,null,null,null,null,null,null,null,null,null,null,null,null,null,null,null,null,null,null,null,null,null,null,null,null,null,null,null,null,null,null,null,null,"Oxfordshire2","Oxfordshire","NHS Oxfordshire CCG",33120,null,null,null,null,null,null,null,{"$f":"AY240&COUNTIF($AY$3:AY240,AY240)","v":"Wolverhampton1"},"Wolverhampton","NHS Wolverhampton CCG",6308.8540000000003]
[null,null,null,null,null,null,null,null,null,null,null,null,null,null,null,null,null,null,null,null,null,null,null,null,null,null,null,null,null,null,null,null,null,null,null,null,null,null,"Oxfordshire3","Oxfordshire","NHS Aylesbury Vale CCG",424,null,null,null,null,null,null,null,{"$f":"AY241&COUNTIF($AY$3:AY241,AY241)","v":"Worcestershire1"},"Worcestershire","NHS Redditch and Bromsgrove CCG",3392.9591098901096]
[null,null,null,null,null,null,null,null,null,null,null,null,null,null,null,null,null,null,null,null,null,null,null,null,null,null,null,null,null,null,null,null,null,null,null,null,null,null,"0",null,"","",null,null,null,null,null,null,null,{"$f":"AY242&COUNTIF($AY$3:AY242,AY242)","v":"Worcestershire2"},"Worcestershire","NHS South Worcestershire CCG",5584.8707472527467]
[null,null,null,null,null,null,null,null,null,null,null,null,null,null,null,null,null,null,null,null,null,null,null,null,null,null,null,null,null,null,null,null,null,null,null,null,null,null,"0",null,"","",null,null,null,null,null,null,null,{"$f":"AY243&COUNTIF($AY$3:AY243,AY243)","v":"Worcestershire3"},"Worcestershire","NHS Wyre Forest CCG",1951.7021428571427]
[null,null,null,null,null,null,null,null,null,null,null,null,null,null,null,null,null,null,null,null,null,null,null,null,null,null,null,null,null,null,null,null,null,null,null,null,null,null,"Peterborough1","Peterborough","NHS Cambridgeshire and Peterborough CCG",10746,null,null,null,null,null,null,null,{"$f":"AY244&COUNTIF($AY$3:AY244,AY244)","v":"York1"},"York","NHS Vale of York CCG",3354.0859999999998]
[null,null,null,null,null,null,null,null,null,null,null,null,null,null,null,null,null,null,null,null,null,null,null,null,null,null,null,null,null,null,null,null,null,null,null,null,null,null,"Plymouth1","Plymouth","NHS North, East, West Devon CCG",17750]
[null,null,null,null,null,null,null,null,null,null,null,null,null,null,null,null,null,null,null,null,null,null,null,null,null,null,null,null,null,null,null,null,null,null,null,null,null,null,"Bournemouth & Poole2","Bournemouth & Poole","NHS Dorset CCG - Poole element",9831]
[null,null,null,null,null,null,null,null,null,null,null,null,null,null,null,null,null,null,null,null,null,null,null,null,null,null,null,null,null,null,null,null,null,null,null,null,null,null,"Portsmouth1","Portsmouth","NHS Portsmouth CCG",13052]
[null,null,null,null,null,null,null,null,null,null,null,null,null,null,null,null,null,null,null,null,null,null,null,null,null,null,null,null,null,null,null,null,null,null,null,null,null,null,"Reading1","Reading","NHS South Reading CCG",6166]
[null,null,null,null,null,null,null,null,null,null,null,null,null,null,null,null,null,null,null,null,null,null,null,null,null,null,null,null,null,null,null,null,null,null,null,null,null,null,"Reading2","Reading","NHS North & West Reading CCG",2910]
[null,null,null,null,null,null,null,null,null,null,null,null,null,null,null,null,null,null,null,null,null,null,null,null,null,null,null,null,null,null,null,null,null,null,null,null,null,null,"Redbridge1","Redbridge","NHS Redbridge CCG",16032]
[null,null,null,null,null,null,null,null,null,null,null,null,null,null,null,null,null,null,null,null,null,null,null,null,null,null,null,null,null,null,null,null,null,null,null,null,null,null,"Redcar and Cleveland1","Redcar and Cleveland","NHS South Tees CCG",10416]
[null,null,null,null,null,null,null,null,null,null,null,null,null,null,null,null,null,null,null,null,null,null,null,null,null,null,null,null,null,null,null,null,null,null,null,null,null,null,"Richmond upon Thames1","Richmond upon Thames","NHS Richmond CCG",10689]
[null,null,null,null,null,null,null,null,null,null,null,null,null,null,null,null,null,null,null,null,null,null,null,null,null,null,null,null,null,null,null,null,null,null,null,null,null,null,"Rochdale1","Rochdale","NHS Heywood, Middleton and Rochdale CCG",15125]
[null,null,null,null,null,null,null,null,null,null,null,null,null,null,null,null,null,null,null,null,null,null,null,null,null,null,null,null,null,null,null,null,null,null,null,null,null,null,"Rotherham1","Rotherham","NHS Rotherham CCG",18350]
[null,null,null,null,null,null,null,null,null,null,null,null,null,null,null,null,null,null,null,null,null,null,null,null,null,null,null,null,null,null,null,null,null,null,null,null,null,null,"Rutland1","Rutland","NHS East Leicestershire and Rutland CCG",2046]
[null,null,null,null,null,null,null,null,null,null,null,null,null,null,null,null,null,null,null,null,null,null,null,null,null,null,null,null,null,null,null,null,null,null,null,null,null,null,"Salford1","Salford","NHS Salford CCG",18080]
[null,null,null,null,null,null,null,null,null,null,null,null,null,null,null,null,null,null,null,null,null,null,null,null,null,null,null,null,null,null,null,null,null,null,null,null,null,null,"Sandwell1","Sandwell","NHS Sandwell and West Birmingham CCG",23192]
[null,null,null,null,null,null,null,null,null,null,null,null,null,null,null,null,null,null,null,null,null,null,null,null,null,null,null,null,null,null,null,null,null,null,null,null,null,null,"Sefton1","Sefton","NHS Southport and Formby CCG",8845]
[null,null,null,null,null,null,null,null,null,null,null,null,null,null,null,null,null,null,null,null,null,null,null,null,null,null,null,null,null,null,null,null,null,null,null,null,null,null,"Sefton2","Sefton","NHS South Sefton CCG",12387]
[null,null,null,null,null,null,null,null,null,null,null,null,null,null,null,null,null,null,null,null,null,null,null,null,null,null,null,null,null,null,null,null,null,null,null,null,null,null,"Sheffield1","Sheffield","NHS Sheffield CCG",37783]
[null,null,null,null,null,null,null,null,null,null,null,null,null,null,null,null,null,null,null,null,null,null,null,null,null,null,null,null,null,null,null,null,null,null,null,null,null,null,"Shropshire1","Shropshire","NHS Shropshire CCG",19296]
[null,null,null,null,null,null,null,null,null,null,null,null,null,null,null,null,null,null,null,null,null,null,null,null,null,null,null,null,null,null,null,null,null,null,null,null,null,null,"Slough1","Slough","NHS Slough CCG",8068]
[null,null,null,null,null,null,null,null,null,null,null,null,null,null,null,null,null,null,null,null,null,null,null,null,null,null,null,null,null,null,null,null,null,null,null,null,null,null,"Solihull1","Solihull","NHS Solihull CCG",13719]
[null,null,null,null,null,null,null,null,null,null,null,null,null,null,null,null,null,null,null,null,null,null,null,null,null,null,null,null,null,null,null,null,null,null,null,null,null,null,"Somerset1","Somerset","NHS Somerset CCG",35067]
[null,null,null,null,null,null,null,null,null,null,null,null,null,null,null,null,null,null,null,null,null,null,null,null,null,null,null,null,null,null,null,null,null,null,null,null,null,null,"0",null,"",""]
[null,null,null,null,null,null,null,null,null,null,null,null,null,null,null,null,null,null,null,null,null,null,null,null,null,null,null,null,null,null,null,null,null,null,null,null,null,null,"0",null,"",""]
[null,null,null,null,null,null,null,null,null,null,null,null,null,null,null,null,null,null,null,null,null,null,null,null,null,null,null,null,null,null,null,null,null,null,null,null,null,null,"0",null,"",""]
[null,null,null,null,null,null,null,null,null,null,null,null,null,null,null,null,null,null,null,null,null,null,null,null,null,null,null,null,null,null,null,null,null,null,null,null,null,null,"0",null,"",""]
[null,null,null,null,null,null,null,null,null,null,null,null,null,null,null,null,null,null,null,null,null,null,null,null,null,null,null,null,null,null,null,null,null,null,null,null,null,null,"South Gloucestershire1","South Gloucestershire","NHS South Gloucestershire CCG",13525]
[null,null,null,null,null,null,null,null,null,null,null,null,null,null,null,null,null,null,null,null,null,null,null,null,null,null,null,null,null,null,null,null,null,null,null,null,null,null,"South Tyneside1","South Tyneside","NHS South Tyneside CCG",12515]
[null,null,null,null,null,null,null,null,null,null,null,null,null,null,null,null,null,null,null,null,null,null,null,null,null,null,null,null,null,null,null,null,null,null,null,null,null,null,"Southampton1","Southampton","NHS Southampton CCG",15325]
[null,null,null,null,null,null,null,null,null,null,null,null,null,null,null,null,null,null,null,null,null,null,null,null,null,null,null,null,null,null,null,null,null,null,null,null,null,null,"Southend-on-Sea1","Southend-on-Sea","NHS Southend CCG",11619]
[null,null,null,null,null,null,null,null,null,null,null,null,null,null,null,null,null,null,null,null,null,null,null,null,null,null,null,null,null,null,null,null,null,null,null,null,null,null,"Southwark1","Southwark","NHS Southwark CCG",20478]
[null,null,null,null,null,null,null,null,null,null,null,null,null,null,null,null,null,null,null,null,null,null,null,null,null,null,null,null,null,null,null,null,null,null,null,null,null,null,"St. Helens1","St. Helens","NHS St Helens CCG",14184]
[null,null,null,null,null,null,null,null,null,null,null,null,null,null,null,null,null,null,null,null,null,null,null,null,null,null,null,null,null,null,null,null,null,null,null,null,null,null,"Staffordshire1","Staffordshire","NHS Stoke on Trent CCG",541]
[null,null,null,null,null,null,null,null,null,null,null,null,null,null,null,null,null,null,null,null,null,null,null,null,null,null,null,null,null,null,null,null,null,null,null,null,null,null,"Staffordshire2","Staffordshire","NHS Stafford and Surrounds CCG",8485]
[null,null,null,null,null,null,null,null,null,null,null,null,null,null,null,null,null,null,null,null,null,null,null,null,null,null,null,null,null,null,null,null,null,null,null,null,null,null,"Staffordshire3","Staffordshire","NHS South East Staffs and Seisdon Peninsular CCG",12341]
[null,null,null,null,null,null,null,null,null,null,null,null,null,null,null,null,null,null,null,null,null,null,null,null,null,null,null,null,null,null,null,null,null,null,null,null,null,null,"Staffordshire4","Staffordshire","NHS North Staffordshire CCG",13399]
[null,null,null,null,null,null,null,null,null,null,null,null,null,null,null,null,null,null,null,null,null,null,null,null,null,null,null,null,null,null,null,null,null,null,null,null,null,null,"Staffordshire5","Staffordshire","NHS East Staffordshire CCG",7480]
[null,null,null,null,null,null,null,null,null,null,null,null,null,null,null,null,null,null,null,null,null,null,null,null,null,null,null,null,null,null,null,null,null,null,null,null,null,null,"Staffordshire6","Staffordshire","NHS Cannock Chase CCG",8048]
[null,null,null,null,null,null,null,null,null,null,null,null,null,null,null,null,null,null,null,null,null,null,null,null,null,null,null,null,null,null,null,null,null,null,null,null,null,null,"0",null,"",""]
[null,null,null,null,null,null,null,null,null,null,null,null,null,null,null,null,null,null,null,null,null,null,null,null,null,null,null,null,null,null,null,null,null,null,null,null,null,null,"0",null,"",""]
[null,null,null,null,null,null,null,null,null,null,null,null,null,null,null,null,null,null,null,null,null,null,null,null,null,null,null,null,null,null,null,null,null,null,null,null,null,null,"Stockport1","Stockport","NHS Stockport CCG",18404]
[null,null,null,null,null,null,null,null,null,null,null,null,null,null,null,null,null,null,null,null,null,null,null,null,null,null,null,null,null,null,null,null,null,null,null,null,null,null,"Stockton-on-Tees1","Stockton-on-Tees","NHS Hartlepool and Stockton-On-Tees CCG",12882]
[null,null,null,null,null,null,null,null,null,null,null,null,null,null,null,null,null,null,null,null,null,null,null,null,null,null,null,null,null,null,null,null,null,null,null,null,null,null,"Stoke-on-Trent1","Stoke-on-Trent","NHS Stoke on Trent CCG",18419]
[null,null,null,null,null,null,null,null,null,null,null,null,null,null,null,null,null,null,null,null,null,null,null,null,null,null,null,null,null,null,null,null,null,null,null,null,null,null,"Suffolk1","Suffolk","NHS West Suffolk CCG",14222]
[null,null,null,null,null,null,null,null,null,null,null,null,null,null,null,null,null,null,null,null,null,null,null,null,null,null,null,null,null,null,null,null,null,null,null,null,null,null,"Suffolk2","Suffolk","NHS Ipswich and East Suffolk CCG",22885]
[null,null,null,null,null,null,null,null,null,null,null,null,null,null,null,null,null,null,null,null,null,null,null,null,null,null,null,null,null,null,null,null,null,null,null,null,null,null,"Suffolk3","Suffolk","NHS Great Yarmouth and Waveney CCG",8396]
[null,null,null,null,null,null,null,null,null,null,null,null,null,null,null,null,null,null,null,null,null,null,null,null,null,null,null,null,null,null,null,null,null,null,null,null,null,null,"0",null,"",""]
[null,null,null,null,null,null,null,null,null,null,null,null,null,null,null,null,null,null,null,null,null,null,null,null,null,null,null,null,null,null,null,null,null,null,null,null,null,null,"0",null,"",""]
[null,null,null,null,null,null,null,null,null,null,null,null,null,null,null,null,null,null,null,null,null,null,null,null,null,null,null,null,null,null,null,null,null,null,null,null,null,null,"0",null,"",""]
[null,null,null,null,null,null,null,null,null,null,null,null,null,null,null,null,null,null,null,null,null,null,null,null,null,null,null,null,null,null,null,null,null,null,null,null,null,null,"0",null,"",""]
[null,null,null,null,null,null,null,null,null,null,null,null,null,null,null,null,null,null,null,null,null,null,null,null,null,null,null,null,null,null,null,null,null,null,null,null,null,null,"Sunderland1","Sunderland","NHS Sunderland CCG",22432]
[null,null,null,null,null,null,null,null,null,null,null,null,null,null,null,null,null,null,null,null,null,null,null,null,null,null,null,null,null,null,null,null,null,null,null,null,null,null,"Surrey1","Surrey","NHS Windsor, Ascot and Maidenhead CCG",540]
[null,null,null,null,null,null,null,null,null,null,null,null,null,null,null,null,null,null,null,null,null,null,null,null,null,null,null,null,null,null,null,null,null,null,null,null,null,null,"Surrey2","Surrey","NHS Surrey Heath CCG",5501]
[null,null,null,null,null,null,null,null,null,null,null,null,null,null,null,null,null,null,null,null,null,null,null,null,null,null,null,null,null,null,null,null,null,null,null,null,null,null,"Surrey3","Surrey","NHS Surrey Downs CCG",16398]
[null,null,null,null,null,null,null,null,null,null,null,null,null,null,null,null,null,null,null,null,null,null,null,null,null,null,null,null,null,null,null,null,null,null,null,null,null,null,"Surrey4","Surrey","NHS North West Surrey CCG",19808]
[null,null,null,null,null,null,null,null,null,null,null,null,null,null,null,null,null,null,null,null,null,null,null,null,null,null,null,null,null,null,null,null,null,null,null,null,null,null,"Surrey5","Surrey","NHS North East Hampshire and Farnham CCG",2601]
[null,null,null,null,null,null,null,null,null,null,null,null,null,null,null,null,null,null,null,null,null,null,null,null,null,null,null,null,null,null,null,null,null,null,null,null,null,null,"Surrey6","Surrey","NHS Guildford and Waverley CCG",11230]
[null,null,null,null,null,null,null,null,null,null,null,null,null,null,null,null,null,null,null,null,null,null,null,null,null,null,null,null,null,null,null,null,null,null,null,null,null,null,"Surrey7","Surrey","NHS East Surrey CCG",9397]
[null,null,null,null,null,null,null,null,null,null,null,null,null,null,null,null,null,null,null,null,null,null,null,null,null,null,null,null,null,null,null,null,null,null,null,null,null,null,"0",null,"",""]
[null,null,null,null,null,null,null,null,null,null,null,null,null,null,null,null,null,null,null,null,null,null,null,null,null,null,null,null,null,null,null,null,null,null,null,null,null,null,"0",null,"",""]
[null,null,null,null,null,null,null,null,null,null,null,null,null,null,null,null,null,null,null,null,null,null,null,null,null,null,null,null,null,null,null,null,null,null,null,null,null,null,"0",null,"",""]
[null,null,null,null,null,null,null,null,null,null,null,null,null,null,null,null,null,null,null,null,null,null,null,null,null,null,null,null,null,null,null,null,null,null,null,null,null,null,"0",null,"",""]
[null,null,null,null,null,null,null,null,null,null,null,null,null,null,null,null,null,null,null,null,null,null,null,null,null,null,null,null,null,null,null,null,null,null,null,null,null,null,"Sutton1","Sutton","NHS Sutton CCG",11096]
[null,null,null,null,null,null,null,null,null,null,null,null,null,null,null,null,null,null,null,null,null,null,null,null,null,null,null,null,null,null,null,null,null,null,null,null,null,null,"Swindon1","Swindon","NHS Swindon CCG",11753]
[null,null,null,null,null,null,null,null,null,null,null,null,null,null,null,null,null,null,null,null,null,null,null,null,null,null,null,null,null,null,null,null,null,null,null,null,null,null,"Tameside1","Tameside","NHS Tameside and Glossop CCG",15140]
[null,null,null,null,null,null,null,null,null,null,null,null,null,null,null,null,null,null,null,null,null,null,null,null,null,null,null,null,null,null,null,null,null,null,null,null,null,null,"Telford and Wrekin1","Telford and Wrekin","NHS Telford and Wrekin CCG",10410]
[null,null,null,null,null,null,null,null,null,null,null,null,null,null,null,null,null,null,null,null,null,null,null,null,null,null,null,null,null,null,null,null,null,null,null,null,null,null,"Thurrock1","Thurrock","NHS Thurrock CCG",9720]
[null,null,null,null,null,null,null,null,null,null,null,null,null,null,null,null,null,null,null,null,null,null,null,null,null,null,null,null,null,null,null,null,null,null,null,null,null,null,"Torbay1","Torbay","NHS South Devon and Torbay CCG",10533]
[null,null,null,null,null,null,null,null,null,null,null,null,null,null,null,null,null,null,null,null,null,null,null,null,null,null,null,null,null,null,null,null,null,null,null,null,null,null,"Tower Hamlets1","Tower Hamlets","NHS Tower Hamlets CCG",18738]
[null,null,null,null,null,null,null,null,null,null,null,null,null,null,null,null,null,null,null,null,null,null,null,null,null,null,null,null,null,null,null,null,null,null,null,null,null,null,"Trafford1","Trafford","NHS Trafford CCG",14103]
[null,null,null,null,null,null,null,null,null,null,null,null,null,null,null,null,null,null,null,null,null,null,null,null,null,null,null,null,null,null,null,null,null,null,null,null,null,null,"Wakefield1","Wakefield","NHS Wakefield CCG",24275]
[null,null,null,null,null,null,null,null,null,null,null,null,null,null,null,null,null,null,null,null,null,null,null,null,null,null,null,null,null,null,null,null,null,null,null,null,null,null,"Walsall1","Walsall","NHS Walsall CCG",19342]
[null,null,null,null,null,null,null,null,null,null,null,null,null,null,null,null,null,null,null,null,null,null,null,null,null,null,null,null,null,null,null,null,null,null,null,null,null,null,"Waltham Forest1","Waltham Forest","NHS Waltham Forest CCG",16054]
[null,null,null,null,null,null,null,null,null,null,null,null,null,null,null,null,null,null,null,null,null,null,null,null,null,null,null,null,null,null,null,null,null,null,null,null,null,null,"Wandsworth1","Wandsworth","NHS Wandsworth CCG",20007]
[null,null,null,null,null,null,null,null,null,null,null,null,null,null,null,null,null,null,null,null,null,null,null,null,null,null,null,null,null,null,null,null,null,null,null,null,null,null,"Warrington1","Warrington","NHS Warrington CCG",12638]
[null,null,null,null,null,null,null,null,null,null,null,null,null,null,null,null,null,null,null,null,null,null,null,null,null,null,null,null,null,null,null,null,null,null,null,null,null,null,"Warwickshire1","Warwickshire","NHS Warwickshire North CCG",11036]
[null,null,null,null,null,null,null,null,null,null,null,null,null,null,null,null,null,null,null,null,null,null,null,null,null,null,null,null,null,null,null,null,null,null,null,null,null,null,"Warwickshire2","Warwickshire","NHS South Warwickshire CCG",15500]
[null,null,null,null,null,null,null,null,null,null,null,null,null,null,null,null,null,null,null,null,null,null,null,null,null,null,null,null,null,null,null,null,null,null,null,null,null,null,"Warwickshire3","Warwickshire","NHS Coventry and Rugby CCG",6432]
[null,null,null,null,null,null,null,null,null,null,null,null,null,null,null,null,null,null,null,null,null,null,null,null,null,null,null,null,null,null,null,null,null,null,null,null,null,null,"0",null,"",""]
[null,null,null,null,null,null,null,null,null,null,null,null,null,null,null,null,null,null,null,null,null,null,null,null,null,null,null,null,null,null,null,null,null,null,null,null,null,null,"0",null,"",""]
[null,null,null,null,null,null,null,null,null,null,null,null,null,null,null,null,null,null,null,null,null,null,null,null,null,null,null,null,null,null,null,null,null,null,null,null,null,null,"West Berkshire1","West Berkshire","NHS North & West Reading CCG",2806]
[null,null,null,null,null,null,null,null,null,null,null,null,null,null,null,null,null,null,null,null,null,null,null,null,null,null,null,null,null,null,null,null,null,null,null,null,null,null,"West Berkshire2","West Berkshire","NHS Newbury and District CCG",5722]
[null,null,null,null,null,null,null,null,null,null,null,null,null,null,null,null,null,null,null,null,null,null,null,null,null,null,null,null,null,null,null,null,null,null,null,null,null,null,"West Sussex1","West Sussex","NHS Horsham and Mid Sussex CCG",12712]
[null,null,null,null,null,null,null,null,null,null,null,null,null,null,null,null,null,null,null,null,null,null,null,null,null,null,null,null,null,null,null,null,null,null,null,null,null,null,"West Sussex2","West Sussex","NHS Guildford and Waverley CCG",379]
[null,null,null,null,null,null,null,null,null,null,null,null,null,null,null,null,null,null,null,null,null,null,null,null,null,null,null,null,null,null,null,null,null,null,null,null,null,null,"West Sussex3","West Sussex","NHS Crawley CCG",7244]
[null,null,null,null,null,null,null,null,null,null,null,null,null,null,null,null,null,null,null,null,null,null,null,null,null,null,null,null,null,null,null,null,null,null,null,null,null,null,"West Sussex4","West Sussex","NHS Coastal West Sussex CCG",31215]
[null,null,null,null,null,null,null,null,null,null,null,null,null,null,null,null,null,null,null,null,null,null,null,null,null,null,null,null,null,null,null,null,null,null,null,null,null,null,"0",null,"",""]
[null,null,null,null,null,null,null,null,null,null,null,null,null,null,null,null,null,null,null,null,null,null,null,null,null,null,null,null,null,null,null,null,null,null,null,null,null,null,"0",null,"",""]
[null,null,null,null,null,null,null,null,null,null,null,null,null,null,null,null,null,null,null,null,null,null,null,null,null,null,null,null,null,null,null,null,null,null,null,null,null,null,"0",null,"",""]
[null,null,null,null,null,null,null,null,null,null,null,null,null,null,null,null,null,null,null,null,null,null,null,null,null,null,null,null,null,null,null,null,null,null,null,null,null,null,"Westminster1","Westminster","NHS West London (K&C & QPP) CCG",4650]
[null,null,null,null,null,null,null,null,null,null,null,null,null,null,null,null,null,null,null,null,null,null,null,null,null,null,null,null,null,null,null,null,null,null,null,null,null,null,"Westminster2","Westminster","NHS Central London (Westminster) CCG",13553]
[null,null,null,null,null,null,null,null,null,null,null,null,null,null,null,null,null,null,null,null,null,null,null,null,null,null,null,null,null,null,null,null,null,null,null,null,null,null,"Wigan1","Wigan","NHS Wigan Borough CCG",22341]
[null,null,null,null,null,null,null,null,null,null,null,null,null,null,null,null,null,null,null,null,null,null,null,null,null,null,null,null,null,null,null,null,null,null,null,null,null,null,"Wiltshire1","Wiltshire","NHS Wiltshire CCG",27073]
[null,null,null,null,null,null,null,null,null,null,null,null,null,null,null,null,null,null,null,null,null,null,null,null,null,null,null,null,null,null,null,null,null,null,null,null,null,null,"Windsor and Maidenhead1","Windsor and Maidenhead","NHS Windsor, Ascot and Maidenhead CCG",7003]
[null,null,null,null,null,null,null,null,null,null,null,null,null,null,null,null,null,null,null,null,null,null,null,null,null,null,null,null,null,null,null,null,null,null,null,null,null,null,"Windsor and Maidenhead2","Windsor and Maidenhead","NHS Bracknell and Ascot CCG",837]
[null,null,null,null,null,null,null,null,null,null,null,null,null,null,null,null,null,null,null,null,null,null,null,null,null,null,null,null,null,null,null,null,null,null,null,null,null,null,"Wirral1","Wirral","NHS Wirral CCG",24933]
[null,null,null,null,null,null,null,null,null,null,null,null,null,null,null,null,null,null,null,null,null,null,null,null,null,null,null,null,null,null,null,null,null,null,null,null,null,null,"Wokingham1","Wokingham","NHS Wokingham CCG",7431]
[null,null,null,null,null,null,null,null,null,null,null,null,null,null,null,null,null,null,null,null,null,null,null,null,null,null,null,null,null,null,null,null,null,null,null,null,null,null,"Wolverhampton1","Wolverhampton","NHS Wolverhampton CCG",17939]
[null,null,null,null,null,null,null,null,null,null,null,null,null,null,null,null,null,null,null,null,null,null,null,null,null,null,null,null,null,null,null,null,null,null,null,null,null,null,"Worcestershire1","Worcestershire","NHS Wyre Forest CCG",6572]
[null,null,null,null,null,null,null,null,null,null,null,null,null,null,null,null,null,null,null,null,null,null,null,null,null,null,null,null,null,null,null,null,null,null,null,null,null,null,"Worcestershire2","Worcestershire","NHS South Worcestershire CCG",16866]
[null,null,null,null,null,null,null,null,null,null,null,null,null,null,null,null,null,null,null,null,null,null,null,null,null,null,null,null,null,null,null,null,null,null,null,null,null,null,"Worcestershire3","Worcestershire","NHS Redditch and Bromsgrove CCG",10069]
[null,null,null,null,null,null,null,null,null,null,null,null,null,null,null,null,null,null,null,null,null,null,null,null,null,null,null,null,null,null,null,null,null,null,null,null,null,null,"0",null,"",""]
[null,null,null,null,null,null,null,null,null,null,null,null,null,null,null,null,null,null,null,null,null,null,null,null,null,null,null,null,null,null,null,null,null,null,null,null,null,null,"0",null,"",""]
[null,null,null,null,null,null,null,null,null,null,null,null,null,null,null,null,null,null,null,null,null,null,null,null,null,null,null,null,null,null,null,null,null,null,null,null,null,null,"0",null,"",""]
[null,null,null,null,null,null,null,null,null,null,null,null,null,null,null,null,null,null,null,null,null,null,null,null,null,null,null,null,null,null,null,null,null,null,null,null,null,null,"York1","York","NHS Vale of York CCG",11176]
[null,null,null,null,null,null,null,null,null,null,null,null,null,null,null,null,null,null,null,null,null,null,null,null,null,null,null,null,null,null,null,null,null,null,null,null,null,null,null,null,null,3460000]

{"sheet":"Extraction sheet","index":13,"n_rows":271,"n_cols":2,"rows_kept":271,"cut":false,"hidden":true,"merged":[]}
["HWB",{"$f":"'6. HWB Supporting Metrics'!A1","v":"Devon"}]
["Res baseline num",{"$f":"'6. HWB Supporting Metrics'!C9","v":980}]
["Res baseline denom",{"$f":"'6. HWB Supporting Metrics'!C10","v":176490}]
["Res Baseline rate",{"$f":"'6. HWB Supporting Metrics'!C8","v":556.4}]
["Res 14/15 num",{"$f":"'6. HWB Supporting Metrics'!D9","v":980}]
["Res 14/15 denom",{"$f":"'6. HWB Supporting Metrics'!D10","v":186142.57099999997}]
["Res 14/15 rate",{"$f":"'6. HWB Supporting Metrics'!D8","v":526.47816925232019}]
["Res 15/16 num",{"$f":"'6. HWB Supporting Metrics'!E9","v":980}]
["Res 15/16 denom",{"$f":"'6. HWB Supporting Metrics'!E10","v":190357.33400000015}]
["Res 15/16 rate",{"$f":"'6. HWB Supporting Metrics'!E8","v":514.82124665603862}]
["Rationale for reds",{"$f":"'6. HWB Supporting Metrics'!H8","v":0}]
["Res 14/15 Annual change ",{"$f":"'6. HWB Supporting Metrics'!D11","v":0}]
["Res 14/15 Annual change %",{"$f":"'6. HWB Supporting Metrics'!D12","v":0}]
["Res 14/15 Estimated savings",{"$f":"'6. HWB Supporting Metrics'!D13","v":0}]
["Res 15/16 Annual change ",{"$f":"'6. HWB Supporting Metrics'!E11","v":0}]
["Res 15/16 Annual change %",{"$f":"'6. HWB Supporting Metrics'!E12","v":0}]
["Res 15/16 Estimated savings",{"$f":"'6. HWB Supporting Metrics'!E13","v":0}]
["Res cost",{"$f":"'6. HWB Supporting Metrics'!G13","v":25950}]
["Res 14/15 project num",{"$f":"'7. Metric trends'!G44","v":992.76037866666627}]
["Res 14/15 project denom",{"$f":"'7. Metric trends'!G45","v":186142.57099999997}]
["Res 14/15 project rate",{"$f":"'7. Metric trends'!G43","v":533.33333333333326}]
["Res 15/16 project num",{"$f":"'7. Metric trends'!H44","v":949.6610131036673}]
["Res 15/16 project denom",{"$f":"'7. Metric trends'!H45","v":190357.33400000015}]
["Res 15/16 project rate",{"$f":"'7. Metric trends'!H43","v":498.88333333333327}]
["Reable baseline num",{"$f":"'6. HWB Supporting Metrics'!C19","v":465}]
["Reable baseline denom",{"$f":"'6. HWB Supporting Metrics'!C20","v":520}]
["Reable Baseline rate",{"$f":"'6. HWB Supporting Metrics'!C18","v":89.8}]
["Reable 14/15 num",{"$f":"'6. HWB Supporting Metrics'!D19","v":706}]
["Reable 14/15 denom",{"$f":"'6. HWB Supporting Metrics'!D20","v":866}]
["Reable 14/15 rate",{"$f":"'6. HWB Supporting Metrics'!D18","v":81.524249422632806}]
["Reable 15/16 num",{"$f":"'6. HWB Supporting Metrics'!E19","v":706}]
["Reable 15/16 denom",{"$f":"'6. HWB Supporting Metrics'!E20","v":866}]
["Reable 15/16 rate",{"$f":"'6. HWB Supporting Metrics'!E18","v":81.524249422632806}]
["Reable Rationale for red plans",{"$f":"'6. HWB Supporting Metrics'!H18","v":"Significant expansion in coverage will include focus on cohort f patients with higher needs"}]
["Reable rationale for decrease in offered",{"$f":"'6. HWB Supporting Metrics'!H20","v":0}]
["Reable 14/15 Annual change ",{"$f":"'6. HWB Supporting Metrics'!D21","v":-8.2757505773671909}]
["Reable 14/15 Annual change %",{"$f":"'6. HWB Supporting Metrics'!D22","v":-9.2157578812552265E-2}]
["Reable 14/15 Estimated savings",{"$f":"'6. HWB Supporting Metrics'!D23","v":0}]
["Reable 15/16 Annual change ",{"$f":"'6. HWB Supporting Metrics'!E21","v":0}]
["Reable 15/16 Annual change %",{"$f":"'6. HWB Supporting Metrics'!E22","v":0}]
["Reable 15/16 Estimated savings",{"$f":"'6. HWB Supporting Metrics'!E23","v":0}]
["Reable cost",{"$f":"'6. HWB Supporting Metrics'!G23","v":0}]
["Reable project 14/15 num",{"$f":"'7. Metric trends'!G67","v":477.18666666666667}]
["Reable project 14/15 denom",{"$f":"'7. Metric trends'!G68","v":520}]
["Reable project 14/15 rate",{"$f":"'7. Metric trends'!G66","v":91.766666666666666}]
["Reable project 15/16 num",{"$f":"'7. Metric trends'!H67","v":487.58666666666664}]
["Reable project 15/16 denom",{"$f":"'7. Metric trends'!H68","v":520}]
["Reable project 15/16 rate",{"$f":"'7. Metric trends'!H66","v":93.766666666666666}]
["D Q1 baseline num",{"$f":"'6. HWB Supporting Metrics'!C30","v":6707}]
["D Q1 baseline denom",{"$f":"'6. HWB Supporting Metrics'!C31","v":616507}]
["D Q1 baseline rate",{"$f":"'6. HWB Supporting Metrics'!C29","v":1087.9033003680411}]
["D Q2 baseline num",{"$f":"'6. HWB Supporting Metrics'!D30","v":6829}]
["D Q2 baseline denom",{"$f":"'6. HWB Supporting Metrics'!D31","v":616507}]
["D Q2 baseline rate",{"$f":"'6. HWB Supporting Metrics'!D29","v":1107.692207874363}]
["D Q3 baseline num",{"$f":"'6. HWB Supporting Metrics'!E30","v":5900}]
["D Q3 baseline denom",{"$f":"'6. HWB Supporting Metrics'!E31","v":616507}]
["D Q3 baseline rate",{"$f":"'6. HWB Supporting Metrics'!E29","v":957.00454333851849}]
["D Q4 baseline num",{"$f":"'6. HWB Supporting Metrics'!F30","v":6238}]
["D Q4 baseline denom",{"$f":"'6. HWB Supporting Metrics'!F31","v":618201.4019999993}]
["D Q4 baseline rate",{"$f":"'6. HWB Supporting Metrics'!F29","v":1009.056268688308}]
["D Q1 14/15 num",{"$f":"'6. HWB Supporting Metrics'!G30","v":6000}]
["D Q1 14/15 denom",{"$f":"'6. HWB Supporting Metrics'!G31","v":618201.4019999993}]
["D Q1 14/15 rate",{"$f":"'6. HWB Supporting Metrics'!G29","v":970.55748831834694}]
["D Q2 14/15 num",{"$f":"'6. HWB Supporting Metrics'!H30","v":5800}]
["D Q2 14/15 denom",{"$f":"'6. HWB Supporting Metrics'!H31","v":618201.4019999993}]
["D Q2 14/15 rate",{"$f":"'6. HWB Supporting Metrics'!H29","v":938.20557204106865}]
["D Q3 14/15 rate",{"$f":"'6. HWB Supporting Metrics'!I30","v":5600}]
["D Q3 14/15 denom",{"$f":"'6. HWB Supporting Metrics'!I31","v":618201.4019999993}]
["D Q3 14/15 rate",{"$f":"'6. HWB Supporting Metrics'!I29","v":905.85365576379036}]
["D Q4 14/15 num",{"$f":"'6. HWB Supporting Metrics'!J30","v":5260}]
["D Q4 14/15 denom",{"$f":"'6. HWB Supporting Metrics'!J31","v":621893.41199999989}]
["D Q4 14/15 rate",{"$f":"'6. HWB Supporting Metrics'!J29","v":845.80410380677915}]
["D Q1 15/16 num",{"$f":"'6. HWB Supporting Metrics'!K30","v":5260}]
["D Q1 15/16 denom",{"$f":"'6. HWB Supporting Metrics'!K31","v":621893.41199999989}]
["D Q1 15/16 rate",{"$f":"'6. HWB Supporting Metrics'!K29","v":845.80410380677915}]
["D Q2 15/16 num",{"$f":"'6. HWB Supporting Metrics'!L30","v":5260}]
["D Q2 15/16 denom",{"$f":"'6. HWB Supporting Metrics'!L31","v":621893.41199999989}]
["D Q2 15/16 rate",{"$f":"'6. HWB Supporting Metrics'!L29","v":845.80410380677915}]
["D Q3 15/16 num",{"$f":"'6. HWB Supporting Metrics'!M30","v":5260}]
["D Q3 15/16 denom",{"$f":"'6. HWB Supporting Metrics'!M31","v":621893.41199999989}]
["D Q3 15/16 rate",{"$f":"'6. HWB Supporting Metrics'!M29","v":845.80410380677915}]
["D Q4 15/16 num",{"$f":"'6. HWB Supporting Metrics'!N30","v":5260}]
["D Q4 15/16 denom",{"$f":"'6. HWB Supporting Metrics'!N31","v":625377.68599999999}]
["D Q4 15/16 rate",{"$f":"'6. HWB Supporting Metrics'!N29","v":841.09173028600833}]
["D rationale for red",{"$f":"'6. HWB Supporting Metrics'!R29","v":0}]
["D 14/15 Annual change ",{"$f":"'6. HWB Supporting Metrics'!J32","v":-3014}]
["D 14/15 Annual change %",{"$f":"'6. HWB Supporting Metrics'!J33","v":-0.11739502999143103}]
["D 14/15 Estimated savings",{"$f":"'6. HWB Supporting Metrics'!J34","v":829000}]
["D 15/16 Annual change ",{"$f":"'6. HWB Supporting Metrics'!N32","v":-1620}]
["D 15/16 Annual change %",{"$f":"'6. HWB Supporting Metrics'!N33","v":-7.1491615180935608E-2}]
["D 15/16 Estimated savings",{"$f":"'6. HWB Supporting Metrics'!N34","v":446000}]
["D cost",{"$f":"'6. HWB Supporting Metrics'!P34","v":275}]
["D project 14/15 Q1 num",{"$f":"'7. Metric trends'!D112","v":5782.6492600422825}]
["D project 14/15 Q1 denom",{"$f":"'7. Metric trends'!D113","v":618201.4019999993}]
["D project 14/15 Q1 rate",{"$f":"'7. Metric trends'!D111","v":935.39892360876411}]
["D project 14/15 Q2 num",{"$f":"'7. Metric trends'!E112","v":5603.5822410147994}]
["D project 14/15 Q2 denom",{"$f":"'7. Metric trends'!E113","v":618201.4019999993}]
["D project 14/15 Q2 rate",{"$f":"'7. Metric trends'!E111","v":906.43311757076947}]
["D project 14/15 Q3 num",{"$f":"'7. Metric trends'!F112","v":5424.5152219873153}]
["D project 14/15 Q3 denom",{"$f":"'7. Metric trends'!F113","v":618201.4019999993}]
["D project 14/15 Q3 rate",{"$f":"'7. Metric trends'!F111","v":877.46731153277472}]
["D project 14/15 Q4 num",{"$f":"'7. Metric trends'!G112","v":5245.4482029598312}]
["D project 14/15 Q4 denom",{"$f":"'7. Metric trends'!G113","v":621893.41199999989}]
["D project 14/15 Q4 rate",{"$f":"'7. Metric trends'!G111","v":843.46418562154383}]
["D project 15/16 Q1 num",{"$f":"'7. Metric trends'!H112","v":5066.3811839323462}]
["D project 15/16 Q1 denom",{"$f":"'7. Metric trends'!H113","v":621893.41199999989}]
["D project 15/16 Q1 rate",{"$f":"'7. Metric trends'!H111","v":814.67034160065157}]
["D project 15/16 Q2 num",{"$f":"'7. Metric trends'!I112","v":4887.314164904863}]
["D project 15/16 Q2 denom",{"$f":"'7. Metric trends'!I113","v":621893.41199999989}]
["D project 15/16 Q2 rate",{"$f":"'7. Metric trends'!I111","v":785.87649757975942}]
["D project 15/16 Q3 num",{"$f":"'7. Metric trends'!J112","v":4708.247145877378}]
["D project 15/16 Q3 denom",{"$f":"'7. Metric trends'!J113","v":621893.41199999989}]
["D project 15/16 Q3 rate",{"$f":"'7. Metric trends'!J111","v":757.08265355886726}]
["D project 15/16 Q4 num",{"$f":"'7. Metric trends'!K112","v":4529.1801268498948}]
["D project 15/16 Q4 denom",{"$f":"'7. Metric trends'!K113","v":625377.68599999999}]
["D project 15/16 Q4 rate",{"$f":"'7. Metric trends'!K111","v":724.23116913862748}]
["Pat ex metric",{"$f":"'6. HWB Supporting Metrics'!A39","v":"% of adults using services satisfied with the care and support they receive (ASCOF 3A)"}]
["Pat ex baseline time period",{"$f":"'6. HWB Supporting Metrics'!C38","v":"2013/14"}]
["Pat ex baseline num",{"$f":"'6. HWB Supporting Metrics'!C40","v":10045}]
["Pat ex baseline denom",{"$f":"'6. HWB Supporting Metrics'!C41","v":15050}]
["Pat ex baseline rate",{"$f":"'6. HWB Supporting Metrics'!C39","v":66.744186046511629}]
["Pat ex Apr payment num",{"$f":"'6. HWB Supporting Metrics'!D40","v":10190}]
["Pat ex Apr payment denom",{"$f":"'6. HWB Supporting Metrics'!D41","v":15050}]
["Pat ex Apr payment rate",{"$f":"'6. HWB Supporting Metrics'!D39","v":67.707641196013284}]
["Pat ex Oct payment num",{"$f":"'6. HWB Supporting Metrics'!E40","v":10310}]
["Pat ex Oct payment denom",{"$f":"'6. HWB Supporting Metrics'!E41","v":15050}]
["Pat ex Oct payment rate",{"$f":"'6. HWB Supporting Metrics'!E39","v":68.504983388704318}]
["Local Improvement indicated by",{"$f":"'6. HWB Supporting Metrics'!B42","v":"Increase"}]
["Local metric",{"$f":"'6. HWB Supporting Metrics'!A48","v":"Dementia diagnosis rate"}]
["Local baseline time period",{"$f":"'6. HWB Supporting Metrics'!C47","v":"2012/13"}]
["Local baseline num",{"$f":"'6. HWB Supporting Metrics'!C49","v":4848}]
["Local baseline denom",{"$f":"'6. HWB Supporting Metrics'!C50","v":13075}]
["Local baseline rate",{"$f":"'6. HWB Supporting Metrics'!C48","v":37.078393881453152}]
["Local Apr payment num",{"$f":"'6. HWB Supporting Metrics'!D49","v":6950}]
["Local Apr payment denom",{"$f":"'6. HWB Supporting Metrics'!D50","v":13506}]
["Local Apr payment rate",{"$f":"'6. HWB Supporting Metrics'!D48","v":51.458610987709164}]
["Local Oct payment num",{"$f":"'6. HWB Supporting Metrics'!E49","v":7500}]
["Local Oct payment denom",{"$f":"'6. HWB Supporting Metrics'!E50","v":13506}]
["Local Oct payment rate",{"$f":"'6. HWB Supporting Metrics'!E48","v":55.530875166592629}]
["Local Improvement indicated by",{"$f":"'6. HWB Supporting Metrics'!B51","v":"Increase"}]
["Non-elective Q4 baseline num",{"$f":"'5. HWB P4P metric'!C10","v":19612}]
["Non-elective Q4 baseline denom",{"$f":"'5. HWB P4P metric'!C11","v":760047.97}]
["Non-elective Q4 baseline rate",{"$f":"'5. HWB P4P metric'!C9","v":2580.3634473229367}]
["Non-elective Q1 baseline num",{"$f":"'5. HWB P4P metric'!D10","v":19343}]
["Non-elective Q1 baseline denom",{"$f":"'5. HWB P4P metric'!D11","v":760047.97}]
["Non-elective Q1 baseline rate",{"$f":"'5. HWB P4P metric'!D9","v":2544.9709443997331}]
["Non-elective Q2 baseline num",{"$f":"'5. HWB P4P metric'!E10","v":19822}]
["Non-elective Q2 baseline denom",{"$f":"'5. HWB P4P metric'!E11","v":760047.97}]
["Non-elective Q2 baseline rate",{"$f":"'5. HWB P4P metric'!E9","v":2607.9932823187464}]
["Non-elective Q3 baseline num",{"$f":"'5. HWB P4P metric'!F10","v":20080}]
["Non-elective Q3 baseline denom",{"$f":"'5. HWB P4P metric'!F11","v":760047.97}]
["Non-elective Q3 baseline rate",{"$f":"'5. HWB P4P metric'!F9","v":2641.938508170741}]
["Non-elective Q4 14/15 num",{"$f":"'5. HWB P4P metric'!G10","v":18925}]
["Non-elective Q4 14/15 denom",{"$f":"'5. HWB P4P metric'!G11","v":764130.41899999999}]
["Non-elective Q4 14/15 rate",{"$f":"'5. HWB P4P metric'!G9","v":2476.6714594043665}]
["Non-elective Q1 14/15 num",{"$f":"'5. HWB P4P metric'!H10","v":18666}]
["Non-elective Q1 14/15 denom",{"$f":"'5. HWB P4P metric'!H11","v":764130.41899999999}]
["Non-elective Q1 14/15 rate",{"$f":"'5. HWB P4P metric'!H9","v":2442.7767218621875}]
["Non-elective Q2 14/15 rate",{"$f":"'5. HWB P4P metric'!I10","v":19128}]
["Non-elective Q2 14/15 denom",{"$f":"'5. HWB P4P metric'!I11","v":764130.41899999999}]
["Non-elective Q2 14/15 rate",{"$f":"'5. HWB P4P metric'!I9","v":2503.2376050455337}]
["Non-elective Q3 14/15 num",{"$f":"'5. HWB P4P metric'!J10","v":19377}]
["Non-elective Q3 14/15 denom",{"$f":"'5. HWB P4P metric'!J11","v":764130.41899999999}]
["Non-elective Q3 14/15 rate",{"$f":"'5. HWB P4P metric'!J9","v":2535.8236654625316}]
["Non-elective Q4 15/16 num",{"$f":"'5. HWB P4P metric'!K10","v":18925}]
["Non-elective Q4 15/16 denom",{"$f":"'5. HWB P4P metric'!K11","v":768456.72100000014}]
["Non-elective Q4 15/16 rate",{"$f":"'5. HWB P4P metric'!K9","v":2462.7281514790729}]
["Non-elective rationale for red",{"$f":"'5. HWB P4P metric'!N9","v":0}]
["Non-elective Annual change ",{"$f":"'5. HWB P4P metric'!H12","v":-2761}]
["Non-elective Annual change %",{"$f":"'5. HWB P4P metric'!H13","v":-3.5012744588305389E-2}]
["Non-elective Estimated savings",{"$f":"'5. HWB P4P metric'!H14","v":4113890}]
["Non-elective cost",{"$f":"'5. HWB P4P metric'!J14","v":1490}]
["Non-elective contri CCG1 plan activity 13/14 Q4",{"$f":"'5. HWB P4P metric'!C20","v":21156}]
["Non-elective contri CCG1 plan activity 14/15 Q1",{"$f":"'5. HWB P4P metric'!D20","v":19263}]
["Non-elective contri CCG1 plan activity 14/15 Q2",{"$f":"'5. HWB P4P metric'!E20","v":19576}]
["Non-elective contri CCG1 plan activity 14/15 Q3",{"$f":"'5. HWB P4P metric'!F20","v":20281}]
["Non-elective contri CCG2 plan activity 13/14 Q4",{"$f":"'5. HWB P4P metric'!C21","v":13647}]
["Non-elective contri CCG2 plan activity 14/15 Q1",{"$f":"'5. HWB P4P metric'!D21","v":11490}]
["Non-elective contri CCG2 plan activity 14/15 Q2",{"$f":"'5. HWB P4P metric'!E21","v":11434}]
["Non-elective contri CCG2 plan activity 14/15 Q3",{"$f":"'5. HWB P4P metric'!F21","v":11976}]
["Non-elective contri CCG3 plan activity 13/14 Q4",{"$f":"'5. HWB P4P metric'!C22","v":23004}]
["Non-elective contri CCG3 plan activity 14/15 Q1",{"$f":"'5. HWB P4P metric'!D22","v":21324}]
["Non-elective contri CCG3 plan activity 14/15 Q2",{"$f":"'5. HWB P4P metric'!E22","v":21891}]
["Non-elective contri CCG3 plan activity 14/15 Q3",{"$f":"'5. HWB P4P metric'!F22","v":21985}]
["Non-elective contri CCG4 plan activity 13/14 Q4",{"$f":"'5. HWB P4P metric'!C23","v":14655}]
["Non-elective contri CCG4 plan activity 14/15 Q1",{"$f":"'5. HWB P4P metric'!D23","v":16641}]
["Non-elective contri CCG4 plan activity 14/15 Q2",{"$f":"'5. HWB P4P metric'!E23","v":16654}]
["Non-elective contri CCG4 plan activity 14/15 Q3",{"$f":"'5. HWB P4P metric'!F23","v":17370}]
["Non-elective contri CCG5 plan activity 13/14 Q4",{"$f":"'5. HWB P4P metric'!C24","v":6627}]
["Non-elective contri CCG5 plan activity 14/15 Q1",{"$f":"'5. HWB P4P metric'!D24","v":8406}]
["Non-elective contri CCG5 plan activity 14/15 Q2",{"$f":"'5. HWB P4P metric'!E24","v":8567}]
["Non-elective contri CCG5 plan activity 14/15 Q3",{"$f":"'5. HWB P4P metric'!F24","v":8932}]
["Non-elective contri CCG6 plan activity 13/14 Q4",{"$f":"'5. HWB P4P metric'!C25","v":""}]
["Non-elective contri CCG6 plan activity 14/15 Q1",{"$f":"'5. HWB P4P metric'!D25","v":""}]
["Non-elective contri CCG6 plan activity 14/15 Q2",{"$f":"'5. HWB P4P metric'!E25","v":""}]
["Non-elective contri CCG6 plan activity 14/15 Q3",{"$f":"'5. HWB P4P metric'!F25","v":""}]
["Non-elective contri CCG7 plan activity 13/14 Q4",{"$f":"'5. HWB P4P metric'!C26","v":""}]
["Non-elective contri CCG7 plan activity 14/15 Q1",{"$f":"'5. HWB P4P metric'!D26","v":""}]
["Non-elective contri CCG7 plan activity 14/15 Q2",{"$f":"'5. HWB P4P metric'!E26","v":""}]
["Non-elective contri CCG7 plan activity 14/15 Q3",{"$f":"'5. HWB P4P metric'!F26","v":""}]
["Non-elective contri CCG8 plan activity 13/14 Q4",{"$f":"'5. HWB P4P metric'!C27","v":""}]
["Non-elective contri CCG8 plan activity 14/15 Q1",{"$f":"'5. HWB P4P metric'!D27","v":""}]
["Non-elective contri CCG8 plan activity 14/15 Q2",{"$f":"'5. HWB P4P metric'!E27","v":""}]
["Non-elective contri CCG8 plan activity 14/15 Q3",{"$f":"'5. HWB P4P metric'!F27","v":""}]
["Non-elective contri CCG9 plan activity 13/14 Q4",{"$f":"'5. HWB P4P metric'!C28","v":""}]
["Non-elective contri CCG9 plan activity 14/15 Q1",{"$f":"'5. HWB P4P metric'!D28","v":""}]
["Non-elective contri CCG9 plan activity 14/15 Q2",{"$f":"'5. HWB P4P metric'!E28","v":""}]
["Non-elective contri CCG9 plan activity 14/15 Q3",{"$f":"'5. HWB P4P metric'!F28","v":""}]
["Non-elective contri CCG10 plan activity 13/14 Q4",{"$f":"'5. HWB P4P metric'!C29","v":""}]
["Non-elective contri CCG10 plan activity 14/15 Q1",{"$f":"'5. HWB P4P metric'!D29","v":""}]
["Non-elective contri CCG10 plan activity 14/15 Q2",{"$f":"'5. HWB P4P metric'!E29","v":""}]
["Non-elective contri CCG10 plan activity 14/15 Q3",{"$f":"'5. HWB P4P metric'!F29","v":""}]
["Non-elective contri CCG11 plan activity 13/14 Q4",{"$f":"'5. HWB P4P metric'!C30","v":""}]
["Non-elective contri CCG11 plan activity 14/15 Q1",{"$f":"'5. HWB P4P metric'!D30","v":""}]
["Non-elective contri CCG11 plan activity 14/15 Q2",{"$f":"'5. HWB P4P metric'!E30","v":""}]
["Non-elective contri CCG11 plan activity 14/15 Q3",{"$f":"'5. HWB P4P metric'!F30","v":""}]
["Non-elective contri CCG12 plan activity 13/14 Q4",{"$f":"'5. HWB P4P metric'!C31","v":""}]
["Non-elective contri CCG12 plan activity 14/15 Q1",{"$f":"'5. HWB P4P metric'!D31","v":""}]
["Non-elective contri CCG12 plan activity 14/15 Q2",{"$f":"'5. HWB P4P metric'!E31","v":""}]
["Non-elective contri CCG12 plan activity 14/15 Q3",{"$f":"'5. HWB P4P metric'!F31","v":""}]
["Non-elective contri CCG13 plan activity 13/14 Q4",{"$f":"'5. HWB P4P metric'!C32","v":""}]
["Non-elective contri CCG13 plan activity 14/15 Q1",{"$f":"'5. HWB P4P metric'!D32","v":""}]
["Non-elective contri CCG13 plan activity 14/15 Q2",{"$f":"'5. HWB P4P metric'!E32","v":""}]
["Non-elective contri CCG13 plan activity 14/15 Q3",{"$f":"'5. HWB P4P metric'!F32","v":""}]
["Non-elective contri CCG14 plan activity 13/14 Q4",{"$f":"'5. HWB P4P metric'!C33","v":""}]
["Non-elective contri CCG14 plan activity 14/15 Q1",{"$f":"'5. HWB P4P metric'!D33","v":""}]
["Non-elective contri CCG14 plan activity 14/15 Q2",{"$f":"'5. HWB P4P metric'!E33","v":""}]
["Non-elective contri CCG14 plan activity 14/15 Q3",{"$f":"'5. HWB P4P metric'!F33","v":""}]
["Non-elective contri CCG15 plan activity 13/14 Q4",{"$f":"'5. HWB P4P metric'!C34","v":""}]
["Non-elective contri CCG15 plan activity 14/15 Q1",{"$f":"'5. HWB P4P metric'!D34","v":""}]
["Non-elective contri CCG15 plan activity 14/15 Q2",{"$f":"'5. HWB P4P metric'!E34","v":""}]
["Non-elective contri CCG15 plan activity 14/15 Q3",{"$f":"'5. HWB P4P metric'!F34","v":""}]
["Non-elective contri CCG16 plan activity 13/14 Q4",{"$f":"'5. HWB P4P metric'!C35","v":""}]
["Non-elective contri CCG16 plan activity 14/15 Q1",{"$f":"'5. HWB P4P metric'!D35","v":""}]
["Non-elective contri CCG16 plan activity 14/15 Q2",{"$f":"'5. HWB P4P metric'!E35","v":""}]
["Non-elective contri CCG16 plan activity 14/15 Q3",{"$f":"'5. HWB P4P metric'!F35","v":""}]
["Non-elective contri CCG17 plan activity 13/14 Q4",{"$f":"'5. HWB P4P metric'!C36","v":""}]
["Non-elective contri CCG17 plan activity 14/15 Q1",{"$f":"'5. HWB P4P metric'!D36","v":""}]
["Non-elective contri CCG17 plan activity 14/15 Q2",{"$f":"'5. HWB P4P metric'!E36","v":""}]
["Non-elective contri CCG17 plan activity 14/15 Q3",{"$f":"'5. HWB P4P metric'!F36","v":""}]
["Non-elective contri CCG18 plan activity 13/14 Q4",{"$f":"'5. HWB P4P metric'!C37","v":""}]
["Non-elective contri CCG18 plan activity 14/15 Q1",{"$f":"'5. HWB P4P metric'!D37","v":""}]
["Non-elective contri CCG18 plan activity 14/15 Q2",{"$f":"'5. HWB P4P metric'!E37","v":""}]
["Non-elective contri CCG18 plan activity 14/15 Q3",{"$f":"'5. HWB P4P metric'!F37","v":""}]
["Non-elective contri CCG19 plan activity 13/14 Q4",{"$f":"'5. HWB P4P metric'!C38","v":""}]
["Non-elective contri CCG19 plan activity 14/15 Q1",{"$f":"'5. HWB P4P metric'!D38","v":""}]
["Non-elective contri CCG19 plan activity 14/15 Q2",{"$f":"'5. HWB P4P metric'!E38","v":""}]
["Non-elective contri CCG19 plan activity 14/15 Q3",{"$f":"'5. HWB P4P metric'!F38","v":""}]
["Non-elective contri CCG20 plan activity 13/14 Q4",{"$f":"'5. HWB P4P metric'!C39","v":""}]
["Non-elective contri CCG20 plan activity 14/15 Q1",{"$f":"'5. HWB P4P metric'!D39","v":""}]
["Non-elective contri CCG20 plan activity 14/15 Q2",{"$f":"'5. HWB P4P metric'!E39","v":""}]
["Non-elective contri CCG20 plan activity 14/15 Q3",{"$f":"'5. HWB P4P metric'!F39","v":""}]
["Non-elective contri CCG21 plan activity 13/14 Q4",{"$f":"'5. HWB P4P metric'!C40","v":""}]
["Non-elective contri CCG21 plan activity 14/15 Q1",{"$f":"'5. HWB P4P metric'!D40","v":""}]
["Non-elective contri CCG21 plan activity 14/15 Q2",{"$f":"'5. HWB P4P metric'!E40","v":""}]
["Non-elective contri CCG21 plan activity 14/15 Q3",{"$f":"'5. HWB P4P metric'!F40","v":""}]
["Non-elective project 14/15 Q4 num",{"$f":"'7. Metric trends'!D34","v":19827.891723548772}]
["Non-elective project 14/15 Q4 denom",{"$f":"'7. Metric trends'!D35","v":760047.97}]
["Non-elective project 14/15 Q4 rate",{"$f":"'7. Metric trends'!D33","v":2608.7684601734773}]
["Non-elective project 15/16 Q1 num",{"$f":"'7. Metric trends'!E34","v":19750.16599892066}]
["Non-elective project 15/16 Q1 denom",{"$f":"'7. Metric trends'!E35","v":764130.41899999999}]
["Non-elective  project 15/16 Q1 rate",{"$f":"'7. Metric trends'!E33","v":2584.6590461307965}]
["Non-elective project 15/16 Q2 num",{"$f":"'7. Metric trends'!F34","v":19672.440274292549}]
["Non-elective project 15/16 Q2 denom",{"$f":"'7. Metric trends'!F35","v":764130.41899999999}]
["Non-elective  project 15/16 Q2 rate",{"$f":"'7. Metric trends'!F33","v":2574.4872583449069}]
["Non-elective project 15/16 Q3 num",{"$f":"'7. Metric trends'!G34","v":19594.714549664437}]
["Non-elective project 15/16 Q3 denom",{"$f":"'7. Metric trends'!G35","v":764130.41899999999}]
["Non-elective  project 15/16 Q3 rate",{"$f":"'7. Metric trends'!G33","v":2564.3154705590168}]
["Non-elective project 15/16 Q4 num",{"$f":"'7. Metric trends'!H34","v":19516.988825036326}]
["Non-elective project 15/16 Q4 denom",{"$f":"'7. Metric trends'!H35","v":768456.72100000014}]
["Non-elective  project 15/16 Q4 rate",{"$f":"'7. Metric trends'!H33","v":2539.7642172533383}]

{"sheet":"8.Non-elective admissions - CCG","index":14,"n_rows":218,"n_cols":17,"rows_kept":218,"cut":false,"hidden":true,"merged":[]}
["CCG Non-elective acute activity ",null,null," "]
[null,null,null,null,null,"CCG Planned Activity (Non-elective admissions*)"]
[null,null,null,null,null,"2013-14",null,null,null,"2014-15",null,null,null,"2015-16"]
["NHS Region","AT code","Area Team","CCG code","CCG name","Q1","Q2","Q3","Q4","Q1","Q2","Q3","Q4","Q1","Q2","Q3","Q4"]
["London","Q71","London","07L","NHS Barking and Dagenham CCG",5187,4926,4959,5335,5208.0941999999995,4940.6475000000009,4975.4873000000007,5361.7991999999995,5332.5676514500001,5058.7289752799998,5094.4014463900003,5489.9462008700002]
["London","Q71","London","07M","NHS Barnet CCG",7279,6870,7441,7546,7207.1280000000006,6915.1693090899998,7783.9221818099995,7919.5405090999993,7195.9698888000003,6899.0187042799998,7782.6272511899997,7920.5646518300009]
["London","Q71","London","07N","NHS Bexley CCG",4835,4916,4924,4862,4641.3534246700001,4686.9397260400001,4715.9397260400001,4563.7671233000001,4565.6369863099999,4611.5890411,4637.5890411,4489.6849315099998]
["London","Q71","London","07P","NHS Brent CCG",7670,7438,7714,7815,7663,7403,7634,7741,7377,7104,7350,7458]
["London","Q71","London","07Q","NHS Bromley CCG",6230,6038,5795,5896,5982,5800,5663,5588,5991,5807,5671,5596]
["London","Q71","London","07R","NHS Camden CCG",4462,4434,4296,4373,4550,4601,4678,4706,4446,4495,4573,4596]
["London","Q71","London","09A","NHS Central London (Westminster) CCG",3824,3538,3846,3530,4004.3726781200003,3911.8204843699996,3893.2610826700002,3539.2456410700006,3967.8555600700001,3870.3710229199996,3853.89129942,3494.21190415]
["London","Q71","London","07T","NHS City and Hackney CCG",5972,5685,5778,5538,7082.75374852,6673.7160795599993,7013.1989992100007,7367.4192090800007,7319.0596339700005,6893.6754791000003,7247.7384578599995,7613.6425173400003]
["London","Q71","London","07V","NHS Croydon CCG",8891,9065,9123,9042,8244,8410,8376,8550,8524,8696,8659,8839]
["London","Q71","London","07W","NHS Ealing CCG",9327,9641,9597,9339,9834.1696639900001,9854.4986174999995,9868.0603602699994,9620.7562367899991,9898.0397609899992,9921.6006576299988,9934.6583251800002,9687.8009440900005]
["London","Q71","London","07X","NHS Enfield CCG",5884,5693,6276,7034,5963.2311601199999,5835.5720224500001,6044.29446818,5545.2631431300006,5947.8451607400002,5818.9189700200004,6027.9547941500005,5535.0590992699999]
["London","Q71","London","08A","NHS Greenwich CCG",5426,5333,5533,5294,5396,5305,5581,5165,5282,5193,5462,5055]
["London","Q71","London","08C","NHS Hammersmith and Fulham CCG",4508,4862,4836,4776,5181.9596901000004,5325.1787178999994,5354.3292258000001,5103.7394377999999,5108.4638111000004,5251.8021816999999,5283.0932378999996,5031.0962194000003]
["London","Q71","London","08D","NHS Haringey CCG",5891,5310,4146,4706,43888.426833140002,45131.492256860001,41816.601793575996,42759.825626645601,6159.6952018599995,6212.4336236499994,6398.7967996299994,6938.2320413835005]
["London","Q71","London","08E","NHS Harrow CCG",5211,5211,5276,5538,5250,5022,5070,5280,5204,4966,5019,5232]
["London","Q71","London","08F","NHS Havering CCG",6496,6218,6176,6776,6054.7983999999997,5788.2121999999999,5753.6575000000003,6374.4104000000007,6132.9052992400002,5862.8801373100005,5808.2589034299999,6389.7591775699993]
["London","Q71","London","08G","NHS Hillingdon CCG",6461,6258,6781,7025,5741,5529,6075,6295,5543,5318,5893,6121]
["London","Q71","London","07Y","NHS Hounslow CCG",5669,5648,6085,6036,7003.4495982200006,7049.533901660001,7054.1455813200009,6918.0271214900004,6940.4282494300005,6990.5542999600002,6994.2151445700001,6859.3040401199996]
["London","Q71","London","08H","NHS Islington CCG",4913,4280,2812,2873,4873.8485000000001,5046.9032054199997,5218.7576294600003,5308.98638639,4800.8773482500001,4970.2652057300002,5139.4558862100002,5228.2705974099999]
["London","Q71","London","08J","NHS Kingston CCG",3150,3174,3103,3223,3158,3180,3106,3247,3081,3102,3029,3168]
["London","Q71","London","08K","NHS Lambeth CCG",6996,7462,7395,7181,6970,7432,7128,6805,6941,7403,7101,6779]
["London","Q71","London","08L","NHS Lewisham CCG",6062,6367,6101,5897,6318.6849316000007,6472.9452056,6405.9452056000009,6266.4246576000005,6323.2349316,6477.5452056000004,6410.5452055999995,6270.9246576000005]
["London","Q71","London","08R","NHS Merton CCG",3879,3808,4191,3962,3965,3935,4170,4051,4061,4030,4272,4149]
["London","Q71","London","08M","NHS Newham CCG",7441,7626,8091,7845,7424,7560,7968,7667,7349,7484,7893,7590]
["London","Q71","London","08N","NHS Redbridge CCG",6721,6519,6597,7249,6755.0676000000003,6417.0079999999998,6458.5788000000011,7150.8592000000008,6886.4989182000008,6541.8471559999998,6584.2285866000002,8090.9531418999995]
["London","Q71","London","08P","NHS Richmond CCG",3256,3132,3332,3285,3231,3106,3249,3335,3200,3071,3216,3303]
["London","Q71","London","08Q","NHS Southwark CCG",6065,6122,6150,5782,5760,5814,5697,5124,5615,5669,5554,4996]
["London","Q71","London","08T","NHS Sutton CCG",3872,3928,4423,4266,3807,3860,4140,4012,3662,3715,3984,3859]
["London","Q71","London","08V","NHS Tower Hamlets CCG",5609,5066,5424,5005,5494,4888,5227,4733,5623,5002,5350,4843]
["London","Q71","London","08W","NHS Waltham Forest CCG",7357,7038,7661,7187,7565,7244,7873,7393,7929,7465,7996,6787]
["London","Q71","London","08X","NHS Wandsworth CCG",6258,6250,6301,5999,6722,6688,6859,6849,6820,6787,6961,6947]
["London","Q71","London","08Y","NHS West London (K&C & QPP) CCG",4501,4542,4494,4415,5085.1440316999997,5085.5795832999993,4889.0512041000002,5156.3385308500001,4981.4445997000003,4980.9808446000006,4783.5710503999999,5055.3585152199994]
["Midlands & East","Q53","Arden, Herefordshire And Worcestershire Area Team","05A","NHS Coventry and Rugby CCG",10964,10759,11297,11000,10660.566028177,10777.715105378,10777.715105378,10543.416950957,10200.971511814001,10313.070099947001,10313.070099947001,10200.971511914]
["Midlands & East","Q53","Arden, Herefordshire And Worcestershire Area Team","05F","NHS Herefordshire CCG",3702,3704,4011,4351,3581,3300,3626,3559,3394,3152,3529,3523]
["Midlands & East","Q53","Arden, Herefordshire And Worcestershire Area Team","05J","NHS Redditch and Bromsgrove CCG",4417,4163,4382,4307,4139,4102,4405,4214,4025,3987,4282,4102]
["Midlands & East","Q53","Arden, Herefordshire And Worcestershire Area Team","05R","NHS South Warwickshire CCG",5860,5944,6325,5966,6023.9506848000001,6090.1479450900006,6090.1479450900006,5957.7534246200012,6007.49180316,6073.5081966300004,6073.5081966300004,6007.4918032500009]
["Midlands & East","Q53","Arden, Herefordshire And Worcestershire Area Team","05T","NHS South Worcestershire CCG",6270,6113,6718,6298,6019,5878,6448,5922,5724,5375,6127,5510]
["Midlands & East","Q53","Arden, Herefordshire And Worcestershire Area Team","05H","NHS Warwickshire North CCG",4246,3969,4170,4316,4056.2820679460001,4100.8565961730001,4100.8565961730001,4011.7075397400004,3888.5551228289996,3934.1985857110003,3934.1985857110003,3863.5551228180002]
["Midlands & East","Q53","Arden, Herefordshire And Worcestershire Area Team","06D","NHS Wyre Forest CCG",2102,2119,2292,2066,2108,2059,2211,2104,2019,2016,2203,2096]
["Midlands & East","Q54","Birmingham And The Black Country Area Team","13P","NHS Birmingham Crosscity CCG",19016,18797,19960,20013,19591.77,19591.77,19591.77,19591.77,19572.72,19572.72,19572.72,19572.72]
["Midlands & East","Q54","Birmingham And The Black Country Area Team","04X","NHS Birmingham South and Central CCG",5740,5506,5716,5845,5884.5250000000005,5647.75,5857.875,5988.05,6031.6381249999995,5788.9437500000004,6004.3218749999996,6137.7512500000003]
["Midlands & East","Q54","Birmingham And The Black Country Area Team","05C","NHS Dudley CCG",8138,8125,8305,8659,7991,8080,8080,7905,7610,7696,7696,7529]
["Midlands & East","Q54","Birmingham And The Black Country Area Team","05L","NHS Sandwell and West Birmingham CCG",15153,14881,15440,15448,15549.0061498909,15548.0061498909,15548.0061498909,15548.0061498909,15881.7334817191,15880.7334817191,15880.7334817191,15880.7334817191]
["Midlands & East","Q54","Birmingham And The Black Country Area Team","05P","NHS Solihull CCG",6298,6289,6651,6650,6343.8880371990008,6066.7187584650001,6295.0310796779995,5932.3621248239997,6119.8770545180005,5852.4949852999998,6072.7452999249999,5722.8826602459994]
["Midlands & East","Q54","Birmingham And The Black Country Area Team","05Y","NHS Walsall CCG",7285,7064,7336,7242,6953,7214,7129,7042,6983,7244,7160,7071]
["Midlands & East","Q54","Birmingham And The Black Country Area Team","06A","NHS Wolverhampton CCG",7296,6897,7242,7026,7723,7344,7671,8009,7584,7213,7534,7868]
["Midlands & East","Q55","Derbyshire And Nottinghamshire Area Team","03X","NHS Erewash CCG",2510,2479,2551,2297,2476.8337094939998,2472.1896685720003,2573.5053946160001,2390.1895001399998,2414.1203836889999,2409.3834619509998,2512.7255025100003,2325.7432901329998]
["Midlands & East","Q55","Derbyshire And Nottinghamshire Area Team","03Y","NHS Hardwick CCG",3582,3470,3628,3738,3513.37743159,3557.5193274799999,3662.1483436300005,3645.7500078599996,3443.4185627400002,3486.6565429699999,3589.2044509299994,3573.1214345600001]
["Midlands & East","Q55","Derbyshire And Nottinghamshire Area Team","04E","NHS Mansfield and Ashfield CCG",6084,5892,6037,5735,5913.3200000000006,5777.1,5920.18,5764.3600000000006,5203.8500000000004,5083.67,5206.4400000000005,5071.51]
["Midlands & East","Q55","Derbyshire And Nottinghamshire Area Team","04H","NHS Newark & Sherwood CCG",3213,3117,3234,3126,3120.3200000000006,3056.62,3172.26,3058.58,2732.64,2677,2779.85,2679.17]
["Midlands & East","Q55","Derbyshire And Nottinghamshire Area Team","04J","NHS North Derbyshire CCG",9223,9031,9369,9618,9143.2782212900001,9262.7506670500006,9537.0178469300008,9493.3844320099997,9090.5839118100012,9209.3678169300001,9482.0543471399997,9438.6723990800001]
["Midlands & East","Q55","Derbyshire And Nottinghamshire Area Team","04K","NHS Nottingham City CCG",8333,8200,8563,7254,8049,8070,8277,6789,7882,7908,8116,6605]
["Midlands & East","Q55","Derbyshire And Nottinghamshire Area Team","04L","NHS Nottingham North and East CCG",3431,3496,3314,3032,3461,3420,3235,2937,3394,3340,3155,2855]
["Midlands & East","Q55","Derbyshire And Nottinghamshire Area Team","04M","NHS Nottingham West CCG",2234,2193,2236,1903,2176,2178,2218,1875,2167,2161,2198,1857]
["Midlands & East","Q55","Derbyshire And Nottinghamshire Area Team","04N","NHS Rushcliffe CCG",2615,2624,2501,2184,2371,2575,2455,2112,2336,2522,2403,2054]
["Midlands & East","Q55","Derbyshire And Nottinghamshire Area Team","04R","NHS Southern Derbyshire CCG",14188,14334,14572,14666,13627.236225542998,13805.000655247,14212.934057581,14148.199034041001,13035.378748456002,13205.422521949,13595.638579980001,13533.715125051]
["Midlands & East","Q56","East Anglia Area Team","06H","NHS Cambridgeshire and Peterborough CCG",17248,17600,18538,18317,17236.629000000001,17554.442999999999,18495.831000000002,18032.463000000003,17106.332305,17425.537935,18346.358394999999,17892.503835]
["Midlands & East","Q56","East Anglia Area Team","06M","NHS Great Yarmouth and Waveney CCG",5912,4934,5140,5279,5323,5223,5121,5000,5108,5010,4912,4797]
["Midlands & East","Q56","East Anglia Area Team","06L","NHS Ipswich and East Suffolk CCG",8161,8102,9122,9128,7932,8019,8019,7845,7307,7387,7387,7226]
["Midlands & East","Q56","East Anglia Area Team","06V","NHS North Norfolk CCG",4133,4106,4321,4213,4516.6435743700004,4410.8333666199997,4663.9479811700003,4275.8188209700002,4670.2094557700002,4560.8017009800005,4822.5222125099999,4421.1966609500005]
["Midlands & East","Q56","East Anglia Area Team","06W","NHS Norwich CCG",4920,5094,5206,5120,5432,5361,5464,5315,5329,5261,5361,5219]
["Midlands & East","Q56","East Anglia Area Team","06Y","NHS South Norfolk CCG",5235,5341,5336,5498,5548,5507,5501,5549,5543,5500,5494,5543]
["Midlands & East","Q56","East Anglia Area Team","07J","NHS West Norfolk CCG",4909,4887,5135,5420,4822,4826,4828,4619,4638,4642,4830,4621]
["Midlands & East","Q56","East Anglia Area Team","07K","NHS West Suffolk CCG",5317,5475,5763,5719,4915,4970,4970,4863,4589,4639,4639,4538]
["Midlands & East","Q57","Essex Area Team","99E","NHS Basildon and Brentwood CCG",5652,5724,5762,5783,5945.8695177099999,5915.0319386899992,5956.29739341,5889.7206771299998,5858.4810114900001,5822.5598665899997,5864.4103347600003,5805.74935319]
["Midlands & East","Q57","Essex Area Team","99F","NHS Castle Point and Rochford CCG",3883,3959,3943,4129,4143.7351696420001,4177.7572046879995,4188.2925657530004,4105.852270249,4158.5893464259998,4192.4756108080001,4203.1702945010002,4120.7989538319998]
["Midlands & East","Q57","Essex Area Team","06Q","NHS Mid Essex CCG",7672,7775,8473,8417,8211,8301,8301,8120,8175,8265,8265,8173]
["Midlands & East","Q57","Essex Area Team","06T","NHS North East Essex CCG",8013,8191,9387,9187,8671,8677,8675,8677,8809.7360000000008,8815.8320000000003,8813.7999999999993,8815.8320000000003]
["Midlands & East","Q57","Essex Area Team","99G","NHS Southend CCG",4288,4647,4544,4839,4411.0613488039999,4753.7005916210001,4627.7014790850008,4606.3624176129997,4342.3363995380005,4678.8528454059997,4555.3453291599999,4534.5203436219999]
["Midlands & East","Q57","Essex Area Team","07G","NHS Thurrock CCG",3410,3547,3314,3464,3487.1008446129999,3518.4800262799999,3511.7307457390002,3457.3721544299997,3493.8502160839998,3524.1616314409998,3517.3455965170001,3462.191695127]
["Midlands & East","Q57","Essex Area Team","07H","NHS West Essex CCG",6445,6707,6995,7163,6398.0942996600006,6468.40302823,6468.4030282300009,6327.7855710900003,6376.1780443600001,6446.2459349599994,6446.2459349599994,6376.1780443600001]
["Midlands & East","Q58","Hertfordshire And The South Midlands Area Team","06F","NHS Bedfordshire CCG",9084,8914,9129,8981,9029,8860,8861,8806,9279,9109,9110,9055]
["Midlands & East","Q58","Hertfordshire And The South Midlands Area Team","03V","NHS Corby CCG",1474,1599,1588,1572,1530,1690,1637,1615,1541,1725,1671,1650]
["Midlands & East","Q58","Hertfordshire And The South Midlands Area Team","06K","NHS East and North Hertfordshire CCG",11498,12089,12652,12854,12019,12145,12152,11883,11891,12015,12022,11872]
["Midlands & East","Q58","Hertfordshire And The South Midlands Area Team","06N","NHS Herts Valleys CCG",12516,12709,13740,14001,12608,12768,13136,12885,10766,10901,11983,12034]
["Midlands & East","Q58","Hertfordshire And The South Midlands Area Team","06P","NHS Luton CCG",5313,5328,6018,5987,5640,5610,5483,5299,5190,5212,5212,5087]
["Midlands & East","Q58","Hertfordshire And The South Midlands Area Team","04F","NHS Milton Keynes CCG",7363,7290,7428,6691,7369,7224,7237,6236,6360,6303,6417,5777]
["Midlands & East","Q58","Hertfordshire And The South Midlands Area Team","04G","NHS Nene CCG",13544,13916,14970,14986,13008,13326,14069,13515,13219,13540,14288,13733]
["Midlands & East","Q59","Leicestershire And Lincolnshire Area Team","03W","NHS East Leicestershire and Rutland CCG",6611,6513,6887,7028,6017,6384,6326,6226,6043,6409,6351,6339]
["Midlands & East","Q59","Leicestershire And Lincolnshire Area Team","04C","NHS Leicester City CCG",7382,7309,7753,8515,6796,7229,7152,7030,6483,6896,6821,6810]
["Midlands & East","Q59","Leicestershire And Lincolnshire Area Team","03T","NHS Lincolnshire East CCG",6500,6382,6615,6600,6290.5150622000001,6229.0341162299992,6536.0699202600008,6451.7843634299998,5700.8153484099994,5647.9015249200002,5917.2995033999996,5835.3555440999999]
["Midlands & East","Q59","Leicestershire And Lincolnshire Area Team","04D","NHS Lincolnshire West CCG",5846,5469,5483,5446,5427.4865438669995,5382.4340052480002,5585.2032185460002,5464.4291883630003,5464.6457251460006,5170.3302246470003,5238.9572187120002,5286.0647473279996]
["Midlands & East","Q59","Leicestershire And Lincolnshire Area Team","99D","NHS South Lincolnshire CCG",3493,3483,3832,3700,3433.5313977410005,3239.1888259530006,3468.0747840219997,3231.35657739,3388.4735456389999,3196.1597972449999,3422.6384220250002,3188.3951170589999]
["Midlands & East","Q59","Leicestershire And Lincolnshire Area Team","04Q","NHS South West Lincolnshire CCG",3119,3033,3067,2844,2977.4603499059999,2969.6394673120003,3013.0821590810001,2927.3316090320004,2865.284527841,2858.298076262,2899.4508775740001,2817.1828072440003]
["Midlands & East","Q59","Leicestershire And Lincolnshire Area Team","04V","NHS West Leicestershire CCG",7220,7290,7688,8087,6944,7349,7288,7176,6556,6941,6883,6873]
["Midlands & East","Q60","Shropshire And Staffordshire Area Team","04Y","NHS Cannock Chase CCG",3572,3495,3626,3599,3591,3478,3326,3324,3351,3351,3351,3351]
["Midlands & East","Q60","Shropshire And Staffordshire Area Team","05D","NHS East Staffordshire CCG",3180,3238,3642,3636,3134,3189,3588,3417,3057,3109,3497,3335]
["Midlands & East","Q60","Shropshire And Staffordshire Area Team","05G","NHS North Staffordshire CCG",5540,5237,5778,5831,4852,4959,4984,5107,4559,4664,4688,4802]
["Midlands & East","Q60","Shropshire And Staffordshire Area Team","05N","NHS Shropshire CCG",6760,6599,7341,7185,7210,6908,7359,6919,7216,6914,7365,6924]
["Midlands & East","Q60","Shropshire And Staffordshire Area Team","05Q","NHS South East Staffs and Seisdon Peninsular CCG",4825,5128,5286,5307,5394,5396,5390,5391,5088,5094,5093,5094]
["Midlands & East","Q60","Shropshire And Staffordshire Area Team","05V","NHS Stafford and Surrounds CCG",3887,3595,3837,3840,3813,3723,3575,3573,3585,3585,3585,3585]
["Midlands & East","Q60","Shropshire And Staffordshire Area Team","05W","NHS Stoke on Trent CCG",8066,7990,8943,8880,7232,7391,7429,7613,6795,6952,6988,7156]
["Midlands & East","Q60","Shropshire And Staffordshire Area Team","05X","NHS Telford and Wrekin CCG",4115,4063,4497,4405,3788,3842,4084,4175,3257,3306,3512,3586]
["North","Q44","Cheshire, Warrington And Wirral Area Team","01C","NHS Eastern Cheshire CCG",4853,4966,5154,4874,4786,4857,4987,4848,4637,4703,4832,4699]
["North","Q44","Cheshire, Warrington And Wirral Area Team","01R","NHS South Cheshire CCG",4015,3875,3967,3850,5546,5363,5684,5461,5380,5153,5442,5229]
["North","Q44","Cheshire, Warrington And Wirral Area Team","02D","NHS Vale Royal CCG",2092,2165,2222,2207,2808,2866,3046,2911,2706,2753,2935,2794]
["North","Q44","Cheshire, Warrington And Wirral Area Team","02E","NHS Warrington CCG",5893,5823,5915,5869,5570,5791,5856,5814,5403,5617,5679,5640]
["North","Q44","Cheshire, Warrington And Wirral Area Team","02F","NHS West Cheshire CCG",6122,6157,6327,6010,5775,5806,5781,5453,5602,5631,5609,5292]
["North","Q44","Cheshire, Warrington And Wirral Area Team","12F","NHS Wirral CCG",11415,11119,12085,11656,11085,11205,11201,10952,10124,10232,10231,10116]
["North","Q45","Durham, Darlington And Tees Area Team","00C","NHS Darlington CCG",3326,3316,3518,3262,3321,3194,3340,3342,3287,3161,3303,3303]
["North","Q45","Durham, Darlington And Tees Area Team","00D","NHS Durham Dales, Easington and Sedgefield CCG",8886,8402,8681,8470,8630,8570,8727,8793,8630,8570,8727,8793]
["North","Q45","Durham, Darlington And Tees Area Team","00K","NHS Hartlepool and Stockton-On-Tees CCG",7801,7471,7728,7400,7567,7474,7706,7628,7193,7105,7325,7251]
["North","Q45","Durham, Darlington And Tees Area Team","00J","NHS North Durham CCG",7143,7007,7432,7207,7148,7098,7226,7279,7148,7098,7226,7279]
["North","Q45","Durham, Darlington And Tees Area Team","00M","NHS South Tees CCG",9137,8909,9380,8668,8864,8759,9027,9026,7802,7710,7944,7941]
["North","Q46","Greater Manchester Area Team","00T","NHS Bolton CCG",7927,7888,8500,8368,7771,7687,7728,6916,7560,7473,7513,6727]
["North","Q46","Greater Manchester Area Team","00V","NHS Bury CCG",5031,4848,4963,4834,4956,4797,4878,5009,4261,4122,4182,4325]
["North","Q46","Greater Manchester Area Team","00W","NHS Central Manchester CCG",5279,5089,5421,5435,5235,5108,5419,5290,4814,4703,4988,4862]
["North","Q46","Greater Manchester Area Team","01D","NHS Heywood, Middleton and Rochdale CCG",6494,6322,6621,6805,6261.21,6133.5080000000007,6418.4549999999999,5862.59322080523,5943.5460000000003,5878.53,6108.7950000000001,5585.0818869817604]
["North","Q46","Greater Manchester Area Team","01M","NHS North Manchester CCG",6105,6126,6388,6381,5907,5955,6223,6122,5747,5799,6061,5957]
["North","Q46","Greater Manchester Area Team","00Y","NHS Oldham CCG",7232,7131,7397,7451,7067,7027,7376,7014,7070,7147,7147,7068]
["North","Q46","Greater Manchester Area Team","01G","NHS Salford CCG",8083,7982,8627,8399,6892.628058155,7092.022175477,7412.8326760249993,7577.9579643899997,6856.5143264960006,6997.2638873289998,7333.3393697439988,7537.2826111459999]
["North","Q46","Greater Manchester Area Team","01N","NHS South Manchester CCG",4511,4543,4823,4610,4473,4501,4782,4483,4338,4371,4639,4348]
["North","Q46","Greater Manchester Area Team","01W","NHS Stockport CCG",9669,9539,9843,9551,8187.505887699499,8327.1487907113988,8622.9492510588007,8546.0202266763008,7370.3964300498992,7496.1030330436006,7762.3827386676003,7693.1311968848004]
["North","Q46","Greater Manchester Area Team","01Y","NHS Tameside and Glossop CCG",7079,7024,7517,7108,6906.5468177120001,6849.3323488549995,6821.1567070339988,6837.1351626610012,7165.4461540880002,7106.1420427849998,7077.1032387159994,7093.8143290649996]
["North","Q46","Greater Manchester Area Team","02A","NHS Trafford CCG",5735,5755,5936,5576,5054,5071,5066,5031,4616,4633,4628,4593]
["North","Q46","Greater Manchester Area Team","02H","NHS Wigan Borough CCG",8325,8284,8310,8145,7980,7945,7965,7801,7848,7814,7832,7671]
["North","Q47","Lancashire Area Team","00Q","NHS Blackburn with Darwen CCG",5221,4900,4997,5308,4961.0150406000002,4929.2098840999997,4970.2992323999997,5008.0871041,4972.6790886999997,4939.7689556999994,4981.9161899000001,5019.8761827999997]
["North","Q47","Lancashire Area Team","00R","NHS Blackpool CCG",5315,5299,5612,5434,5587,5210,5516,5341,4987,4981,5335,5161]
["North","Q47","Lancashire Area Team","00X","NHS Chorley and South Ribble CCG",4485,4406,4436,4330,4467,4386,4416,4414,4319,4242,4269,4269]
["North","Q47","Lancashire Area Team","01A","NHS East Lancashire CCG",10825,10121,10879,10623,10326.335440700001,10267.304114999999,10414.509293899999,10425.216871799999,10357.1292739,10298.856025900001,10444.1946052,10458.298842599999]
["North","Q47","Lancashire Area Team","02M","NHS Fylde & Wyre CCG",3895,3692,3820,3989,3941,3645,3768,3931,3875,3583,3704,3864]
["North","Q47","Lancashire Area Team","01E","NHS Greater Preston CCG",5522,5358,5864,5745,5494,5330,5830,5764,5292,5133,5619,5558]
["North","Q47","Lancashire Area Team","01K","NHS Lancashire North CCG",4331,4220,4507,4552,4516,4380,4803,4685,4457,4321,4741,4624]
["North","Q47","Lancashire Area Team","02G","NHS West Lancashire CCG",3205,3180,3475,3324,3284,3160,3310,3392,3272,3148,3298,3379]
["North","Q48","Merseyside Area Team","01F","NHS Halton CCG",4452,4116,4173,4199,4183,4093,4124,4099,3968,3882,3914,3888]
["North","Q48","Merseyside Area Team","01J","NHS Knowsley CCG",5502,5220,5149,5174,5284,5191,5251,5481,5168,5080,5136,5362]
["North","Q48","Merseyside Area Team","99A","NHS Liverpool CCG",12921,12917,13433,13920,12751,12900,12902,12625,12431,12570,12572,12441]
["North","Q48","Merseyside Area Team","01T","NHS South Sefton CCG",3944,4064,4240,4161,4060,4070,4011,4035,4020,4028,3971,3998]
["North","Q48","Merseyside Area Team","01V","NHS Southport and Formby CCG",3742,3689,3872,4071,3885,3875,3566,4291,3807,3797,3492,4204]
["North","Q48","Merseyside Area Team","01X","NHS St Helens CCG",6174,6021,5869,5919,5615,5484,5362,5420,5475,5353,5234,5291]
["North","Q49","Cumbria, Northumberland, Tyne And Wear Area Team","01H","NHS Cumbria CCG",14143,14099,14844,14996,13851,14008,14947,14555,13736,13890,14823,14431]
["North","Q49","Cumbria, Northumberland, Tyne And Wear Area Team","00F","NHS Gateshead CCG",6328,6298,6588,6989,6321,6189,6465,6458,6195,6061,6338,6330]
["North","Q49","Cumbria, Northumberland, Tyne And Wear Area Team","00G","NHS Newcastle North and East CCG",3845,3713,3916,3878,3622,3577,3711,3962,3548,3504,3634,3883]
["North","Q49","Cumbria, Northumberland, Tyne And Wear Area Team","00H","NHS Newcastle West CCG",4395,4503,4760,4691,4310,4256,4415,4709,4223,4170,4324,4613]
["North","Q49","Cumbria, Northumberland, Tyne And Wear Area Team","99C","NHS North Tyneside CCG",5975,5811,6187,6752,5581,5529,5813,6159,5480,5432,5710,6049]
["North","Q49","Cumbria, Northumberland, Tyne And Wear Area Team","00L","NHS Northumberland CCG",8210,8341,8476,8850,8131,8219,7953,8425,8154,8243,7976,8449]
["North","Q49","Cumbria, Northumberland, Tyne And Wear Area Team","00N","NHS South Tyneside CCG",4247,4133,4269,4181,4137,4006,4031,4120,4053,3926,3952,4038]
["North","Q49","Cumbria, Northumberland, Tyne And Wear Area Team","00P","NHS Sunderland CCG",8808,7025,7140,7849,7834,7740,7810,7532,7776,7679,7749,7472]
["North","Q50","North Yorkshire And Humber Area Team","02Y","NHS East Riding of Yorkshire CCG",7198,6984,7172,7140,7070,7150,7150,6990,7180,7265,7265,7100]
["North","Q50","North Yorkshire And Humber Area Team","03D","NHS Hambleton, Richmondshire and Whitby CCG",3522,3239,3466,3555,3117.9745386792001,3308.3351811623997,3261.4545081389997,3208.8979343650999,3206.5471496538999,3241.7839315249998,3241.7839315249998,3206.5471496629998]
["North","Q50","North Yorkshire And Humber Area Team","03E","NHS Harrogate and Rural District CCG",3413,3358,3617,3670,3279.3433069149996,3333.8499388099999,3553.175881396,3335.4667777880004,3160.8652212220004,3207.5312310460004,3419.3573428180007,3213.2767722799999]
["North","Q50","North Yorkshire And Humber Area Team","03F","NHS Hull CCG",7988,7832,8097,8375,8182.5537602940003,8278.1956074049995,8275.7271034679998,8096.7859288309992,8241.423181058999,8337.7393309409999,8335.2590159800002,8243.9034960200006]
["North","Q50","North Yorkshire And Humber Area Team","03H","NHS North East Lincolnshire CCG",3528,3630,3638,3784,3562,3624,3593,3508,3531,3626,3624,3529]
["North","Q50","North Yorkshire And Humber Area Team","03K","NHS North Lincolnshire CCG",4355,4468,4657,4664,4143.3391369390001,4189.4637428180004,4189.4637428180004,4098.2145309590005,3535.1969414069999,3574.638666024,3574.6386660239996,3501.6353321010001]
["North","Q50","North Yorkshire And Humber Area Team","03M","NHS Scarborough and Ryedale CCG",3478,3004,2976,2793,2949.3927490669998,3135.6500411633997,3089.4453519425997,3040.3635922233998,3036.4587975035001,3069.8264765928998,3069.8264765928998,3036.4587974935002]
["North","Q50","North Yorkshire And Humber Area Team","03Q","NHS Vale of York CCG",9481,8398,8244,8176,8228.2864967161986,8029.8033971789,7856.2092483789002,7611.6754792536003,7415.0780987192011,7496.5624734457006,7496.5624734457015,7415.0780987173002]
["North","Q51","South Yorkshire And Bassetlaw Area Team","02P","NHS Barnsley CCG",7738,7457,7808,8087,7881,7590,7940,7914,8112,7813,8172,8145]
["North","Q51","South Yorkshire And Bassetlaw Area Team","02Q","NHS Bassetlaw CCG",2829,2800,2828,2880,2626,2605,2627,2614,2532,2514,2537,2468]
["North","Q51","South Yorkshire And Bassetlaw Area Team","02X","NHS Doncaster CCG",9445,9713,9647,9728,9319,9423,9537,9135,9254,9356,9468,9162]
["North","Q51","South Yorkshire And Bassetlaw Area Team","03L","NHS Rotherham CCG",6885,6944,7390,7080,6934,7010,7010,6858,6934,7010,7010,6858]
["North","Q51","South Yorkshire And Bassetlaw Area Team","03N","NHS Sheffield CCG",15568,14893,16118,15409,13754.724128559999,13851.683584262002,14969.630621513999,14762.649001211999,13550.971279538999,13650.261869398,14737.717971347,14555.648218658]
["North","Q52","West Yorkshire Area Team","02N","NHS Airedale, Wharfdale and Craven CCG",4053,4031,4436,4706,3564,3684,3897,4022,3591,3718,3923,4080]
["North","Q52","West Yorkshire Area Team","02W","NHS Bradford City CCG",3021,3246,3082,3279,3023,3121,2963,3152,2818,3025,2874,3056]
["North","Q52","West Yorkshire Area Team","02R","NHS Bradford Districts CCG",9313,9351,9519,9433,9421,9084,9243,9155,8789,8809,8959,8872]
["North","Q52","West Yorkshire Area Team","02T","NHS Calderdale CCG",6134,5870,6575,6035,6124,5860,6561,6145,6093,5832,6529,6114]
["North","Q52","West Yorkshire Area Team","03A","NHS Greater Huddersfield CCG",6099,6173,6256,5993,6166,6244,6326,6087,6193,6271,6355,6113]
["North","Q52","West Yorkshire Area Team","02V","NHS Leeds North CCG",4173,4171,3931,4104,3810.8992466159998,3852.7772603610001,3852.7772603609997,3769.0212329729998,3742.4941414019995,3783.6204506129998,3783.6204506129998,3701.367832121]
["North","Q52","West Yorkshire Area Team","03G","NHS Leeds South and East CCG",6827,6678,6589,6429,6015.8890820550005,6081.9977533050005,6081.9977533050005,5949.7804109129993,5906.3026501130007,5971.2070748469996,5971.2070748469996,5841.3982253689992]
["North","Q52","West Yorkshire Area Team","03C","NHS Leeds West CCG",7291,7386,7197,7233,6657.4883219059993,6730.6475342049998,6730.6475342049998,6584.3291095879995,6534.4032333679997,6606.209862271,6606.209862271,6462.5966043839999]
["North","Q52","West Yorkshire Area Team","03J","NHS North Kirklees CCG",5346,5270,5555,5281,5242,5167,5448,5117,5190,5116,5394,5066]
["North","Q52","West Yorkshire Area Team","03R","NHS Wakefield CCG",10865,10030,10435,10565,10946.036123469999,10907.56399296,11329.56399296,10908.508253980001,11052.036123469999,11013.56399296,11441.56399296,11014.508253980001]
["South","Q64","Bath, Gloucestershire, Swindon And Wiltshire Area Team","11E","NHS Bath and North East Somerset CCG",3686,3458,3627,3824,3492,3262,3432,3631,3371,3141,3309,3512]
["South","Q64","Bath, Gloucestershire, Swindon And Wiltshire Area Team","11M","NHS Gloucestershire CCG",13112,13350,14384,14077,12655,12904,14008,14136,12404,12655,13787,13917]
["South","Q64","Bath, Gloucestershire, Swindon And Wiltshire Area Team","12D","NHS Swindon CCG",4864,4946,5688,5287,4605,4689,5454,4932,4336,4422,5211,4675]
["South","Q64","Bath, Gloucestershire, Swindon And Wiltshire Area Team","99N","NHS Wiltshire CCG",9502,9627,9980,10159,9250,9373,9716,9766,9063,9183,9518,9565]
["South","Q65","Bristol, North Somerset, Somerset And South Gloucestershire Area Team","11H","NHS Bristol CCG",9490,9783,9939,9672,9542.0064566820001,10163.892125971,10010.170708624,10009.170708723001,9882.8684499190003,10189.333089035001,9882.8684500489999,9575.4038110330002]
["South","Q65","Bristol, North Somerset, Somerset And South Gloucestershire Area Team","11T","NHS North Somerset CCG",4622,4904,5012,5225,4735,5046,4968,4970,4637,4782,4637,4493]
["South","Q65","Bristol, North Somerset, Somerset And South Gloucestershire Area Team","11X","NHS Somerset CCG",14377,14755,14316,14655,16641,16654,17370,16807,16601,16615,17327,16782]
["South","Q65","Bristol, North Somerset, Somerset And South Gloucestershire Area Team","12A","NHS South Gloucestershire CCG",4734,4679,4993,5219,4888.6314724699996,5194.08271659,5124.2199055600004,5121.2199055599995,5054.5037690120007,5204.1132617399999,5059.5037690199997,4905.8942762919996]
["South","Q66","Devon, Cornwall And Isles Of Scilly Area Team","11N","NHS Kernow CCG",13088,12821,13810,13647,11490,11434,11976,11871,10189,10149,10646,10519]
["South","Q66","Devon, Cornwall And Isles Of Scilly Area Team","99P","NHS North, East, West Devon CCG",24376,25663,26007,24724,21324,21891,21985,21758,21541,22114,22211,21824]
["South","Q66","Devon, Cornwall And Isles Of Scilly Area Team","99Q","NHS South Devon and Torbay CCG",4829,5325,4977,5846,8406,8567,8932,8671,8490,8652,9021,8758]
["South","Q67","Kent And Medway Area Team","09C","NHS Ashford CCG",2605,2636,2559,2758,2685.1718542448002,2714.6792372668001,2714.6792372668006,2655.6644712428006,2643.1640510979,2672.2098099021,2672.2098099021,2643.1640510969]
["South","Q67","Kent And Medway Area Team","09E","NHS Canterbury and Coastal CCG",5469,5331,5428,5526,5621.2836131967006,5683.0559605104008,5683.0559605104008,5559.5112657029003,5492.1012201745998,5552.4539807853998,5552.4539807853998,5492.1012200646001]
["South","Q67","Kent And Medway Area Team","09J","NHS Dartford, Gravesham and Swanley CCG",6520,6514,6803,6626,6581,6628,6628,6475,6297,6366,6366,6296]
["South","Q67","Kent And Medway Area Team","09W","NHS Medway CCG",6202,6132,6644,6562,5854,5918,5918,5796,5421,5390,5492,5477]
["South","Q67","Kent And Medway Area Team","10A","NHS South Kent Coast CCG",5042,5005,4979,4997,5554,5615,5615,5493,5493,5553,5553,5431]
["South","Q67","Kent And Medway Area Team","10D","NHS Swale CCG",2305,2307,2331,2236,2194,2100,2055,2006,2204,2115,2070,2025]
["South","Q67","Kent And Medway Area Team","10E","NHS Thanet CCG",4098,4056,3837,4037,4204.0775557070001,4251.2480707510003,4200.2480707510003,4035.8636882550004,4125.0775557070001,3994.2480707510003,3880.2480707509999,3791.8636882550004]
["South","Q67","Kent And Medway Area Team","99J","NHS West Kent CCG",9758,9718,9860,9942,9073,9173,9173,8974,8691,8787,8787,8692]
["South","Q68","Surrey And Sussex Area Team","09D","NHS Brighton and Hove CCG",6309,6555,6594,6207,6091,6205,6206,5822,5895,6003,6004,5699]
["South","Q68","Surrey And Sussex Area Team","09G","NHS Coastal West Sussex CCG",11785,11852,12630,12553,11198,11201,11595,11396,10966,10968,11334,11286]
["South","Q68","Surrey And Sussex Area Team","09H","NHS Crawley CCG",3032,3104,3073,3005,2884,2863,2928,2871,2713,2692,2753,2734]
["South","Q68","Surrey And Sussex Area Team","09L","NHS East Surrey CCG",4114,4120,4159,4161,3728,3728,3731,3751,3708,3710,3711,3730]
["South","Q68","Surrey And Sussex Area Team","09F","NHS Eastbourne, Hailsham and Seaford CCG",4640,4658,4928,4768,4152,4195,4194,4111,4198,4242,4241,4158]
["South","Q68","Surrey And Sussex Area Team","09N","NHS Guildford and Waverley CCG",4298,4254,4830,4478,4371,3463,3839,3848,3475,2548,2931,2942]
["South","Q68","Surrey And Sussex Area Team","09P","NHS Hastings and Rother CCG",4601,4717,5287,5250,4101,4146,4146,4059,4143,4188,4188,4100]
["South","Q68","Surrey And Sussex Area Team","99K","NHS High Weald Lewes Havens CCG",3221,3395,3336,3361,3634.9684523828,3651.9351444615604,3651.9351444615604,3619.00177194761,3600.6089953137898,3616.3409679145298,3616.3409679145298,3591.8770340151405]
["South","Q68","Surrey And Sussex Area Team","09X","NHS Horsham and Mid Sussex CCG",4331,4797,4878,4957,4160,4200,4243,4030,3905,3934,3973,3839]
["South","Q68","Surrey And Sussex Area Team","09Y","NHS North West Surrey CCG",6801,6655,6750,6618,7628.5250137969997,7712.3549589819995,7712.3549589820004,7544.6950685220008,7754.1503695579995,7839.3608132200006,7839.3608132200006,7668.939925996001]
["South","Q68","Surrey And Sussex Area Team","99H","NHS Surrey Downs CCG",5417,5467,6019,6261,5790,5579,5823,5649,5173,5428,5680,5582]
["South","Q68","Surrey And Sussex Area Team","10C","NHS Surrey Heath CCG",1856,1877,2016,1931,1882,1867,1948,1850,1776,1763,1844,1772]
["South","Q69","Thames Valley Area Team","10Y","NHS Aylesbury Vale CCG",3778,3610,3936,4038,4428,4468,4479,4382,4428,4468,4479,4382]
["South","Q69","Thames Valley Area Team","10G","NHS Bracknell and Ascot CCG",2401,2468,2559,2477,2205,2276,2388,2314,2240,2316,2425,2351]
["South","Q69","Thames Valley Area Team","10H","NHS Chiltern CCG",6156,6064,6445,6506,7087.7287671233007,7165.8136986300997,7165.8136986300997,7009.6438356163999,7087.8756136987004,7165.9621589041999,7165.9621589041999,7009.7890684931999]
["South","Q69","Thames Valley Area Team","10M","NHS Newbury and District CCG",1857,1854,1912,1789,1892,1851,1936,1823,1857,1842,1924,1834]
["South","Q69","Thames Valley Area Team","10N","NHS North & West Reading CCG",1760,1773,1816,1734,1795,1739,1821,1698,1767,1747,1828,1743]
["South","Q69","Thames Valley Area Team","10Q","NHS Oxfordshire CCG",12532,12789,12890,12603,12120,12501,12700,12099,12352,12742,12941,12331]
["South","Q69","Thames Valley Area Team","10T","NHS Slough CCG",3478,3767,4181,3849,3452,3480,3789,3590,3176,3207,3488,3302]
["South","Q69","Thames Valley Area Team","10W","NHS South Reading CCG",1966,1885,2107,2115,2000,1944,2030,1901,1970,1952,2038,1947]
["South","Q69","Thames Valley Area Team","11C","NHS Windsor, Ascot and Maidenhead CCG",2918,2983,3200,3144,2706,2751,2953,2806,2747,2796,3000,2851]
["South","Q69","Thames Valley Area Team","11D","NHS Wokingham CCG",2218,2229,2389,2348,2269,2203,2303,2151,2222,2201,2298,2193]
["South","Q70","Wessex Area Team","11J","NHS Dorset CCG",19768,20112,20799,21156,19263,19576,20281,19985,18782,19087,19776,19487]
["South","Q70","Wessex Area Team","10K","NHS Fareham and Gosport CCG",4334,4302,4661,4386,4271,4204,4331,4307,4122,4055,4329,4344]
["South","Q70","Wessex Area Team","10L","NHS Isle of Wight CCG",3003,2869,3165,2819,3090,3081,3073,3063,3139,3128,3119,3112]
["South","Q70","Wessex Area Team","99M","NHS North East Hampshire and Farnham CCG",4481,4534,4673,4479,4277,4247,4433,4355,4074,4047,4228,4205]
["South","Q70","Wessex Area Team","10J","NHS North Hampshire CCG",4571,4561,4475,4520,4272,4276,4444,4815,4174,4177,4335,4735]
["South","Q70","Wessex Area Team","10R","NHS Portsmouth CCG",4997,4883,5375,5033,4864,4785,4856,4839,4654,4575,4886,4909]
["South","Q70","Wessex Area Team","10V","NHS South Eastern Hampshire CCG",4496,4593,4793,4426,4443,4371,4507,4482,4266,4200,4468,4489]
["South","Q70","Wessex Area Team","10X","NHS Southampton CCG",7513,7430,7766,7332,7497,7480,7777,7596,7426,7409,7703,7609]
["South","Q70","Wessex Area Team","11A","NHS West Hampshire CCG",12663,12855,13222,13023,12852,12931,13409,13204,12862,12933,13410,13370]
[null,null,null,null,"Total",{"$f":"SUM(F5:F215)","v":1333471},{"$f":"SUM(G5:G215)","v":1322137},1373818,1364837,{"$f":"SUM(J5:J215)","v":1356745.5244463107},{"$f":"SUM(K5:K215)","v":1357444.8625149047},1383126.0856959899,1361515.6817551136,1289364.2717483207,1289198.1695529195,1319624.2063894386,1301242.752725757]
[]
["* NHS England: Monthly Activity Return (Unify2@dh.gsi.gov.uk)"]

{"sheet":"9.Non-elective admissions - Map","index":15,"n_rows":871,"n_cols":21,"rows_kept":871,"cut":false,"hidden":true,"merged":[]}
[null,"Mapping of CCGs to Health and Wellbeing Boards"]
[1]
[null,null,null,null,null,null,null,"Can be amended*:"]
["CCG","CCG Name","HWB Code","LA Name",null,null,null,"% CCG in LA","% LA in CCG","13-14 Q1","13-14 Q2","13-14 Q3","13-14 Q4","14-15 Q1","14-15 Q2","14-15 Q3","14-15 Q4","2015/16 Q1","2015/16 Q2","2015/16 Q3","2015/16 Q4"]
["02N","NHS Airedale, Wharfdale and Craven CCG","E08000032","Bradford",{"$f":"COUNTIF($D$5:D5,D5)","v":1},{"$f":"D5&E5","v":"Bradford1"},{"$f":"B5","v":"NHS Airedale, Wharfdale and Craven CCG"},0.67380040406100428,0.18822448641690895,{"$f":"VLOOKUP($A5,'8.Non-elective admissions - CCG'!$D$5:$N$215,3,0)*$H5","v":2730.9130376592502},{"$f":"VLOOKUP($A5,'8.Non-elective admissions - CCG'!$D$5:$N$215,4,0)*$H5","v":2716.0894287699084},{"$f":"VLOOKUP($A5,'8.Non-elective admissions - CCG'!$D$5:$N$215,5,0)*$H5","v":2988.9785924146149},{"$f":"VLOOKUP($A5,'8.Non-elective admissions - CCG'!$D$5:$N$215,6,0)*$H5","v":3170.9047015110859},{"$f":"VLOOKUP($A5,'8.Non-elective admissions - CCG'!$D$5:$N$215,7,0)*$H5","v":2401.4246400734191},{"$f":"VLOOKUP($A5,'8.Non-elective admissions - CCG'!$D$5:$N$215,8,0)*$H5","v":2482.2806885607397},{"$f":"VLOOKUP($A5,'8.Non-elective admissions - CCG'!$D$5:$N$215,9,0)*$H5","v":2625.8001746257337},{"$f":"VLOOKUP($A5,'8.Non-elective admissions - CCG'!$D$5:$N$215,10,0)*$H5","v":2710.0252251333591},{"$f":"VLOOKUP($A5,'8.Non-elective admissions - CCG'!$D$5:$Q$215,11,0)*$H5","v":2419.6172509830662},{"$f":"VLOOKUP($A5,'8.Non-elective admissions - CCG'!$D$5:$Q$215,12,0)*$H5","v":2505.1899022988141},{"$f":"VLOOKUP($A5,'8.Non-elective admissions - CCG'!$D$5:$Q$215,13,0)*$H5","v":2643.3189851313196},{"$f":"VLOOKUP($A5,'8.Non-elective admissions - CCG'!$D$5:$Q$215,14,0)*$H5","v":2749.1056485688973}]
["02N","NHS Airedale, Wharfdale and Craven CCG","E10000017","Lancashire",{"$f":"COUNTIF($D$5:D6,D6)","v":1},{"$f":"D6&E6","v":"Lancashire1"},{"$f":"B6","v":"NHS Airedale, Wharfdale and Craven CCG"},1.6379129038220093E-3,0,{"$f":"VLOOKUP($A6,'8.Non-elective admissions - CCG'!$D$5:$N$215,3,0)*$H6","v":6.6384609991906034},{"$f":"VLOOKUP($A6,'8.Non-elective admissions - CCG'!$D$5:$N$215,4,0)*$H6","v":6.6024269153065189},{"$f":"VLOOKUP($A6,'8.Non-elective admissions - CCG'!$D$5:$N$215,5,0)*$H6","v":7.2657816413544332},{"$f":"VLOOKUP($A6,'8.Non-elective admissions - CCG'!$D$5:$N$215,6,0)*$H6","v":7.708018125386376},{"$f":"VLOOKUP($A6,'8.Non-elective admissions - CCG'!$D$5:$N$215,7,0)*$H6","v":5.837521589221641},{"$f":"VLOOKUP($A6,'8.Non-elective admissions - CCG'!$D$5:$N$215,8,0)*$H6","v":6.0340711376802822},{"$f":"VLOOKUP($A6,'8.Non-elective admissions - CCG'!$D$5:$N$215,9,0)*$H6","v":6.3829465861943699},{"$f":"VLOOKUP($A6,'8.Non-elective admissions - CCG'!$D$5:$N$215,10,0)*$H6","v":6.5876856991721215},{"$f":"VLOOKUP($A6,'8.Non-elective admissions - CCG'!$D$5:$Q$215,11,0)*$H6","v":5.8817452376248349},{"$f":"VLOOKUP($A6,'8.Non-elective admissions - CCG'!$D$5:$Q$215,12,0)*$H6","v":6.0897601764102305},{"$f":"VLOOKUP($A6,'8.Non-elective admissions - CCG'!$D$5:$Q$215,13,0)*$H6","v":6.4255323216937423},{"$f":"VLOOKUP($A6,'8.Non-elective admissions - CCG'!$D$5:$Q$215,14,0)*$H6","v":6.6826846475937973}]
["02N","NHS Airedale, Wharfdale and Craven CCG","E10000023","North Yorkshire",{"$f":"COUNTIF($D$5:D7,D7)","v":1},"North Yorkshire1","NHS Airedale, Wharfdale and Craven CCG",0.32456168303517369,8.349400592849085E-2,{"$f":"VLOOKUP($A7,'8.Non-elective admissions - CCG'!$D$5:$N$215,3,0)*$H7","v":1315.448501341559},{"$f":"VLOOKUP($A7,'8.Non-elective admissions - CCG'!$D$5:$N$215,4,0)*$H7","v":1308.3081443147851},{"$f":"VLOOKUP($A7,'8.Non-elective admissions - CCG'!$D$5:$N$215,5,0)*$H7","v":1439.7556259440305},{"$f":"VLOOKUP($A7,'8.Non-elective admissions - CCG'!$D$5:$N$215,6,0)*$H7","v":1527.3872803635275},{"$f":"VLOOKUP($A7,'8.Non-elective admissions - CCG'!$D$5:$N$215,7,0)*$H7","v":1156.7378383373591},{"$f":"VLOOKUP($A7,'8.Non-elective admissions - CCG'!$D$5:$N$215,8,0)*$H7","v":1195.6852403015798},{"$f":"VLOOKUP($A7,'8.Non-elective admissions - CCG'!$D$5:$N$215,9,0)*$H7","v":1264.8168787880718},{"$f":"VLOOKUP($A7,'8.Non-elective admissions - CCG'!$D$5:$N$215,10,0)*$H7","v":1305.3870891674685},{"$f":"VLOOKUP($A7,'8.Non-elective admissions - CCG'!$D$5:$Q$215,11,0)*$H7","v":1165.5010037793088},{"$f":"VLOOKUP($A7,'8.Non-elective admissions - CCG'!$D$5:$Q$215,12,0)*$H7","v":1206.7203375247757},{"$f":"VLOOKUP($A7,'8.Non-elective admissions - CCG'!$D$5:$Q$215,13,0)*$H7","v":1273.2554825469863},{"$f":"VLOOKUP($A7,'8.Non-elective admissions - CCG'!$D$5:$Q$215,14,0)*$H7","v":1324.2116667835087}]
["09C","NHS Ashford CCG","E10000016","Kent",{"$f":"COUNTIF($D$5:D8,D8)","v":1},"Kent1","NHS Ashford CCG",0.99999999999999989,8.2517762420656629E-2,{"$f":"VLOOKUP($A8,'8.Non-elective admissions - CCG'!$D$5:$N$215,3,0)*$H8","v":2604.9999999999995},{"$f":"VLOOKUP($A8,'8.Non-elective admissions - CCG'!$D$5:$N$215,4,0)*$H8","v":2635.9999999999995},{"$f":"VLOOKUP($A8,'8.Non-elective admissions - CCG'!$D$5:$N$215,5,0)*$H8","v":2558.9999999999995},{"$f":"VLOOKUP($A8,'8.Non-elective admissions - CCG'!$D$5:$N$215,6,0)*$H8","v":2757.9999999999995},{"$f":"VLOOKUP($A8,'8.Non-elective admissions - CCG'!$D$5:$N$215,7,0)*$H8","v":2685.1718542447998},{"$f":"VLOOKUP($A8,'8.Non-elective admissions - CCG'!$D$5:$N$215,8,0)*$H8","v":2714.6792372667996},{"$f":"VLOOKUP($A8,'8.Non-elective admissions - CCG'!$D$5:$N$215,9,0)*$H8","v":2714.6792372668001},{"$f":"VLOOKUP($A8,'8.Non-elective admissions - CCG'!$D$5:$N$215,10,0)*$H8","v":2655.6644712428001},{"$f":"VLOOKUP($A8,'8.Non-elective admissions - CCG'!$D$5:$Q$215,11,0)*$H8","v":2643.1640510978996},{"$f":"VLOOKUP($A8,'8.Non-elective admissions - CCG'!$D$5:$Q$215,12,0)*$H8","v":2672.2098099020996},{"$f":"VLOOKUP($A8,'8.Non-elective admissions - CCG'!$D$5:$Q$215,13,0)*$H8","v":2672.2098099020996},{"$f":"VLOOKUP($A8,'8.Non-elective admissions - CCG'!$D$5:$Q$215,14,0)*$H8","v":2643.1640510968996}]
["10Y","NHS Aylesbury Vale CCG","E10000002","Buckinghamshire",{"$f":"COUNTIF($D$5:D9,D9)","v":1},"Buckinghamshire1","NHS Aylesbury Vale CCG",0.91120035039542513,0.34785851568092196,{"$f":"VLOOKUP($A9,'8.Non-elective admissions - CCG'!$D$5:$N$215,3,0)*$H9","v":3442.5149237939163},{"$f":"VLOOKUP($A9,'8.Non-elective admissions - CCG'!$D$5:$N$215,4,0)*$H9","v":3289.4332649274847},{"$f":"VLOOKUP($A9,'8.Non-elective admissions - CCG'!$D$5:$N$215,5,0)*$H9","v":3586.4845791563935},{"$f":"VLOOKUP($A9,'8.Non-elective admissions - CCG'!$D$5:$N$215,6,0)*$H9","v":3679.4270148967266},{"$f":"VLOOKUP($A9,'8.Non-elective admissions - CCG'!$D$5:$N$215,7,0)*$H9","v":4034.7951515509426},{"$f":"VLOOKUP($A9,'8.Non-elective admissions - CCG'!$D$5:$N$215,8,0)*$H9","v":4071.2431655667597},{"$f":"VLOOKUP($A9,'8.Non-elective admissions - CCG'!$D$5:$N$215,9,0)*$H9","v":4081.2663694211092},{"$f":"VLOOKUP($A9,'8.Non-elective admissions - CCG'!$D$5:$N$215,10,0)*$H9","v":3992.879935432753},{"$f":"VLOOKUP($A9,'8.Non-elective admissions - CCG'!$D$5:$Q$215,11,0)*$H9","v":4034.7951515509426},{"$f":"VLOOKUP($A9,'8.Non-elective admissions - CCG'!$D$5:$Q$215,12,0)*$H9","v":4071.2431655667597},{"$f":"VLOOKUP($A9,'8.Non-elective admissions - CCG'!$D$5:$Q$215,13,0)*$H9","v":4081.2663694211092},{"$f":"VLOOKUP($A9,'8.Non-elective admissions - CCG'!$D$5:$Q$215,14,0)*$H9","v":3992.879935432753}]
["10Y","NHS Aylesbury Vale CCG","E06000056","Central Bedfordshire",{"$f":"COUNTIF($D$5:D10,D10)","v":1},"Central Bedfordshire1","NHS Aylesbury Vale CCG",2.0595573797115144E-2,1.5437392795883362E-2,{"$f":"VLOOKUP($A10,'8.Non-elective admissions - CCG'!$D$5:$N$215,3,0)*$H10","v":77.81007780550101},{"$f":"VLOOKUP($A10,'8.Non-elective admissions - CCG'!$D$5:$N$215,4,0)*$H10","v":74.350021407585672},{"$f":"VLOOKUP($A10,'8.Non-elective admissions - CCG'!$D$5:$N$215,5,0)*$H10","v":81.06417846544521},{"$f":"VLOOKUP($A10,'8.Non-elective admissions - CCG'!$D$5:$N$215,6,0)*$H10","v":83.164926992750949},{"$f":"VLOOKUP($A10,'8.Non-elective admissions - CCG'!$D$5:$N$215,7,0)*$H10","v":91.197200773625852},{"$f":"VLOOKUP($A10,'8.Non-elective admissions - CCG'!$D$5:$N$215,8,0)*$H10","v":92.02102372551046},{"$f":"VLOOKUP($A10,'8.Non-elective admissions - CCG'!$D$5:$N$215,9,0)*$H10","v":92.247575037278722},{"$f":"VLOOKUP($A10,'8.Non-elective admissions - CCG'!$D$5:$N$215,10,0)*$H10","v":90.249804378958558},{"$f":"VLOOKUP($A10,'8.Non-elective admissions - CCG'!$D$5:$Q$215,11,0)*$H10","v":91.197200773625852},{"$f":"VLOOKUP($A10,'8.Non-elective admissions - CCG'!$D$5:$Q$215,12,0)*$H10","v":92.02102372551046},{"$f":"VLOOKUP($A10,'8.Non-elective admissions - CCG'!$D$5:$Q$215,13,0)*$H10","v":92.247575037278722},{"$f":"VLOOKUP($A10,'8.Non-elective admissions - CCG'!$D$5:$Q$215,14,0)*$H10","v":90.249804378958558}]
["10Y","NHS Aylesbury Vale CCG","E10000015","Hertfordshire",{"$f":"COUNTIF($D$5:D11,D11)","v":1},"Hertfordshire1","NHS Aylesbury Vale CCG",3.976397521641346E-3,0,{"$f":"VLOOKUP($A11,'8.Non-elective admissions - CCG'!$D$5:$N$215,3,0)*$H11","v":15.022829836761005},{"$f":"VLOOKUP($A11,'8.Non-elective admissions - CCG'!$D$5:$N$215,4,0)*$H11","v":14.35479505312526},{"$f":"VLOOKUP($A11,'8.Non-elective admissions - CCG'!$D$5:$N$215,5,0)*$H11","v":15.651100645180337},{"$f":"VLOOKUP($A11,'8.Non-elective admissions - CCG'!$D$5:$N$215,6,0)*$H11","v":16.056693192387755},{"$f":"VLOOKUP($A11,'8.Non-elective admissions - CCG'!$D$5:$N$215,7,0)*$H11","v":17.607488225827879},{"$f":"VLOOKUP($A11,'8.Non-elective admissions - CCG'!$D$5:$N$215,8,0)*$H11","v":17.766544126693535},{"$f":"VLOOKUP($A11,'8.Non-elective admissions - CCG'!$D$5:$N$215,9,0)*$H11","v":17.810284499431589},{"$f":"VLOOKUP($A11,'8.Non-elective admissions - CCG'!$D$5:$N$215,10,0)*$H11","v":17.424573939832378},{"$f":"VLOOKUP($A11,'8.Non-elective admissions - CCG'!$D$5:$Q$215,11,0)*$H11","v":17.607488225827879},{"$f":"VLOOKUP($A11,'8.Non-elective admissions - CCG'!$D$5:$Q$215,12,0)*$H11","v":17.766544126693535},{"$f":"VLOOKUP($A11,'8.Non-elective admissions - CCG'!$D$5:$Q$215,13,0)*$H11","v":17.810284499431589},{"$f":"VLOOKUP($A11,'8.Non-elective admissions - CCG'!$D$5:$Q$215,14,0)*$H11","v":17.424573939832378}]
["10Y","NHS Aylesbury Vale CCG","E10000021","Northamptonshire",{"$f":"COUNTIF($D$5:D12,D12)","v":1},"Northamptonshire1","NHS Aylesbury Vale CCG",1.5108342068612542E-3,0,{"$f":"VLOOKUP($A12,'8.Non-elective admissions - CCG'!$D$5:$N$215,3,0)*$H12","v":5.7079316335218184},{"$f":"VLOOKUP($A12,'8.Non-elective admissions - CCG'!$D$5:$N$215,4,0)*$H12","v":5.4541114867691274},{"$f":"VLOOKUP($A12,'8.Non-elective admissions - CCG'!$D$5:$N$215,5,0)*$H12","v":5.9466434382058964},{"$f":"VLOOKUP($A12,'8.Non-elective admissions - CCG'!$D$5:$N$215,6,0)*$H12","v":6.1007485273057442},{"$f":"VLOOKUP($A12,'8.Non-elective admissions - CCG'!$D$5:$N$215,7,0)*$H12","v":6.6899738679816334},{"$f":"VLOOKUP($A12,'8.Non-elective admissions - CCG'!$D$5:$N$215,8,0)*$H12","v":6.7504072362560841},{"$f":"VLOOKUP($A12,'8.Non-elective admissions - CCG'!$D$5:$N$215,9,0)*$H12","v":6.7670264125315578},{"$f":"VLOOKUP($A12,'8.Non-elective admissions - CCG'!$D$5:$N$215,10,0)*$H12","v":6.6204754944660156},{"$f":"VLOOKUP($A12,'8.Non-elective admissions - CCG'!$D$5:$Q$215,11,0)*$H12","v":6.6899738679816334},{"$f":"VLOOKUP($A12,'8.Non-elective admissions - CCG'!$D$5:$Q$215,12,0)*$H12","v":6.7504072362560841},{"$f":"VLOOKUP($A12,'8.Non-elective admissions - CCG'!$D$5:$Q$215,13,0)*$H12","v":6.7670264125315578},{"$f":"VLOOKUP($A12,'8.Non-elective admissions - CCG'!$D$5:$Q$215,14,0)*$H12","v":6.6204754944660156}]
["10Y","NHS Aylesbury Vale CCG","E10000025","Oxfordshire",{"$f":"COUNTIF($D$5:D13,D13)","v":1},"Oxfordshire1","NHS Aylesbury Vale CCG",6.2716844078957071E-2,1.8012364419643993E-2,{"$f":"VLOOKUP($A13,'8.Non-elective admissions - CCG'!$D$5:$N$215,3,0)*$H13","v":236.94423693029981},{"$f":"VLOOKUP($A13,'8.Non-elective admissions - CCG'!$D$5:$N$215,4,0)*$H13","v":226.40780712503502},{"$f":"VLOOKUP($A13,'8.Non-elective admissions - CCG'!$D$5:$N$215,5,0)*$H13","v":246.85349829477502},{"$f":"VLOOKUP($A13,'8.Non-elective admissions - CCG'!$D$5:$N$215,6,0)*$H13","v":253.25061639082864},{"$f":"VLOOKUP($A13,'8.Non-elective admissions - CCG'!$D$5:$N$215,7,0)*$H13","v":277.71018558162189},{"$f":"VLOOKUP($A13,'8.Non-elective admissions - CCG'!$D$5:$N$215,8,0)*$H13","v":280.21885934478018},{"$f":"VLOOKUP($A13,'8.Non-elective admissions - CCG'!$D$5:$N$215,9,0)*$H13","v":280.90874462964871},{"$f":"VLOOKUP($A13,'8.Non-elective admissions - CCG'!$D$5:$N$215,10,0)*$H13","v":274.82521075398989},{"$f":"VLOOKUP($A13,'8.Non-elective admissions - CCG'!$D$5:$Q$215,11,0)*$H13","v":277.71018558162189},{"$f":"VLOOKUP($A13,'8.Non-elective admissions - CCG'!$D$5:$Q$215,12,0)*$H13","v":280.21885934478018},{"$f":"VLOOKUP($A13,'8.Non-elective admissions - CCG'!$D$5:$Q$215,13,0)*$H13","v":280.90874462964871},{"$f":"VLOOKUP($A13,'8.Non-elective admissions - CCG'!$D$5:$Q$215,14,0)*$H13","v":274.82521075398989}]
["07L","NHS Barking and Dagenham CCG","E09000002","Barking and Dagenham",{"$f":"COUNTIF($D$5:D14,D14)","v":1},"Barking and Dagenham1","NHS Barking and Dagenham CCG",0.89943416883859273,0.89228454987600681,{"$f":"VLOOKUP($A14,'8.Non-elective admissions - CCG'!$D$5:$N$215,3,0)*$H14","v":4665.3650337657809},{"$f":"VLOOKUP($A14,'8.Non-elective admissions - CCG'!$D$5:$N$215,4,0)*$H14","v":4430.6127156989078},{"$f":"VLOOKUP($A14,'8.Non-elective admissions - CCG'!$D$5:$N$215,5,0)*$H14","v":4460.2940432705809},{"$f":"VLOOKUP($A14,'8.Non-elective admissions - CCG'!$D$5:$N$215,6,0)*$H14","v":4798.4812907538926},{"$f":"VLOOKUP($A14,'8.Non-elective admissions - CCG'!$D$5:$N$215,7,0)*$H14","v":4684.3378780100948},{"$f":"VLOOKUP($A14,'8.Non-elective admissions - CCG'!$D$5:$N$215,8,0)*$H14","v":4443.7871776869715},{"$f":"VLOOKUP($A14,'8.Non-elective admissions - CCG'!$D$5:$N$215,9,0)*$H14","v":4475.1232842424743},{"$f":"VLOOKUP($A14,'8.Non-elective admissions - CCG'!$D$5:$N$215,10,0)*$H14","v":4822.585406931431},{"$f":"VLOOKUP($A14,'8.Non-elective admissions - CCG'!$D$5:$Q$215,11,0)*$H14","v":4796.2935533574973},{"$f":"VLOOKUP($A14,'8.Non-elective admissions - CCG'!$D$5:$Q$215,12,0)*$H14","v":4549.9936912606727},{"$f":"VLOOKUP($A14,'8.Non-elective admissions - CCG'!$D$5:$Q$215,13,0)*$H14","v":4582.0787306639149},{"$f":"VLOOKUP($A14,'8.Non-elective admissions - CCG'!$D$5:$Q$215,14,0)*$H14","v":4937.8451981480985}]
["07L","NHS Barking and Dagenham CCG","E09000016","Havering",{"$f":"COUNTIF($D$5:D15,D15)","v":1},"Havering1","NHS Barking and Dagenham CCG",3.8338936741238817E-2,3.1798073793710295E-2,{"$f":"VLOOKUP($A15,'8.Non-elective admissions - CCG'!$D$5:$N$215,3,0)*$H15","v":198.86406487680574},{"$f":"VLOOKUP($A15,'8.Non-elective admissions - CCG'!$D$5:$N$215,4,0)*$H15","v":188.85760238734241},{"$f":"VLOOKUP($A15,'8.Non-elective admissions - CCG'!$D$5:$N$215,5,0)*$H15","v":190.12278729980329},{"$f":"VLOOKUP($A15,'8.Non-elective admissions - CCG'!$D$5:$N$215,6,0)*$H15","v":204.53822751450909},{"$f":"VLOOKUP($A15,'8.Non-elective admissions - CCG'!$D$5:$N$215,7,0)*$H15","v":199.67279407621277},{"$f":"VLOOKUP($A15,'8.Non-elective admissions - CCG'!$D$5:$N$215,8,0)*$H15","v":189.41917196325974},{"$f":"VLOOKUP($A15,'8.Non-elective admissions - CCG'!$D$5:$N$215,9,0)*$H15","v":190.75489285153714},{"$f":"VLOOKUP($A15,'8.Non-elective admissions - CCG'!$D$5:$N$215,10,0)*$H15","v":205.56568034802487},{"$f":"VLOOKUP($A15,'8.Non-elective admissions - CCG'!$D$5:$Q$215,11,0)*$H15","v":204.44497385731799},{"$f":"VLOOKUP($A15,'8.Non-elective admissions - CCG'!$D$5:$Q$215,12,0)*$H15","v":193.94629017433178},{"$f":"VLOOKUP($A15,'8.Non-elective admissions - CCG'!$D$5:$Q$215,13,0)*$H15","v":195.31393478762175},{"$f":"VLOOKUP($A15,'8.Non-elective admissions - CCG'!$D$5:$Q$215,14,0)*$H15","v":210.4787001079593}]
["07L","NHS Barking and Dagenham CCG","E09000025","Newham",{"$f":"COUNTIF($D$5:D16,D16)","v":1},"Newham1","NHS Barking and Dagenham CCG",5.2174671304415221E-3,2.9743986301748178E-3,{"$f":"VLOOKUP($A16,'8.Non-elective admissions - CCG'!$D$5:$N$215,3,0)*$H16","v":27.063002005600175},{"$f":"VLOOKUP($A16,'8.Non-elective admissions - CCG'!$D$5:$N$215,4,0)*$H16","v":25.701243084554939},{"$f":"VLOOKUP($A16,'8.Non-elective admissions - CCG'!$D$5:$N$215,5,0)*$H16","v":25.873419499859509},{"$f":"VLOOKUP($A16,'8.Non-elective admissions - CCG'!$D$5:$N$215,6,0)*$H16","v":27.835187140905521},{"$f":"VLOOKUP($A16,'8.Non-elective admissions - CCG'!$D$5:$N$215,7,0)*$H16","v":27.173060300743131},{"$f":"VLOOKUP($A16,'8.Non-elective admissions - CCG'!$D$5:$N$215,8,0)*$H16","v":25.777665934348086},{"$f":"VLOOKUP($A16,'8.Non-elective admissions - CCG'!$D$5:$N$215,9,0)*$H16","v":25.959441445679239},{"$f":"VLOOKUP($A16,'8.Non-elective admissions - CCG'!$D$5:$N$215,10,0)*$H16","v":27.975011086027646},{"$f":"VLOOKUP($A16,'8.Non-elective admissions - CCG'!$D$5:$Q$215,11,0)*$H16","v":27.822496442296117},{"$f":"VLOOKUP($A16,'8.Non-elective admissions - CCG'!$D$5:$Q$215,12,0)*$H16","v":26.393752150335523},{"$f":"VLOOKUP($A16,'8.Non-elective admissions - CCG'!$D$5:$Q$215,13,0)*$H16","v":26.579872095813574},{"$f":"VLOOKUP($A16,'8.Non-elective admissions - CCG'!$D$5:$Q$215,14,0)*$H16","v":28.643613850931537}]
["07L","NHS Barking and Dagenham CCG","E09000026","Redbridge",{"$f":"COUNTIF($D$5:D17,D17)","v":1},"Redbridge1","NHS Barking and Dagenham CCG",5.5774093846586117E-2,3.7515437278216414E-2,{"$f":"VLOOKUP($A17,'8.Non-elective admissions - CCG'!$D$5:$N$215,3,0)*$H17","v":289.3002247822422},{"$f":"VLOOKUP($A17,'8.Non-elective admissions - CCG'!$D$5:$N$215,4,0)*$H17","v":274.7431862882832},{"$f":"VLOOKUP($A17,'8.Non-elective admissions - CCG'!$D$5:$N$215,5,0)*$H17","v":276.58373138522057},{"$f":"VLOOKUP($A17,'8.Non-elective admissions - CCG'!$D$5:$N$215,6,0)*$H17","v":297.55479067153692},{"$f":"VLOOKUP($A17,'8.Non-elective admissions - CCG'!$D$5:$N$215,7,0)*$H17","v":290.47673467266083},{"$f":"VLOOKUP($A17,'8.Non-elective admissions - CCG'!$D$5:$N$215,8,0)*$H17","v":275.56013732790115},{"$f":"VLOOKUP($A17,'8.Non-elective admissions - CCG'!$D$5:$N$215,9,0)*$H17","v":277.50329560269739},{"$f":"VLOOKUP($A17,'8.Non-elective admissions - CCG'!$D$5:$N$215,10,0)*$H17","v":299.04949176735033},{"$f":"VLOOKUP($A17,'8.Non-elective admissions - CCG'!$D$5:$Q$215,11,0)*$H17","v":297.41912863524163},{"$f":"VLOOKUP($A17,'8.Non-elective admissions - CCG'!$D$5:$Q$215,12,0)*$H17","v":282.14602461171114},{"$f":"VLOOKUP($A17,'8.Non-elective admissions - CCG'!$D$5:$Q$215,13,0)*$H17","v":284.13562436313993},{"$f":"VLOOKUP($A17,'8.Non-elective admissions - CCG'!$D$5:$Q$215,14,0)*$H17","v":306.19677462003233}]
["07L","NHS Barking and Dagenham CCG","E06000034","Thurrock",{"$f":"COUNTIF($D$5:D18,D18)","v":1},"Thurrock1","NHS Barking and Dagenham CCG",1.2353334431407504E-3,1.5426217310030668E-3,{"$f":"VLOOKUP($A18,'8.Non-elective admissions - CCG'!$D$5:$N$215,3,0)*$H18","v":6.4076745695710722},{"$f":"VLOOKUP($A18,'8.Non-elective admissions - CCG'!$D$5:$N$215,4,0)*$H18","v":6.0852525409113358},{"$f":"VLOOKUP($A18,'8.Non-elective admissions - CCG'!$D$5:$N$215,5,0)*$H18","v":6.1260185445349808},{"$f":"VLOOKUP($A18,'8.Non-elective admissions - CCG'!$D$5:$N$215,6,0)*$H18","v":6.5905039191559034},{"$f":"VLOOKUP($A18,'8.Non-elective admissions - CCG'!$D$5:$N$215,7,0)*$H18","v":6.4337329402873715},{"$f":"VLOOKUP($A18,'8.Non-elective admissions - CCG'!$D$5:$N$215,8,0)*$H18","v":6.103347087519742},{"$f":"VLOOKUP($A18,'8.Non-elective admissions - CCG'!$D$5:$N$215,9,0)*$H18","v":6.146385857612076},{"$f":"VLOOKUP($A18,'8.Non-elective admissions - CCG'!$D$5:$N$215,10,0)*$H18","v":6.6236098671653201},{"$f":"VLOOKUP($A18,'8.Non-elective admissions - CCG'!$D$5:$Q$215,11,0)*$H18","v":6.5874991576467137},{"$f":"VLOOKUP($A18,'8.Non-elective admissions - CCG'!$D$5:$Q$215,12,0)*$H18","v":6.2492170829485216},{"$f":"VLOOKUP($A18,'8.Non-elective admissions - CCG'!$D$5:$Q$215,13,0)*$H18","v":6.2932844795101781},{"$f":"VLOOKUP($A18,'8.Non-elective admissions - CCG'!$D$5:$Q$215,14,0)*$H18","v":6.781914142978219}]
["07M","NHS Barnet CCG","E09000003","Barnet",{"$f":"COUNTIF($D$5:D19,D19)","v":1},"Barnet1","NHS Barnet CCG",0.9124546397096942,0.92801537443551929,{"$f":"VLOOKUP($A19,'8.Non-elective admissions - CCG'!$D$5:$N$215,3,0)*$H19","v":6641.7573224468642},{"$f":"VLOOKUP($A19,'8.Non-elective admissions - CCG'!$D$5:$N$215,4,0)*$H19","v":6268.5633748055989},{"$f":"VLOOKUP($A19,'8.Non-elective admissions - CCG'!$D$5:$N$215,5,0)*$H19","v":6789.5749740798346},{"$f":"VLOOKUP($A19,'8.Non-elective admissions - CCG'!$D$5:$N$215,6,0)*$H19","v":6885.3827112493527},{"$f":"VLOOKUP($A19,'8.Non-elective admissions - CCG'!$D$5:$N$215,7,0)*$H19","v":6576.1773825816499},{"$f":"VLOOKUP($A19,'8.Non-elective admissions - CCG'!$D$5:$N$215,8,0)*$H19","v":6309.7783204572506},{"$f":"VLOOKUP($A19,'8.Non-elective admissions - CCG'!$D$5:$N$215,9,0)*$H19","v":7102.4759099317398},{"$f":"VLOOKUP($A19,'8.Non-elective admissions - CCG'!$D$5:$N$215,10,0)*$H19","v":7226.2214818971679},{"$f":"VLOOKUP($A19,'8.Non-elective admissions - CCG'!$D$5:$Q$215,11,0)*$H19","v":6565.9961122468121},{"$f":"VLOOKUP($A19,'8.Non-elective admissions - CCG'!$D$5:$Q$215,12,0)*$H19","v":6295.0416261642486},{"$f":"VLOOKUP($A19,'8.Non-elective admissions - CCG'!$D$5:$Q$215,13,0)*$H19","v":7101.2943444794191},{"$f":"VLOOKUP($A19,'8.Non-elective admissions - CCG'!$D$5:$Q$215,14,0)*$H19","v":7227.1559656828831}]
["07M","NHS Barnet CCG","E09000005","Brent",{"$f":"COUNTIF($D$5:D20,D20)","v":1},"Brent1","NHS Barnet CCG",1.8229652669777087E-2,1.9259153780221649E-2,{"$f":"VLOOKUP($A20,'8.Non-elective admissions - CCG'!$D$5:$N$215,3,0)*$H20","v":132.69364178330741},{"$f":"VLOOKUP($A20,'8.Non-elective admissions - CCG'!$D$5:$N$215,4,0)*$H20","v":125.23771384136859},{"$f":"VLOOKUP($A20,'8.Non-elective admissions - CCG'!$D$5:$N$215,5,0)*$H20","v":135.64684551581129},{"$f":"VLOOKUP($A20,'8.Non-elective admissions - CCG'!$D$5:$N$215,6,0)*$H20","v":137.5609590461379},{"$f":"VLOOKUP($A20,'8.Non-elective admissions - CCG'!$D$5:$N$215,7,0)*$H20","v":131.38344018662522},{"$f":"VLOOKUP($A20,'8.Non-elective admissions - CCG'!$D$5:$N$215,8,0)*$H20","v":126.06113465741309},{"$f":"VLOOKUP($A20,'8.Non-elective admissions - CCG'!$D$5:$N$215,9,0)*$H20","v":141.89819778296973},{"$f":"VLOOKUP($A20,'8.Non-elective admissions - CCG'!$D$5:$N$215,10,0)*$H20","v":144.37047278512259},{"$f":"VLOOKUP($A20,'8.Non-elective admissions - CCG'!$D$5:$Q$215,11,0)*$H20","v":131.18003169499846},{"$f":"VLOOKUP($A20,'8.Non-elective admissions - CCG'!$D$5:$Q$215,12,0)*$H20","v":125.76671474131996},{"$f":"VLOOKUP($A20,'8.Non-elective admissions - CCG'!$D$5:$Q$215,13,0)*$H20","v":141.87459164753568},{"$f":"VLOOKUP($A20,'8.Non-elective admissions - CCG'!$D$5:$Q$215,14,0)*$H20","v":144.38914255137479}]
["07M","NHS Barnet CCG","E09000007","Camden",{"$f":"COUNTIF($D$5:D21,D21)","v":1},"Camden1","NHS Barnet CCG",1.1638154484188699E-3,1.8369643039787254E-3,{"$f":"VLOOKUP($A21,'8.Non-elective admissions - CCG'!$D$5:$N$215,3,0)*$H21","v":8.4714126490409534},{"$f":"VLOOKUP($A21,'8.Non-elective admissions - CCG'!$D$5:$N$215,4,0)*$H21","v":7.9954121306376358},{"$f":"VLOOKUP($A21,'8.Non-elective admissions - CCG'!$D$5:$N$215,5,0)*$H21","v":8.6599507516848107},{"$f":"VLOOKUP($A21,'8.Non-elective admissions - CCG'!$D$5:$N$215,6,0)*$H21","v":8.7821513737687926},{"$f":"VLOOKUP($A21,'8.Non-elective admissions - CCG'!$D$5:$N$215,7,0)*$H21","v":8.3877669051321941},{"$f":"VLOOKUP($A21,'8.Non-elective admissions - CCG'!$D$5:$N$215,8,0)*$H21","v":8.047980870350985},{"$f":"VLOOKUP($A21,'8.Non-elective admissions - CCG'!$D$5:$N$215,9,0)*$H21","v":9.0590488844807933},{"$f":"VLOOKUP($A21,'8.Non-elective admissions - CCG'!$D$5:$N$215,10,0)*$H21","v":9.2168835888696208},{"$f":"VLOOKUP($A21,'8.Non-elective admissions - CCG'!$D$5:$Q$215,11,0)*$H21","v":8.3747809229424579},{"$f":"VLOOKUP($A21,'8.Non-elective admissions - CCG'!$D$5:$Q$215,12,0)*$H21","v":8.0291845469717984},{"$f":"VLOOKUP($A21,'8.Non-elective admissions - CCG'!$D$5:$Q$215,13,0)*$H21","v":9.0575418242206052},{"$f":"VLOOKUP($A21,'8.Non-elective admissions - CCG'!$D$5:$Q$215,14,0)*$H21","v":9.2180755020001826}]
["07M","NHS Barnet CCG","E09000010","Enfield",{"$f":"COUNTIF($D$5:D22,D22)","v":1},"Enfield1","NHS Barnet CCG",1.1565578019699327E-2,1.3649392323669855E-2,{"$f":"VLOOKUP($A22,'8.Non-elective admissions - CCG'!$D$5:$N$215,3,0)*$H22","v":84.185842405391398},{"$f":"VLOOKUP($A22,'8.Non-elective admissions - CCG'!$D$5:$N$215,4,0)*$H22","v":79.455520995334382},{"$f":"VLOOKUP($A22,'8.Non-elective admissions - CCG'!$D$5:$N$215,5,0)*$H22","v":86.059466044582692},{"$f":"VLOOKUP($A22,'8.Non-elective admissions - CCG'!$D$5:$N$215,6,0)*$H22","v":87.273851736651125},{"$f":"VLOOKUP($A22,'8.Non-elective admissions - CCG'!$D$5:$N$215,7,0)*$H22","v":83.35460118195958},{"$f":"VLOOKUP($A22,'8.Non-elective admissions - CCG'!$D$5:$N$215,8,0)*$H22","v":79.977930163710681},{"$f":"VLOOKUP($A22,'8.Non-elective admissions - CCG'!$D$5:$N$215,9,0)*$H22","v":90.025559292991758},{"$f":"VLOOKUP($A22,'8.Non-elective admissions - CCG'!$D$5:$N$215,10,0)*$H22","v":91.594063638165366},{"$f":"VLOOKUP($A22,'8.Non-elective admissions - CCG'!$D$5:$Q$215,11,0)*$H22","v":83.225551176323492},{"$f":"VLOOKUP($A22,'8.Non-elective admissions - CCG'!$D$5:$Q$215,12,0)*$H22","v":79.791139083715294},{"$f":"VLOOKUP($A22,'8.Non-elective admissions - CCG'!$D$5:$Q$215,13,0)*$H22","v":90.010582671876051},{"$f":"VLOOKUP($A22,'8.Non-elective admissions - CCG'!$D$5:$Q$215,14,0)*$H22","v":91.605908440812513}]
["07M","NHS Barnet CCG","E09000014","Haringey",{"$f":"COUNTIF($D$5:D23,D23)","v":1},"Haringey1","NHS Barnet CCG",1.1415241057542769E-2,1.6146299256478317E-2,{"$f":"VLOOKUP($A23,'8.Non-elective admissions - CCG'!$D$5:$N$215,3,0)*$H23","v":83.091539657853815},{"$f":"VLOOKUP($A23,'8.Non-elective admissions - CCG'!$D$5:$N$215,4,0)*$H23","v":78.42270606531882},{"$f":"VLOOKUP($A23,'8.Non-elective admissions - CCG'!$D$5:$N$215,5,0)*$H23","v":84.940808709175741},{"$f":"VLOOKUP($A23,'8.Non-elective admissions - CCG'!$D$5:$N$215,6,0)*$H23","v":86.139409020217727},{"$f":"VLOOKUP($A23,'8.Non-elective admissions - CCG'!$D$5:$N$215,7,0)*$H23","v":82.271103452566109},{"$f":"VLOOKUP($A23,'8.Non-elective admissions - CCG'!$D$5:$N$215,8,0)*$H23","v":78.93832461698382},{"$f":"VLOOKUP($A23,'8.Non-elective admissions - CCG'!$D$5:$N$215,9,0)*$H23","v":88.855348078515391},{"$f":"VLOOKUP($A23,'8.Non-elective admissions - CCG'!$D$5:$N$215,10,0)*$H23","v":90.403463976351475},{"$f":"VLOOKUP($A23,'8.Non-elective admissions - CCG'!$D$5:$Q$215,11,0)*$H23","v":82.143730923471239},{"$f":"VLOOKUP($A23,'8.Non-elective admissions - CCG'!$D$5:$Q$215,12,0)*$H23","v":78.753961569852564},{"$f":"VLOOKUP($A23,'8.Non-elective admissions - CCG'!$D$5:$Q$215,13,0)*$H23","v":88.840566133335301},{"$f":"VLOOKUP($A23,'8.Non-elective admissions - CCG'!$D$5:$Q$215,14,0)*$H23","v":90.415154812491778}]
["07M","NHS Barnet CCG","E09000015","Harrow",{"$f":"COUNTIF($D$5:D24,D24)","v":1},"Harrow1","NHS Barnet CCG",4.3802488335925351E-2,6.2960354983290306E-2,{"$f":"VLOOKUP($A24,'8.Non-elective admissions - CCG'!$D$5:$N$215,3,0)*$H24","v":318.83831259720063},{"$f":"VLOOKUP($A24,'8.Non-elective admissions - CCG'!$D$5:$N$215,4,0)*$H24","v":300.92309486780715},{"$f":"VLOOKUP($A24,'8.Non-elective admissions - CCG'!$D$5:$N$215,5,0)*$H24","v":325.93431570762056},{"$f":"VLOOKUP($A24,'8.Non-elective admissions - CCG'!$D$5:$N$215,6,0)*$H24","v":330.53357698289267},{"$f":"VLOOKUP($A24,'8.Non-elective admissions - CCG'!$D$5:$N$215,7,0)*$H24","v":315.69014015552102},{"$f":"VLOOKUP($A24,'8.Non-elective admissions - CCG'!$D$5:$N$215,8,0)*$H24","v":302.90162300236369},{"$f":"VLOOKUP($A24,'8.Non-elective admissions - CCG'!$D$5:$N$215,9,0)*$H24","v":340.95516057648314},{"$f":"VLOOKUP($A24,'8.Non-elective admissions - CCG'!$D$5:$N$215,10,0)*$H24","v":346.89558077574105},{"$f":"VLOOKUP($A24,'8.Non-elective admissions - CCG'!$D$5:$Q$215,11,0)*$H24","v":315.20138711983208},{"$f":"VLOOKUP($A24,'8.Non-elective admissions - CCG'!$D$5:$Q$215,12,0)*$H24","v":302.19418632355553},{"$f":"VLOOKUP($A24,'8.Non-elective admissions - CCG'!$D$5:$Q$215,13,0)*$H24","v":340.89843939310475},{"$f":"VLOOKUP($A24,'8.Non-elective admissions - CCG'!$D$5:$Q$215,14,0)*$H24","v":346.94044077572624}]
["07M","NHS Barnet CCG","E10000015","Hertfordshire",{"$f":"COUNTIF($D$5:D25,D25)","v":2},"Hertfordshire2","NHS Barnet CCG",1.3685847589424572E-3,0,{"$f":"VLOOKUP($A25,'8.Non-elective admissions - CCG'!$D$5:$N$215,3,0)*$H25","v":9.961928460342147},{"$f":"VLOOKUP($A25,'8.Non-elective admissions - CCG'!$D$5:$N$215,4,0)*$H25","v":9.402177293934681},{"$f":"VLOOKUP($A25,'8.Non-elective admissions - CCG'!$D$5:$N$215,5,0)*$H25","v":10.183639191290824},{"$f":"VLOOKUP($A25,'8.Non-elective admissions - CCG'!$D$5:$N$215,6,0)*$H25","v":10.327340590979782},{"$f":"VLOOKUP($A25,'8.Non-elective admissions - CCG'!$D$5:$N$215,7,0)*$H25","v":9.8635655365474353},{"$f":"VLOOKUP($A25,'8.Non-elective admissions - CCG'!$D$5:$N$215,8,0)*$H25","v":9.4639953219272162},{"$f":"VLOOKUP($A25,'8.Non-elective admissions - CCG'!$D$5:$N$215,9,0)*$H25","v":10.652957262819283},{"$f":"VLOOKUP($A25,'8.Non-elective admissions - CCG'!$D$5:$N$215,10,0)*$H25","v":10.838562438581647},{"$f":"VLOOKUP($A25,'8.Non-elective admissions - CCG'!$D$5:$Q$215,11,0)*$H25","v":9.8482947156205292},{"$f":"VLOOKUP($A25,'8.Non-elective admissions - CCG'!$D$5:$Q$215,12,0)*$H25","v":9.4418918503365479},{"$f":"VLOOKUP($A25,'8.Non-elective admissions - CCG'!$D$5:$Q$215,13,0)*$H25","v":10.651185040508864},{"$f":"VLOOKUP($A25,'8.Non-elective admissions - CCG'!$D$5:$Q$215,14,0)*$H25","v":10.839964064712909}]
["02P","NHS Barnsley CCG","E08000016","Barnsley",{"$f":"COUNTIF($D$5:D26,D26)","v":1},"Barnsley1","NHS Barnsley CCG",0.94400167536619006,0.98306333145422453,{"$f":"VLOOKUP($A26,'8.Non-elective admissions - CCG'!$D$5:$N$215,3,0)*$H26","v":7304.6849639835791},{"$f":"VLOOKUP($A26,'8.Non-elective admissions - CCG'!$D$5:$N$215,4,0)*$H26","v":7039.4204932056791},{"$f":"VLOOKUP($A26,'8.Non-elective admissions - CCG'!$D$5:$N$215,5,0)*$H26","v":7370.7650812592119},{"$f":"VLOOKUP($A26,'8.Non-elective admissions - CCG'!$D$5:$N$215,6,0)*$H26","v":7634.1415486863789},{"$f":"VLOOKUP($A26,'8.Non-elective admissions - CCG'!$D$5:$N$215,7,0)*$H26","v":7439.6772035609438},{"$f":"VLOOKUP($A26,'8.Non-elective admissions - CCG'!$D$5:$N$215,8,0)*$H26","v":7164.9727160293824},{"$f":"VLOOKUP($A26,'8.Non-elective admissions - CCG'!$D$5:$N$215,9,0)*$H26","v":7495.3733024075491},{"$f":"VLOOKUP($A26,'8.Non-elective admissions - CCG'!$D$5:$N$215,10,0)*$H26","v":7470.8292588480281},{"$f":"VLOOKUP($A26,'8.Non-elective admissions - CCG'!$D$5:$Q$215,11,0)*$H26","v":7657.7415905705338},{"$f":"VLOOKUP($A26,'8.Non-elective admissions - CCG'!$D$5:$Q$215,12,0)*$H26","v":7375.4850896360431},{"$f":"VLOOKUP($A26,'8.Non-elective admissions - CCG'!$D$5:$Q$215,13,0)*$H26","v":7714.3816910925052},{"$f":"VLOOKUP($A26,'8.Non-elective admissions - CCG'!$D$5:$Q$215,14,0)*$H26","v":7688.8936458576181}]
["02P","NHS Barnsley CCG","E08000017","Doncaster",{"$f":"COUNTIF($D$5:D27,D27)","v":1},"Doncaster1","NHS Barnsley CCG",4.0106053840895531E-3,3.2953903495386459E-3,{"$f":"VLOOKUP($A27,'8.Non-elective admissions - CCG'!$D$5:$N$215,3,0)*$H27","v":31.034064462084963},{"$f":"VLOOKUP($A27,'8.Non-elective admissions - CCG'!$D$5:$N$215,4,0)*$H27","v":29.907084349155799},{"$f":"VLOOKUP($A27,'8.Non-elective admissions - CCG'!$D$5:$N$215,5,0)*$H27","v":31.314806838971229},{"$f":"VLOOKUP($A27,'8.Non-elective admissions - CCG'!$D$5:$N$215,6,0)*$H27","v":32.433765741132213},{"$f":"VLOOKUP($A27,'8.Non-elective admissions - CCG'!$D$5:$N$215,7,0)*$H27","v":31.607581032009769},{"$f":"VLOOKUP($A27,'8.Non-elective admissions - CCG'!$D$5:$N$215,8,0)*$H27","v":30.440494865239707},{"$f":"VLOOKUP($A27,'8.Non-elective admissions - CCG'!$D$5:$N$215,9,0)*$H27","v":31.844206749671052},{"$f":"VLOOKUP($A27,'8.Non-elective admissions - CCG'!$D$5:$N$215,10,0)*$H27","v":31.739931009684724},{"$f":"VLOOKUP($A27,'8.Non-elective admissions - CCG'!$D$5:$Q$215,11,0)*$H27","v":32.534030875734452},{"$f":"VLOOKUP($A27,'8.Non-elective admissions - CCG'!$D$5:$Q$215,12,0)*$H27","v":31.33485986589168},{"$f":"VLOOKUP($A27,'8.Non-elective admissions - CCG'!$D$5:$Q$215,13,0)*$H27","v":32.774667198779831},{"$f":"VLOOKUP($A27,'8.Non-elective admissions - CCG'!$D$5:$Q$215,14,0)*$H27","v":32.666380853409407}]
["02P","NHS Barnsley CCG","E08000034","Kirklees",{"$f":"COUNTIF($D$5:D28,D28)","v":1},"Kirklees1","NHS Barnsley CCG",1.3236973435172418E-3,0,{"$f":"VLOOKUP($A28,'8.Non-elective admissions - CCG'!$D$5:$N$215,3,0)*$H28","v":10.242770044136417},{"$f":"VLOOKUP($A28,'8.Non-elective admissions - CCG'!$D$5:$N$215,4,0)*$H28","v":9.8708110906080719},{"$f":"VLOOKUP($A28,'8.Non-elective admissions - CCG'!$D$5:$N$215,5,0)*$H28","v":10.335428858182624},{"$f":"VLOOKUP($A28,'8.Non-elective admissions - CCG'!$D$5:$N$215,6,0)*$H28","v":10.704740417023935},{"$f":"VLOOKUP($A28,'8.Non-elective admissions - CCG'!$D$5:$N$215,7,0)*$H28","v":10.432058764259382},{"$f":"VLOOKUP($A28,'8.Non-elective admissions - CCG'!$D$5:$N$215,8,0)*$H28","v":10.046862837295865},{"$f":"VLOOKUP($A28,'8.Non-elective admissions - CCG'!$D$5:$N$215,9,0)*$H28","v":10.5101569075269},{"$f":"VLOOKUP($A28,'8.Non-elective admissions - CCG'!$D$5:$N$215,10,0)*$H28","v":10.475740776595451},{"$f":"VLOOKUP($A28,'8.Non-elective admissions - CCG'!$D$5:$Q$215,11,0)*$H28","v":10.737832850611865},{"$f":"VLOOKUP($A28,'8.Non-elective admissions - CCG'!$D$5:$Q$215,12,0)*$H28","v":10.342047344900211},{"$f":"VLOOKUP($A28,'8.Non-elective admissions - CCG'!$D$5:$Q$215,13,0)*$H28","v":10.8172546912229},{"$f":"VLOOKUP($A28,'8.Non-elective admissions - CCG'!$D$5:$Q$215,14,0)*$H28","v":10.781514862947935}]
["02P","NHS Barnsley CCG","E08000018","Rotherham",{"$f":"COUNTIF($D$5:D29,D29)","v":1},"Rotherham1","NHS Barnsley CCG",3.4392422919325587E-2,3.2258662288422987E-2,{"$f":"VLOOKUP($A29,'8.Non-elective admissions - CCG'!$D$5:$N$215,3,0)*$H29","v":266.12856854974137},{"$f":"VLOOKUP($A29,'8.Non-elective admissions - CCG'!$D$5:$N$215,4,0)*$H29","v":256.46429770941091},{"$f":"VLOOKUP($A29,'8.Non-elective admissions - CCG'!$D$5:$N$215,5,0)*$H29","v":268.53603815409417},{"$f":"VLOOKUP($A29,'8.Non-elective admissions - CCG'!$D$5:$N$215,6,0)*$H29","v":278.13152414858604},{"$f":"VLOOKUP($A29,'8.Non-elective admissions - CCG'!$D$5:$N$215,7,0)*$H29","v":271.04668502720494},{"$f":"VLOOKUP($A29,'8.Non-elective admissions - CCG'!$D$5:$N$215,8,0)*$H29","v":261.03848995768118},{"$f":"VLOOKUP($A29,'8.Non-elective admissions - CCG'!$D$5:$N$215,9,0)*$H29","v":273.07583797944517},{"$f":"VLOOKUP($A29,'8.Non-elective admissions - CCG'!$D$5:$N$215,10,0)*$H29","v":272.18163498354272},{"$f":"VLOOKUP($A29,'8.Non-elective admissions - CCG'!$D$5:$Q$215,11,0)*$H29","v":278.99133472156916},{"$f":"VLOOKUP($A29,'8.Non-elective admissions - CCG'!$D$5:$Q$215,12,0)*$H29","v":268.7080002686908},{"$f":"VLOOKUP($A29,'8.Non-elective admissions - CCG'!$D$5:$Q$215,13,0)*$H29","v":281.05488009672871},{"$f":"VLOOKUP($A29,'8.Non-elective admissions - CCG'!$D$5:$Q$215,14,0)*$H29","v":280.12628467790688}]
["02P","NHS Barnsley CCG","E08000019","Sheffield",{"$f":"COUNTIF($D$5:D30,D30)","v":1},"Sheffield1","NHS Barnsley CCG",8.0962861399009791E-3,3.5566618411322997E-3,{"$f":"VLOOKUP($A30,'8.Non-elective admissions - CCG'!$D$5:$N$215,3,0)*$H30","v":62.649062150553775},{"$f":"VLOOKUP($A30,'8.Non-elective admissions - CCG'!$D$5:$N$215,4,0)*$H30","v":60.374005745241604},{"$f":"VLOOKUP($A30,'8.Non-elective admissions - CCG'!$D$5:$N$215,5,0)*$H30","v":63.215802180346842},{"$f":"VLOOKUP($A30,'8.Non-elective admissions - CCG'!$D$5:$N$215,6,0)*$H30","v":65.47466601337922},{"$f":"VLOOKUP($A30,'8.Non-elective admissions - CCG'!$D$5:$N$215,7,0)*$H30","v":63.806831068559617},{"$f":"VLOOKUP($A30,'8.Non-elective admissions - CCG'!$D$5:$N$215,8,0)*$H30","v":61.450811801848431},{"$f":"VLOOKUP($A30,'8.Non-elective admissions - CCG'!$D$5:$N$215,9,0)*$H30","v":64.28451195081378},{"$f":"VLOOKUP($A30,'8.Non-elective admissions - CCG'!$D$5:$N$215,10,0)*$H30","v":64.074008511176345},{"$f":"VLOOKUP($A30,'8.Non-elective admissions - CCG'!$D$5:$Q$215,11,0)*$H30","v":65.677073166876738},{"$f":"VLOOKUP($A30,'8.Non-elective admissions - CCG'!$D$5:$Q$215,12,0)*$H30","v":63.256283611046349},{"$f":"VLOOKUP($A30,'8.Non-elective admissions - CCG'!$D$5:$Q$215,13,0)*$H30","v":66.162850335270804},{"$f":"VLOOKUP($A30,'8.Non-elective admissions - CCG'!$D$5:$Q$215,14,0)*$H30","v":65.94425060949348}]
["02P","NHS Barnsley CCG","E08000036","Wakefield",{"$f":"COUNTIF($D$5:D31,D31)","v":1},"Wakefield1","NHS Barnsley CCG",8.1753128469766369E-3,5.9739674766700534E-3,{"$f":"VLOOKUP($A31,'8.Non-elective admissions - CCG'!$D$5:$N$215,3,0)*$H31","v":63.260570809905218},{"$f":"VLOOKUP($A31,'8.Non-elective admissions - CCG'!$D$5:$N$215,4,0)*$H31","v":60.963307899904784},{"$f":"VLOOKUP($A31,'8.Non-elective admissions - CCG'!$D$5:$N$215,5,0)*$H31","v":63.832842709193578},{"$f":"VLOOKUP($A31,'8.Non-elective admissions - CCG'!$D$5:$N$215,6,0)*$H31","v":66.113754993500066},{"$f":"VLOOKUP($A31,'8.Non-elective admissions - CCG'!$D$5:$N$215,7,0)*$H31","v":64.429640547022871},{"$f":"VLOOKUP($A31,'8.Non-elective admissions - CCG'!$D$5:$N$215,8,0)*$H31","v":62.050624508552673},{"$f":"VLOOKUP($A31,'8.Non-elective admissions - CCG'!$D$5:$N$215,9,0)*$H31","v":64.911984004994494},{"$f":"VLOOKUP($A31,'8.Non-elective admissions - CCG'!$D$5:$N$215,10,0)*$H31","v":64.699425870973101},{"$f":"VLOOKUP($A31,'8.Non-elective admissions - CCG'!$D$5:$Q$215,11,0)*$H31","v":66.318137814674472},{"$f":"VLOOKUP($A31,'8.Non-elective admissions - CCG'!$D$5:$Q$215,12,0)*$H31","v":63.873719273428463},{"$f":"VLOOKUP($A31,'8.Non-elective admissions - CCG'!$D$5:$Q$215,13,0)*$H31","v":66.808656585493083},{"$f":"VLOOKUP($A31,'8.Non-elective admissions - CCG'!$D$5:$Q$215,14,0)*$H31","v":66.587923138624703}]
["99E","NHS Basildon and Brentwood CCG","E10000012","Essex",{"$f":"COUNTIF($D$5:D32,D32)","v":1},"Essex1","NHS Basildon and Brentwood CCG",0.99848048594728134,0.18253614644403751,{"$f":"VLOOKUP($A32,'8.Non-elective admissions - CCG'!$D$5:$N$215,3,0)*$H32","v":5643.4117065740338},{"$f":"VLOOKUP($A32,'8.Non-elective admissions - CCG'!$D$5:$N$215,4,0)*$H32","v":5715.3023015622384},{"$f":"VLOOKUP($A32,'8.Non-elective admissions - CCG'!$D$5:$N$215,5,0)*$H32","v":5753.2445600282354},{"$f":"VLOOKUP($A32,'8.Non-elective admissions - CCG'!$D$5:$N$215,6,0)*$H32","v":5774.2126502331275},{"$f":"VLOOKUP($A32,'8.Non-elective admissions - CCG'!$D$5:$N$215,7,0)*$H32","v":5936.8346854222082},{"$f":"VLOOKUP($A32,'8.Non-elective admissions - CCG'!$D$5:$N$215,8,0)*$H32","v":5906.0439645368797},{"$f":"VLOOKUP($A32,'8.Non-elective admissions - CCG'!$D$5:$N$215,9,0)*$H32","v":5947.2467158185418},{"$f":"VLOOKUP($A32,'8.Non-elective admissions - CCG'!$D$5:$N$215,10,0)*$H32","v":5880.7711637945131},{"$f":"VLOOKUP($A32,'8.Non-elective admissions - CCG'!$D$5:$Q$215,11,0)*$H32","v":5849.5789672654555},{"$f":"VLOOKUP($A32,'8.Non-elective admissions - CCG'!$D$5:$Q$215,12,0)*$H32","v":5813.7124050499206},{"$f":"VLOOKUP($A32,'8.Non-elective admissions - CCG'!$D$5:$Q$215,13,0)*$H32","v":5855.4992808454235},{"$f":"VLOOKUP($A32,'8.Non-elective admissions - CCG'!$D$5:$Q$215,14,0)*$H32","v":5796.9274354612653}]
["99E","NHS Basildon and Brentwood CCG","E06000034","Thurrock",{"$f":"COUNTIF($D$5:D33,D33)","v":2},"Thurrock2","NHS Basildon and Brentwood CCG",1.5195140527185928E-3,2.4742442665892325E-3,{"$f":"VLOOKUP($A33,'8.Non-elective admissions - CCG'!$D$5:$N$215,3,0)*$H33","v":8.5882934259654871},{"$f":"VLOOKUP($A33,'8.Non-elective admissions - CCG'!$D$5:$N$215,4,0)*$H33","v":8.6976984377612254},{"$f":"VLOOKUP($A33,'8.Non-elective admissions - CCG'!$D$5:$N$215,5,0)*$H33","v":8.755439971764531},{"$f":"VLOOKUP($A33,'8.Non-elective admissions - CCG'!$D$5:$N$215,6,0)*$H33","v":8.7873497668716212},{"$f":"VLOOKUP($A33,'8.Non-elective admissions - CCG'!$D$5:$N$215,7,0)*$H33","v":9.0348322877914669},{"$f":"VLOOKUP($A33,'8.Non-elective admissions - CCG'!$D$5:$N$215,8,0)*$H33","v":8.9879741531187545},{"$f":"VLOOKUP($A33,'8.Non-elective admissions - CCG'!$D$5:$N$215,9,0)*$H33","v":9.0506775914576192},{"$f":"VLOOKUP($A33,'8.Non-elective admissions - CCG'!$D$5:$N$215,10,0)*$H33","v":8.9495133354862997},{"$f":"VLOOKUP($A33,'8.Non-elective admissions - CCG'!$D$5:$Q$215,11,0)*$H33","v":8.9020442245440901},{"$f":"VLOOKUP($A33,'8.Non-elective admissions - CCG'!$D$5:$Q$215,12,0)*$H33","v":8.8474615400787986},{"$f":"VLOOKUP($A33,'8.Non-elective admissions - CCG'!$D$5:$Q$215,13,0)*$H33","v":8.9110539145759677},{"$f":"VLOOKUP($A33,'8.Non-elective admissions - CCG'!$D$5:$Q$215,14,0)*$H33","v":8.8219177287340855}]
["02Q","NHS Bassetlaw CCG","E10000007","Derbyshire",{"$f":"COUNTIF($D$5:D34,D34)","v":1},"Derbyshire1","NHS Bassetlaw CCG",1.3521276125668328E-3,0,{"$f":"VLOOKUP($A34,'8.Non-elective admissions - CCG'!$D$5:$N$215,3,0)*$H34","v":3.8251690159515701},{"$f":"VLOOKUP($A34,'8.Non-elective admissions - CCG'!$D$5:$N$215,4,0)*$H34","v":3.7859573151871317},{"$f":"VLOOKUP($A34,'8.Non-elective admissions - CCG'!$D$5:$N$215,5,0)*$H34","v":3.8238168883390031},{"$f":"VLOOKUP($A34,'8.Non-elective admissions - CCG'!$D$5:$N$215,6,0)*$H34","v":3.8941275241924784},{"$f":"VLOOKUP($A34,'8.Non-elective admissions - CCG'!$D$5:$N$215,7,0)*$H34","v":3.5506871106005029},{"$f":"VLOOKUP($A34,'8.Non-elective admissions - CCG'!$D$5:$N$215,8,0)*$H34","v":3.5222924307365995},{"$f":"VLOOKUP($A34,'8.Non-elective admissions - CCG'!$D$5:$N$215,9,0)*$H34","v":3.5520392382130699},{"$f":"VLOOKUP($A34,'8.Non-elective admissions - CCG'!$D$5:$N$215,10,0)*$H34","v":3.5344615792497009},{"$f":"VLOOKUP($A34,'8.Non-elective admissions - CCG'!$D$5:$Q$215,11,0)*$H34","v":3.4235871150192208},{"$f":"VLOOKUP($A34,'8.Non-elective admissions - CCG'!$D$5:$Q$215,12,0)*$H34","v":3.3992488179930178},{"$f":"VLOOKUP($A34,'8.Non-elective admissions - CCG'!$D$5:$Q$215,13,0)*$H34","v":3.4303477530820548},{"$f":"VLOOKUP($A34,'8.Non-elective admissions - CCG'!$D$5:$Q$215,14,0)*$H34","v":3.3370509478149435}]
["02Q","NHS Bassetlaw CCG","E08000017","Doncaster",{"$f":"COUNTIF($D$5:D35,D35)","v":2},"Doncaster2","NHS Bassetlaw CCG",1.1241217798594846E-2,4.1297896794218296E-3,{"$f":"VLOOKUP($A35,'8.Non-elective admissions - CCG'!$D$5:$N$215,3,0)*$H35","v":31.80140515222482},{"$f":"VLOOKUP($A35,'8.Non-elective admissions - CCG'!$D$5:$N$215,4,0)*$H35","v":31.47540983606557},{"$f":"VLOOKUP($A35,'8.Non-elective admissions - CCG'!$D$5:$N$215,5,0)*$H35","v":31.790163934426225},{"$f":"VLOOKUP($A35,'8.Non-elective admissions - CCG'!$D$5:$N$215,6,0)*$H35","v":32.374707259953155},{"$f":"VLOOKUP($A35,'8.Non-elective admissions - CCG'!$D$5:$N$215,7,0)*$H35","v":29.519437939110066},{"$f":"VLOOKUP($A35,'8.Non-elective admissions - CCG'!$D$5:$N$215,8,0)*$H35","v":29.283372365339574},{"$f":"VLOOKUP($A35,'8.Non-elective admissions - CCG'!$D$5:$N$215,9,0)*$H35","v":29.530679156908661},{"$f":"VLOOKUP($A35,'8.Non-elective admissions - CCG'!$D$5:$N$215,10,0)*$H35","v":29.384543325526927},{"$f":"VLOOKUP($A35,'8.Non-elective admissions - CCG'!$D$5:$Q$215,11,0)*$H35","v":28.462763466042151},{"$f":"VLOOKUP($A35,'8.Non-elective admissions - CCG'!$D$5:$Q$215,12,0)*$H35","v":28.260421545667445},{"$f":"VLOOKUP($A35,'8.Non-elective admissions - CCG'!$D$5:$Q$215,13,0)*$H35","v":28.518969555035124},{"$f":"VLOOKUP($A35,'8.Non-elective admissions - CCG'!$D$5:$Q$215,14,0)*$H35","v":27.743325526932079}]
["02Q","NHS Bassetlaw CCG","E06000013","North Lincolnshire",{"$f":"COUNTIF($D$5:D36,D36)","v":1},"North Lincolnshire1","NHS Bassetlaw CCG",2.1386593610534222E-3,1.4178330589455308E-3,{"$f":"VLOOKUP($A36,'8.Non-elective admissions - CCG'!$D$5:$N$215,3,0)*$H36","v":6.0502673324201313},{"$f":"VLOOKUP($A36,'8.Non-elective admissions - CCG'!$D$5:$N$215,4,0)*$H36","v":5.9882462109495824},{"$f":"VLOOKUP($A36,'8.Non-elective admissions - CCG'!$D$5:$N$215,5,0)*$H36","v":6.048128673059078},{"$f":"VLOOKUP($A36,'8.Non-elective admissions - CCG'!$D$5:$N$215,6,0)*$H36","v":6.1593389598338559},{"$f":"VLOOKUP($A36,'8.Non-elective admissions - CCG'!$D$5:$N$215,7,0)*$H36","v":5.6161194821262868},{"$f":"VLOOKUP($A36,'8.Non-elective admissions - CCG'!$D$5:$N$215,8,0)*$H36","v":5.5712076355441651},{"$f":"VLOOKUP($A36,'8.Non-elective admissions - CCG'!$D$5:$N$215,9,0)*$H36","v":5.61825814148734},{"$f":"VLOOKUP($A36,'8.Non-elective admissions - CCG'!$D$5:$N$215,10,0)*$H36","v":5.5904555697936456},{"$f":"VLOOKUP($A36,'8.Non-elective admissions - CCG'!$D$5:$Q$215,11,0)*$H36","v":5.4150855021872646},{"$f":"VLOOKUP($A36,'8.Non-elective admissions - CCG'!$D$5:$Q$215,12,0)*$H36","v":5.3765896336883037},{"$f":"VLOOKUP($A36,'8.Non-elective admissions - CCG'!$D$5:$Q$215,13,0)*$H36","v":5.4257787989925319},{"$f":"VLOOKUP($A36,'8.Non-elective admissions - CCG'!$D$5:$Q$215,14,0)*$H36","v":5.2782113030798463}]
["02Q","NHS Bassetlaw CCG","E10000024","Nottinghamshire",{"$f":"COUNTIF($D$5:D37,D37)","v":1},"Nottinghamshire1","NHS Bassetlaw CCG",0.97595333834121323,0.13492060583180923,{"$f":"VLOOKUP($A37,'8.Non-elective admissions - CCG'!$D$5:$N$215,3,0)*$H37","v":2760.971994167292},{"$f":"VLOOKUP($A37,'8.Non-elective admissions - CCG'!$D$5:$N$215,4,0)*$H37","v":2732.6693473553969},{"$f":"VLOOKUP($A37,'8.Non-elective admissions - CCG'!$D$5:$N$215,5,0)*$H37","v":2759.9960408289512},{"$f":"VLOOKUP($A37,'8.Non-elective admissions - CCG'!$D$5:$N$215,6,0)*$H37","v":2810.745614422694},{"$f":"VLOOKUP($A37,'8.Non-elective admissions - CCG'!$D$5:$N$215,7,0)*$H37","v":2562.8534664840258},{"$f":"VLOOKUP($A37,'8.Non-elective admissions - CCG'!$D$5:$N$215,8,0)*$H37","v":2542.3584463788607},{"$f":"VLOOKUP($A37,'8.Non-elective admissions - CCG'!$D$5:$N$215,9,0)*$H37","v":2563.8294198223671},{"$f":"VLOOKUP($A37,'8.Non-elective admissions - CCG'!$D$5:$N$215,10,0)*$H37","v":2551.1420264239314},{"$f":"VLOOKUP($A37,'8.Non-elective admissions - CCG'!$D$5:$Q$215,11,0)*$H37","v":2471.1138526799518},{"$f":"VLOOKUP($A37,'8.Non-elective admissions - CCG'!$D$5:$Q$215,12,0)*$H37","v":2453.5466925898099},{"$f":"VLOOKUP($A37,'8.Non-elective admissions - CCG'!$D$5:$Q$215,13,0)*$H37","v":2475.993619371658},{"$f":"VLOOKUP($A37,'8.Non-elective admissions - CCG'!$D$5:$Q$215,14,0)*$H37","v":2408.6528390261142}]
["02Q","NHS Bassetlaw CCG","E08000018","Rotherham",{"$f":"COUNTIF($D$5:D38,D38)","v":2},"Rotherham2","NHS Bassetlaw CCG",9.3146568865715151E-3,3.9063223864887206E-3,{"$f":"VLOOKUP($A38,'8.Non-elective admissions - CCG'!$D$5:$N$215,3,0)*$H38","v":26.351164332110816},{"$f":"VLOOKUP($A38,'8.Non-elective admissions - CCG'!$D$5:$N$215,4,0)*$H38","v":26.081039282400241},{"$f":"VLOOKUP($A38,'8.Non-elective admissions - CCG'!$D$5:$N$215,5,0)*$H38","v":26.341849675224246},{"$f":"VLOOKUP($A38,'8.Non-elective admissions - CCG'!$D$5:$N$215,6,0)*$H38","v":26.826211833325964},{"$f":"VLOOKUP($A38,'8.Non-elective admissions - CCG'!$D$5:$N$215,7,0)*$H38","v":24.460288984136799},{"$f":"VLOOKUP($A38,'8.Non-elective admissions - CCG'!$D$5:$N$215,8,0)*$H38","v":24.264681189518797},{"$f":"VLOOKUP($A38,'8.Non-elective admissions - CCG'!$D$5:$N$215,9,0)*$H38","v":24.469603641023369},{"$f":"VLOOKUP($A38,'8.Non-elective admissions - CCG'!$D$5:$N$215,10,0)*$H38","v":24.348513101497939},{"$f":"VLOOKUP($A38,'8.Non-elective admissions - CCG'!$D$5:$Q$215,11,0)*$H38","v":23.584711236799077},{"$f":"VLOOKUP($A38,'8.Non-elective admissions - CCG'!$D$5:$Q$215,12,0)*$H38","v":23.417047412840788},{"$f":"VLOOKUP($A38,'8.Non-elective admissions - CCG'!$D$5:$Q$215,13,0)*$H38","v":23.631284521231933},{"$f":"VLOOKUP($A38,'8.Non-elective admissions - CCG'!$D$5:$Q$215,14,0)*$H38","v":22.9885731960585}]
["11E","NHS Bath and North East Somerset CCG","E06000022","Bath and North East Somerset",{"$f":"COUNTIF($D$5:D39,D39)","v":1},"Bath and North East Somerset1","NHS Bath and North East Somerset CCG",0.94110082561921438,0.98443363883320334,{"$f":"VLOOKUP($A39,'8.Non-elective admissions - CCG'!$D$5:$N$215,3,0)*$H39","v":3468.8976432324243},{"$f":"VLOOKUP($A39,'8.Non-elective admissions - CCG'!$D$5:$N$215,4,0)*$H39","v":3254.3266549912432},{"$f":"VLOOKUP($A39,'8.Non-elective admissions - CCG'!$D$5:$N$215,5,0)*$H39","v":3413.3726945208905},{"$f":"VLOOKUP($A39,'8.Non-elective admissions - CCG'!$D$5:$N$215,6,0)*$H39","v":3598.769557167876},{"$f":"VLOOKUP($A39,'8.Non-elective admissions - CCG'!$D$5:$N$215,7,0)*$H39","v":3286.3240830622967},{"$f":"VLOOKUP($A39,'8.Non-elective admissions - CCG'!$D$5:$N$215,8,0)*$H39","v":3069.8708931698775},{"$f":"VLOOKUP($A39,'8.Non-elective admissions - CCG'!$D$5:$N$215,9,0)*$H39","v":3229.8580335251436},{"$f":"VLOOKUP($A39,'8.Non-elective admissions - CCG'!$D$5:$N$215,10,0)*$H39","v":3417.1370978233672},{"$f":"VLOOKUP($A39,'8.Non-elective admissions - CCG'!$D$5:$Q$215,11,0)*$H39","v":3172.4508831623716},{"$f":"VLOOKUP($A39,'8.Non-elective admissions - CCG'!$D$5:$Q$215,12,0)*$H39","v":2955.9976932699524},{"$f":"VLOOKUP($A39,'8.Non-elective admissions - CCG'!$D$5:$Q$215,13,0)*$H39","v":3114.1026319739804},{"$f":"VLOOKUP($A39,'8.Non-elective admissions - CCG'!$D$5:$Q$215,14,0)*$H39","v":3305.1460995746811}]
["11E","NHS Bath and North East Somerset CCG","E06000024","North Somerset",{"$f":"COUNTIF($D$5:D40,D40)","v":1},"North Somerset1","NHS Bath and North East Somerset CCG",1.6887665749311984E-2,1.5579631535943944E-2,{"$f":"VLOOKUP($A40,'8.Non-elective admissions - CCG'!$D$5:$N$215,3,0)*$H40","v":62.247935951963974},{"$f":"VLOOKUP($A40,'8.Non-elective admissions - CCG'!$D$5:$N$215,4,0)*$H40","v":58.397548161120838},{"$f":"VLOOKUP($A40,'8.Non-elective admissions - CCG'!$D$5:$N$215,5,0)*$H40","v":61.251563672754564},{"$f":"VLOOKUP($A40,'8.Non-elective admissions - CCG'!$D$5:$N$215,6,0)*$H40","v":64.578433825369032},{"$f":"VLOOKUP($A40,'8.Non-elective admissions - CCG'!$D$5:$N$215,7,0)*$H40","v":58.971728796597446},{"$f":"VLOOKUP($A40,'8.Non-elective admissions - CCG'!$D$5:$N$215,8,0)*$H40","v":55.087565674255693},{"$f":"VLOOKUP($A40,'8.Non-elective admissions - CCG'!$D$5:$N$215,9,0)*$H40","v":57.958468851638727},{"$f":"VLOOKUP($A40,'8.Non-elective admissions - CCG'!$D$5:$N$215,10,0)*$H40","v":61.319114335751813},{"$f":"VLOOKUP($A40,'8.Non-elective admissions - CCG'!$D$5:$Q$215,11,0)*$H40","v":56.9283212409307},{"$f":"VLOOKUP($A40,'8.Non-elective admissions - CCG'!$D$5:$Q$215,12,0)*$H40","v":53.044158118588939},{"$f":"VLOOKUP($A40,'8.Non-elective admissions - CCG'!$D$5:$Q$215,13,0)*$H40","v":55.881285964473356},{"$f":"VLOOKUP($A40,'8.Non-elective admissions - CCG'!$D$5:$Q$215,14,0)*$H40","v":59.309482111583684}]
["11E","NHS Bath and North East Somerset CCG","E10000027","Somerset",{"$f":"COUNTIF($D$5:D41,D41)","v":1},"Somerset1","NHS Bath and North East Somerset CCG",3.0768076057042782E-2,1.0989757310270749E-2,{"$f":"VLOOKUP($A41,'8.Non-elective admissions - CCG'!$D$5:$N$215,3,0)*$H41","v":113.4111283462597},{"$f":"VLOOKUP($A41,'8.Non-elective admissions - CCG'!$D$5:$N$215,4,0)*$H41","v":106.39600700525394},{"$f":"VLOOKUP($A41,'8.Non-elective admissions - CCG'!$D$5:$N$215,5,0)*$H41","v":111.59581185889417},{"$f":"VLOOKUP($A41,'8.Non-elective admissions - CCG'!$D$5:$N$215,6,0)*$H41","v":117.6571228421316},{"$f":"VLOOKUP($A41,'8.Non-elective admissions - CCG'!$D$5:$N$215,7,0)*$H41","v":107.4421215911934},{"$f":"VLOOKUP($A41,'8.Non-elective admissions - CCG'!$D$5:$N$215,8,0)*$H41","v":100.36546409807356},{"$f":"VLOOKUP($A41,'8.Non-elective admissions - CCG'!$D$5:$N$215,9,0)*$H41","v":105.59603702777083},{"$f":"VLOOKUP($A41,'8.Non-elective admissions - CCG'!$D$5:$N$215,10,0)*$H41","v":111.71888416312234},{"$f":"VLOOKUP($A41,'8.Non-elective admissions - CCG'!$D$5:$Q$215,11,0)*$H41","v":103.71918438829123},{"$f":"VLOOKUP($A41,'8.Non-elective admissions - CCG'!$D$5:$Q$215,12,0)*$H41","v":96.642526895171372},{"$f":"VLOOKUP($A41,'8.Non-elective admissions - CCG'!$D$5:$Q$215,13,0)*$H41","v":101.81156367275456},{"$f":"VLOOKUP($A41,'8.Non-elective admissions - CCG'!$D$5:$Q$215,14,0)*$H41","v":108.05748311233425}]
["11E","NHS Bath and North East Somerset CCG","E06000025","South Gloucestershire",{"$f":"COUNTIF($D$5:D42,D42)","v":1},"South Gloucestershire1","NHS Bath and North East Somerset CCG",4.9487115336502374E-3,3.5658143324824409E-3,{"$f":"VLOOKUP($A42,'8.Non-elective admissions - CCG'!$D$5:$N$215,3,0)*$H42","v":18.240950713034774},{"$f":"VLOOKUP($A42,'8.Non-elective admissions - CCG'!$D$5:$N$215,4,0)*$H42","v":17.112644483362523},{"$f":"VLOOKUP($A42,'8.Non-elective admissions - CCG'!$D$5:$N$215,5,0)*$H42","v":17.948976732549411},{"$f":"VLOOKUP($A42,'8.Non-elective admissions - CCG'!$D$5:$N$215,6,0)*$H42","v":18.923872904678507},{"$f":"VLOOKUP($A42,'8.Non-elective admissions - CCG'!$D$5:$N$215,7,0)*$H42","v":17.280900675506629},{"$f":"VLOOKUP($A42,'8.Non-elective admissions - CCG'!$D$5:$N$215,8,0)*$H42","v":16.142697022767074},{"$f":"VLOOKUP($A42,'8.Non-elective admissions - CCG'!$D$5:$N$215,9,0)*$H42","v":16.983977983487616},{"$f":"VLOOKUP($A42,'8.Non-elective admissions - CCG'!$D$5:$N$215,10,0)*$H42","v":17.968771578684013},{"$f":"VLOOKUP($A42,'8.Non-elective admissions - CCG'!$D$5:$Q$215,11,0)*$H42","v":16.682106579934949},{"$f":"VLOOKUP($A42,'8.Non-elective admissions - CCG'!$D$5:$Q$215,12,0)*$H42","v":15.543902927195395},{"$f":"VLOOKUP($A42,'8.Non-elective admissions - CCG'!$D$5:$Q$215,13,0)*$H42","v":16.375286464848635},{"$f":"VLOOKUP($A42,'8.Non-elective admissions - CCG'!$D$5:$Q$215,14,0)*$H42","v":17.379874906179634}]
["11E","NHS Bath and North East Somerset CCG","E06000054","Wiltshire",{"$f":"COUNTIF($D$5:D43,D43)","v":1},"Wiltshire1","NHS Bath and North East Somerset CCG",6.2947210407805852E-3,2.6300384679712324E-3,{"$f":"VLOOKUP($A43,'8.Non-elective admissions - CCG'!$D$5:$N$215,3,0)*$H43","v":23.202341756317235},{"$f":"VLOOKUP($A43,'8.Non-elective admissions - CCG'!$D$5:$N$215,4,0)*$H43","v":21.767145359019263},{"$f":"VLOOKUP($A43,'8.Non-elective admissions - CCG'!$D$5:$N$215,5,0)*$H43","v":22.830953214911183},{"$f":"VLOOKUP($A43,'8.Non-elective admissions - CCG'!$D$5:$N$215,6,0)*$H43","v":24.071013259944959},{"$f":"VLOOKUP($A43,'8.Non-elective admissions - CCG'!$D$5:$N$215,7,0)*$H43","v":21.981165874405804},{"$f":"VLOOKUP($A43,'8.Non-elective admissions - CCG'!$D$5:$N$215,8,0)*$H43","v":20.533380035026269},{"$f":"VLOOKUP($A43,'8.Non-elective admissions - CCG'!$D$5:$N$215,9,0)*$H43","v":21.603482611958967},{"$f":"VLOOKUP($A43,'8.Non-elective admissions - CCG'!$D$5:$N$215,10,0)*$H43","v":22.856132099074305},{"$f":"VLOOKUP($A43,'8.Non-elective admissions - CCG'!$D$5:$Q$215,11,0)*$H43","v":21.219504628471352},{"$f":"VLOOKUP($A43,'8.Non-elective admissions - CCG'!$D$5:$Q$215,12,0)*$H43","v":19.771718789091818},{"$f":"VLOOKUP($A43,'8.Non-elective admissions - CCG'!$D$5:$Q$215,13,0)*$H43","v":20.829231923942956},{"$f":"VLOOKUP($A43,'8.Non-elective admissions - CCG'!$D$5:$Q$215,14,0)*$H43","v":22.107060295221416}]
["06F","NHS Bedfordshire CCG","E06000055","Bedford",{"$f":"COUNTIF($D$5:D44,D44)","v":1},"Bedford1","NHS Bedfordshire CCG",0.37320792096721411,0.97349266953502578,{"$f":"VLOOKUP($A44,'8.Non-elective admissions - CCG'!$D$5:$N$215,3,0)*$H44","v":3390.220754066173},{"$f":"VLOOKUP($A44,'8.Non-elective admissions - CCG'!$D$5:$N$215,4,0)*$H44","v":3326.7754075017465},{"$f":"VLOOKUP($A44,'8.Non-elective admissions - CCG'!$D$5:$N$215,5,0)*$H44","v":3407.0151105096975},{"$f":"VLOOKUP($A44,'8.Non-elective admissions - CCG'!$D$5:$N$215,6,0)*$H44","v":3351.7803382065499},{"$f":"VLOOKUP($A44,'8.Non-elective admissions - CCG'!$D$5:$N$215,7,0)*$H44","v":3369.6943184129764},{"$f":"VLOOKUP($A44,'8.Non-elective admissions - CCG'!$D$5:$N$215,8,0)*$H44","v":3306.6221797695171},{"$f":"VLOOKUP($A44,'8.Non-elective admissions - CCG'!$D$5:$N$215,9,0)*$H44","v":3306.9953876904842},{"$f":"VLOOKUP($A44,'8.Non-elective admissions - CCG'!$D$5:$N$215,10,0)*$H44","v":3286.4689520372876},{"$f":"VLOOKUP($A44,'8.Non-elective admissions - CCG'!$D$5:$Q$215,11,0)*$H44","v":3462.9962986547798},{"$f":"VLOOKUP($A44,'8.Non-elective admissions - CCG'!$D$5:$Q$215,12,0)*$H44","v":3399.5509520903533},{"$f":"VLOOKUP($A44,'8.Non-elective admissions - CCG'!$D$5:$Q$215,13,0)*$H44","v":3399.9241600113205},{"$f":"VLOOKUP($A44,'8.Non-elective admissions - CCG'!$D$5:$Q$215,14,0)*$H44","v":3379.3977243581239}]
["06F","NHS Bedfordshire CCG","E10000002","Buckinghamshire",{"$f":"COUNTIF($D$5:D45,D45)","v":2},"Buckinghamshire2","NHS Bedfordshire CCG",6.2905180114445408E-3,5.3450216149292379E-3,{"$f":"VLOOKUP($A45,'8.Non-elective admissions - CCG'!$D$5:$N$215,3,0)*$H45","v":57.143065615962207},{"$f":"VLOOKUP($A45,'8.Non-elective admissions - CCG'!$D$5:$N$215,4,0)*$H45","v":56.073677554016633},{"$f":"VLOOKUP($A45,'8.Non-elective admissions - CCG'!$D$5:$N$215,5,0)*$H45","v":57.426138926477215},{"$f":"VLOOKUP($A45,'8.Non-elective admissions - CCG'!$D$5:$N$215,6,0)*$H45","v":56.495142260783417},{"$f":"VLOOKUP($A45,'8.Non-elective admissions - CCG'!$D$5:$N$215,7,0)*$H45","v":56.797087125332759},{"$f":"VLOOKUP($A45,'8.Non-elective admissions - CCG'!$D$5:$N$215,8,0)*$H45","v":55.733989581398632},{"$f":"VLOOKUP($A45,'8.Non-elective admissions - CCG'!$D$5:$N$215,9,0)*$H45","v":55.740280099410079},{"$f":"VLOOKUP($A45,'8.Non-elective admissions - CCG'!$D$5:$N$215,10,0)*$H45","v":55.394301608780623},{"$f":"VLOOKUP($A45,'8.Non-elective admissions - CCG'!$D$5:$Q$215,11,0)*$H45","v":58.369716628193892},{"$f":"VLOOKUP($A45,'8.Non-elective admissions - CCG'!$D$5:$Q$215,12,0)*$H45","v":57.300328566248325},{"$f":"VLOOKUP($A45,'8.Non-elective admissions - CCG'!$D$5:$Q$215,13,0)*$H45","v":57.306619084259765},{"$f":"VLOOKUP($A45,'8.Non-elective admissions - CCG'!$D$5:$Q$215,14,0)*$H45","v":56.960640593630316}]
["06F","NHS Bedfordshire CCG","E10000003","Cambridgeshire",{"$f":"COUNTIF($D$5:D46,D46)","v":1},"Cambridgeshire1","NHS Bedfordshire CCG",1.1296399479954361E-2,7.6005522264604528E-3,{"$f":"VLOOKUP($A46,'8.Non-elective admissions - CCG'!$D$5:$N$215,3,0)*$H46","v":102.61649287590542},{"$f":"VLOOKUP($A46,'8.Non-elective admissions - CCG'!$D$5:$N$215,4,0)*$H46","v":100.69610496431318},{"$f":"VLOOKUP($A46,'8.Non-elective admissions - CCG'!$D$5:$N$215,5,0)*$H46","v":103.12483085250337},{"$f":"VLOOKUP($A46,'8.Non-elective admissions - CCG'!$D$5:$N$215,6,0)*$H46","v":101.45296372947011},{"$f":"VLOOKUP($A46,'8.Non-elective admissions - CCG'!$D$5:$N$215,7,0)*$H46","v":101.99519090450792},{"$f":"VLOOKUP($A46,'8.Non-elective admissions - CCG'!$D$5:$N$215,8,0)*$H46","v":100.08609939239564},{"$f":"VLOOKUP($A46,'8.Non-elective admissions - CCG'!$D$5:$N$215,9,0)*$H46","v":100.0973957918756},{"$f":"VLOOKUP($A46,'8.Non-elective admissions - CCG'!$D$5:$N$215,10,0)*$H46","v":99.476093820478113},{"$f":"VLOOKUP($A46,'8.Non-elective admissions - CCG'!$D$5:$Q$215,11,0)*$H46","v":104.81929077449652},{"$f":"VLOOKUP($A46,'8.Non-elective admissions - CCG'!$D$5:$Q$215,12,0)*$H46","v":102.89890286290428},{"$f":"VLOOKUP($A46,'8.Non-elective admissions - CCG'!$D$5:$Q$215,13,0)*$H46","v":102.91019926238422},{"$f":"VLOOKUP($A46,'8.Non-elective admissions - CCG'!$D$5:$Q$215,14,0)*$H46","v":102.28889729098674}]
["06F","NHS Bedfordshire CCG","E06000056","Central Bedfordshire",{"$f":"COUNTIF($D$5:D47,D47)","v":2},"Central Bedfordshire2","NHS Bedfordshire CCG",0.56971751262525749,0.95046017078883782,{"$f":"VLOOKUP($A47,'8.Non-elective admissions - CCG'!$D$5:$N$215,3,0)*$H47","v":5175.3138846878392},{"$f":"VLOOKUP($A47,'8.Non-elective admissions - CCG'!$D$5:$N$215,4,0)*$H47","v":5078.4619075415449},{"$f":"VLOOKUP($A47,'8.Non-elective admissions - CCG'!$D$5:$N$215,5,0)*$H47","v":5200.9511727559757},{"$f":"VLOOKUP($A47,'8.Non-elective admissions - CCG'!$D$5:$N$215,6,0)*$H47","v":5116.632980887438},{"$f":"VLOOKUP($A47,'8.Non-elective admissions - CCG'!$D$5:$N$215,7,0)*$H47","v":5143.97942149345},{"$f":"VLOOKUP($A47,'8.Non-elective admissions - CCG'!$D$5:$N$215,8,0)*$H47","v":5047.6971618597818},{"$f":"VLOOKUP($A47,'8.Non-elective admissions - CCG'!$D$5:$N$215,9,0)*$H47","v":5048.2668793724069},{"$f":"VLOOKUP($A47,'8.Non-elective admissions - CCG'!$D$5:$N$215,10,0)*$H47","v":5016.9324161780178},{"$f":"VLOOKUP($A47,'8.Non-elective admissions - CCG'!$D$5:$Q$215,11,0)*$H47","v":5286.4087996497647},{"$f":"VLOOKUP($A47,'8.Non-elective admissions - CCG'!$D$5:$Q$215,12,0)*$H47","v":5189.5568225034704},{"$f":"VLOOKUP($A47,'8.Non-elective admissions - CCG'!$D$5:$Q$215,13,0)*$H47","v":5190.1265400160955},{"$f":"VLOOKUP($A47,'8.Non-elective admissions - CCG'!$D$5:$Q$215,14,0)*$H47","v":5158.7920768217064}]
["06F","NHS Bedfordshire CCG","E10000015","Hertfordshire",{"$f":"COUNTIF($D$5:D48,D48)","v":3},"Hertfordshire3","NHS Bedfordshire CCG",9.5076370647492183E-4,0,{"$f":"VLOOKUP($A48,'8.Non-elective admissions - CCG'!$D$5:$N$215,3,0)*$H48","v":8.6367375096181895},{"$f":"VLOOKUP($A48,'8.Non-elective admissions - CCG'!$D$5:$N$215,4,0)*$H48","v":8.4751076795174534},{"$f":"VLOOKUP($A48,'8.Non-elective admissions - CCG'!$D$5:$N$215,5,0)*$H48","v":8.6795218764095612},{"$f":"VLOOKUP($A48,'8.Non-elective admissions - CCG'!$D$5:$N$215,6,0)*$H48","v":8.5388088478512731},{"$f":"VLOOKUP($A48,'8.Non-elective admissions - CCG'!$D$5:$N$215,7,0)*$H48","v":8.5844455057620692},{"$f":"VLOOKUP($A48,'8.Non-elective admissions - CCG'!$D$5:$N$215,8,0)*$H48","v":8.4237664393678067},{"$f":"VLOOKUP($A48,'8.Non-elective admissions - CCG'!$D$5:$N$215,9,0)*$H48","v":8.4247172030742821},{"$f":"VLOOKUP($A48,'8.Non-elective admissions - CCG'!$D$5:$N$215,10,0)*$H48","v":8.3724251992181618},{"$f":"VLOOKUP($A48,'8.Non-elective admissions - CCG'!$D$5:$Q$215,11,0)*$H48","v":8.8221364323808},{"$f":"VLOOKUP($A48,'8.Non-elective admissions - CCG'!$D$5:$Q$215,12,0)*$H48","v":8.6605066022800639},{"$f":"VLOOKUP($A48,'8.Non-elective admissions - CCG'!$D$5:$Q$215,13,0)*$H48","v":8.6614573659865375},{"$f":"VLOOKUP($A48,'8.Non-elective admissions - CCG'!$D$5:$Q$215,14,0)*$H48","v":8.6091653621304172}]
["06F","NHS Bedfordshire CCG","E06000032","Luton",{"$f":"COUNTIF($D$5:D49,D49)","v":1},"Luton1","NHS Bedfordshire CCG",2.2628176214103141E-2,4.5458785485525947E-2,{"$f":"VLOOKUP($A49,'8.Non-elective admissions - CCG'!$D$5:$N$215,3,0)*$H49","v":205.55435272891293},{"$f":"VLOOKUP($A49,'8.Non-elective admissions - CCG'!$D$5:$N$215,4,0)*$H49","v":201.70756277251539},{"$f":"VLOOKUP($A49,'8.Non-elective admissions - CCG'!$D$5:$N$215,5,0)*$H49","v":206.57262065854758},{"$f":"VLOOKUP($A49,'8.Non-elective admissions - CCG'!$D$5:$N$215,6,0)*$H49","v":203.22365057886032},{"$f":"VLOOKUP($A49,'8.Non-elective admissions - CCG'!$D$5:$N$215,7,0)*$H49","v":204.30980303713727},{"$f":"VLOOKUP($A49,'8.Non-elective admissions - CCG'!$D$5:$N$215,8,0)*$H49","v":200.48564125695384},{"$f":"VLOOKUP($A49,'8.Non-elective admissions - CCG'!$D$5:$N$215,9,0)*$H49","v":200.50826943316792},{"$f":"VLOOKUP($A49,'8.Non-elective admissions - CCG'!$D$5:$N$215,10,0)*$H49","v":199.26371974139226},{"$f":"VLOOKUP($A49,'8.Non-elective admissions - CCG'!$D$5:$Q$215,11,0)*$H49","v":209.96684709066304},{"$f":"VLOOKUP($A49,'8.Non-elective admissions - CCG'!$D$5:$Q$215,12,0)*$H49","v":206.12005713426552},{"$f":"VLOOKUP($A49,'8.Non-elective admissions - CCG'!$D$5:$Q$215,13,0)*$H49","v":206.14268531047961},{"$f":"VLOOKUP($A49,'8.Non-elective admissions - CCG'!$D$5:$Q$215,14,0)*$H49","v":204.89813561870395}]
["06F","NHS Bedfordshire CCG","E06000042","Milton Keynes",{"$f":"COUNTIF($D$5:D50,D50)","v":1},"Milton Keynes1","NHS Bedfordshire CCG",1.4982267151335047E-2,2.4693607577176636E-2,{"$f":"VLOOKUP($A50,'8.Non-elective admissions - CCG'!$D$5:$N$215,3,0)*$H50","v":136.09891480272756},{"$f":"VLOOKUP($A50,'8.Non-elective admissions - CCG'!$D$5:$N$215,4,0)*$H50","v":133.55192938700063},{"$f":"VLOOKUP($A50,'8.Non-elective admissions - CCG'!$D$5:$N$215,5,0)*$H50","v":136.77311682453765},{"$f":"VLOOKUP($A50,'8.Non-elective admissions - CCG'!$D$5:$N$215,6,0)*$H50","v":134.55574128614006},{"$f":"VLOOKUP($A50,'8.Non-elective admissions - CCG'!$D$5:$N$215,7,0)*$H50","v":135.27489010940414},{"$f":"VLOOKUP($A50,'8.Non-elective admissions - CCG'!$D$5:$N$215,8,0)*$H50","v":132.74288696082851},{"$f":"VLOOKUP($A50,'8.Non-elective admissions - CCG'!$D$5:$N$215,9,0)*$H50","v":132.75786922797985},{"$f":"VLOOKUP($A50,'8.Non-elective admissions - CCG'!$D$5:$N$215,10,0)*$H50","v":131.93384453465643},{"$f":"VLOOKUP($A50,'8.Non-elective admissions - CCG'!$D$5:$Q$215,11,0)*$H50","v":139.02045689723789},{"$f":"VLOOKUP($A50,'8.Non-elective admissions - CCG'!$D$5:$Q$215,12,0)*$H50","v":136.47347148151096},{"$f":"VLOOKUP($A50,'8.Non-elective admissions - CCG'!$D$5:$Q$215,13,0)*$H50","v":136.48845374866229},{"$f":"VLOOKUP($A50,'8.Non-elective admissions - CCG'!$D$5:$Q$215,14,0)*$H50","v":135.66442905533884}]
["06F","NHS Bedfordshire CCG","E10000021","Northamptonshire",{"$f":"COUNTIF($D$5:D51,D51)","v":2},"Northamptonshire2","NHS Bedfordshire CCG",9.2644184421626099E-4,0,{"$f":"VLOOKUP($A51,'8.Non-elective admissions - CCG'!$D$5:$N$215,3,0)*$H51","v":8.415797712860515},{"$f":"VLOOKUP($A51,'8.Non-elective admissions - CCG'!$D$5:$N$215,4,0)*$H51","v":8.2583025993437502},{"$f":"VLOOKUP($A51,'8.Non-elective admissions - CCG'!$D$5:$N$215,5,0)*$H51","v":8.457487595850246},{"$f":"VLOOKUP($A51,'8.Non-elective admissions - CCG'!$D$5:$N$215,6,0)*$H51","v":8.3203742029062404},{"$f":"VLOOKUP($A51,'8.Non-elective admissions - CCG'!$D$5:$N$215,7,0)*$H51","v":8.3648434114286196},{"$f":"VLOOKUP($A51,'8.Non-elective admissions - CCG'!$D$5:$N$215,8,0)*$H51","v":8.2082747397560727},{"$f":"VLOOKUP($A51,'8.Non-elective admissions - CCG'!$D$5:$N$215,9,0)*$H51","v":8.2092011816002888},{"$f":"VLOOKUP($A51,'8.Non-elective admissions - CCG'!$D$5:$N$215,10,0)*$H51","v":8.1582468801683934},{"$f":"VLOOKUP($A51,'8.Non-elective admissions - CCG'!$D$5:$Q$215,11,0)*$H51","v":8.5964538724826856},{"$f":"VLOOKUP($A51,'8.Non-elective admissions - CCG'!$D$5:$Q$215,12,0)*$H51","v":8.4389587589659207},{"$f":"VLOOKUP($A51,'8.Non-elective admissions - CCG'!$D$5:$Q$215,13,0)*$H51","v":8.4398852008101368},{"$f":"VLOOKUP($A51,'8.Non-elective admissions - CCG'!$D$5:$Q$215,14,0)*$H51","v":8.3889308993782432}]
["07N","NHS Bexley CCG","E09000004","Bexley",{"$f":"COUNTIF($D$5:D52,D52)","v":1},"Bexley1","NHS Bexley CCG",0.93728069402077119,0.89517225700247971,{"$f":"VLOOKUP($A52,'8.Non-elective admissions - CCG'!$D$5:$N$215,3,0)*$H52","v":4531.7521555904286},{"$f":"VLOOKUP($A52,'8.Non-elective admissions - CCG'!$D$5:$N$215,4,0)*$H52","v":4607.6718918061115},{"$f":"VLOOKUP($A52,'8.Non-elective admissions - CCG'!$D$5:$N$215,5,0)*$H52","v":4615.1701373582773},{"$f":"VLOOKUP($A52,'8.Non-elective admissions - CCG'!$D$5:$N$215,6,0)*$H52","v":4557.0587343289899},{"$f":"VLOOKUP($A52,'8.Non-elective admissions - CCG'!$D$5:$N$215,7,0)*$H52","v":4350.2509590703812},{"$f":"VLOOKUP($A52,'8.Non-elective admissions - CCG'!$D$5:$N$215,8,0)*$H52","v":4392.9781192562941},{"$f":"VLOOKUP($A52,'8.Non-elective admissions - CCG'!$D$5:$N$215,9,0)*$H52","v":4420.1592593828964},{"$f":"VLOOKUP($A52,'8.Non-elective admissions - CCG'!$D$5:$N$215,10,0)*$H52","v":4277.5308166758023},{"$f":"VLOOKUP($A52,'8.Non-elective admissions - CCG'!$D$5:$Q$215,11,0)*$H52","v":4279.2834031755392},{"$f":"VLOOKUP($A52,'8.Non-elective admissions - CCG'!$D$5:$Q$215,12,0)*$H52","v":4322.3533769807909},{"$f":"VLOOKUP($A52,'8.Non-elective admissions - CCG'!$D$5:$Q$215,13,0)*$H52","v":4346.7226750253312},{"$f":"VLOOKUP($A52,'8.Non-elective admissions - CCG'!$D$5:$Q$215,14,0)*$H52","v":4208.095008540291}]
["07N","NHS Bexley CCG","E09000006","Bromley",{"$f":"COUNTIF($D$5:D53,D53)","v":1},"Bromley1","NHS Bexley CCG",1.7015499091918959E-3,1.1880615206571888E-3,{"$f":"VLOOKUP($A53,'8.Non-elective admissions - CCG'!$D$5:$N$215,3,0)*$H53","v":8.2269938109428171},{"$f":"VLOOKUP($A53,'8.Non-elective admissions - CCG'!$D$5:$N$215,4,0)*$H53","v":8.364819353587361},{"$f":"VLOOKUP($A53,'8.Non-elective admissions - CCG'!$D$5:$N$215,5,0)*$H53","v":8.3784317528608963},{"$f":"VLOOKUP($A53,'8.Non-elective admissions - CCG'!$D$5:$N$215,6,0)*$H53","v":8.2729356584909972},{"$f":"VLOOKUP($A53,'8.Non-elective admissions - CCG'!$D$5:$N$215,7,0)*$H53","v":7.8974944982747335},{"$f":"VLOOKUP($A53,'8.Non-elective admissions - CCG'!$D$5:$N$215,8,0)*$H53","v":7.9750618652312522},{"$f":"VLOOKUP($A53,'8.Non-elective admissions - CCG'!$D$5:$N$215,9,0)*$H53","v":8.0244068125978174},{"$f":"VLOOKUP($A53,'8.Non-elective admissions - CCG'!$D$5:$N$215,10,0)*$H53","v":7.7654775342240754},{"$f":"VLOOKUP($A53,'8.Non-elective admissions - CCG'!$D$5:$Q$215,11,0)*$H53","v":7.7686591994589413},{"$f":"VLOOKUP($A53,'8.Non-elective admissions - CCG'!$D$5:$Q$215,12,0)*$H53","v":7.8468489141140472},{"$f":"VLOOKUP($A53,'8.Non-elective admissions - CCG'!$D$5:$Q$215,13,0)*$H53","v":7.8910892117530365},{"$f":"VLOOKUP($A53,'8.Non-elective admissions - CCG'!$D$5:$Q$215,14,0)*$H53","v":7.6394229875110637}]
["07N","NHS Bexley CCG","E09000011","Greenwich",{"$f":"COUNTIF($D$5:D54,D54)","v":1},"Greenwich1","NHS Bexley CCG",5.0037028547246662E-2,4.4812121499238057E-2,{"$f":"VLOOKUP($A54,'8.Non-elective admissions - CCG'!$D$5:$N$215,3,0)*$H54","v":241.9290330259376},{"$f":"VLOOKUP($A54,'8.Non-elective admissions - CCG'!$D$5:$N$215,4,0)*$H54","v":245.98203233826459},{"$f":"VLOOKUP($A54,'8.Non-elective admissions - CCG'!$D$5:$N$215,5,0)*$H54","v":246.38232856664257},{"$f":"VLOOKUP($A54,'8.Non-elective admissions - CCG'!$D$5:$N$215,6,0)*$H54","v":243.28003279671327},{"$f":"VLOOKUP($A54,'8.Non-elective admissions - CCG'!$D$5:$N$215,7,0)*$H54","v":232.23953380807384},{"$f":"VLOOKUP($A54,'8.Non-elective admissions - CCG'!$D$5:$N$215,8,0)*$H54","v":234.52053687108793},{"$f":"VLOOKUP($A54,'8.Non-elective admissions - CCG'!$D$5:$N$215,9,0)*$H54","v":235.97161069895807},{"$f":"VLOOKUP($A54,'8.Non-elective admissions - CCG'!$D$5:$N$215,10,0)*$H54","v":228.35734583154789},{"$f":"VLOOKUP($A54,'8.Non-elective admissions - CCG'!$D$5:$Q$215,11,0)*$H54","v":228.45090822035868},{"$f":"VLOOKUP($A54,'8.Non-elective admissions - CCG'!$D$5:$Q$215,12,0)*$H54","v":230.75021249769057},{"$f":"VLOOKUP($A54,'8.Non-elective admissions - CCG'!$D$5:$Q$215,13,0)*$H54","v":232.05117523991896},{"$f":"VLOOKUP($A54,'8.Non-elective admissions - CCG'!$D$5:$Q$215,14,0)*$H54","v":224.65049308610904}]
["07N","NHS Bexley CCG","E10000016","Kent",{"$f":"COUNTIF($D$5:D55,D55)","v":2},"Kent2","NHS Bexley CCG",1.0980727522790189E-2,1.6238623673970679E-3,{"$f":"VLOOKUP($A55,'8.Non-elective admissions - CCG'!$D$5:$N$215,3,0)*$H55","v":53.091817572690566},{"$f":"VLOOKUP($A55,'8.Non-elective admissions - CCG'!$D$5:$N$215,4,0)*$H55","v":53.981256502036565},{"$f":"VLOOKUP($A55,'8.Non-elective admissions - CCG'!$D$5:$N$215,5,0)*$H55","v":54.069102322218889},{"$f":"VLOOKUP($A55,'8.Non-elective admissions - CCG'!$D$5:$N$215,6,0)*$H55","v":53.388297215805899},{"$f":"VLOOKUP($A55,'8.Non-elective admissions - CCG'!$D$5:$N$215,7,0)*$H55","v":50.965437293270369},{"$f":"VLOOKUP($A55,'8.Non-elective admissions - CCG'!$D$5:$N$215,8,0)*$H55","v":51.466008047386133},{"$f":"VLOOKUP($A55,'8.Non-elective admissions - CCG'!$D$5:$N$215,9,0)*$H55","v":51.78444914554705},{"$f":"VLOOKUP($A55,'8.Non-elective admissions - CCG'!$D$5:$N$215,10,0)*$H55","v":50.113483258425319},{"$f":"VLOOKUP($A55,'8.Non-elective admissions - CCG'!$D$5:$Q$215,11,0)*$H55","v":50.13401571464307},{"$f":"VLOOKUP($A55,'8.Non-elective admissions - CCG'!$D$5:$Q$215,12,0)*$H55","v":50.638602707404388},{"$f":"VLOOKUP($A55,'8.Non-elective admissions - CCG'!$D$5:$Q$215,13,0)*$H55","v":50.924101622996929},{"$f":"VLOOKUP($A55,'8.Non-elective admissions - CCG'!$D$5:$Q$215,14,0)*$H55","v":49.300006896088242}]
["13P","NHS Birmingham Crosscity CCG","E08000025","Birmingham",{"$f":"COUNTIF($D$5:D56,D56)","v":1},"Birmingham1","NHS Birmingham Crosscity CCG",0.92077050419502393,0.57672512967485412,{"$f":"VLOOKUP($A56,'8.Non-elective admissions - CCG'!$D$5:$N$215,3,0)*$H56","v":17509.371907772576},{"$f":"VLOOKUP($A56,'8.Non-elective admissions - CCG'!$D$5:$N$215,4,0)*$H56","v":17307.723167353866},{"$f":"VLOOKUP($A56,'8.Non-elective admissions - CCG'!$D$5:$N$215,5,0)*$H56","v":18378.579263732678},{"$f":"VLOOKUP($A56,'8.Non-elective admissions - CCG'!$D$5:$N$215,6,0)*$H56","v":18427.380100455015},{"$f":"VLOOKUP($A56,'8.Non-elective admissions - CCG'!$D$5:$N$215,7,0)*$H56","v":18039.523940972944},{"$f":"VLOOKUP($A56,'8.Non-elective admissions - CCG'!$D$5:$N$215,8,0)*$H56","v":18039.523940972944},{"$f":"VLOOKUP($A56,'8.Non-elective admissions - CCG'!$D$5:$N$215,9,0)*$H56","v":18039.523940972944},{"$f":"VLOOKUP($A56,'8.Non-elective admissions - CCG'!$D$5:$N$215,10,0)*$H56","v":18039.523940972944},{"$f":"VLOOKUP($A56,'8.Non-elective admissions - CCG'!$D$5:$Q$215,11,0)*$H56","v":18021.983262868031},{"$f":"VLOOKUP($A56,'8.Non-elective admissions - CCG'!$D$5:$Q$215,12,0)*$H56","v":18021.983262868031},{"$f":"VLOOKUP($A56,'8.Non-elective admissions - CCG'!$D$5:$Q$215,13,0)*$H56","v":18021.983262868031},{"$f":"VLOOKUP($A56,'8.Non-elective admissions - CCG'!$D$5:$Q$215,14,0)*$H56","v":18021.983262868031}]
["13P","NHS Birmingham Crosscity CCG","E08000027","Dudley",{"$f":"COUNTIF($D$5:D57,D57)","v":1},"Dudley1","NHS Birmingham Crosscity CCG",2.176391057597162E-3,5.0523310539143879E-3,{"$f":"VLOOKUP($A57,'8.Non-elective admissions - CCG'!$D$5:$N$215,3,0)*$H57","v":41.386252351267636},{"$f":"VLOOKUP($A57,'8.Non-elective admissions - CCG'!$D$5:$N$215,4,0)*$H57","v":40.909622709653853},{"$f":"VLOOKUP($A57,'8.Non-elective admissions - CCG'!$D$5:$N$215,5,0)*$H57","v":43.440765509639355},{"$f":"VLOOKUP($A57,'8.Non-elective admissions - CCG'!$D$5:$N$215,6,0)*$H57","v":43.556114235692},{"$f":"VLOOKUP($A57,'8.Non-elective admissions - CCG'!$D$5:$N$215,7,0)*$H57","v":42.639353030500352},{"$f":"VLOOKUP($A57,'8.Non-elective admissions - CCG'!$D$5:$N$215,8,0)*$H57","v":42.639353030500352},{"$f":"VLOOKUP($A57,'8.Non-elective admissions - CCG'!$D$5:$N$215,9,0)*$H57","v":42.639353030500352},{"$f":"VLOOKUP($A57,'8.Non-elective admissions - CCG'!$D$5:$N$215,10,0)*$H57","v":42.639353030500352},{"$f":"VLOOKUP($A57,'8.Non-elective admissions - CCG'!$D$5:$Q$215,11,0)*$H57","v":42.59789278085313},{"$f":"VLOOKUP($A57,'8.Non-elective admissions - CCG'!$D$5:$Q$215,12,0)*$H57","v":42.59789278085313},{"$f":"VLOOKUP($A57,'8.Non-elective admissions - CCG'!$D$5:$Q$215,13,0)*$H57","v":42.59789278085313},{"$f":"VLOOKUP($A57,'8.Non-elective admissions - CCG'!$D$5:$Q$215,14,0)*$H57","v":42.59789278085313}]
["13P","NHS Birmingham Crosscity CCG","E08000028","Sandwell",{"$f":"COUNTIF($D$5:D58,D58)","v":1},"Sandwell1","NHS Birmingham Crosscity CCG",2.7118289069307511E-2,6.0423665686429963E-2,{"$f":"VLOOKUP($A58,'8.Non-elective admissions - CCG'!$D$5:$N$215,3,0)*$H58","v":515.68138494195159},{"$f":"VLOOKUP($A58,'8.Non-elective admissions - CCG'!$D$5:$N$215,4,0)*$H58","v":509.74247963577329},{"$f":"VLOOKUP($A58,'8.Non-elective admissions - CCG'!$D$5:$N$215,5,0)*$H58","v":541.28104982337788},{"$f":"VLOOKUP($A58,'8.Non-elective admissions - CCG'!$D$5:$N$215,6,0)*$H58","v":542.71831914405118},{"$f":"VLOOKUP($A58,'8.Non-elective admissions - CCG'!$D$5:$N$215,7,0)*$H58","v":531.29528223938678},{"$f":"VLOOKUP($A58,'8.Non-elective admissions - CCG'!$D$5:$N$215,8,0)*$H58","v":531.29528223938678},{"$f":"VLOOKUP($A58,'8.Non-elective admissions - CCG'!$D$5:$N$215,9,0)*$H58","v":531.29528223938678},{"$f":"VLOOKUP($A58,'8.Non-elective admissions - CCG'!$D$5:$N$215,10,0)*$H58","v":531.29528223938678},{"$f":"VLOOKUP($A58,'8.Non-elective admissions - CCG'!$D$5:$Q$215,11,0)*$H58","v":530.77867883261649},{"$f":"VLOOKUP($A58,'8.Non-elective admissions - CCG'!$D$5:$Q$215,12,0)*$H58","v":530.77867883261649},{"$f":"VLOOKUP($A58,'8.Non-elective admissions - CCG'!$D$5:$Q$215,13,0)*$H58","v":530.77867883261649},{"$f":"VLOOKUP($A58,'8.Non-elective admissions - CCG'!$D$5:$Q$215,14,0)*$H58","v":530.77867883261649}]
["13P","NHS Birmingham Crosscity CCG","E08000029","Solihull",{"$f":"COUNTIF($D$5:D59,D59)","v":1},"Solihull1","NHS Birmingham Crosscity CCG",2.0295081571029428E-2,6.8711589512345905E-2,{"$f":"VLOOKUP($A59,'8.Non-elective admissions - CCG'!$D$5:$N$215,3,0)*$H59","v":385.93127115469559},{"$f":"VLOOKUP($A59,'8.Non-elective admissions - CCG'!$D$5:$N$215,4,0)*$H59","v":381.48664829064018},{"$f":"VLOOKUP($A59,'8.Non-elective admissions - CCG'!$D$5:$N$215,5,0)*$H59","v":405.08982815774738},{"$f":"VLOOKUP($A59,'8.Non-elective admissions - CCG'!$D$5:$N$215,6,0)*$H59","v":406.16546748101194},{"$f":"VLOOKUP($A59,'8.Non-elective admissions - CCG'!$D$5:$N$215,7,0)*$H59","v":397.61657027084721},{"$f":"VLOOKUP($A59,'8.Non-elective admissions - CCG'!$D$5:$N$215,8,0)*$H59","v":397.61657027084721},{"$f":"VLOOKUP($A59,'8.Non-elective admissions - CCG'!$D$5:$N$215,9,0)*$H59","v":397.61657027084721},{"$f":"VLOOKUP($A59,'8.Non-elective admissions - CCG'!$D$5:$N$215,10,0)*$H59","v":397.61657027084721},{"$f":"VLOOKUP($A59,'8.Non-elective admissions - CCG'!$D$5:$Q$215,11,0)*$H59","v":397.22994896691915},{"$f":"VLOOKUP($A59,'8.Non-elective admissions - CCG'!$D$5:$Q$215,12,0)*$H59","v":397.22994896691915},{"$f":"VLOOKUP($A59,'8.Non-elective admissions - CCG'!$D$5:$Q$215,13,0)*$H59","v":397.22994896691915},{"$f":"VLOOKUP($A59,'8.Non-elective admissions - CCG'!$D$5:$Q$215,14,0)*$H59","v":397.22994896691915}]
["13P","NHS Birmingham Crosscity CCG","E10000028","Staffordshire",{"$f":"COUNTIF($D$5:D60,D60)","v":1},"Staffordshire1","NHS Birmingham Crosscity CCG",5.0697425252849374E-3,4.3418668187546576E-3,{"$f":"VLOOKUP($A60,'8.Non-elective admissions - CCG'!$D$5:$N$215,3,0)*$H60","v":96.406223860818372},{"$f":"VLOOKUP($A60,'8.Non-elective admissions - CCG'!$D$5:$N$215,4,0)*$H60","v":95.295950247780965},{"$f":"VLOOKUP($A60,'8.Non-elective admissions - CCG'!$D$5:$N$215,5,0)*$H60","v":101.19206080468734},{"$f":"VLOOKUP($A60,'8.Non-elective admissions - CCG'!$D$5:$N$215,6,0)*$H60","v":101.46075715852746},{"$f":"VLOOKUP($A60,'8.Non-elective admissions - CCG'!$D$5:$N$215,7,0)*$H60","v":99.325229514601688},{"$f":"VLOOKUP($A60,'8.Non-elective admissions - CCG'!$D$5:$N$215,8,0)*$H60","v":99.325229514601688},{"$f":"VLOOKUP($A60,'8.Non-elective admissions - CCG'!$D$5:$N$215,9,0)*$H60","v":99.325229514601688},{"$f":"VLOOKUP($A60,'8.Non-elective admissions - CCG'!$D$5:$N$215,10,0)*$H60","v":99.325229514601688},{"$f":"VLOOKUP($A60,'8.Non-elective admissions - CCG'!$D$5:$Q$215,11,0)*$H60","v":99.22865091949501},{"$f":"VLOOKUP($A60,'8.Non-elective admissions - CCG'!$D$5:$Q$215,12,0)*$H60","v":99.22865091949501},{"$f":"VLOOKUP($A60,'8.Non-elective admissions - CCG'!$D$5:$Q$215,13,0)*$H60","v":99.22865091949501},{"$f":"VLOOKUP($A60,'8.Non-elective admissions - CCG'!$D$5:$Q$215,14,0)*$H60","v":99.22865091949501}]
["13P","NHS Birmingham Crosscity CCG","E08000030","Walsall",{"$f":"COUNTIF($D$5:D61,D61)","v":1},"Walsall1","NHS Birmingham Crosscity CCG",1.8031420051529846E-2,4.8173150732102765E-2,{"$f":"VLOOKUP($A61,'8.Non-elective admissions - CCG'!$D$5:$N$215,3,0)*$H61","v":342.88548369989155},{"$f":"VLOOKUP($A61,'8.Non-elective admissions - CCG'!$D$5:$N$215,4,0)*$H61","v":338.93660270860653},{"$f":"VLOOKUP($A61,'8.Non-elective admissions - CCG'!$D$5:$N$215,5,0)*$H61","v":359.90714422853574},{"$f":"VLOOKUP($A61,'8.Non-elective admissions - CCG'!$D$5:$N$215,6,0)*$H61","v":360.86280949126683},{"$f":"VLOOKUP($A61,'8.Non-elective admissions - CCG'!$D$5:$N$215,7,0)*$H61","v":353.26743442296089},{"$f":"VLOOKUP($A61,'8.Non-elective admissions - CCG'!$D$5:$N$215,8,0)*$H61","v":353.26743442296089},{"$f":"VLOOKUP($A61,'8.Non-elective admissions - CCG'!$D$5:$N$215,9,0)*$H61","v":353.26743442296089},{"$f":"VLOOKUP($A61,'8.Non-elective admissions - CCG'!$D$5:$N$215,10,0)*$H61","v":353.26743442296089},{"$f":"VLOOKUP($A61,'8.Non-elective admissions - CCG'!$D$5:$Q$215,11,0)*$H61","v":352.92393587097928},{"$f":"VLOOKUP($A61,'8.Non-elective admissions - CCG'!$D$5:$Q$215,12,0)*$H61","v":352.92393587097928},{"$f":"VLOOKUP($A61,'8.Non-elective admissions - CCG'!$D$5:$Q$215,13,0)*$H61","v":352.92393587097928},{"$f":"VLOOKUP($A61,'8.Non-elective admissions - CCG'!$D$5:$Q$215,14,0)*$H61","v":352.92393587097928}]
["13P","NHS Birmingham Crosscity CCG","E10000031","Warwickshire",{"$f":"COUNTIF($D$5:D62,D62)","v":1},"Warwickshire1","NHS Birmingham Crosscity CCG",1.4097536153467119E-3,1.8275235489463024E-3,{"$f":"VLOOKUP($A62,'8.Non-elective admissions - CCG'!$D$5:$N$215,3,0)*$H62","v":26.807874749433072},{"$f":"VLOOKUP($A62,'8.Non-elective admissions - CCG'!$D$5:$N$215,4,0)*$H62","v":26.499138707672142},{"$f":"VLOOKUP($A62,'8.Non-elective admissions - CCG'!$D$5:$N$215,5,0)*$H62","v":28.138682162320368},{"$f":"VLOOKUP($A62,'8.Non-elective admissions - CCG'!$D$5:$N$215,6,0)*$H62","v":28.213399103933746},{"$f":"VLOOKUP($A62,'8.Non-elective admissions - CCG'!$D$5:$N$215,7,0)*$H62","v":27.619568588541249},{"$f":"VLOOKUP($A62,'8.Non-elective admissions - CCG'!$D$5:$N$215,8,0)*$H62","v":27.619568588541249},{"$f":"VLOOKUP($A62,'8.Non-elective admissions - CCG'!$D$5:$N$215,9,0)*$H62","v":27.619568588541249},{"$f":"VLOOKUP($A62,'8.Non-elective admissions - CCG'!$D$5:$N$215,10,0)*$H62","v":27.619568588541249},{"$f":"VLOOKUP($A62,'8.Non-elective admissions - CCG'!$D$5:$Q$215,11,0)*$H62","v":27.592712782168896},{"$f":"VLOOKUP($A62,'8.Non-elective admissions - CCG'!$D$5:$Q$215,12,0)*$H62","v":27.592712782168896},{"$f":"VLOOKUP($A62,'8.Non-elective admissions - CCG'!$D$5:$Q$215,13,0)*$H62","v":27.592712782168896},{"$f":"VLOOKUP($A62,'8.Non-elective admissions - CCG'!$D$5:$Q$215,14,0)*$H62","v":27.592712782168896}]
["13P","NHS Birmingham Crosscity CCG","E10000034","Worcestershire",{"$f":"COUNTIF($D$5:D63,D63)","v":1},"Worcestershire1","NHS Birmingham Crosscity CCG",5.1288179148804187E-3,6.4786611219277233E-3,{"$f":"VLOOKUP($A63,'8.Non-elective admissions - CCG'!$D$5:$N$215,3,0)*$H63","v":97.529601469366042},{"$f":"VLOOKUP($A63,'8.Non-elective admissions - CCG'!$D$5:$N$215,4,0)*$H63","v":96.406390346007228},{"$f":"VLOOKUP($A63,'8.Non-elective admissions - CCG'!$D$5:$N$215,5,0)*$H63","v":102.37120558101316},{"$f":"VLOOKUP($A63,'8.Non-elective admissions - CCG'!$D$5:$N$215,6,0)*$H63","v":102.64303293050182},{"$f":"VLOOKUP($A63,'8.Non-elective admissions - CCG'!$D$5:$N$215,7,0)*$H63","v":100.48262096021675},{"$f":"VLOOKUP($A63,'8.Non-elective admissions - CCG'!$D$5:$N$215,8,0)*$H63","v":100.48262096021675},{"$f":"VLOOKUP($A63,'8.Non-elective admissions - CCG'!$D$5:$N$215,9,0)*$H63","v":100.48262096021675},{"$f":"VLOOKUP($A63,'8.Non-elective admissions - CCG'!$D$5:$N$215,10,0)*$H63","v":100.48262096021675},{"$f":"VLOOKUP($A63,'8.Non-elective admissions - CCG'!$D$5:$Q$215,11,0)*$H63","v":100.38491697893828},{"$f":"VLOOKUP($A63,'8.Non-elective admissions - CCG'!$D$5:$Q$215,12,0)*$H63","v":100.38491697893828},{"$f":"VLOOKUP($A63,'8.Non-elective admissions - CCG'!$D$5:$Q$215,13,0)*$H63","v":100.38491697893828},{"$f":"VLOOKUP($A63,'8.Non-elective admissions - CCG'!$D$5:$Q$215,14,0)*$H63","v":100.38491697893828}]
["04X","NHS Birmingham South and Central CCG","E08000025","Birmingham",{"$f":"COUNTIF($D$5:D64,D64)","v":2},"Birmingham2","NHS Birmingham South and Central CCG",0.96953000451496141,0.20405961343101831,{"$f":"VLOOKUP($A64,'8.Non-elective admissions - CCG'!$D$5:$N$215,3,0)*$H64","v":5565.1022259158781},{"$f":"VLOOKUP($A64,'8.Non-elective admissions - CCG'!$D$5:$N$215,4,0)*$H64","v":5338.2322048593778},{"$f":"VLOOKUP($A64,'8.Non-elective admissions - CCG'!$D$5:$N$215,5,0)*$H64","v":5541.833505807519},{"$f":"VLOOKUP($A64,'8.Non-elective admissions - CCG'!$D$5:$N$215,6,0)*$H64","v":5666.9028763899496},{"$f":"VLOOKUP($A64,'8.Non-elective admissions - CCG'!$D$5:$N$215,7,0)*$H64","v":5705.2235498184036},{"$f":"VLOOKUP($A64,'8.Non-elective admissions - CCG'!$D$5:$N$215,8,0)*$H64","v":5475.6630829993737},{"$f":"VLOOKUP($A64,'8.Non-elective admissions - CCG'!$D$5:$N$215,9,0)*$H64","v":5679.38557519808},{"$f":"VLOOKUP($A64,'8.Non-elective admissions - CCG'!$D$5:$N$215,10,0)*$H64","v":5805.5941435358145},{"$f":"VLOOKUP($A64,'8.Non-elective admissions - CCG'!$D$5:$Q$215,11,0)*$H64","v":5847.8541385638628},{"$f":"VLOOKUP($A64,'8.Non-elective admissions - CCG'!$D$5:$Q$215,12,0)*$H64","v":5612.5546600743583},{"$f":"VLOOKUP($A64,'8.Non-elective admissions - CCG'!$D$5:$Q$215,13,0)*$H64","v":5821.3702145780308},{"$f":"VLOOKUP($A64,'8.Non-elective admissions - CCG'!$D$5:$Q$215,14,0)*$H64","v":5950.73399712421}]
["04X","NHS Birmingham South and Central CCG","E08000028","Sandwell",{"$f":"COUNTIF($D$5:D65,D65)","v":2},"Sandwell2","NHS Birmingham South and Central CCG",2.377346880880937E-3,1.7799822300933669E-3,{"$f":"VLOOKUP($A65,'8.Non-elective admissions - CCG'!$D$5:$N$215,3,0)*$H65","v":13.645971096256579},{"$f":"VLOOKUP($A65,'8.Non-elective admissions - CCG'!$D$5:$N$215,4,0)*$H65","v":13.089671926130439},{"$f":"VLOOKUP($A65,'8.Non-elective admissions - CCG'!$D$5:$N$215,5,0)*$H65","v":13.588914771115435},{"$f":"VLOOKUP($A65,'8.Non-elective admissions - CCG'!$D$5:$N$215,6,0)*$H65","v":13.895592518749076},{"$f":"VLOOKUP($A65,'8.Non-elective admissions - CCG'!$D$5:$N$215,7,0)*$H65","v":13.989557154215897},{"$f":"VLOOKUP($A65,'8.Non-elective admissions - CCG'!$D$5:$N$215,8,0)*$H65","v":13.426660846495311},{"$f":"VLOOKUP($A65,'8.Non-elective admissions - CCG'!$D$5:$N$215,9,0)*$H65","v":13.926200859840419},{"$f":"VLOOKUP($A65,'8.Non-elective admissions - CCG'!$D$5:$N$215,10,0)*$H65","v":14.235671990059096},{"$f":"VLOOKUP($A65,'8.Non-elective admissions - CCG'!$D$5:$Q$215,11,0)*$H65","v":14.339296083071291},{"$f":"VLOOKUP($A65,'8.Non-elective admissions - CCG'!$D$5:$Q$215,12,0)*$H65","v":13.762327367657695},{"$f":"VLOOKUP($A65,'8.Non-elective admissions - CCG'!$D$5:$Q$215,13,0)*$H65","v":14.274355881336428},{"$f":"VLOOKUP($A65,'8.Non-elective admissions - CCG'!$D$5:$Q$215,14,0)*$H65","v":14.591563789810573}]
["04X","NHS Birmingham South and Central CCG","E08000029","Solihull",{"$f":"COUNTIF($D$5:D66,D66)","v":2},"Solihull2","NHS Birmingham South and Central CCG",3.0765665517282718E-3,3.5001272773555405E-3,{"$f":"VLOOKUP($A66,'8.Non-elective admissions - CCG'!$D$5:$N$215,3,0)*$H66","v":17.659492006920281},{"$f":"VLOOKUP($A66,'8.Non-elective admissions - CCG'!$D$5:$N$215,4,0)*$H66","v":16.939575433815865},{"$f":"VLOOKUP($A66,'8.Non-elective admissions - CCG'!$D$5:$N$215,5,0)*$H66","v":17.585654409678803},{"$f":"VLOOKUP($A66,'8.Non-elective admissions - CCG'!$D$5:$N$215,6,0)*$H66","v":17.982531494851749},{"$f":"VLOOKUP($A66,'8.Non-elective admissions - CCG'!$D$5:$N$215,7,0)*$H66","v":18.104132787808812},{"$f":"VLOOKUP($A66,'8.Non-elective admissions - CCG'!$D$5:$N$215,8,0)*$H66","v":17.375678742523348},{"$f":"VLOOKUP($A66,'8.Non-elective admissions - CCG'!$D$5:$N$215,9,0)*$H66","v":18.022142289205249},{"$f":"VLOOKUP($A66,'8.Non-elective admissions - CCG'!$D$5:$N$215,10,0)*$H66","v":18.422634340076478},{"$f":"VLOOKUP($A66,'8.Non-elective admissions - CCG'!$D$5:$Q$215,11,0)*$H66","v":18.556736107504026},{"$f":"VLOOKUP($A66,'8.Non-elective admissions - CCG'!$D$5:$Q$215,12,0)*$H66","v":17.810070711086432},{"$f":"VLOOKUP($A66,'8.Non-elective admissions - CCG'!$D$5:$Q$215,13,0)*$H66","v":18.472695846435379},{"$f":"VLOOKUP($A66,'8.Non-elective admissions - CCG'!$D$5:$Q$215,14,0)*$H66","v":18.88320019857839}]
["04X","NHS Birmingham South and Central CCG","E10000034","Worcestershire",{"$f":"COUNTIF($D$5:D67,D67)","v":2},"Worcestershire2","NHS Birmingham South and Central CCG",2.501608205242949E-2,1.0618559498531277E-2,{"$f":"VLOOKUP($A67,'8.Non-elective admissions - CCG'!$D$5:$N$215,3,0)*$H67","v":143.59231098094529},{"$f":"VLOOKUP($A67,'8.Non-elective admissions - CCG'!$D$5:$N$215,4,0)*$H67","v":137.73854778067678},{"$f":"VLOOKUP($A67,'8.Non-elective admissions - CCG'!$D$5:$N$215,5,0)*$H67","v":142.99192501168696},{"$f":"VLOOKUP($A67,'8.Non-elective admissions - CCG'!$D$5:$N$215,6,0)*$H67","v":146.21899959645037},{"$f":"VLOOKUP($A67,'8.Non-elective admissions - CCG'!$D$5:$N$215,7,0)*$H67","v":147.20776023957265},{"$f":"VLOOKUP($A67,'8.Non-elective admissions - CCG'!$D$5:$N$215,8,0)*$H67","v":141.28457741160864},{"$f":"VLOOKUP($A67,'8.Non-elective admissions - CCG'!$D$5:$N$215,9,0)*$H67","v":146.54108165287539},{"$f":"VLOOKUP($A67,'8.Non-elective admissions - CCG'!$D$5:$N$215,10,0)*$H67","v":149.79755013405043},{"$f":"VLOOKUP($A67,'8.Non-elective admissions - CCG'!$D$5:$Q$215,11,0)*$H67","v":150.88795424556196},{"$f":"VLOOKUP($A67,'8.Non-elective admissions - CCG'!$D$5:$Q$215,12,0)*$H67","v":144.81669184689886},{"$f":"VLOOKUP($A67,'8.Non-elective admissions - CCG'!$D$5:$Q$215,13,0)*$H67","v":150.20460869419728},{"$f":"VLOOKUP($A67,'8.Non-elective admissions - CCG'!$D$5:$Q$215,14,0)*$H67","v":153.54248888740167}]
["00Q","NHS Blackburn with Darwen CCG","E06000008","Blackburn with Darwen",{"$f":"COUNTIF($D$5:D68,D68)","v":1},"Blackburn with Darwen1","NHS Blackburn with Darwen CCG",0.89176766305951216,0.95784190079030584,{"$f":"VLOOKUP($A68,'8.Non-elective admissions - CCG'!$D$5:$N$215,3,0)*$H68","v":4655.9189688337128},{"$f":"VLOOKUP($A68,'8.Non-elective admissions - CCG'!$D$5:$N$215,4,0)*$H68","v":4369.6615489916094},{"$f":"VLOOKUP($A68,'8.Non-elective admissions - CCG'!$D$5:$N$215,5,0)*$H68","v":4456.1630123083823},{"$f":"VLOOKUP($A68,'8.Non-elective admissions - CCG'!$D$5:$N$215,6,0)*$H68","v":4733.5027555198903},{"$f":"VLOOKUP($A68,'8.Non-elective admissions - CCG'!$D$5:$N$215,7,0)*$H68","v":4424.0727891589531},{"$f":"VLOOKUP($A68,'8.Non-elective admissions - CCG'!$D$5:$N$215,8,0)*$H68","v":4395.7099790737057},{"$f":"VLOOKUP($A68,'8.Non-elective admissions - CCG'!$D$5:$N$215,9,0)*$H68","v":4432.3521311838349},{"$f":"VLOOKUP($A68,'8.Non-elective admissions - CCG'!$D$5:$N$215,10,0)*$H68","v":4466.0501332217373},{"$f":"VLOOKUP($A68,'8.Non-elective admissions - CCG'!$D$5:$Q$215,11,0)*$H68","v":4434.4744100749031},{"$f":"VLOOKUP($A68,'8.Non-elective admissions - CCG'!$D$5:$Q$215,12,0)*$H68","v":4405.1262176785158},{"$f":"VLOOKUP($A68,'8.Non-elective admissions - CCG'!$D$5:$Q$215,13,0)*$H68","v":4442.7117582254723},{"$f":"VLOOKUP($A68,'8.Non-elective admissions - CCG'!$D$5:$Q$215,14,0)*$H68","v":4476.5632523836603}]
["00Q","NHS Blackburn with Darwen CCG","E10000017","Lancashire",{"$f":"COUNTIF($D$5:D69,D69)","v":2},"Lancashire2","NHS Blackburn with Darwen CCG",0.10823233694048785,1.495721094453935E-2,{"$f":"VLOOKUP($A69,'8.Non-elective admissions - CCG'!$D$5:$N$215,3,0)*$H69","v":565.08103116628706},{"$f":"VLOOKUP($A69,'8.Non-elective admissions - CCG'!$D$5:$N$215,4,0)*$H69","v":530.33845100839051},{"$f":"VLOOKUP($A69,'8.Non-elective admissions - CCG'!$D$5:$N$215,5,0)*$H69","v":540.83698769161776},{"$f":"VLOOKUP($A69,'8.Non-elective admissions - CCG'!$D$5:$N$215,6,0)*$H69","v":574.49724448010954},{"$f":"VLOOKUP($A69,'8.Non-elective admissions - CCG'!$D$5:$N$215,7,0)*$H69","v":536.94225144104723},{"$f":"VLOOKUP($A69,'8.Non-elective admissions - CCG'!$D$5:$N$215,8,0)*$H69","v":533.4999050262943},{"$f":"VLOOKUP($A69,'8.Non-elective admissions - CCG'!$D$5:$N$215,9,0)*$H69","v":537.94710121616492},{"$f":"VLOOKUP($A69,'8.Non-elective admissions - CCG'!$D$5:$N$215,10,0)*$H69","v":542.03697087826322},{"$f":"VLOOKUP($A69,'8.Non-elective admissions - CCG'!$D$5:$Q$215,11,0)*$H69","v":538.20467862509645},{"$f":"VLOOKUP($A69,'8.Non-elective admissions - CCG'!$D$5:$Q$215,12,0)*$H69","v":534.64273802148421},{"$f":"VLOOKUP($A69,'8.Non-elective admissions - CCG'!$D$5:$Q$215,13,0)*$H69","v":539.20443167452822},{"$f":"VLOOKUP($A69,'8.Non-elective admissions - CCG'!$D$5:$Q$215,14,0)*$H69","v":543.31293041633955}]
["00R","NHS Blackpool CCG","E06000009","Blackpool",{"$f":"COUNTIF($D$5:D70,D70)","v":1},{"$f":"D70&E70","v":"Blackpool1"},{"$f":"B70","v":"NHS Blackpool CCG"},0.8732617198902447,0.97412002214190352,{"$f":"VLOOKUP($A70,'8.Non-elective admissions - CCG'!$D$5:$N$215,3,0)*$H70","v":4641.3860412166505},{"$f":"VLOOKUP($A70,'8.Non-elective admissions - CCG'!$D$5:$N$215,4,0)*$H70","v":4627.4138536984065},{"$f":"VLOOKUP($A70,'8.Non-elective admissions - CCG'!$D$5:$N$215,5,0)*$H70","v":4900.7447720240534},{"$f":"VLOOKUP($A70,'8.Non-elective admissions - CCG'!$D$5:$N$215,6,0)*$H70","v":4745.3041858835895},{"$f":"VLOOKUP($A70,'8.Non-elective admissions - CCG'!$D$5:$N$215,7,0)*$H70","v":4878.9132290267971},{"$f":"VLOOKUP($A70,'8.Non-elective admissions - CCG'!$D$5:$N$215,8,0)*$H70","v":4549.693560628175},{"$f":"VLOOKUP($A70,'8.Non-elective admissions - CCG'!$D$5:$N$215,9,0)*$H70","v":4816.9116469145902},{"$f":"VLOOKUP($A70,'8.Non-elective admissions - CCG'!$D$5:$N$215,10,0)*$H70","v":4664.090845933797},{"$f":"VLOOKUP($A70,'8.Non-elective admissions - CCG'!$D$5:$Q$215,11,0)*$H70","v":4354.9561970926507},{"$f":"VLOOKUP($A70,'8.Non-elective admissions - CCG'!$D$5:$Q$215,12,0)*$H70","v":4349.7166267733091},{"$f":"VLOOKUP($A70,'8.Non-elective admissions - CCG'!$D$5:$Q$215,13,0)*$H70","v":4658.8512756144555},{"$f":"VLOOKUP($A70,'8.Non-elective admissions - CCG'!$D$5:$Q$215,14,0)*$H70","v":4506.9037363535526}]
["00R","NHS Blackpool CCG","E10000017","Lancashire",{"$f":"COUNTIF($D$5:D71,D71)","v":3},"Lancashire3","NHS Blackpool CCG",0.12673828010975538,1.7701907670228684E-2,{"$f":"VLOOKUP($A71,'8.Non-elective admissions - CCG'!$D$5:$N$215,3,0)*$H71","v":673.61395878334986},{"$f":"VLOOKUP($A71,'8.Non-elective admissions - CCG'!$D$5:$N$215,4,0)*$H71","v":671.58614630159377},{"$f":"VLOOKUP($A71,'8.Non-elective admissions - CCG'!$D$5:$N$215,5,0)*$H71","v":711.25522797594715},{"$f":"VLOOKUP($A71,'8.Non-elective admissions - CCG'!$D$5:$N$215,6,0)*$H71","v":688.6958141164107},{"$f":"VLOOKUP($A71,'8.Non-elective admissions - CCG'!$D$5:$N$215,7,0)*$H71","v":708.08677097320333},{"$f":"VLOOKUP($A71,'8.Non-elective admissions - CCG'!$D$5:$N$215,8,0)*$H71","v":660.30643937182549},{"$f":"VLOOKUP($A71,'8.Non-elective admissions - CCG'!$D$5:$N$215,9,0)*$H71","v":699.08835308541063},{"$f":"VLOOKUP($A71,'8.Non-elective admissions - CCG'!$D$5:$N$215,10,0)*$H71","v":676.90915406620354},{"$f":"VLOOKUP($A71,'8.Non-elective admissions - CCG'!$D$5:$Q$215,11,0)*$H71","v":632.04380290735003},{"$f":"VLOOKUP($A71,'8.Non-elective admissions - CCG'!$D$5:$Q$215,12,0)*$H71","v":631.28337322669154},{"$f":"VLOOKUP($A71,'8.Non-elective admissions - CCG'!$D$5:$Q$215,13,0)*$H71","v":676.14872438554494},{"$f":"VLOOKUP($A71,'8.Non-elective admissions - CCG'!$D$5:$Q$215,14,0)*$H71","v":654.09626364644748}]
["00T","NHS Bolton CCG","E06000008","Blackburn with Darwen",{"$f":"COUNTIF($D$5:D72,D72)","v":2},"Blackburn with Darwen2","NHS Bolton CCG",1.2343734817440718E-2,2.3347931071634544E-2,{"$f":"VLOOKUP($A72,'8.Non-elective admissions - CCG'!$D$5:$N$215,3,0)*$H72","v":97.848785897852565},{"$f":"VLOOKUP($A72,'8.Non-elective admissions - CCG'!$D$5:$N$215,4,0)*$H72","v":97.367380239972377},{"$f":"VLOOKUP($A72,'8.Non-elective admissions - CCG'!$D$5:$N$215,5,0)*$H72","v":104.9217459482461},{"$f":"VLOOKUP($A72,'8.Non-elective admissions - CCG'!$D$5:$N$215,6,0)*$H72","v":103.29237295234392},{"$f":"VLOOKUP($A72,'8.Non-elective admissions - CCG'!$D$5:$N$215,7,0)*$H72","v":95.923163266331812},{"$f":"VLOOKUP($A72,'8.Non-elective admissions - CCG'!$D$5:$N$215,8,0)*$H72","v":94.886289541666798},{"$f":"VLOOKUP($A72,'8.Non-elective admissions - CCG'!$D$5:$N$215,9,0)*$H72","v":95.39238266918187},{"$f":"VLOOKUP($A72,'8.Non-elective admissions - CCG'!$D$5:$N$215,10,0)*$H72","v":85.369269997420005},{"$f":"VLOOKUP($A72,'8.Non-elective admissions - CCG'!$D$5:$Q$215,11,0)*$H72","v":93.318635219851828},{"$f":"VLOOKUP($A72,'8.Non-elective admissions - CCG'!$D$5:$Q$215,12,0)*$H72","v":92.244730290734481},{"$f":"VLOOKUP($A72,'8.Non-elective admissions - CCG'!$D$5:$Q$215,13,0)*$H72","v":92.738479683432118},{"$f":"VLOOKUP($A72,'8.Non-elective admissions - CCG'!$D$5:$Q$215,14,0)*$H72","v":83.036304116923702}]
["00T","NHS Bolton CCG","E08000001","Bolton",{"$f":"COUNTIF($D$5:D73,D73)","v":1},"Bolton1","NHS Bolton CCG",0.97368412235174284,0.97600271375889203,{"$f":"VLOOKUP($A73,'8.Non-elective admissions - CCG'!$D$5:$N$215,3,0)*$H73","v":7718.3940378822654},{"$f":"VLOOKUP($A73,'8.Non-elective admissions - CCG'!$D$5:$N$215,4,0)*$H73","v":7680.4203571105472},{"$f":"VLOOKUP($A73,'8.Non-elective admissions - CCG'!$D$5:$N$215,5,0)*$H73","v":8276.315039989815},{"$f":"VLOOKUP($A73,'8.Non-elective admissions - CCG'!$D$5:$N$215,6,0)*$H73","v":8147.7887358393837},{"$f":"VLOOKUP($A73,'8.Non-elective admissions - CCG'!$D$5:$N$215,7,0)*$H73","v":7566.4993147953937},{"$f":"VLOOKUP($A73,'8.Non-elective admissions - CCG'!$D$5:$N$215,8,0)*$H73","v":7484.7098485178476},{"$f":"VLOOKUP($A73,'8.Non-elective admissions - CCG'!$D$5:$N$215,9,0)*$H73","v":7524.630897534269},{"$f":"VLOOKUP($A73,'8.Non-elective admissions - CCG'!$D$5:$N$215,10,0)*$H73","v":6733.9993901846537},{"$f":"VLOOKUP($A73,'8.Non-elective admissions - CCG'!$D$5:$Q$215,11,0)*$H73","v":7361.0519649791759},{"$f":"VLOOKUP($A73,'8.Non-elective admissions - CCG'!$D$5:$Q$215,12,0)*$H73","v":7276.3414463345744},{"$f":"VLOOKUP($A73,'8.Non-elective admissions - CCG'!$D$5:$Q$215,13,0)*$H73","v":7315.2888112286437},{"$f":"VLOOKUP($A73,'8.Non-elective admissions - CCG'!$D$5:$Q$215,14,0)*$H73","v":6549.9730910601738}]
["00T","NHS Bolton CCG","E08000002","Bury",{"$f":"COUNTIF($D$5:D74,D74)","v":1},"Bury1","NHS Bolton CCG",7.8739893650884053E-3,1.1884052107775711E-2,{"$f":"VLOOKUP($A74,'8.Non-elective admissions - CCG'!$D$5:$N$215,3,0)*$H74","v":62.41711369705579},{"$f":"VLOOKUP($A74,'8.Non-elective admissions - CCG'!$D$5:$N$215,4,0)*$H74","v":62.110028111817343},{"$f":"VLOOKUP($A74,'8.Non-elective admissions - CCG'!$D$5:$N$215,5,0)*$H74","v":66.928909603251441},{"$f":"VLOOKUP($A74,'8.Non-elective admissions - CCG'!$D$5:$N$215,6,0)*$H74","v":65.889543007059771},{"$f":"VLOOKUP($A74,'8.Non-elective admissions - CCG'!$D$5:$N$215,7,0)*$H74","v":61.188771356101995},{"$f":"VLOOKUP($A74,'8.Non-elective admissions - CCG'!$D$5:$N$215,8,0)*$H74","v":60.527356249434568},{"$f":"VLOOKUP($A74,'8.Non-elective admissions - CCG'!$D$5:$N$215,9,0)*$H74","v":60.850189813403198},{"$f":"VLOOKUP($A74,'8.Non-elective admissions - CCG'!$D$5:$N$215,10,0)*$H74","v":54.456510448951413},{"$f":"VLOOKUP($A74,'8.Non-elective admissions - CCG'!$D$5:$Q$215,11,0)*$H74","v":59.527359600068344},{"$f":"VLOOKUP($A74,'8.Non-elective admissions - CCG'!$D$5:$Q$215,12,0)*$H74","v":58.842322525305654},{"$f":"VLOOKUP($A74,'8.Non-elective admissions - CCG'!$D$5:$Q$215,13,0)*$H74","v":59.157282099909189},{"$f":"VLOOKUP($A74,'8.Non-elective admissions - CCG'!$D$5:$Q$215,14,0)*$H74","v":52.968326458949704}]
["00T","NHS Bolton CCG","E10000017","Lancashire",{"$f":"COUNTIF($D$5:D75,D75)","v":4},"Lancashire4","NHS Bolton CCG",2.5364297656901803E-3,0,{"$f":"VLOOKUP($A75,'8.Non-elective admissions - CCG'!$D$5:$N$215,3,0)*$H75","v":20.106278752626061},{"$f":"VLOOKUP($A75,'8.Non-elective admissions - CCG'!$D$5:$N$215,4,0)*$H75","v":20.007357991764142},{"$f":"VLOOKUP($A75,'8.Non-elective admissions - CCG'!$D$5:$N$215,5,0)*$H75","v":21.559653008366531},{"$f":"VLOOKUP($A75,'8.Non-elective admissions - CCG'!$D$5:$N$215,6,0)*$H75","v":21.224844279295429},{"$f":"VLOOKUP($A75,'8.Non-elective admissions - CCG'!$D$5:$N$215,7,0)*$H75","v":19.710595709178392},{"$f":"VLOOKUP($A75,'8.Non-elective admissions - CCG'!$D$5:$N$215,8,0)*$H75","v":19.497535608860417},{"$f":"VLOOKUP($A75,'8.Non-elective admissions - CCG'!$D$5:$N$215,9,0)*$H75","v":19.601529229253714},{"$f":"VLOOKUP($A75,'8.Non-elective admissions - CCG'!$D$5:$N$215,10,0)*$H75","v":17.541948259513287},{"$f":"VLOOKUP($A75,'8.Non-elective admissions - CCG'!$D$5:$Q$215,11,0)*$H75","v":19.175409028617764},{"$f":"VLOOKUP($A75,'8.Non-elective admissions - CCG'!$D$5:$Q$215,12,0)*$H75","v":18.954739639002717},{"$f":"VLOOKUP($A75,'8.Non-elective admissions - CCG'!$D$5:$Q$215,13,0)*$H75","v":19.056196829630323},{"$f":"VLOOKUP($A75,'8.Non-elective admissions - CCG'!$D$5:$Q$215,14,0)*$H75","v":17.062563033797844}]
["00T","NHS Bolton CCG","E08000006","Salford",{"$f":"COUNTIF($D$5:D76,D76)","v":1},"Salford1","NHS Bolton CCG",2.3655474432989002E-3,2.8135336548041289E-3,{"$f":"VLOOKUP($A76,'8.Non-elective admissions - CCG'!$D$5:$N$215,3,0)*$H76","v":18.751694583030382},{"$f":"VLOOKUP($A76,'8.Non-elective admissions - CCG'!$D$5:$N$215,4,0)*$H76","v":18.659438232741724},{"$f":"VLOOKUP($A76,'8.Non-elective admissions - CCG'!$D$5:$N$215,5,0)*$H76","v":20.107153268040651},{"$f":"VLOOKUP($A76,'8.Non-elective admissions - CCG'!$D$5:$N$215,6,0)*$H76","v":19.794901005525197},{"$f":"VLOOKUP($A76,'8.Non-elective admissions - CCG'!$D$5:$N$215,7,0)*$H76","v":18.382669181875752},{"$f":"VLOOKUP($A76,'8.Non-elective admissions - CCG'!$D$5:$N$215,8,0)*$H76","v":18.183963196638647},{"$f":"VLOOKUP($A76,'8.Non-elective admissions - CCG'!$D$5:$N$215,9,0)*$H76","v":18.280950641813899},{"$f":"VLOOKUP($A76,'8.Non-elective admissions - CCG'!$D$5:$N$215,10,0)*$H76","v":16.360126117855195},{"$f":"VLOOKUP($A76,'8.Non-elective admissions - CCG'!$D$5:$Q$215,11,0)*$H76","v":17.883538671339686},{"$f":"VLOOKUP($A76,'8.Non-elective admissions - CCG'!$D$5:$Q$215,12,0)*$H76","v":17.677736043772679},{"$f":"VLOOKUP($A76,'8.Non-elective admissions - CCG'!$D$5:$Q$215,13,0)*$H76","v":17.772357941504637},{"$f":"VLOOKUP($A76,'8.Non-elective admissions - CCG'!$D$5:$Q$215,14,0)*$H76","v":15.913037651071701}]
["00T","NHS Bolton CCG","E08000010","Wigan",{"$f":"COUNTIF($D$5:D77,D77)","v":1},"Wigan1","NHS Bolton CCG",1.1961762567389623E-3,1.0974721251302672E-3,{"$f":"VLOOKUP($A77,'8.Non-elective admissions - CCG'!$D$5:$N$215,3,0)*$H77","v":9.4820891871697537},{"$f":"VLOOKUP($A77,'8.Non-elective admissions - CCG'!$D$5:$N$215,4,0)*$H77","v":9.4354383131569346},{"$f":"VLOOKUP($A77,'8.Non-elective admissions - CCG'!$D$5:$N$215,5,0)*$H77","v":10.167498182281179},{"$f":"VLOOKUP($A77,'8.Non-elective admissions - CCG'!$D$5:$N$215,6,0)*$H77","v":10.009602916391637},{"$f":"VLOOKUP($A77,'8.Non-elective admissions - CCG'!$D$5:$N$215,7,0)*$H77","v":9.2954856911184756},{"$f":"VLOOKUP($A77,'8.Non-elective admissions - CCG'!$D$5:$N$215,8,0)*$H77","v":9.1950068855524041},{"$f":"VLOOKUP($A77,'8.Non-elective admissions - CCG'!$D$5:$N$215,9,0)*$H77","v":9.2440501120787015},{"$f":"VLOOKUP($A77,'8.Non-elective admissions - CCG'!$D$5:$N$215,10,0)*$H77","v":8.2727549916066625},{"$f":"VLOOKUP($A77,'8.Non-elective admissions - CCG'!$D$5:$Q$215,11,0)*$H77","v":9.043092500946555},{"$f":"VLOOKUP($A77,'8.Non-elective admissions - CCG'!$D$5:$Q$215,12,0)*$H77","v":8.939025166610266},{"$f":"VLOOKUP($A77,'8.Non-elective admissions - CCG'!$D$5:$Q$215,13,0)*$H77","v":8.9868722168798243},{"$f":"VLOOKUP($A77,'8.Non-elective admissions - CCG'!$D$5:$Q$215,14,0)*$H77","v":8.0466776790829986}]
["10G","NHS Bracknell and Ascot CCG","E06000036","Bracknell Forest",{"$f":"COUNTIF($D$5:D78,D78)","v":1},"Bracknell Forest1","NHS Bracknell and Ascot CCG",0.82085503472222221,0.95022567598120911,{"$f":"VLOOKUP($A78,'8.Non-elective admissions - CCG'!$D$5:$N$215,3,0)*$H78","v":1970.8729383680554},{"$f":"VLOOKUP($A78,'8.Non-elective admissions - CCG'!$D$5:$N$215,4,0)*$H78","v":2025.8702256944443},{"$f":"VLOOKUP($A78,'8.Non-elective admissions - CCG'!$D$5:$N$215,5,0)*$H78","v":2100.5680338541665},{"$f":"VLOOKUP($A78,'8.Non-elective admissions - CCG'!$D$5:$N$215,6,0)*$H78","v":2033.2579210069443},{"$f":"VLOOKUP($A78,'8.Non-elective admissions - CCG'!$D$5:$N$215,7,0)*$H78","v":1809.9853515625},{"$f":"VLOOKUP($A78,'8.Non-elective admissions - CCG'!$D$5:$N$215,8,0)*$H78","v":1868.2660590277778},{"$f":"VLOOKUP($A78,'8.Non-elective admissions - CCG'!$D$5:$N$215,9,0)*$H78","v":1960.2018229166667},{"$f":"VLOOKUP($A78,'8.Non-elective admissions - CCG'!$D$5:$N$215,10,0)*$H78","v":1899.4585503472222},{"$f":"VLOOKUP($A78,'8.Non-elective admissions - CCG'!$D$5:$Q$215,11,0)*$H78","v":1838.7152777777778},{"$f":"VLOOKUP($A78,'8.Non-elective admissions - CCG'!$D$5:$Q$215,12,0)*$H78","v":1901.1002604166667},{"$f":"VLOOKUP($A78,'8.Non-elective admissions - CCG'!$D$5:$Q$215,13,0)*$H78","v":1990.5734592013889},{"$f":"VLOOKUP($A78,'8.Non-elective admissions - CCG'!$D$5:$Q$215,14,0)*$H78","v":1929.8301866319443}]
["10G","NHS Bracknell and Ascot CCG","E10000014","Hampshire",{"$f":"COUNTIF($D$5:D79,D79)","v":1},"Hampshire1","NHS Bracknell and Ascot CCG",6.2138310185185178E-3,0,{"$f":"VLOOKUP($A79,'8.Non-elective admissions - CCG'!$D$5:$N$215,3,0)*$H79","v":14.919408275462962},{"$f":"VLOOKUP($A79,'8.Non-elective admissions - CCG'!$D$5:$N$215,4,0)*$H79","v":15.335734953703701},{"$f":"VLOOKUP($A79,'8.Non-elective admissions - CCG'!$D$5:$N$215,5,0)*$H79","v":15.901193576388888},{"$f":"VLOOKUP($A79,'8.Non-elective admissions - CCG'!$D$5:$N$215,6,0)*$H79","v":15.39165943287037},{"$f":"VLOOKUP($A79,'8.Non-elective admissions - CCG'!$D$5:$N$215,7,0)*$H79","v":13.701497395833332},{"$f":"VLOOKUP($A79,'8.Non-elective admissions - CCG'!$D$5:$N$215,8,0)*$H79","v":14.142679398148147},{"$f":"VLOOKUP($A79,'8.Non-elective admissions - CCG'!$D$5:$N$215,9,0)*$H79","v":14.83862847222222},{"$f":"VLOOKUP($A79,'8.Non-elective admissions - CCG'!$D$5:$N$215,10,0)*$H79","v":14.37880497685185},{"$f":"VLOOKUP($A79,'8.Non-elective admissions - CCG'!$D$5:$Q$215,11,0)*$H79","v":13.918981481481479},{"$f":"VLOOKUP($A79,'8.Non-elective admissions - CCG'!$D$5:$Q$215,12,0)*$H79","v":14.391232638888887},{"$f":"VLOOKUP($A79,'8.Non-elective admissions - CCG'!$D$5:$Q$215,13,0)*$H79","v":15.068540219907407},{"$f":"VLOOKUP($A79,'8.Non-elective admissions - CCG'!$D$5:$Q$215,14,0)*$H79","v":14.608716724537036}]
["10G","NHS Bracknell and Ascot CCG","E10000030","Surrey",{"$f":"COUNTIF($D$5:D80,D80)","v":1},"Surrey1","NHS Bracknell and Ascot CCG",1.7708333333333333E-2,2.0186860398954377E-3,{"$f":"VLOOKUP($A80,'8.Non-elective admissions - CCG'!$D$5:$N$215,3,0)*$H80","v":42.517708333333331},{"$f":"VLOOKUP($A80,'8.Non-elective admissions - CCG'!$D$5:$N$215,4,0)*$H80","v":43.704166666666666},{"$f":"VLOOKUP($A80,'8.Non-elective admissions - CCG'!$D$5:$N$215,5,0)*$H80","v":45.315624999999997},{"$f":"VLOOKUP($A80,'8.Non-elective admissions - CCG'!$D$5:$N$215,6,0)*$H80","v":43.863541666666663},{"$f":"VLOOKUP($A80,'8.Non-elective admissions - CCG'!$D$5:$N$215,7,0)*$H80","v":39.046875},{"$f":"VLOOKUP($A80,'8.Non-elective admissions - CCG'!$D$5:$N$215,8,0)*$H80","v":40.304166666666667},{"$f":"VLOOKUP($A80,'8.Non-elective admissions - CCG'!$D$5:$N$215,9,0)*$H80","v":42.287500000000001},{"$f":"VLOOKUP($A80,'8.Non-elective admissions - CCG'!$D$5:$N$215,10,0)*$H80","v":40.977083333333333},{"$f":"VLOOKUP($A80,'8.Non-elective admissions - CCG'!$D$5:$Q$215,11,0)*$H80","v":39.666666666666664},{"$f":"VLOOKUP($A80,'8.Non-elective admissions - CCG'!$D$5:$Q$215,12,0)*$H80","v":41.012499999999996},{"$f":"VLOOKUP($A80,'8.Non-elective admissions - CCG'!$D$5:$Q$215,13,0)*$H80","v":42.942708333333336},{"$f":"VLOOKUP($A80,'8.Non-elective admissions - CCG'!$D$5:$Q$215,14,0)*$H80","v":41.632291666666667}]
["10G","NHS Bracknell and Ascot CCG","E06000040","Windsor and Maidenhead",{"$f":"COUNTIF($D$5:D81,D81)","v":1},"Windsor and Maidenhead1","NHS Bracknell and Ascot CCG",0.12254050925925924,0.10873821307297786,{"$f":"VLOOKUP($A81,'8.Non-elective admissions - CCG'!$D$5:$N$215,3,0)*$H81","v":294.21976273148147},{"$f":"VLOOKUP($A81,'8.Non-elective admissions - CCG'!$D$5:$N$215,4,0)*$H81","v":302.42997685185179},{"$f":"VLOOKUP($A81,'8.Non-elective admissions - CCG'!$D$5:$N$215,5,0)*$H81","v":313.5811631944444},{"$f":"VLOOKUP($A81,'8.Non-elective admissions - CCG'!$D$5:$N$215,6,0)*$H81","v":303.53284143518516},{"$f":"VLOOKUP($A81,'8.Non-elective admissions - CCG'!$D$5:$N$215,7,0)*$H81","v":270.20182291666663},{"$f":"VLOOKUP($A81,'8.Non-elective admissions - CCG'!$D$5:$N$215,8,0)*$H81","v":278.90219907407402},{"$f":"VLOOKUP($A81,'8.Non-elective admissions - CCG'!$D$5:$N$215,9,0)*$H81","v":292.62673611111109},{"$f":"VLOOKUP($A81,'8.Non-elective admissions - CCG'!$D$5:$N$215,10,0)*$H81","v":283.55873842592587},{"$f":"VLOOKUP($A81,'8.Non-elective admissions - CCG'!$D$5:$Q$215,11,0)*$H81","v":274.4907407407407},{"$f":"VLOOKUP($A81,'8.Non-elective admissions - CCG'!$D$5:$Q$215,12,0)*$H81","v":283.8038194444444},{"$f":"VLOOKUP($A81,'8.Non-elective admissions - CCG'!$D$5:$Q$215,13,0)*$H81","v":297.1607349537037},{"$f":"VLOOKUP($A81,'8.Non-elective admissions - CCG'!$D$5:$Q$215,14,0)*$H81","v":288.09273726851848}]
["10G","NHS Bracknell and Ascot CCG","E06000041","Wokingham",{"$f":"COUNTIF($D$5:D82,D82)","v":1},"Wokingham1","NHS Bracknell and Ascot CCG",3.2682291666666662E-2,2.7061832513731572E-2,{"$f":"VLOOKUP($A82,'8.Non-elective admissions - CCG'!$D$5:$N$215,3,0)*$H82","v":78.47018229166666},{"$f":"VLOOKUP($A82,'8.Non-elective admissions - CCG'!$D$5:$N$215,4,0)*$H82","v":80.659895833333323},{"$f":"VLOOKUP($A82,'8.Non-elective admissions - CCG'!$D$5:$N$215,5,0)*$H82","v":83.633984374999983},{"$f":"VLOOKUP($A82,'8.Non-elective admissions - CCG'!$D$5:$N$215,6,0)*$H82","v":80.95403645833332},{"$f":"VLOOKUP($A82,'8.Non-elective admissions - CCG'!$D$5:$N$215,7,0)*$H82","v":72.064453124999986},{"$f":"VLOOKUP($A82,'8.Non-elective admissions - CCG'!$D$5:$N$215,8,0)*$H82","v":74.384895833333317},{"$f":"VLOOKUP($A82,'8.Non-elective admissions - CCG'!$D$5:$N$215,9,0)*$H82","v":78.045312499999994},{"$f":"VLOOKUP($A82,'8.Non-elective admissions - CCG'!$D$5:$N$215,10,0)*$H82","v":75.626822916666654},{"$f":"VLOOKUP($A82,'8.Non-elective admissions - CCG'!$D$5:$Q$215,11,0)*$H82","v":73.208333333333329},{"$f":"VLOOKUP($A82,'8.Non-elective admissions - CCG'!$D$5:$Q$215,12,0)*$H82","v":75.692187499999989},{"$f":"VLOOKUP($A82,'8.Non-elective admissions - CCG'!$D$5:$Q$215,13,0)*$H82","v":79.254557291666657},{"$f":"VLOOKUP($A82,'8.Non-elective admissions - CCG'!$D$5:$Q$215,14,0)*$H82","v":76.836067708333317}]
["02W","NHS Bradford City CCG","E08000032","Bradford",{"$f":"COUNTIF($D$5:D83,D83)","v":2},"Bradford2","NHS Bradford City CCG",0.99464863519455737,0.21343585708156262,{"$f":"VLOOKUP($A83,'8.Non-elective admissions - CCG'!$D$5:$N$215,3,0)*$H83","v":3004.8335269227578},{"$f":"VLOOKUP($A83,'8.Non-elective admissions - CCG'!$D$5:$N$215,4,0)*$H83","v":3228.6294698415331},{"$f":"VLOOKUP($A83,'8.Non-elective admissions - CCG'!$D$5:$N$215,5,0)*$H83","v":3065.5070936696256},{"$f":"VLOOKUP($A83,'8.Non-elective admissions - CCG'!$D$5:$N$215,6,0)*$H83","v":3261.4528748029538},{"$f":"VLOOKUP($A83,'8.Non-elective admissions - CCG'!$D$5:$N$215,7,0)*$H83","v":3006.822824193147},{"$f":"VLOOKUP($A83,'8.Non-elective admissions - CCG'!$D$5:$N$215,8,0)*$H83","v":3104.2983904422135},{"$f":"VLOOKUP($A83,'8.Non-elective admissions - CCG'!$D$5:$N$215,9,0)*$H83","v":2947.1439060814737},{"$f":"VLOOKUP($A83,'8.Non-elective admissions - CCG'!$D$5:$N$215,10,0)*$H83","v":3135.132498133245},{"$f":"VLOOKUP($A83,'8.Non-elective admissions - CCG'!$D$5:$Q$215,11,0)*$H83","v":2802.9198539782628},{"$f":"VLOOKUP($A83,'8.Non-elective admissions - CCG'!$D$5:$Q$215,12,0)*$H83","v":3008.8121214635362},{"$f":"VLOOKUP($A83,'8.Non-elective admissions - CCG'!$D$5:$Q$215,13,0)*$H83","v":2858.6201775491577},{"$f":"VLOOKUP($A83,'8.Non-elective admissions - CCG'!$D$5:$Q$215,14,0)*$H83","v":3039.6462291545672}]
["02W","NHS Bradford City CCG","E08000035","Leeds",{"$f":"COUNTIF($D$5:D84,D84)","v":1},"Leeds1","NHS Bradford City CCG",5.3513648054426283E-3,0,{"$f":"VLOOKUP($A84,'8.Non-elective admissions - CCG'!$D$5:$N$215,3,0)*$H84","v":16.166473077242181},{"$f":"VLOOKUP($A84,'8.Non-elective admissions - CCG'!$D$5:$N$215,4,0)*$H84","v":17.370530158466771},{"$f":"VLOOKUP($A84,'8.Non-elective admissions - CCG'!$D$5:$N$215,5,0)*$H84","v":16.492906330374179},{"$f":"VLOOKUP($A84,'8.Non-elective admissions - CCG'!$D$5:$N$215,6,0)*$H84","v":17.547125197046377},{"$f":"VLOOKUP($A84,'8.Non-elective admissions - CCG'!$D$5:$N$215,7,0)*$H84","v":16.177175806853064},{"$f":"VLOOKUP($A84,'8.Non-elective admissions - CCG'!$D$5:$N$215,8,0)*$H84","v":16.701609557786444},{"$f":"VLOOKUP($A84,'8.Non-elective admissions - CCG'!$D$5:$N$215,9,0)*$H84","v":15.856093918526508},{"$f":"VLOOKUP($A84,'8.Non-elective admissions - CCG'!$D$5:$N$215,10,0)*$H84","v":16.867501866755166},{"$f":"VLOOKUP($A84,'8.Non-elective admissions - CCG'!$D$5:$Q$215,11,0)*$H84","v":15.080146021737328},{"$f":"VLOOKUP($A84,'8.Non-elective admissions - CCG'!$D$5:$Q$215,12,0)*$H84","v":16.187878536463952},{"$f":"VLOOKUP($A84,'8.Non-elective admissions - CCG'!$D$5:$Q$215,13,0)*$H84","v":15.379822450842115},{"$f":"VLOOKUP($A84,'8.Non-elective admissions - CCG'!$D$5:$Q$215,14,0)*$H84","v":16.35377084543267}]
["02R","NHS Bradford Districts CCG","E08000032","Bradford",{"$f":"COUNTIF($D$5:D85,D85)","v":3},"Bradford3","NHS Bradford Districts CCG",0.97755163925653754,0.58541262010607265,{"$f":"VLOOKUP($A85,'8.Non-elective admissions - CCG'!$D$5:$N$215,3,0)*$H85","v":9103.9384163961349},{"$f":"VLOOKUP($A85,'8.Non-elective admissions - CCG'!$D$5:$N$215,4,0)*$H85","v":9141.0853786878833},{"$f":"VLOOKUP($A85,'8.Non-elective admissions - CCG'!$D$5:$N$215,5,0)*$H85","v":9305.3140540829809},{"$f":"VLOOKUP($A85,'8.Non-elective admissions - CCG'!$D$5:$N$215,6,0)*$H85","v":9221.2446131069191},{"$f":"VLOOKUP($A85,'8.Non-elective admissions - CCG'!$D$5:$N$215,7,0)*$H85","v":9209.5139934358394},{"$f":"VLOOKUP($A85,'8.Non-elective admissions - CCG'!$D$5:$N$215,8,0)*$H85","v":8880.0790910063879},{"$f":"VLOOKUP($A85,'8.Non-elective admissions - CCG'!$D$5:$N$215,9,0)*$H85","v":9035.509801648177},{"$f":"VLOOKUP($A85,'8.Non-elective admissions - CCG'!$D$5:$N$215,10,0)*$H85","v":8949.4852573936005},{"$f":"VLOOKUP($A85,'8.Non-elective admissions - CCG'!$D$5:$Q$215,11,0)*$H85","v":8591.7013574257089},{"$f":"VLOOKUP($A85,'8.Non-elective admissions - CCG'!$D$5:$Q$215,12,0)*$H85","v":8611.2523902108387},{"$f":"VLOOKUP($A85,'8.Non-elective admissions - CCG'!$D$5:$Q$215,13,0)*$H85","v":8757.8851360993194},{"$f":"VLOOKUP($A85,'8.Non-elective admissions - CCG'!$D$5:$Q$215,14,0)*$H85","v":8672.8381434840012}]
["02R","NHS Bradford Districts CCG","E08000033","Calderdale",{"$f":"COUNTIF($D$5:D86,D86)","v":1},"Calderdale1","NHS Bradford Districts CCG",4.4712401745686326E-3,6.966575261246573E-3,{"$f":"VLOOKUP($A86,'8.Non-elective admissions - CCG'!$D$5:$N$215,3,0)*$H86","v":41.640659745757674},{"$f":"VLOOKUP($A86,'8.Non-elective admissions - CCG'!$D$5:$N$215,4,0)*$H86","v":41.810566872391284},{"$f":"VLOOKUP($A86,'8.Non-elective admissions - CCG'!$D$5:$N$215,5,0)*$H86","v":42.561735221718813},{"$f":"VLOOKUP($A86,'8.Non-elective admissions - CCG'!$D$5:$N$215,6,0)*$H86","v":42.177208566705914},{"$f":"VLOOKUP($A86,'8.Non-elective admissions - CCG'!$D$5:$N$215,7,0)*$H86","v":42.123553684611089},{"$f":"VLOOKUP($A86,'8.Non-elective admissions - CCG'!$D$5:$N$215,8,0)*$H86","v":40.616745745781458},{"$f":"VLOOKUP($A86,'8.Non-elective admissions - CCG'!$D$5:$N$215,9,0)*$H86","v":41.327672933537869},{"$f":"VLOOKUP($A86,'8.Non-elective admissions - CCG'!$D$5:$N$215,10,0)*$H86","v":40.93420379817583},{"$f":"VLOOKUP($A86,'8.Non-elective admissions - CCG'!$D$5:$Q$215,11,0)*$H86","v":39.297729894283712},{"$f":"VLOOKUP($A86,'8.Non-elective admissions - CCG'!$D$5:$Q$215,12,0)*$H86","v":39.387154697775081},{"$f":"VLOOKUP($A86,'8.Non-elective admissions - CCG'!$D$5:$Q$215,13,0)*$H86","v":40.057840723960382},{"$f":"VLOOKUP($A86,'8.Non-elective admissions - CCG'!$D$5:$Q$215,14,0)*$H86","v":39.66884282877291}]
["02R","NHS Bradford Districts CCG","E08000034","Kirklees",{"$f":"COUNTIF($D$5:D87,D87)","v":2},"Kirklees2","NHS Bradford Districts CCG",1.0339742903689962E-2,7.9249522064771313E-3,{"$f":"VLOOKUP($A87,'8.Non-elective admissions - CCG'!$D$5:$N$215,3,0)*$H87","v":96.294025662064612},{"$f":"VLOOKUP($A87,'8.Non-elective admissions - CCG'!$D$5:$N$215,4,0)*$H87","v":96.686935892404833},{"$f":"VLOOKUP($A87,'8.Non-elective admissions - CCG'!$D$5:$N$215,5,0)*$H87","v":98.42401270022475},{"$f":"VLOOKUP($A87,'8.Non-elective admissions - CCG'!$D$5:$N$215,6,0)*$H87","v":97.534794810507407},{"$f":"VLOOKUP($A87,'8.Non-elective admissions - CCG'!$D$5:$N$215,7,0)*$H87","v":97.41071789566314},{"$f":"VLOOKUP($A87,'8.Non-elective admissions - CCG'!$D$5:$N$215,8,0)*$H87","v":93.926224537119623},{"$f":"VLOOKUP($A87,'8.Non-elective admissions - CCG'!$D$5:$N$215,9,0)*$H87","v":95.570243658806319},{"$f":"VLOOKUP($A87,'8.Non-elective admissions - CCG'!$D$5:$N$215,10,0)*$H87","v":94.660346283281598},{"$f":"VLOOKUP($A87,'8.Non-elective admissions - CCG'!$D$5:$Q$215,11,0)*$H87","v":90.876000380531082},{"$f":"VLOOKUP($A87,'8.Non-elective admissions - CCG'!$D$5:$Q$215,12,0)*$H87","v":91.082795238604874},{"$f":"VLOOKUP($A87,'8.Non-elective admissions - CCG'!$D$5:$Q$215,13,0)*$H87","v":92.633756674158377},{"$f":"VLOOKUP($A87,'8.Non-elective admissions - CCG'!$D$5:$Q$215,14,0)*$H87","v":91.734199041537337}]
["02R","NHS Bradford Districts CCG","E08000035","Leeds",{"$f":"COUNTIF($D$5:D88,D88)","v":2},"Leeds2","NHS Bradford Districts CCG",7.6373776652040011E-3,3.105094579077778E-3,{"$f":"VLOOKUP($A88,'8.Non-elective admissions - CCG'!$D$5:$N$215,3,0)*$H88","v":71.126898196044863},{"$f":"VLOOKUP($A88,'8.Non-elective admissions - CCG'!$D$5:$N$215,4,0)*$H88","v":71.417118547322616},{"$f":"VLOOKUP($A88,'8.Non-elective admissions - CCG'!$D$5:$N$215,5,0)*$H88","v":72.700197995076891},{"$f":"VLOOKUP($A88,'8.Non-elective admissions - CCG'!$D$5:$N$215,6,0)*$H88","v":72.043383515869337},{"$f":"VLOOKUP($A88,'8.Non-elective admissions - CCG'!$D$5:$N$215,7,0)*$H88","v":71.951734983886894},{"$f":"VLOOKUP($A88,'8.Non-elective admissions - CCG'!$D$5:$N$215,8,0)*$H88","v":69.377938710713153},{"$f":"VLOOKUP($A88,'8.Non-elective admissions - CCG'!$D$5:$N$215,9,0)*$H88","v":70.592281759480585},{"$f":"VLOOKUP($A88,'8.Non-elective admissions - CCG'!$D$5:$N$215,10,0)*$H88","v":69.920192524942635},{"$f":"VLOOKUP($A88,'8.Non-elective admissions - CCG'!$D$5:$Q$215,11,0)*$H88","v":67.12491229947797},{"$f":"VLOOKUP($A88,'8.Non-elective admissions - CCG'!$D$5:$Q$215,12,0)*$H88","v":67.277659852782051},{"$f":"VLOOKUP($A88,'8.Non-elective admissions - CCG'!$D$5:$Q$215,13,0)*$H88","v":68.42326650256264},{"$f":"VLOOKUP($A88,'8.Non-elective admissions - CCG'!$D$5:$Q$215,14,0)*$H88","v":67.758814645689895}]
["07P","NHS Brent CCG","E09000003","Barnet",{"$f":"COUNTIF($D$5:D89,D89)","v":2},"Barnet2","NHS Brent CCG",1.9352685083368862E-2,1.8187282347079461E-2,{"$f":"VLOOKUP($A89,'8.Non-elective admissions - CCG'!$D$5:$N$215,3,0)*$H89","v":148.43509458943916},{"$f":"VLOOKUP($A89,'8.Non-elective admissions - CCG'!$D$5:$N$215,4,0)*$H89","v":143.9452716500976},{"$f":"VLOOKUP($A89,'8.Non-elective admissions - CCG'!$D$5:$N$215,5,0)*$H89","v":149.2866127331074},{"$f":"VLOOKUP($A89,'8.Non-elective admissions - CCG'!$D$5:$N$215,6,0)*$H89","v":151.24123392652766},{"$f":"VLOOKUP($A89,'8.Non-elective admissions - CCG'!$D$5:$N$215,7,0)*$H89","v":148.2996257938556},{"$f":"VLOOKUP($A89,'8.Non-elective admissions - CCG'!$D$5:$N$215,8,0)*$H89","v":143.2679276721797},{"$f":"VLOOKUP($A89,'8.Non-elective admissions - CCG'!$D$5:$N$215,9,0)*$H89","v":147.7383979264379},{"$f":"VLOOKUP($A89,'8.Non-elective admissions - CCG'!$D$5:$N$215,10,0)*$H89","v":149.80913523035835},{"$f":"VLOOKUP($A89,'8.Non-elective admissions - CCG'!$D$5:$Q$215,11,0)*$H89","v":142.76475786001208},{"$f":"VLOOKUP($A89,'8.Non-elective admissions - CCG'!$D$5:$Q$215,12,0)*$H89","v":137.48147483225239},{"$f":"VLOOKUP($A89,'8.Non-elective admissions - CCG'!$D$5:$Q$215,13,0)*$H89","v":142.24223536276114},{"$f":"VLOOKUP($A89,'8.Non-elective admissions - CCG'!$D$5:$Q$215,14,0)*$H89","v":144.33232535176498}]
["07P","NHS Brent CCG","E09000005","Brent",{"$f":"COUNTIF($D$5:D90,D90)","v":2},"Brent2","NHS Brent CCG",0.89483516976728505,0.8735435145148791,{"$f":"VLOOKUP($A90,'8.Non-elective admissions - CCG'!$D$5:$N$215,3,0)*$H90","v":6863.3857521150767},{"$f":"VLOOKUP($A90,'8.Non-elective admissions - CCG'!$D$5:$N$215,4,0)*$H90","v":6655.7839927290661},{"$f":"VLOOKUP($A90,'8.Non-elective admissions - CCG'!$D$5:$N$215,5,0)*$H90","v":6902.7584995848365},{"$f":"VLOOKUP($A90,'8.Non-elective admissions - CCG'!$D$5:$N$215,6,0)*$H90","v":6993.1368517313331},{"$f":"VLOOKUP($A90,'8.Non-elective admissions - CCG'!$D$5:$N$215,7,0)*$H90","v":6857.121905926705},{"$f":"VLOOKUP($A90,'8.Non-elective admissions - CCG'!$D$5:$N$215,8,0)*$H90","v":6624.4647617872115},{"$f":"VLOOKUP($A90,'8.Non-elective admissions - CCG'!$D$5:$N$215,9,0)*$H90","v":6831.1716860034539},{"$f":"VLOOKUP($A90,'8.Non-elective admissions - CCG'!$D$5:$N$215,10,0)*$H90","v":6926.919049168554},{"$f":"VLOOKUP($A90,'8.Non-elective admissions - CCG'!$D$5:$Q$215,11,0)*$H90","v":6601.1990473732621},{"$f":"VLOOKUP($A90,'8.Non-elective admissions - CCG'!$D$5:$Q$215,12,0)*$H90","v":6356.9090460267935},{"$f":"VLOOKUP($A90,'8.Non-elective admissions - CCG'!$D$5:$Q$215,13,0)*$H90","v":6577.0384977895455},{"$f":"VLOOKUP($A90,'8.Non-elective admissions - CCG'!$D$5:$Q$215,14,0)*$H90","v":6673.680696124412}]
["07P","NHS Brent CCG","E09000007","Camden",{"$f":"COUNTIF($D$5:D91,D91)","v":2},"Camden2","NHS Brent CCG",1.548158703799286E-2,2.2579523371177249E-2,{"$f":"VLOOKUP($A91,'8.Non-elective admissions - CCG'!$D$5:$N$215,3,0)*$H91","v":118.74377258140524},{"$f":"VLOOKUP($A91,'8.Non-elective admissions - CCG'!$D$5:$N$215,4,0)*$H91","v":115.15204438859089},{"$f":"VLOOKUP($A91,'8.Non-elective admissions - CCG'!$D$5:$N$215,5,0)*$H91","v":119.42496241107692},{"$f":"VLOOKUP($A91,'8.Non-elective admissions - CCG'!$D$5:$N$215,6,0)*$H91","v":120.9886027019142},{"$f":"VLOOKUP($A91,'8.Non-elective admissions - CCG'!$D$5:$N$215,7,0)*$H91","v":118.63540147213929},{"$f":"VLOOKUP($A91,'8.Non-elective admissions - CCG'!$D$5:$N$215,8,0)*$H91","v":114.61018884226115},{"$f":"VLOOKUP($A91,'8.Non-elective admissions - CCG'!$D$5:$N$215,9,0)*$H91","v":118.1864354480375},{"$f":"VLOOKUP($A91,'8.Non-elective admissions - CCG'!$D$5:$N$215,10,0)*$H91","v":119.84296526110273},{"$f":"VLOOKUP($A91,'8.Non-elective admissions - CCG'!$D$5:$Q$215,11,0)*$H91","v":114.20766757927333},{"$f":"VLOOKUP($A91,'8.Non-elective admissions - CCG'!$D$5:$Q$215,12,0)*$H91","v":109.98119431790128},{"$f":"VLOOKUP($A91,'8.Non-elective admissions - CCG'!$D$5:$Q$215,13,0)*$H91","v":113.78966472924752},{"$f":"VLOOKUP($A91,'8.Non-elective admissions - CCG'!$D$5:$Q$215,14,0)*$H91","v":115.46167612935075}]
["07P","NHS Brent CCG","E09000009","Ealing",{"$f":"COUNTIF($D$5:D92,D92)","v":1},"Ealing1","NHS Brent CCG",1.6309104373779762E-2,1.476732697158039E-2,{"$f":"VLOOKUP($A92,'8.Non-elective admissions - CCG'!$D$5:$N$215,3,0)*$H92","v":125.09083054689077},{"$f":"VLOOKUP($A92,'8.Non-elective admissions - CCG'!$D$5:$N$215,4,0)*$H92","v":121.30711833217387},{"$f":"VLOOKUP($A92,'8.Non-elective admissions - CCG'!$D$5:$N$215,5,0)*$H92","v":125.80843113933709},{"$f":"VLOOKUP($A92,'8.Non-elective admissions - CCG'!$D$5:$N$215,6,0)*$H92","v":127.45565068108884},{"$f":"VLOOKUP($A92,'8.Non-elective admissions - CCG'!$D$5:$N$215,7,0)*$H92","v":124.97666681627432},{"$f":"VLOOKUP($A92,'8.Non-elective admissions - CCG'!$D$5:$N$215,8,0)*$H92","v":120.73629967909157},{"$f":"VLOOKUP($A92,'8.Non-elective admissions - CCG'!$D$5:$N$215,9,0)*$H92","v":124.5037027894347},{"$f":"VLOOKUP($A92,'8.Non-elective admissions - CCG'!$D$5:$N$215,10,0)*$H92","v":126.24877695742914},{"$f":"VLOOKUP($A92,'8.Non-elective admissions - CCG'!$D$5:$Q$215,11,0)*$H92","v":120.31226296537331},{"$f":"VLOOKUP($A92,'8.Non-elective admissions - CCG'!$D$5:$Q$215,12,0)*$H92","v":115.85987747133143},{"$f":"VLOOKUP($A92,'8.Non-elective admissions - CCG'!$D$5:$Q$215,13,0)*$H92","v":119.87191714728125},{"$f":"VLOOKUP($A92,'8.Non-elective admissions - CCG'!$D$5:$Q$215,14,0)*$H92","v":121.63330041964946}]
["07P","NHS Brent CCG","E09000013","Hammersmith and Fulham",{"$f":"COUNTIF($D$5:D93,D93)","v":1},"Hammersmith and Fulham1","NHS Brent CCG",3.1642018805682092E-3,5.4079191496910111E-3,{"$f":"VLOOKUP($A93,'8.Non-elective admissions - CCG'!$D$5:$N$215,3,0)*$H93","v":24.269428423958164},{"$f":"VLOOKUP($A93,'8.Non-elective admissions - CCG'!$D$5:$N$215,4,0)*$H93","v":23.53533358766634},{"$f":"VLOOKUP($A93,'8.Non-elective admissions - CCG'!$D$5:$N$215,5,0)*$H93","v":24.408653306703165},{"$f":"VLOOKUP($A93,'8.Non-elective admissions - CCG'!$D$5:$N$215,6,0)*$H93","v":24.728237696640555},{"$f":"VLOOKUP($A93,'8.Non-elective admissions - CCG'!$D$5:$N$215,7,0)*$H93","v":24.247279010794188},{"$f":"VLOOKUP($A93,'8.Non-elective admissions - CCG'!$D$5:$N$215,8,0)*$H93","v":23.424586521846454},{"$f":"VLOOKUP($A93,'8.Non-elective admissions - CCG'!$D$5:$N$215,9,0)*$H93","v":24.155517156257709},{"$f":"VLOOKUP($A93,'8.Non-elective admissions - CCG'!$D$5:$N$215,10,0)*$H93","v":24.494086757478506},{"$f":"VLOOKUP($A93,'8.Non-elective admissions - CCG'!$D$5:$Q$215,11,0)*$H93","v":23.342317272951679},{"$f":"VLOOKUP($A93,'8.Non-elective admissions - CCG'!$D$5:$Q$215,12,0)*$H93","v":22.478490159556557},{"$f":"VLOOKUP($A93,'8.Non-elective admissions - CCG'!$D$5:$Q$215,13,0)*$H93","v":23.256883822176338},{"$f":"VLOOKUP($A93,'8.Non-elective admissions - CCG'!$D$5:$Q$215,14,0)*$H93","v":23.598617625277704}]
["07P","NHS Brent CCG","E09000015","Harrow",{"$f":"COUNTIF($D$5:D94,D94)","v":2},"Harrow2","NHS Brent CCG",3.7535625322591498E-2,4.9853394285543973E-2,{"$f":"VLOOKUP($A94,'8.Non-elective admissions - CCG'!$D$5:$N$215,3,0)*$H94","v":287.89824622427682},{"$f":"VLOOKUP($A94,'8.Non-elective admissions - CCG'!$D$5:$N$215,4,0)*$H94","v":279.18998114943554},{"$f":"VLOOKUP($A94,'8.Non-elective admissions - CCG'!$D$5:$N$215,5,0)*$H94","v":289.54981373847079},{"$f":"VLOOKUP($A94,'8.Non-elective admissions - CCG'!$D$5:$N$215,6,0)*$H94","v":293.34091189605255},{"$f":"VLOOKUP($A94,'8.Non-elective admissions - CCG'!$D$5:$N$215,7,0)*$H94","v":287.63549684701866},{"$f":"VLOOKUP($A94,'8.Non-elective admissions - CCG'!$D$5:$N$215,8,0)*$H94","v":277.87623426314485},{"$f":"VLOOKUP($A94,'8.Non-elective admissions - CCG'!$D$5:$N$215,9,0)*$H94","v":286.54696371266351},{"$f":"VLOOKUP($A94,'8.Non-elective admissions - CCG'!$D$5:$N$215,10,0)*$H94","v":290.56327562218081},{"$f":"VLOOKUP($A94,'8.Non-elective admissions - CCG'!$D$5:$Q$215,11,0)*$H94","v":276.90030800475751},{"$f":"VLOOKUP($A94,'8.Non-elective admissions - CCG'!$D$5:$Q$215,12,0)*$H94","v":266.65308229169},{"$f":"VLOOKUP($A94,'8.Non-elective admissions - CCG'!$D$5:$Q$215,13,0)*$H94","v":275.88684612104748},{"$f":"VLOOKUP($A94,'8.Non-elective admissions - CCG'!$D$5:$Q$215,14,0)*$H94","v":279.9406936558874}]
["07P","NHS Brent CCG","E09000020","Kensington and Chelsea",{"$f":"COUNTIF($D$5:D95,D95)","v":1},"Kensington and Chelsea1","NHS Brent CCG",0,1.190988395657569E-3,{"$f":"VLOOKUP($A95,'8.Non-elective admissions - CCG'!$D$5:$N$215,3,0)*$H95","v":0},{"$f":"VLOOKUP($A95,'8.Non-elective admissions - CCG'!$D$5:$N$215,4,0)*$H95","v":0},{"$f":"VLOOKUP($A95,'8.Non-elective admissions - CCG'!$D$5:$N$215,5,0)*$H95","v":0},{"$f":"VLOOKUP($A95,'8.Non-elective admissions - CCG'!$D$5:$N$215,6,0)*$H95","v":0},{"$f":"VLOOKUP($A95,'8.Non-elective admissions - CCG'!$D$5:$N$215,7,0)*$H95","v":0},{"$f":"VLOOKUP($A95,'8.Non-elective admissions - CCG'!$D$5:$N$215,8,0)*$H95","v":0},{"$f":"VLOOKUP($A95,'8.Non-elective admissions - CCG'!$D$5:$N$215,9,0)*$H95","v":0},{"$f":"VLOOKUP($A95,'8.Non-elective admissions - CCG'!$D$5:$N$215,10,0)*$H95","v":0},{"$f":"VLOOKUP($A95,'8.Non-elective admissions - CCG'!$D$5:$Q$215,11,0)*$H95","v":0},{"$f":"VLOOKUP($A95,'8.Non-elective admissions - CCG'!$D$5:$Q$215,12,0)*$H95","v":0},{"$f":"VLOOKUP($A95,'8.Non-elective admissions - CCG'!$D$5:$Q$215,13,0)*$H95","v":0},{"$f":"VLOOKUP($A95,'8.Non-elective admissions - CCG'!$D$5:$Q$215,14,0)*$H95","v":0}]
["07P","NHS Brent CCG","E09000033","Westminster",{"$f":"COUNTIF($D$5:D96,D96)","v":1},"Westminster1","NHS Brent CCG",1.3321626534413497E-2,2.030224654254751E-2,{"$f":"VLOOKUP($A96,'8.Non-elective admissions - CCG'!$D$5:$N$215,3,0)*$H96","v":102.17687551895152},{"$f":"VLOOKUP($A96,'8.Non-elective admissions - CCG'!$D$5:$N$215,4,0)*$H96","v":99.086258162967596},{"$f":"VLOOKUP($A96,'8.Non-elective admissions - CCG'!$D$5:$N$215,5,0)*$H96","v":102.76302708646573},{"$f":"VLOOKUP($A96,'8.Non-elective admissions - CCG'!$D$5:$N$215,6,0)*$H96","v":104.10851136644148},{"$f":"VLOOKUP($A96,'8.Non-elective admissions - CCG'!$D$5:$N$215,7,0)*$H96","v":102.08362413321063},{"$f":"VLOOKUP($A96,'8.Non-elective admissions - CCG'!$D$5:$N$215,8,0)*$H96","v":98.620001234263128},{"$f":"VLOOKUP($A96,'8.Non-elective admissions - CCG'!$D$5:$N$215,9,0)*$H96","v":101.69729696371265},{"$f":"VLOOKUP($A96,'8.Non-elective admissions - CCG'!$D$5:$N$215,10,0)*$H96","v":103.12271100289489},{"$f":"VLOOKUP($A96,'8.Non-elective admissions - CCG'!$D$5:$Q$215,11,0)*$H96","v":98.273638944368372},{"$f":"VLOOKUP($A96,'8.Non-elective admissions - CCG'!$D$5:$Q$215,12,0)*$H96","v":94.636834900473488},{"$f":"VLOOKUP($A96,'8.Non-elective admissions - CCG'!$D$5:$Q$215,13,0)*$H96","v":97.91395502793921},{"$f":"VLOOKUP($A96,'8.Non-elective admissions - CCG'!$D$5:$Q$215,14,0)*$H96","v":99.352690693655859}]
["09D","NHS Brighton and Hove CCG","E06000043","Brighton and Hove",{"$f":"COUNTIF($D$5:D97,D97)","v":1},"Brighton and Hove1","NHS Brighton and Hove CCG",0.97761289371529658,0.99662039186088835,{"$f":"VLOOKUP($A97,'8.Non-elective admissions - CCG'!$D$5:$N$215,3,0)*$H97","v":6167.7597464498058},{"$f":"VLOOKUP($A97,'8.Non-elective admissions - CCG'!$D$5:$N$215,4,0)*$H97","v":6408.2525183037687},{"$f":"VLOOKUP($A97,'8.Non-elective admissions - CCG'!$D$5:$N$215,5,0)*$H97","v":6446.3794211586655},{"$f":"VLOOKUP($A97,'8.Non-elective admissions - CCG'!$D$5:$N$215,6,0)*$H97","v":6068.0432312908461},{"$f":"VLOOKUP($A97,'8.Non-elective admissions - CCG'!$D$5:$N$215,7,0)*$H97","v":5954.6401356198712},{"$f":"VLOOKUP($A97,'8.Non-elective admissions - CCG'!$D$5:$N$215,8,0)*$H97","v":6066.0880055034149},{"$f":"VLOOKUP($A97,'8.Non-elective admissions - CCG'!$D$5:$N$215,9,0)*$H97","v":6067.0656183971305},{"$f":"VLOOKUP($A97,'8.Non-elective admissions - CCG'!$D$5:$N$215,10,0)*$H97","v":5691.6622672104568},{"$f":"VLOOKUP($A97,'8.Non-elective admissions - CCG'!$D$5:$Q$215,11,0)*$H97","v":5763.0280084516735},{"$f":"VLOOKUP($A97,'8.Non-elective admissions - CCG'!$D$5:$Q$215,12,0)*$H97","v":5868.6102009729257},{"$f":"VLOOKUP($A97,'8.Non-elective admissions - CCG'!$D$5:$Q$215,13,0)*$H97","v":5869.5878138666403},{"$f":"VLOOKUP($A97,'8.Non-elective admissions - CCG'!$D$5:$Q$215,14,0)*$H97","v":5571.4158812834748}]
["09D","NHS Brighton and Hove CCG","E10000011","East Sussex",{"$f":"COUNTIF($D$5:D98,D98)","v":1},"East Sussex1","NHS Brighton and Hove CCG",1.0033904967814849E-2,5.5699213337261199E-3,{"$f":"VLOOKUP($A98,'8.Non-elective admissions - CCG'!$D$5:$N$215,3,0)*$H98","v":63.30390644194388},{"$f":"VLOOKUP($A98,'8.Non-elective admissions - CCG'!$D$5:$N$215,4,0)*$H98","v":65.772247064026331},{"$f":"VLOOKUP($A98,'8.Non-elective admissions - CCG'!$D$5:$N$215,5,0)*$H98","v":66.163569357771109},{"$f":"VLOOKUP($A98,'8.Non-elective admissions - CCG'!$D$5:$N$215,6,0)*$H98","v":62.28044813522677},{"$f":"VLOOKUP($A98,'8.Non-elective admissions - CCG'!$D$5:$N$215,7,0)*$H98","v":61.116515158960247},{"$f":"VLOOKUP($A98,'8.Non-elective admissions - CCG'!$D$5:$N$215,8,0)*$H98","v":62.260380325291138},{"$f":"VLOOKUP($A98,'8.Non-elective admissions - CCG'!$D$5:$N$215,9,0)*$H98","v":62.27041423025895},{"$f":"VLOOKUP($A98,'8.Non-elective admissions - CCG'!$D$5:$N$215,10,0)*$H98","v":58.417394722618049},{"$f":"VLOOKUP($A98,'8.Non-elective admissions - CCG'!$D$5:$Q$215,11,0)*$H98","v":59.149869785268535},{"$f":"VLOOKUP($A98,'8.Non-elective admissions - CCG'!$D$5:$Q$215,12,0)*$H98","v":60.233531521792536},{"$f":"VLOOKUP($A98,'8.Non-elective admissions - CCG'!$D$5:$Q$215,13,0)*$H98","v":60.243565426760355},{"$f":"VLOOKUP($A98,'8.Non-elective admissions - CCG'!$D$5:$Q$215,14,0)*$H98","v":57.183224411576823}]
["09D","NHS Brighton and Hove CCG","E10000032","West Sussex",{"$f":"COUNTIF($D$5:D99,D99)","v":1},"West Sussex1","NHS Brighton and Hove CCG",1.2353201316888605E-2,4.4044630958318199E-3,{"$f":"VLOOKUP($A99,'8.Non-elective admissions - CCG'!$D$5:$N$215,3,0)*$H99","v":77.936347108250203},{"$f":"VLOOKUP($A99,'8.Non-elective admissions - CCG'!$D$5:$N$215,4,0)*$H99","v":80.975234632204803},{"$f":"VLOOKUP($A99,'8.Non-elective admissions - CCG'!$D$5:$N$215,5,0)*$H99","v":81.457009483563468},{"$f":"VLOOKUP($A99,'8.Non-elective admissions - CCG'!$D$5:$N$215,6,0)*$H99","v":76.676320573927569},{"$f":"VLOOKUP($A99,'8.Non-elective admissions - CCG'!$D$5:$N$215,7,0)*$H99","v":75.243349221168486},{"$f":"VLOOKUP($A99,'8.Non-elective admissions - CCG'!$D$5:$N$215,8,0)*$H99","v":76.651614171293801},{"$f":"VLOOKUP($A99,'8.Non-elective admissions - CCG'!$D$5:$N$215,9,0)*$H99","v":76.663967372610685},{"$f":"VLOOKUP($A99,'8.Non-elective admissions - CCG'!$D$5:$N$215,10,0)*$H99","v":71.920338066925453},{"$f":"VLOOKUP($A99,'8.Non-elective admissions - CCG'!$D$5:$Q$215,11,0)*$H99","v":72.82212176305832},{"$f":"VLOOKUP($A99,'8.Non-elective admissions - CCG'!$D$5:$Q$215,12,0)*$H99","v":74.156267505282301},{"$f":"VLOOKUP($A99,'8.Non-elective admissions - CCG'!$D$5:$Q$215,13,0)*$H99","v":74.168620706599185},{"$f":"VLOOKUP($A99,'8.Non-elective admissions - CCG'!$D$5:$Q$215,14,0)*$H99","v":70.400894304948167}]
["11H","NHS Bristol CCG","E06000022","Bath and North East Somerset",{"$f":"COUNTIF($D$5:D100,D100)","v":2},"Bath and North East Somerset2","NHS Bristol CCG",2.9354066443938059E-3,7.4638974525393477E-3,{"$f":"VLOOKUP($A100,'8.Non-elective admissions - CCG'!$D$5:$N$215,3,0)*$H100","v":27.857009055297219},{"$f":"VLOOKUP($A100,'8.Non-elective admissions - CCG'!$D$5:$N$215,4,0)*$H100","v":28.717083202104604},{"$f":"VLOOKUP($A100,'8.Non-elective admissions - CCG'!$D$5:$N$215,5,0)*$H100","v":29.175006638630038},{"$f":"VLOOKUP($A100,'8.Non-elective admissions - CCG'!$D$5:$N$215,6,0)*$H100","v":28.39125306457689},{"$f":"VLOOKUP($A100,'8.Non-elective admissions - CCG'!$D$5:$N$215,7,0)*$H100","v":28.009669153792938},{"$f":"VLOOKUP($A100,'8.Non-elective admissions - CCG'!$D$5:$N$215,8,0)*$H100","v":29.83515647947716},{"$f":"VLOOKUP($A100,'8.Non-elective admissions - CCG'!$D$5:$N$215,9,0)*$H100","v":29.383921609611143},{"$f":"VLOOKUP($A100,'8.Non-elective admissions - CCG'!$D$5:$N$215,10,0)*$H100","v":29.380986203257354},{"$f":"VLOOKUP($A100,'8.Non-elective admissions - CCG'!$D$5:$Q$215,11,0)*$H100","v":29.010237713562148},{"$f":"VLOOKUP($A100,'8.Non-elective admissions - CCG'!$D$5:$Q$215,12,0)*$H100","v":29.909836051495002},{"$f":"VLOOKUP($A100,'8.Non-elective admissions - CCG'!$D$5:$Q$215,13,0)*$H100","v":29.010237713943749},{"$f":"VLOOKUP($A100,'8.Non-elective admissions - CCG'!$D$5:$Q$215,14,0)*$H100","v":28.10770396966004}]
["11H","NHS Bristol CCG","E06000023","Bristol, City of",{"$f":"COUNTIF($D$5:D101,D101)","v":1},"Bristol, City of1","NHS Bristol CCG",0.94847805546806963,0.97824466944508737,{"$f":"VLOOKUP($A101,'8.Non-elective admissions - CCG'!$D$5:$N$215,3,0)*$H101","v":9001.0567463919815},{"$f":"VLOOKUP($A101,'8.Non-elective admissions - CCG'!$D$5:$N$215,4,0)*$H101","v":9278.9608166441249},{"$f":"VLOOKUP($A101,'8.Non-elective admissions - CCG'!$D$5:$N$215,5,0)*$H101","v":9426.9233932971438},{"$f":"VLOOKUP($A101,'8.Non-elective admissions - CCG'!$D$5:$N$215,6,0)*$H101","v":9173.679752487169},{"$f":"VLOOKUP($A101,'8.Non-elective admissions - CCG'!$D$5:$N$215,7,0)*$H101","v":9050.3837292975095},{"$f":"VLOOKUP($A101,'8.Non-elective admissions - CCG'!$D$5:$N$215,8,0)*$H101","v":9640.2286396281979},{"$f":"VLOOKUP($A101,'8.Non-elective admissions - CCG'!$D$5:$N$215,9,0)*$H101","v":9494.4272486191203},{"$f":"VLOOKUP($A101,'8.Non-elective admissions - CCG'!$D$5:$N$215,10,0)*$H101","v":9493.4787706575516},{"$f":"VLOOKUP($A101,'8.Non-elective admissions - CCG'!$D$5:$Q$215,11,0)*$H101","v":9373.6838498259094},{"$f":"VLOOKUP($A101,'8.Non-elective admissions - CCG'!$D$5:$Q$215,12,0)*$H101","v":9664.3588348043759},{"$f":"VLOOKUP($A101,'8.Non-elective admissions - CCG'!$D$5:$Q$215,13,0)*$H101","v":9373.6838499492114},{"$f":"VLOOKUP($A101,'8.Non-elective admissions - CCG'!$D$5:$Q$215,14,0)*$H101","v":9082.060387010124}]
["11H","NHS Bristol CCG","E06000024","North Somerset",{"$f":"COUNTIF($D$5:D102,D102)","v":2},"North Somerset2","NHS Bristol CCG",2.496948288674394E-3,5.599434978696298E-3,{"$f":"VLOOKUP($A102,'8.Non-elective admissions - CCG'!$D$5:$N$215,3,0)*$H102","v":23.696039259519999},{"$f":"VLOOKUP($A102,'8.Non-elective admissions - CCG'!$D$5:$N$215,4,0)*$H102","v":24.427645108101597},{"$f":"VLOOKUP($A102,'8.Non-elective admissions - CCG'!$D$5:$N$215,5,0)*$H102","v":24.8171690411348},{"$f":"VLOOKUP($A102,'8.Non-elective admissions - CCG'!$D$5:$N$215,6,0)*$H102","v":24.150483848058737},{"$f":"VLOOKUP($A102,'8.Non-elective admissions - CCG'!$D$5:$N$215,7,0)*$H102","v":23.825896692532137},{"$f":"VLOOKUP($A102,'8.Non-elective admissions - CCG'!$D$5:$N$215,8,0)*$H102","v":25.378713050214436},{"$f":"VLOOKUP($A102,'8.Non-elective admissions - CCG'!$D$5:$N$215,9,0)*$H102","v":24.994878620237245},{"$f":"VLOOKUP($A102,'8.Non-elective admissions - CCG'!$D$5:$N$215,10,0)*$H102","v":24.992381672195769},{"$f":"VLOOKUP($A102,'8.Non-elective admissions - CCG'!$D$5:$Q$215,11,0)*$H102","v":24.677011463219408},{"$f":"VLOOKUP($A102,'8.Non-elective admissions - CCG'!$D$5:$Q$215,12,0)*$H102","v":25.44223781939932},{"$f":"VLOOKUP($A102,'8.Non-elective admissions - CCG'!$D$5:$Q$215,13,0)*$H102","v":24.677011463544012},{"$f":"VLOOKUP($A102,'8.Non-elective admissions - CCG'!$D$5:$Q$215,14,0)*$H102","v":23.909288159325119}]
["11H","NHS Bristol CCG","E06000025","South Gloucestershire",{"$f":"COUNTIF($D$5:D103,D103)","v":2},"South Gloucestershire2","NHS Bristol CCG",4.6089589598862064E-2,8.0726575231832007E-2,{"$f":"VLOOKUP($A103,'8.Non-elective admissions - CCG'!$D$5:$N$215,3,0)*$H103","v":437.39020529320101},{"$f":"VLOOKUP($A103,'8.Non-elective admissions - CCG'!$D$5:$N$215,4,0)*$H103","v":450.8944550456676},{"$f":"VLOOKUP($A103,'8.Non-elective admissions - CCG'!$D$5:$N$215,5,0)*$H103","v":458.08443102309008},{"$f":"VLOOKUP($A103,'8.Non-elective admissions - CCG'!$D$5:$N$215,6,0)*$H103","v":445.7785106001939},{"$f":"VLOOKUP($A103,'8.Non-elective admissions - CCG'!$D$5:$N$215,7,0)*$H103","v":439.78716153816538},{"$f":"VLOOKUP($A103,'8.Non-elective admissions - CCG'!$D$5:$N$215,8,0)*$H103","v":468.44961681310906},{"$f":"VLOOKUP($A103,'8.Non-elective admissions - CCG'!$D$5:$N$215,9,0)*$H103","v":461.36465977503042},{"$f":"VLOOKUP($A103,'8.Non-elective admissions - CCG'!$D$5:$N$215,10,0)*$H103","v":461.31857018999443},{"$f":"VLOOKUP($A103,'8.Non-elective admissions - CCG'!$D$5:$Q$215,11,0)*$H103","v":455.49735091630879},{"$f":"VLOOKUP($A103,'8.Non-elective admissions - CCG'!$D$5:$Q$215,12,0)*$H103","v":469.62218035972865},{"$f":"VLOOKUP($A103,'8.Non-elective admissions - CCG'!$D$5:$Q$215,13,0)*$H103","v":455.49735092230043},{"$f":"VLOOKUP($A103,'8.Non-elective admissions - CCG'!$D$5:$Q$215,14,0)*$H103","v":441.32643189389074}]
["07Q","NHS Bromley CCG","E09000006","Bromley",{"$f":"COUNTIF($D$5:D104,D104)","v":2},"Bromley2","NHS Bromley CCG",0.94790053544211406,0.9551768395716822,{"$f":"VLOOKUP($A104,'8.Non-elective admissions - CCG'!$D$5:$N$215,3,0)*$H104","v":5905.4203358043706},{"$f":"VLOOKUP($A104,'8.Non-elective admissions - CCG'!$D$5:$N$215,4,0)*$H104","v":5723.4234329994842},{"$f":"VLOOKUP($A104,'8.Non-elective admissions - CCG'!$D$5:$N$215,5,0)*$H104","v":5493.0836028870508},{"$f":"VLOOKUP($A104,'8.Non-elective admissions - CCG'!$D$5:$N$215,6,0)*$H104","v":5588.8215569667045},{"$f":"VLOOKUP($A104,'8.Non-elective admissions - CCG'!$D$5:$N$215,7,0)*$H104","v":5670.3410030147261},{"$f":"VLOOKUP($A104,'8.Non-elective admissions - CCG'!$D$5:$N$215,8,0)*$H104","v":5497.8231055642618},{"$f":"VLOOKUP($A104,'8.Non-elective admissions - CCG'!$D$5:$N$215,9,0)*$H104","v":5367.9607322086922},{"$f":"VLOOKUP($A104,'8.Non-elective admissions - CCG'!$D$5:$N$215,10,0)*$H104","v":5296.8681920505333},{"$f":"VLOOKUP($A104,'8.Non-elective admissions - CCG'!$D$5:$Q$215,11,0)*$H104","v":5678.8721078337057},{"$f":"VLOOKUP($A104,'8.Non-elective admissions - CCG'!$D$5:$Q$215,12,0)*$H104","v":5504.4584093123567},{"$f":"VLOOKUP($A104,'8.Non-elective admissions - CCG'!$D$5:$Q$215,13,0)*$H104","v":5375.5439364922286},{"$f":"VLOOKUP($A104,'8.Non-elective admissions - CCG'!$D$5:$Q$215,14,0)*$H104","v":5304.4513963340705}]
["07Q","NHS Bromley CCG","E09000008","Croydon",{"$f":"COUNTIF($D$5:D105,D105)","v":1},"Croydon1","NHS Bromley CCG",1.5070572675652811E-2,1.2441656096890595E-2,{"$f":"VLOOKUP($A105,'8.Non-elective admissions - CCG'!$D$5:$N$215,3,0)*$H105","v":93.889667769317015},{"$f":"VLOOKUP($A105,'8.Non-elective admissions - CCG'!$D$5:$N$215,4,0)*$H105","v":90.996117815591674},{"$f":"VLOOKUP($A105,'8.Non-elective admissions - CCG'!$D$5:$N$215,5,0)*$H105","v":87.333968655408043},{"$f":"VLOOKUP($A105,'8.Non-elective admissions - CCG'!$D$5:$N$215,6,0)*$H105","v":88.85609649564897},{"$f":"VLOOKUP($A105,'8.Non-elective admissions - CCG'!$D$5:$N$215,7,0)*$H105","v":90.152165745755113},{"$f":"VLOOKUP($A105,'8.Non-elective admissions - CCG'!$D$5:$N$215,8,0)*$H105","v":87.4093215187863},{"$f":"VLOOKUP($A105,'8.Non-elective admissions - CCG'!$D$5:$N$215,9,0)*$H105","v":85.344653062221866},{"$f":"VLOOKUP($A105,'8.Non-elective admissions - CCG'!$D$5:$N$215,10,0)*$H105","v":84.214360111547904},{"$f":"VLOOKUP($A105,'8.Non-elective admissions - CCG'!$D$5:$Q$215,11,0)*$H105","v":90.287800899835986},{"$f":"VLOOKUP($A105,'8.Non-elective admissions - CCG'!$D$5:$Q$215,12,0)*$H105","v":87.514815527515864},{"$f":"VLOOKUP($A105,'8.Non-elective admissions - CCG'!$D$5:$Q$215,13,0)*$H105","v":85.465217643627085},{"$f":"VLOOKUP($A105,'8.Non-elective admissions - CCG'!$D$5:$Q$215,14,0)*$H105","v":84.334924692953123}]
["07Q","NHS Bromley CCG","E09000011","Greenwich",{"$f":"COUNTIF($D$5:D106,D106)","v":2},"Greenwich2","NHS Bromley CCG",1.0760767640114481E-2,1.3908299184372804E-2,{"$f":"VLOOKUP($A106,'8.Non-elective admissions - CCG'!$D$5:$N$215,3,0)*$H106","v":67.039582397913222},{"$f":"VLOOKUP($A106,'8.Non-elective admissions - CCG'!$D$5:$N$215,4,0)*$H106","v":64.973515011011244},{"$f":"VLOOKUP($A106,'8.Non-elective admissions - CCG'!$D$5:$N$215,5,0)*$H106","v":62.358648474463422},{"$f":"VLOOKUP($A106,'8.Non-elective admissions - CCG'!$D$5:$N$215,6,0)*$H106","v":63.445486006114983},{"$f":"VLOOKUP($A106,'8.Non-elective admissions - CCG'!$D$5:$N$215,7,0)*$H106","v":64.370912023164834},{"$f":"VLOOKUP($A106,'8.Non-elective admissions - CCG'!$D$5:$N$215,8,0)*$H106","v":62.412452312663994},{"$f":"VLOOKUP($A106,'8.Non-elective admissions - CCG'!$D$5:$N$215,9,0)*$H106","v":60.938227145968305},{"$f":"VLOOKUP($A106,'8.Non-elective admissions - CCG'!$D$5:$N$215,10,0)*$H106","v":60.13116957295972},{"$f":"VLOOKUP($A106,'8.Non-elective admissions - CCG'!$D$5:$Q$215,11,0)*$H106","v":64.467758931925857},{"$f":"VLOOKUP($A106,'8.Non-elective admissions - CCG'!$D$5:$Q$215,12,0)*$H106","v":62.487777686144796},{"$f":"VLOOKUP($A106,'8.Non-elective admissions - CCG'!$D$5:$Q$215,13,0)*$H106","v":61.024313287089221},{"$f":"VLOOKUP($A106,'8.Non-elective admissions - CCG'!$D$5:$Q$215,14,0)*$H106","v":60.217255714080636}]
["07Q","NHS Bromley CCG","E10000016","Kent",{"$f":"COUNTIF($D$5:D107,D107)","v":3},"Kent3","NHS Bromley CCG",8.5340859456372008E-3,1.821385569854439E-3,{"$f":"VLOOKUP($A107,'8.Non-elective admissions - CCG'!$D$5:$N$215,3,0)*$H107","v":53.167355441319764},{"$f":"VLOOKUP($A107,'8.Non-elective admissions - CCG'!$D$5:$N$215,4,0)*$H107","v":51.52881093975742},{"$f":"VLOOKUP($A107,'8.Non-elective admissions - CCG'!$D$5:$N$215,5,0)*$H107","v":49.455028054967578},{"$f":"VLOOKUP($A107,'8.Non-elective admissions - CCG'!$D$5:$N$215,6,0)*$H107","v":50.316970735476936},{"$f":"VLOOKUP($A107,'8.Non-elective admissions - CCG'!$D$5:$N$215,7,0)*$H107","v":51.050902126801738},{"$f":"VLOOKUP($A107,'8.Non-elective admissions - CCG'!$D$5:$N$215,8,0)*$H107","v":49.497698484695768},{"$f":"VLOOKUP($A107,'8.Non-elective admissions - CCG'!$D$5:$N$215,9,0)*$H107","v":48.328528710143466},{"$f":"VLOOKUP($A107,'8.Non-elective admissions - CCG'!$D$5:$N$215,10,0)*$H107","v":47.688472264220678},{"$f":"VLOOKUP($A107,'8.Non-elective admissions - CCG'!$D$5:$Q$215,11,0)*$H107","v":51.12770890031247},{"$f":"VLOOKUP($A107,'8.Non-elective admissions - CCG'!$D$5:$Q$215,12,0)*$H107","v":49.557437086315225},{"$f":"VLOOKUP($A107,'8.Non-elective admissions - CCG'!$D$5:$Q$215,13,0)*$H107","v":48.396801397708565},{"$f":"VLOOKUP($A107,'8.Non-elective admissions - CCG'!$D$5:$Q$215,14,0)*$H107","v":47.756744951785777}]
["07Q","NHS Bromley CCG","E09000023","Lewisham",{"$f":"COUNTIF($D$5:D108,D108)","v":1},"Lewisham1","NHS Bromley CCG",1.376022089659828E-2,1.4840607591934354E-2,{"$f":"VLOOKUP($A108,'8.Non-elective admissions - CCG'!$D$5:$N$215,3,0)*$H108","v":85.72617618580729},{"$f":"VLOOKUP($A108,'8.Non-elective admissions - CCG'!$D$5:$N$215,4,0)*$H108","v":83.084213773660409},{"$f":"VLOOKUP($A108,'8.Non-elective admissions - CCG'!$D$5:$N$215,5,0)*$H108","v":79.740480095787035},{"$f":"VLOOKUP($A108,'8.Non-elective admissions - CCG'!$D$5:$N$215,6,0)*$H108","v":81.130262406343462},{"$f":"VLOOKUP($A108,'8.Non-elective admissions - CCG'!$D$5:$N$215,7,0)*$H108","v":82.313641403450916},{"$f":"VLOOKUP($A108,'8.Non-elective admissions - CCG'!$D$5:$N$215,8,0)*$H108","v":79.809281200270021},{"$f":"VLOOKUP($A108,'8.Non-elective admissions - CCG'!$D$5:$N$215,9,0)*$H108","v":77.924130937436061},{"$f":"VLOOKUP($A108,'8.Non-elective admissions - CCG'!$D$5:$N$215,10,0)*$H108","v":76.892114370191194},{"$f":"VLOOKUP($A108,'8.Non-elective admissions - CCG'!$D$5:$Q$215,11,0)*$H108","v":82.437483391520303},{"$f":"VLOOKUP($A108,'8.Non-elective admissions - CCG'!$D$5:$Q$215,12,0)*$H108","v":79.905602746546208},{"$f":"VLOOKUP($A108,'8.Non-elective admissions - CCG'!$D$5:$Q$215,13,0)*$H108","v":78.034212704608848},{"$f":"VLOOKUP($A108,'8.Non-elective admissions - CCG'!$D$5:$Q$215,14,0)*$H108","v":77.002196137363981}]
["07Q","NHS Bromley CCG","E10000030","Surrey",{"$f":"COUNTIF($D$5:D109,D109)","v":2},"Surrey2","NHS Bromley CCG",3.9738173998833219E-3,1.0728392720195932E-3,{"$f":"VLOOKUP($A109,'8.Non-elective admissions - CCG'!$D$5:$N$215,3,0)*$H109","v":24.756882401273096},{"$f":"VLOOKUP($A109,'8.Non-elective admissions - CCG'!$D$5:$N$215,4,0)*$H109","v":23.993909460495498},{"$f":"VLOOKUP($A109,'8.Non-elective admissions - CCG'!$D$5:$N$215,5,0)*$H109","v":23.028271832323849},{"$f":"VLOOKUP($A109,'8.Non-elective admissions - CCG'!$D$5:$N$215,6,0)*$H109","v":23.429627389712067},{"$f":"VLOOKUP($A109,'8.Non-elective admissions - CCG'!$D$5:$N$215,7,0)*$H109","v":23.771375686102033},{"$f":"VLOOKUP($A109,'8.Non-elective admissions - CCG'!$D$5:$N$215,8,0)*$H109","v":23.048140919323266},{"$f":"VLOOKUP($A109,'8.Non-elective admissions - CCG'!$D$5:$N$215,9,0)*$H109","v":22.503727935539253},{"$f":"VLOOKUP($A109,'8.Non-elective admissions - CCG'!$D$5:$N$215,10,0)*$H109","v":22.205691630548003},{"$f":"VLOOKUP($A109,'8.Non-elective admissions - CCG'!$D$5:$Q$215,11,0)*$H109","v":23.807140042700983},{"$f":"VLOOKUP($A109,'8.Non-elective admissions - CCG'!$D$5:$Q$215,12,0)*$H109","v":23.07595764112245},{"$f":"VLOOKUP($A109,'8.Non-elective admissions - CCG'!$D$5:$Q$215,13,0)*$H109","v":22.535518474738318},{"$f":"VLOOKUP($A109,'8.Non-elective admissions - CCG'!$D$5:$Q$215,14,0)*$H109","v":22.237482169747068}]
["00V","NHS Bury CCG","E06000008","Blackburn with Darwen",{"$f":"COUNTIF($D$5:D110,D110)","v":3},"Blackburn with Darwen3","NHS Bury CCG",1.8144864952534452E-3,2.2688814667875049E-3,{"$f":"VLOOKUP($A110,'8.Non-elective admissions - CCG'!$D$5:$N$215,3,0)*$H110","v":9.1286815576200819},{"$f":"VLOOKUP($A110,'8.Non-elective admissions - CCG'!$D$5:$N$215,4,0)*$H110","v":8.7966305289887021},{"$f":"VLOOKUP($A110,'8.Non-elective admissions - CCG'!$D$5:$N$215,5,0)*$H110","v":9.0052964759428491},{"$f":"VLOOKUP($A110,'8.Non-elective admissions - CCG'!$D$5:$N$215,6,0)*$H110","v":8.7712277180551546},{"$f":"VLOOKUP($A110,'8.Non-elective admissions - CCG'!$D$5:$N$215,7,0)*$H110","v":8.9925950704760744},{"$f":"VLOOKUP($A110,'8.Non-elective admissions - CCG'!$D$5:$N$215,8,0)*$H110","v":8.7040917177307762},{"$f":"VLOOKUP($A110,'8.Non-elective admissions - CCG'!$D$5:$N$215,9,0)*$H110","v":8.8510651238463058},{"$f":"VLOOKUP($A110,'8.Non-elective admissions - CCG'!$D$5:$N$215,10,0)*$H110","v":9.0887628547245072},{"$f":"VLOOKUP($A110,'8.Non-elective admissions - CCG'!$D$5:$Q$215,11,0)*$H110","v":7.73152695627493},{"$f":"VLOOKUP($A110,'8.Non-elective admissions - CCG'!$D$5:$Q$215,12,0)*$H110","v":7.4793133334347006},{"$f":"VLOOKUP($A110,'8.Non-elective admissions - CCG'!$D$5:$Q$215,13,0)*$H110","v":7.588182523149908},{"$f":"VLOOKUP($A110,'8.Non-elective admissions - CCG'!$D$5:$Q$215,14,0)*$H110","v":7.8476540919711502}]
["00V","NHS Bury CCG","E08000001","Bolton",{"$f":"COUNTIF($D$5:D111,D111)","v":2},"Bolton2","NHS Bury CCG",1.2716610660868419E-2,8.426758737430394E-3,{"$f":"VLOOKUP($A111,'8.Non-elective admissions - CCG'!$D$5:$N$215,3,0)*$H111","v":63.977268234829012},{"$f":"VLOOKUP($A111,'8.Non-elective admissions - CCG'!$D$5:$N$215,4,0)*$H111","v":61.650128483890093},{"$f":"VLOOKUP($A111,'8.Non-elective admissions - CCG'!$D$5:$N$215,5,0)*$H111","v":63.112538709889961},{"$f":"VLOOKUP($A111,'8.Non-elective admissions - CCG'!$D$5:$N$215,6,0)*$H111","v":61.472095934637935},{"$f":"VLOOKUP($A111,'8.Non-elective admissions - CCG'!$D$5:$N$215,7,0)*$H111","v":63.023522435263885},{"$f":"VLOOKUP($A111,'8.Non-elective admissions - CCG'!$D$5:$N$215,8,0)*$H111","v":61.001581340185801},{"$f":"VLOOKUP($A111,'8.Non-elective admissions - CCG'!$D$5:$N$215,9,0)*$H111","v":62.031626803716144},{"$f":"VLOOKUP($A111,'8.Non-elective admissions - CCG'!$D$5:$N$215,10,0)*$H111","v":63.697502800289911},{"$f":"VLOOKUP($A111,'8.Non-elective admissions - CCG'!$D$5:$Q$215,11,0)*$H111","v":54.185478025960329},{"$f":"VLOOKUP($A111,'8.Non-elective admissions - CCG'!$D$5:$Q$215,12,0)*$H111","v":52.417869144099619},{"$f":"VLOOKUP($A111,'8.Non-elective admissions - CCG'!$D$5:$Q$215,13,0)*$H111","v":53.180865783751727},{"$f":"VLOOKUP($A111,'8.Non-elective admissions - CCG'!$D$5:$Q$215,14,0)*$H111","v":54.999341108255912}]
["00V","NHS Bury CCG","E08000002","Bury",{"$f":"COUNTIF($D$5:D112,D112)","v":2},"Bury2","NHS Bury CCG",0.94542855839554785,0.94331054292418492,{"$f":"VLOOKUP($A112,'8.Non-elective admissions - CCG'!$D$5:$N$215,3,0)*$H112","v":4756.4510772880012},{"$f":"VLOOKUP($A112,'8.Non-elective admissions - CCG'!$D$5:$N$215,4,0)*$H112","v":4583.4376511016162},{"$f":"VLOOKUP($A112,'8.Non-elective admissions - CCG'!$D$5:$N$215,5,0)*$H112","v":4692.1619353171036},{"$f":"VLOOKUP($A112,'8.Non-elective admissions - CCG'!$D$5:$N$215,6,0)*$H112","v":4570.2016512840783},{"$f":"VLOOKUP($A112,'8.Non-elective admissions - CCG'!$D$5:$N$215,7,0)*$H112","v":4685.5439354083355},{"$f":"VLOOKUP($A112,'8.Non-elective admissions - CCG'!$D$5:$N$215,8,0)*$H112","v":4535.220794623443},{"$f":"VLOOKUP($A112,'8.Non-elective admissions - CCG'!$D$5:$N$215,9,0)*$H112","v":4611.8005078534825},{"$f":"VLOOKUP($A112,'8.Non-elective admissions - CCG'!$D$5:$N$215,10,0)*$H112","v":4735.6516490032991},{"$f":"VLOOKUP($A112,'8.Non-elective admissions - CCG'!$D$5:$Q$215,11,0)*$H112","v":4028.4710873234294},{"$f":"VLOOKUP($A112,'8.Non-elective admissions - CCG'!$D$5:$Q$215,12,0)*$H112","v":3897.0565177064482},{"$f":"VLOOKUP($A112,'8.Non-elective admissions - CCG'!$D$5:$Q$215,13,0)*$H112","v":3953.7822312101812},{"$f":"VLOOKUP($A112,'8.Non-elective admissions - CCG'!$D$5:$Q$215,14,0)*$H112","v":4088.9785150607445}]
["00V","NHS Bury CCG","E10000017","Lancashire",{"$f":"COUNTIF($D$5:D113,D113)","v":5},"Lancashire5","NHS Bury CCG",1.3811384635658206E-2,2.2220138376421376E-3,{"$f":"VLOOKUP($A113,'8.Non-elective admissions - CCG'!$D$5:$N$215,3,0)*$H113","v":69.485076101996441},{"$f":"VLOOKUP($A113,'8.Non-elective admissions - CCG'!$D$5:$N$215,4,0)*$H113","v":66.957592713670977},{"$f":"VLOOKUP($A113,'8.Non-elective admissions - CCG'!$D$5:$N$215,5,0)*$H113","v":68.545901946771679},{"$f":"VLOOKUP($A113,'8.Non-elective admissions - CCG'!$D$5:$N$215,6,0)*$H113","v":66.764233328771766},{"$f":"VLOOKUP($A113,'8.Non-elective admissions - CCG'!$D$5:$N$215,7,0)*$H113","v":68.449222254322066},{"$f":"VLOOKUP($A113,'8.Non-elective admissions - CCG'!$D$5:$N$215,8,0)*$H113","v":66.253212097252415},{"$f":"VLOOKUP($A113,'8.Non-elective admissions - CCG'!$D$5:$N$215,9,0)*$H113","v":67.371934252740729},{"$f":"VLOOKUP($A113,'8.Non-elective admissions - CCG'!$D$5:$N$215,10,0)*$H113","v":69.181225640011959},{"$f":"VLOOKUP($A113,'8.Non-elective admissions - CCG'!$D$5:$Q$215,11,0)*$H113","v":58.850309932539616},{"$f":"VLOOKUP($A113,'8.Non-elective admissions - CCG'!$D$5:$Q$215,12,0)*$H113","v":56.930527468183122},{"$f":"VLOOKUP($A113,'8.Non-elective admissions - CCG'!$D$5:$Q$215,13,0)*$H113","v":57.75921054632262},{"$f":"VLOOKUP($A113,'8.Non-elective admissions - CCG'!$D$5:$Q$215,14,0)*$H113","v":59.734238549221743}]
["00V","NHS Bury CCG","E08000003","Manchester",{"$f":"COUNTIF($D$5:D114,D114)","v":1},"Manchester1","NHS Bury CCG",2.6406353743772203E-3,9.415157862018241E-4,{"$f":"VLOOKUP($A114,'8.Non-elective admissions - CCG'!$D$5:$N$215,3,0)*$H114","v":13.285036568491796},{"$f":"VLOOKUP($A114,'8.Non-elective admissions - CCG'!$D$5:$N$215,4,0)*$H114","v":12.801800294980763},{"$f":"VLOOKUP($A114,'8.Non-elective admissions - CCG'!$D$5:$N$215,5,0)*$H114","v":13.105473363034145},{"$f":"VLOOKUP($A114,'8.Non-elective admissions - CCG'!$D$5:$N$215,6,0)*$H114","v":12.764831399739483},{"$f":"VLOOKUP($A114,'8.Non-elective admissions - CCG'!$D$5:$N$215,7,0)*$H114","v":13.086988915413503},{"$f":"VLOOKUP($A114,'8.Non-elective admissions - CCG'!$D$5:$N$215,8,0)*$H114","v":12.667127890887526},{"$f":"VLOOKUP($A114,'8.Non-elective admissions - CCG'!$D$5:$N$215,9,0)*$H114","v":12.88101935621208},{"$f":"VLOOKUP($A114,'8.Non-elective admissions - CCG'!$D$5:$N$215,10,0)*$H114","v":13.226942590255497},{"$f":"VLOOKUP($A114,'8.Non-elective admissions - CCG'!$D$5:$Q$215,11,0)*$H114","v":11.251747330221336},{"$f":"VLOOKUP($A114,'8.Non-elective admissions - CCG'!$D$5:$Q$215,12,0)*$H114","v":10.884699013182901},{"$f":"VLOOKUP($A114,'8.Non-elective admissions - CCG'!$D$5:$Q$215,13,0)*$H114","v":11.043137135645535},{"$f":"VLOOKUP($A114,'8.Non-elective admissions - CCG'!$D$5:$Q$215,14,0)*$H114","v":11.420747994181477}]
["00V","NHS Bury CCG","E08000005","Rochdale",{"$f":"COUNTIF($D$5:D115,D115)","v":1},"Rochdale1","NHS Bury CCG",5.914820502683717E-3,5.1924129369835962E-3,{"$f":"VLOOKUP($A115,'8.Non-elective admissions - CCG'!$D$5:$N$215,3,0)*$H115","v":29.75746194900178},{"$f":"VLOOKUP($A115,'8.Non-elective admissions - CCG'!$D$5:$N$215,4,0)*$H115","v":28.675049797010661},{"$f":"VLOOKUP($A115,'8.Non-elective admissions - CCG'!$D$5:$N$215,5,0)*$H115","v":29.355254154819288},{"$f":"VLOOKUP($A115,'8.Non-elective admissions - CCG'!$D$5:$N$215,6,0)*$H115","v":28.592242309973088},{"$f":"VLOOKUP($A115,'8.Non-elective admissions - CCG'!$D$5:$N$215,7,0)*$H115","v":29.3138504113005},{"$f":"VLOOKUP($A115,'8.Non-elective admissions - CCG'!$D$5:$N$215,8,0)*$H115","v":28.373393951373792},{"$f":"VLOOKUP($A115,'8.Non-elective admissions - CCG'!$D$5:$N$215,9,0)*$H115","v":28.852494412091172},{"$f":"VLOOKUP($A115,'8.Non-elective admissions - CCG'!$D$5:$N$215,10,0)*$H115","v":29.627335897942739},{"$f":"VLOOKUP($A115,'8.Non-elective admissions - CCG'!$D$5:$Q$215,11,0)*$H115","v":25.20305016193532},{"$f":"VLOOKUP($A115,'8.Non-elective admissions - CCG'!$D$5:$Q$215,12,0)*$H115","v":24.380890112062282},{"$f":"VLOOKUP($A115,'8.Non-elective admissions - CCG'!$D$5:$Q$215,13,0)*$H115","v":24.735779342223303},{"$f":"VLOOKUP($A115,'8.Non-elective admissions - CCG'!$D$5:$Q$215,14,0)*$H115","v":25.581598674107077}]
["00V","NHS Bury CCG","E08000006","Salford",{"$f":"COUNTIF($D$5:D116,D116)","v":2},"Salford2","NHS Bury CCG",1.7673503935611068E-2,1.389630574263739E-2,{"$f":"VLOOKUP($A116,'8.Non-elective admissions - CCG'!$D$5:$N$215,3,0)*$H116","v":88.91539830005928},{"$f":"VLOOKUP($A116,'8.Non-elective admissions - CCG'!$D$5:$N$215,4,0)*$H116","v":85.681147079842461},{"$f":"VLOOKUP($A116,'8.Non-elective admissions - CCG'!$D$5:$N$215,5,0)*$H116","v":87.713600032437725},{"$f":"VLOOKUP($A116,'8.Non-elective admissions - CCG'!$D$5:$N$215,6,0)*$H116","v":85.433718024743897},{"$f":"VLOOKUP($A116,'8.Non-elective admissions - CCG'!$D$5:$N$215,7,0)*$H116","v":87.589885504888457},{"$f":"VLOOKUP($A116,'8.Non-elective admissions - CCG'!$D$5:$N$215,8,0)*$H116","v":84.779798379126291},{"$f":"VLOOKUP($A116,'8.Non-elective admissions - CCG'!$D$5:$N$215,9,0)*$H116","v":86.211352197910784},{"$f":"VLOOKUP($A116,'8.Non-elective admissions - CCG'!$D$5:$N$215,10,0)*$H116","v":88.526581213475836},{"$f":"VLOOKUP($A116,'8.Non-elective admissions - CCG'!$D$5:$Q$215,11,0)*$H116","v":75.306800269638757},{"$f":"VLOOKUP($A116,'8.Non-elective admissions - CCG'!$D$5:$Q$215,12,0)*$H116","v":72.850183222588825},{"$f":"VLOOKUP($A116,'8.Non-elective admissions - CCG'!$D$5:$Q$215,13,0)*$H116","v":73.910593458725486},{"$f":"VLOOKUP($A116,'8.Non-elective admissions - CCG'!$D$5:$Q$215,14,0)*$H116","v":76.437904521517865}]
["02T","NHS Calderdale CCG","E08000032","Bradford",{"$f":"COUNTIF($D$5:D117,D117)","v":4},"Bradford4","NHS Calderdale CCG",1.3782641272073041E-3,0,{"$f":"VLOOKUP($A117,'8.Non-elective admissions - CCG'!$D$5:$N$215,3,0)*$H117","v":8.454272156289603},{"$f":"VLOOKUP($A117,'8.Non-elective admissions - CCG'!$D$5:$N$215,4,0)*$H117","v":8.0904104267068746},{"$f":"VLOOKUP($A117,'8.Non-elective admissions - CCG'!$D$5:$N$215,5,0)*$H117","v":9.0620866363880239},{"$f":"VLOOKUP($A117,'8.Non-elective admissions - CCG'!$D$5:$N$215,6,0)*$H117","v":8.3178240076960801},{"$f":"VLOOKUP($A117,'8.Non-elective admissions - CCG'!$D$5:$N$215,7,0)*$H117","v":8.4404895150175303},{"$f":"VLOOKUP($A117,'8.Non-elective admissions - CCG'!$D$5:$N$215,8,0)*$H117","v":8.0766277854348019},{"$f":"VLOOKUP($A117,'8.Non-elective admissions - CCG'!$D$5:$N$215,9,0)*$H117","v":9.0427909386071228},{"$f":"VLOOKUP($A117,'8.Non-elective admissions - CCG'!$D$5:$N$215,10,0)*$H117","v":8.4694330616888838},{"$f":"VLOOKUP($A117,'8.Non-elective admissions - CCG'!$D$5:$Q$215,11,0)*$H117","v":8.3977633270741041},{"$f":"VLOOKUP($A117,'8.Non-elective admissions - CCG'!$D$5:$Q$215,12,0)*$H117","v":8.0380363898729978},{"$f":"VLOOKUP($A117,'8.Non-elective admissions - CCG'!$D$5:$Q$215,13,0)*$H117","v":8.9986864865364886},{"$f":"VLOOKUP($A117,'8.Non-elective admissions - CCG'!$D$5:$Q$215,14,0)*$H117","v":8.4267068737454576}]
["02T","NHS Calderdale CCG","E08000033","Calderdale",{"$f":"COUNTIF($D$5:D118,D118)","v":2},"Calderdale2","NHS Calderdale CCG",0.9859999814998105,0.98748888312458305,{"$f":"VLOOKUP($A118,'8.Non-elective admissions - CCG'!$D$5:$N$215,3,0)*$H118","v":6048.1238865198375},{"$f":"VLOOKUP($A118,'8.Non-elective admissions - CCG'!$D$5:$N$215,4,0)*$H118","v":5787.8198914038876},{"$f":"VLOOKUP($A118,'8.Non-elective admissions - CCG'!$D$5:$N$215,5,0)*$H118","v":6482.9498783612544},{"$f":"VLOOKUP($A118,'8.Non-elective admissions - CCG'!$D$5:$N$215,6,0)*$H118","v":5950.5098883513565},{"$f":"VLOOKUP($A118,'8.Non-elective admissions - CCG'!$D$5:$N$215,7,0)*$H118","v":6038.263886704839},{"$f":"VLOOKUP($A118,'8.Non-elective admissions - CCG'!$D$5:$N$215,8,0)*$H118","v":5777.9598915888891},{"$f":"VLOOKUP($A118,'8.Non-elective admissions - CCG'!$D$5:$N$215,9,0)*$H118","v":6469.1458786202566},{"$f":"VLOOKUP($A118,'8.Non-elective admissions - CCG'!$D$5:$N$215,10,0)*$H118","v":6058.9698863163358},{"$f":"VLOOKUP($A118,'8.Non-elective admissions - CCG'!$D$5:$Q$215,11,0)*$H118","v":6007.6978872783457},{"$f":"VLOOKUP($A118,'8.Non-elective admissions - CCG'!$D$5:$Q$215,12,0)*$H118","v":5750.3518921068944},{"$f":"VLOOKUP($A118,'8.Non-elective admissions - CCG'!$D$5:$Q$215,13,0)*$H118","v":6437.5938792122624},{"$f":"VLOOKUP($A118,'8.Non-elective admissions - CCG'!$D$5:$Q$215,14,0)*$H118","v":6028.4038868898415}]
["02T","NHS Calderdale CCG","E08000034","Kirklees",{"$f":"COUNTIF($D$5:D119,D119)","v":3},"Kirklees3","NHS Calderdale CCG",1.2621754372982324E-2,6.2182848106601754E-3,{"$f":"VLOOKUP($A119,'8.Non-elective admissions - CCG'!$D$5:$N$215,3,0)*$H119","v":77.421841323873579},{"$f":"VLOOKUP($A119,'8.Non-elective admissions - CCG'!$D$5:$N$215,4,0)*$H119","v":74.089698169406248},{"$f":"VLOOKUP($A119,'8.Non-elective admissions - CCG'!$D$5:$N$215,5,0)*$H119","v":82.988035002358785},{"$f":"VLOOKUP($A119,'8.Non-elective admissions - CCG'!$D$5:$N$215,6,0)*$H119","v":76.172287640948326},{"$f":"VLOOKUP($A119,'8.Non-elective admissions - CCG'!$D$5:$N$215,7,0)*$H119","v":77.295623780143757},{"$f":"VLOOKUP($A119,'8.Non-elective admissions - CCG'!$D$5:$N$215,8,0)*$H119","v":73.963480625676425},{"$f":"VLOOKUP($A119,'8.Non-elective admissions - CCG'!$D$5:$N$215,9,0)*$H119","v":82.811330441137031},{"$f":"VLOOKUP($A119,'8.Non-elective admissions - CCG'!$D$5:$N$215,10,0)*$H119","v":77.560680621976388},{"$f":"VLOOKUP($A119,'8.Non-elective admissions - CCG'!$D$5:$Q$215,11,0)*$H119","v":76.904349394581303},{"$f":"VLOOKUP($A119,'8.Non-elective admissions - CCG'!$D$5:$Q$215,12,0)*$H119","v":73.610071503232916},{"$f":"VLOOKUP($A119,'8.Non-elective admissions - CCG'!$D$5:$Q$215,13,0)*$H119","v":82.40743430120159},{"$f":"VLOOKUP($A119,'8.Non-elective admissions - CCG'!$D$5:$Q$215,14,0)*$H119","v":77.169406236413934}]
["06H","NHS Cambridgeshire and Peterborough CCG","E06000055","Bedford",{"$f":"COUNTIF($D$5:D120,D120)","v":2},"Bedford2","NHS Cambridgeshire and Peterborough CCG",3.7823259189504778E-3,1.9597891409917752E-2,{"$f":"VLOOKUP($A120,'8.Non-elective admissions - CCG'!$D$5:$N$215,3,0)*$H120","v":65.237557450057835},{"$f":"VLOOKUP($A120,'8.Non-elective admissions - CCG'!$D$5:$N$215,4,0)*$H120","v":66.568936173528414},{"$f":"VLOOKUP($A120,'8.Non-elective admissions - CCG'!$D$5:$N$215,5,0)*$H120","v":70.116757885503958},{"$f":"VLOOKUP($A120,'8.Non-elective admissions - CCG'!$D$5:$N$215,6,0)*$H120","v":69.280863857415895},{"$f":"VLOOKUP($A120,'8.Non-elective admissions - CCG'!$D$5:$N$215,7,0)*$H120","v":65.194548622033452},{"$f":"VLOOKUP($A120,'8.Non-elective admissions - CCG'!$D$5:$N$215,8,0)*$H120","v":66.396624751638782},{"$f":"VLOOKUP($A120,'8.Non-elective admissions - CCG'!$D$5:$N$215,9,0)*$H120","v":69.957260983827737},{"$f":"VLOOKUP($A120,'8.Non-elective admissions - CCG'!$D$5:$N$215,10,0)*$H120","v":68.204652187415505},{"$f":"VLOOKUP($A120,'8.Non-elective admissions - CCG'!$D$5:$Q$215,11,0)*$H120","v":64.701724055381376},{"$f":"VLOOKUP($A120,'8.Non-elective admissions - CCG'!$D$5:$Q$215,12,0)*$H120","v":65.909063783205283},{"$f":"VLOOKUP($A120,'8.Non-elective admissions - CCG'!$D$5:$Q$215,13,0)*$H120","v":69.391906875763183},{"$f":"VLOOKUP($A120,'8.Non-elective admissions - CCG'!$D$5:$Q$215,14,0)*$H120","v":67.675281010041317}]
["06H","NHS Cambridgeshire and Peterborough CCG","E10000003","Cambridgeshire",{"$f":"COUNTIF($D$5:D121,D121)","v":2},"Cambridgeshire2","NHS Cambridgeshire and Peterborough CCG",0.72262126985081088,0.96579379578332236,{"$f":"VLOOKUP($A121,'8.Non-elective admissions - CCG'!$D$5:$N$215,3,0)*$H121","v":12463.771662386785},{"$f":"VLOOKUP($A121,'8.Non-elective admissions - CCG'!$D$5:$N$215,4,0)*$H121","v":12718.134349374272},{"$f":"VLOOKUP($A121,'8.Non-elective admissions - CCG'!$D$5:$N$215,5,0)*$H121","v":13395.953100494333},{"$f":"VLOOKUP($A121,'8.Non-elective admissions - CCG'!$D$5:$N$215,6,0)*$H121","v":13236.253799857303},{"$f":"VLOOKUP($A121,'8.Non-elective admissions - CCG'!$D$5:$N$215,7,0)*$H121","v":12455.554735927313},{"$f":"VLOOKUP($A121,'8.Non-elective admissions - CCG'!$D$5:$N$215,8,0)*$H121","v":12685.213892183678},{"$f":"VLOOKUP($A121,'8.Non-elective admissions - CCG'!$D$5:$N$215,9,0)*$H121","v":13365.480884165994},{"$f":"VLOOKUP($A121,'8.Non-elective admissions - CCG'!$D$5:$N$215,10,0)*$H121","v":13030.641311597765},{"$f":"VLOOKUP($A121,'8.Non-elective admissions - CCG'!$D$5:$Q$215,11,0)*$H121","v":12361.399572729049},{"$f":"VLOOKUP($A121,'8.Non-elective admissions - CCG'!$D$5:$Q$215,12,0)*$H121","v":12592.064350423178},{"$f":"VLOOKUP($A121,'8.Non-elective admissions - CCG'!$D$5:$Q$215,13,0)*$H121","v":13257.468800532984},{"$f":"VLOOKUP($A121,'8.Non-elective admissions - CCG'!$D$5:$Q$215,14,0)*$H121","v":12929.503842058202}]
["06H","NHS Cambridgeshire and Peterborough CCG","E10000012","Essex",{"$f":"COUNTIF($D$5:D122,D122)","v":2},"Essex2","NHS Cambridgeshire and Peterborough CCG",1.3245932441292138E-3,0,{"$f":"VLOOKUP($A122,'8.Non-elective admissions - CCG'!$D$5:$N$215,3,0)*$H122","v":22.846584274740678},{"$f":"VLOOKUP($A122,'8.Non-elective admissions - CCG'!$D$5:$N$215,4,0)*$H122","v":23.312841096674163},{"$f":"VLOOKUP($A122,'8.Non-elective admissions - CCG'!$D$5:$N$215,5,0)*$H122","v":24.555309559667364},{"$f":"VLOOKUP($A122,'8.Non-elective admissions - CCG'!$D$5:$N$215,6,0)*$H122","v":24.262574452714809},{"$f":"VLOOKUP($A122,'8.Non-elective admissions - CCG'!$D$5:$N$215,7,0)*$H122","v":22.831522324961686},{"$f":"VLOOKUP($A122,'8.Non-elective admissions - CCG'!$D$5:$N$215,8,0)*$H122","v":23.252496602251366},{"$f":"VLOOKUP($A122,'8.Non-elective admissions - CCG'!$D$5:$N$215,9,0)*$H122","v":24.499452787155683},{"$f":"VLOOKUP($A122,'8.Non-elective admissions - CCG'!$D$5:$N$215,10,0)*$H122","v":23.885678664810019},{"$f":"VLOOKUP($A122,'8.Non-elective admissions - CCG'!$D$5:$Q$215,11,0)*$H122","v":22.658932203032322},{"$f":"VLOOKUP($A122,'8.Non-elective admissions - CCG'!$D$5:$Q$215,12,0)*$H122","v":23.081749824018331},{"$f":"VLOOKUP($A122,'8.Non-elective admissions - CCG'!$D$5:$Q$215,13,0)*$H122","v":24.301462384390284},{"$f":"VLOOKUP($A122,'8.Non-elective admissions - CCG'!$D$5:$Q$215,14,0)*$H122","v":23.70028970039705}]
["06H","NHS Cambridgeshire and Peterborough CCG","E10000015","Hertfordshire",{"$f":"COUNTIF($D$5:D123,D123)","v":4},"Hertfordshire4","NHS Cambridgeshire and Peterborough CCG",2.1293671227051982E-2,1.6054920753481854E-2,{"$f":"VLOOKUP($A123,'8.Non-elective admissions - CCG'!$D$5:$N$215,3,0)*$H123","v":367.27324132419255},{"$f":"VLOOKUP($A123,'8.Non-elective admissions - CCG'!$D$5:$N$215,4,0)*$H123","v":374.76861359611485},{"$f":"VLOOKUP($A123,'8.Non-elective admissions - CCG'!$D$5:$N$215,5,0)*$H123","v":394.74207720708961},{"$f":"VLOOKUP($A123,'8.Non-elective admissions - CCG'!$D$5:$N$215,6,0)*$H123","v":390.03617586591116},{"$f":"VLOOKUP($A123,'8.Non-elective admissions - CCG'!$D$5:$N$215,7,0)*$H123","v":367.03111098866981},{"$f":"VLOOKUP($A123,'8.Non-elective admissions - CCG'!$D$5:$N$215,8,0)*$H123","v":373.79853781602407},{"$f":"VLOOKUP($A123,'8.Non-elective admissions - CCG'!$D$5:$N$215,9,0)*$H123","v":393.84414438511612},{"$f":"VLOOKUP($A123,'8.Non-elective admissions - CCG'!$D$5:$N$215,10,0)*$H123","v":383.97733853597953},{"$f":"VLOOKUP($A123,'8.Non-elective admissions - CCG'!$D$5:$Q$215,11,0)*$H123","v":364.25661600336832},{"$f":"VLOOKUP($A123,'8.Non-elective admissions - CCG'!$D$5:$Q$215,12,0)*$H123","v":371.05367574241228},{"$f":"VLOOKUP($A123,'8.Non-elective admissions - CCG'!$D$5:$Q$215,13,0)*$H123","v":390.66132387679505},{"$f":"VLOOKUP($A123,'8.Non-elective admissions - CCG'!$D$5:$Q$215,14,0)*$H123","v":380.99709409125671}]
["06H","NHS Cambridgeshire and Peterborough CCG","E10000019","Lincolnshire",{"$f":"COUNTIF($D$5:D124,D124)","v":1},"Lincolnshire1","NHS Cambridgeshire and Peterborough CCG",1.9768719340953643E-3,2.3693394665784385E-3,{"$f":"VLOOKUP($A124,'8.Non-elective admissions - CCG'!$D$5:$N$215,3,0)*$H124","v":34.097087119276843},{"$f":"VLOOKUP($A124,'8.Non-elective admissions - CCG'!$D$5:$N$215,4,0)*$H124","v":34.792946040078412},{"$f":"VLOOKUP($A124,'8.Non-elective admissions - CCG'!$D$5:$N$215,5,0)*$H124","v":36.647251914259861},{"$f":"VLOOKUP($A124,'8.Non-elective admissions - CCG'!$D$5:$N$215,6,0)*$H124","v":36.210363216824788},{"$f":"VLOOKUP($A124,'8.Non-elective admissions - CCG'!$D$5:$N$215,7,0)*$H124","v":34.074608108514248},{"$f":"VLOOKUP($A124,'8.Non-elective admissions - CCG'!$D$5:$N$215,8,0)*$H124","v":34.702885685376827},{"$f":"VLOOKUP($A124,'8.Non-elective admissions - CCG'!$D$5:$N$215,9,0)*$H124","v":36.563889201670996},{"$f":"VLOOKUP($A124,'8.Non-elective admissions - CCG'!$D$5:$N$215,10,0)*$H124","v":35.647870007313102},{"$f":"VLOOKUP($A124,'8.Non-elective admissions - CCG'!$D$5:$Q$215,11,0)*$H124","v":33.817028229063361},{"$f":"VLOOKUP($A124,'8.Non-elective admissions - CCG'!$D$5:$Q$215,12,0)*$H124","v":34.448056880215589},{"$f":"VLOOKUP($A124,'8.Non-elective admissions - CCG'!$D$5:$Q$215,13,0)*$H124","v":36.268401003930371},{"$f":"VLOOKUP($A124,'8.Non-elective admissions - CCG'!$D$5:$Q$215,14,0)*$H124","v":35.371188662105169}]
["06H","NHS Cambridgeshire and Peterborough CCG","E10000020","Norfolk",{"$f":"COUNTIF($D$5:D125,D125)","v":1},"Norfolk1","NHS Cambridgeshire and Peterborough CCG",7.3030724997745983E-3,7.3032350849149951E-3,{"$f":"VLOOKUP($A125,'8.Non-elective admissions - CCG'!$D$5:$N$215,3,0)*$H125","v":125.96339447611227},{"$f":"VLOOKUP($A125,'8.Non-elective admissions - CCG'!$D$5:$N$215,4,0)*$H125","v":128.53407599603293},{"$f":"VLOOKUP($A125,'8.Non-elective admissions - CCG'!$D$5:$N$215,5,0)*$H125","v":135.38435800082149},{"$f":"VLOOKUP($A125,'8.Non-elective admissions - CCG'!$D$5:$N$215,6,0)*$H125","v":133.77037897837133},{"$f":"VLOOKUP($A125,'8.Non-elective admissions - CCG'!$D$5:$N$215,7,0)*$H125","v":125.88035123871734},{"$f":"VLOOKUP($A125,'8.Non-elective admissions - CCG'!$D$5:$N$215,8,0)*$H125","v":128.20136992216069},{"$f":"VLOOKUP($A125,'8.Non-elective admissions - CCG'!$D$5:$N$215,9,0)*$H125","v":135.07639473657852},{"$f":"VLOOKUP($A125,'8.Non-elective admissions - CCG'!$D$5:$N$215,10,0)*$H125","v":131.69238463850297},{"$f":"VLOOKUP($A125,'8.Non-elective admissions - CCG'!$D$5:$Q$215,11,0)*$H125","v":124.92878502865132},{"$f":"VLOOKUP($A125,'8.Non-elective admissions - CCG'!$D$5:$Q$215,12,0)*$H125","v":127.25996688687755},{"$f":"VLOOKUP($A125,'8.Non-elective admissions - CCG'!$D$5:$Q$215,13,0)*$H125","v":133.98478546553332},{"$f":"VLOOKUP($A125,'8.Non-elective admissions - CCG'!$D$5:$Q$215,14,0)*$H125","v":130.67025270950003}]
["06H","NHS Cambridgeshire and Peterborough CCG","E10000021","Northamptonshire",{"$f":"COUNTIF($D$5:D126,D126)","v":3},"Northamptonshire3","NHS Cambridgeshire and Peterborough CCG",1.6116626539283099E-2,1.9257984369097848E-2,{"$f":"VLOOKUP($A126,'8.Non-elective admissions - CCG'!$D$5:$N$215,3,0)*$H126","v":277.97957454955491},{"$f":"VLOOKUP($A126,'8.Non-elective admissions - CCG'!$D$5:$N$215,4,0)*$H126","v":283.65262709138256},{"$f":"VLOOKUP($A126,'8.Non-elective admissions - CCG'!$D$5:$N$215,5,0)*$H126","v":298.77002278523008},{"$f":"VLOOKUP($A126,'8.Non-elective admissions - CCG'!$D$5:$N$215,6,0)*$H126","v":295.20824832004854},{"$f":"VLOOKUP($A126,'8.Non-elective admissions - CCG'!$D$5:$N$215,7,0)*$H126","v":277.79631238917671},{"$f":"VLOOKUP($A126,'8.Non-elective admissions - CCG'!$D$5:$N$215,8,0)*$H126","v":282.9184019361324},{"$f":"VLOOKUP($A126,'8.Non-elective admissions - CCG'!$D$5:$N$215,9,0)*$H126","v":298.0904007606951},{"$f":"VLOOKUP($A126,'8.Non-elective admissions - CCG'!$D$5:$N$215,10,0)*$H126","v":290.6224717544406},{"$f":"VLOOKUP($A126,'8.Non-elective admissions - CCG'!$D$5:$Q$215,11,0)*$H126","v":275.69636921655882},{"$f":"VLOOKUP($A126,'8.Non-elective admissions - CCG'!$D$5:$Q$215,12,0)*$H126","v":280.84088714450542},{"$f":"VLOOKUP($A126,'8.Non-elective admissions - CCG'!$D$5:$Q$215,13,0)*$H126","v":295.68140660805625},{"$f":"VLOOKUP($A126,'8.Non-elective admissions - CCG'!$D$5:$Q$215,14,0)*$H126","v":288.36680216138564}]
["06H","NHS Cambridgeshire and Peterborough CCG","E06000031","Peterborough",{"$f":"COUNTIF($D$5:D127,D127)","v":1},"Peterborough1","NHS Cambridgeshire and Peterborough CCG",0.2239308361967923,0.96013916927967013,{"$f":"VLOOKUP($A127,'8.Non-elective admissions - CCG'!$D$5:$N$215,3,0)*$H127","v":3862.3590627222734},{"$f":"VLOOKUP($A127,'8.Non-elective admissions - CCG'!$D$5:$N$215,4,0)*$H127","v":3941.1827170635443},{"$f":"VLOOKUP($A127,'8.Non-elective admissions - CCG'!$D$5:$N$215,5,0)*$H127","v":4151.229841416136},{"$f":"VLOOKUP($A127,'8.Non-elective admissions - CCG'!$D$5:$N$215,6,0)*$H127","v":4101.7411266166446},{"$f":"VLOOKUP($A127,'8.Non-elective admissions - CCG'!$D$5:$N$215,7,0)*$H127","v":3859.81274518388},{"$f":"VLOOKUP($A127,'8.Non-elective admissions - CCG'!$D$5:$N$215,8,0)*$H127","v":3930.9810999589272},{"$f":"VLOOKUP($A127,'8.Non-elective admissions - CCG'!$D$5:$N$215,9,0)*$H127","v":4141.7869019845539},{"$f":"VLOOKUP($A127,'8.Non-elective admissions - CCG'!$D$5:$N$215,10,0)*$H127","v":4038.0245182777185},{"$f":"VLOOKUP($A127,'8.Non-elective admissions - CCG'!$D$5:$Q$215,11,0)*$H127","v":3830.6352973188514},{"$f":"VLOOKUP($A127,'8.Non-elective admissions - CCG'!$D$5:$Q$215,12,0)*$H127","v":3902.1152809634755},{"$f":"VLOOKUP($A127,'8.Non-elective admissions - CCG'!$D$5:$Q$215,13,0)*$H127","v":4108.3153765583902},{"$f":"VLOOKUP($A127,'8.Non-elective admissions - CCG'!$D$5:$Q$215,14,0)*$H127","v":4006.6833454258631}]
["06H","NHS Cambridgeshire and Peterborough CCG","E06000017","Rutland",{"$f":"COUNTIF($D$5:D128,D128)","v":1},"Rutland1","NHS Cambridgeshire and Peterborough CCG",0,3.2805708193225625E-3,{"$f":"VLOOKUP($A128,'8.Non-elective admissions - CCG'!$D$5:$N$215,3,0)*$H128","v":0},{"$f":"VLOOKUP($A128,'8.Non-elective admissions - CCG'!$D$5:$N$215,4,0)*$H128","v":0},{"$f":"VLOOKUP($A128,'8.Non-elective admissions - CCG'!$D$5:$N$215,5,0)*$H128","v":0},{"$f":"VLOOKUP($A128,'8.Non-elective admissions - CCG'!$D$5:$N$215,6,0)*$H128","v":0},{"$f":"VLOOKUP($A128,'8.Non-elective admissions - CCG'!$D$5:$N$215,7,0)*$H128","v":0},{"$f":"VLOOKUP($A128,'8.Non-elective admissions - CCG'!$D$5:$N$215,8,0)*$H128","v":0},{"$f":"VLOOKUP($A128,'8.Non-elective admissions - CCG'!$D$5:$N$215,9,0)*$H128","v":0},{"$f":"VLOOKUP($A128,'8.Non-elective admissions - CCG'!$D$5:$N$215,10,0)*$H128","v":0},{"$f":"VLOOKUP($A128,'8.Non-elective admissions - CCG'!$D$5:$Q$215,11,0)*$H128","v":0},{"$f":"VLOOKUP($A128,'8.Non-elective admissions - CCG'!$D$5:$Q$215,12,0)*$H128","v":0},{"$f":"VLOOKUP($A128,'8.Non-elective admissions - CCG'!$D$5:$Q$215,13,0)*$H128","v":0},{"$f":"VLOOKUP($A128,'8.Non-elective admissions - CCG'!$D$5:$Q$215,14,0)*$H128","v":0}]
["06H","NHS Cambridgeshire and Peterborough CCG","E10000029","Suffolk",{"$f":"COUNTIF($D$5:D129,D129)","v":1},"Suffolk1","NHS Cambridgeshire and Peterborough CCG",1.6507325891122891E-3,1.9891835628785882E-3,{"$f":"VLOOKUP($A129,'8.Non-elective admissions - CCG'!$D$5:$N$215,3,0)*$H129","v":28.471835697008764},{"$f":"VLOOKUP($A129,'8.Non-elective admissions - CCG'!$D$5:$N$215,4,0)*$H129","v":29.052893568376287},{"$f":"VLOOKUP($A129,'8.Non-elective admissions - CCG'!$D$5:$N$215,5,0)*$H129","v":30.601280736963616},{"$f":"VLOOKUP($A129,'8.Non-elective admissions - CCG'!$D$5:$N$215,6,0)*$H129","v":30.236468834769799},{"$f":"VLOOKUP($A129,'8.Non-elective admissions - CCG'!$D$5:$N$215,7,0)*$H129","v":28.453065216737969},{"$f":"VLOOKUP($A129,'8.Non-elective admissions - CCG'!$D$5:$N$215,8,0)*$H129","v":28.977691143814098},{"$f":"VLOOKUP($A129,'8.Non-elective admissions - CCG'!$D$5:$N$215,9,0)*$H129","v":30.531670994413343},{"$f":"VLOOKUP($A129,'8.Non-elective admissions - CCG'!$D$5:$N$215,10,0)*$H129","v":29.766774336061562},{"$f":"VLOOKUP($A129,'8.Non-elective admissions - CCG'!$D$5:$Q$215,11,0)*$H129","v":28.237980216047841},{"$f":"VLOOKUP($A129,'8.Non-elective admissions - CCG'!$D$5:$Q$215,12,0)*$H129","v":28.764903352116963},{"$f":"VLOOKUP($A129,'8.Non-elective admissions - CCG'!$D$5:$Q$215,13,0)*$H129","v":30.284931694160331},{"$f":"VLOOKUP($A129,'8.Non-elective admissions - CCG'!$D$5:$Q$215,14,0)*$H129","v":29.535739181251113}]
["07R","NHS Camden CCG","E09000003","Barnet",{"$f":"COUNTIF($D$5:D130,D130)","v":3},"Barnet3","NHS Camden CCG",7.1040209381669772E-3,4.8084654299279514E-3,{"$f":"VLOOKUP($A130,'8.Non-elective admissions - CCG'!$D$5:$N$215,3,0)*$H130","v":31.698141426101053},{"$f":"VLOOKUP($A130,'8.Non-elective admissions - CCG'!$D$5:$N$215,4,0)*$H130","v":31.499228839832377},{"$f":"VLOOKUP($A130,'8.Non-elective admissions - CCG'!$D$5:$N$215,5,0)*$H130","v":30.518873950365332},{"$f":"VLOOKUP($A130,'8.Non-elective admissions - CCG'!$D$5:$N$215,6,0)*$H130","v":31.065883562604192},{"$f":"VLOOKUP($A130,'8.Non-elective admissions - CCG'!$D$5:$N$215,7,0)*$H130","v":32.323295268659749},{"$f":"VLOOKUP($A130,'8.Non-elective admissions - CCG'!$D$5:$N$215,8,0)*$H130","v":32.685600336506262},{"$f":"VLOOKUP($A130,'8.Non-elective admissions - CCG'!$D$5:$N$215,9,0)*$H130","v":33.232609948745122},{"$f":"VLOOKUP($A130,'8.Non-elective admissions - CCG'!$D$5:$N$215,10,0)*$H130","v":33.431522535013798},{"$f":"VLOOKUP($A130,'8.Non-elective admissions - CCG'!$D$5:$Q$215,11,0)*$H130","v":31.584477091090381},{"$f":"VLOOKUP($A130,'8.Non-elective admissions - CCG'!$D$5:$Q$215,12,0)*$H130","v":31.932574117060561},{"$f":"VLOOKUP($A130,'8.Non-elective admissions - CCG'!$D$5:$Q$215,13,0)*$H130","v":32.486687750237586},{"$f":"VLOOKUP($A130,'8.Non-elective admissions - CCG'!$D$5:$Q$215,14,0)*$H130","v":32.65008023181543}]
["07R","NHS Camden CCG","E09000005","Brent",{"$f":"COUNTIF($D$5:D131,D131)","v":3},"Brent3","NHS Camden CCG",3.8156849304397958E-2,2.68280861061896E-2,{"$f":"VLOOKUP($A131,'8.Non-elective admissions - CCG'!$D$5:$N$215,3,0)*$H131","v":170.2558615962237},{"$f":"VLOOKUP($A131,'8.Non-elective admissions - CCG'!$D$5:$N$215,4,0)*$H131","v":169.18746981570055},{"$f":"VLOOKUP($A131,'8.Non-elective admissions - CCG'!$D$5:$N$215,5,0)*$H131","v":163.92182461169364},{"$f":"VLOOKUP($A131,'8.Non-elective admissions - CCG'!$D$5:$N$215,6,0)*$H131","v":166.85990200813228},{"$f":"VLOOKUP($A131,'8.Non-elective admissions - CCG'!$D$5:$N$215,7,0)*$H131","v":173.6136643350107},{"$f":"VLOOKUP($A131,'8.Non-elective admissions - CCG'!$D$5:$N$215,8,0)*$H131","v":175.559663649535},{"$f":"VLOOKUP($A131,'8.Non-elective admissions - CCG'!$D$5:$N$215,9,0)*$H131","v":178.49774104597364},{"$f":"VLOOKUP($A131,'8.Non-elective admissions - CCG'!$D$5:$N$215,10,0)*$H131","v":179.56613282649678},{"$f":"VLOOKUP($A131,'8.Non-elective admissions - CCG'!$D$5:$Q$215,11,0)*$H131","v":169.64535200735332},{"$f":"VLOOKUP($A131,'8.Non-elective admissions - CCG'!$D$5:$Q$215,12,0)*$H131","v":171.51503762326882},{"$f":"VLOOKUP($A131,'8.Non-elective admissions - CCG'!$D$5:$Q$215,13,0)*$H131","v":174.49127186901185},{"$f":"VLOOKUP($A131,'8.Non-elective admissions - CCG'!$D$5:$Q$215,14,0)*$H131","v":175.36887940301301}]
["07R","NHS Camden CCG","E09000007","Camden",{"$f":"COUNTIF($D$5:D132,D132)","v":3},"Camden3","NHS Camden CCG",0.84332985402483307,0.88587501278510783,{"$f":"VLOOKUP($A132,'8.Non-elective admissions - CCG'!$D$5:$N$215,3,0)*$H132","v":3762.9378086588054},{"$f":"VLOOKUP($A132,'8.Non-elective admissions - CCG'!$D$5:$N$215,4,0)*$H132","v":3739.3245727461099},{"$f":"VLOOKUP($A132,'8.Non-elective admissions - CCG'!$D$5:$N$215,5,0)*$H132","v":3622.9450528906827},{"$f":"VLOOKUP($A132,'8.Non-elective admissions - CCG'!$D$5:$N$215,6,0)*$H132","v":3687.881451650595},{"$f":"VLOOKUP($A132,'8.Non-elective admissions - CCG'!$D$5:$N$215,7,0)*$H132","v":3837.1508358129904},{"$f":"VLOOKUP($A132,'8.Non-elective admissions - CCG'!$D$5:$N$215,8,0)*$H132","v":3880.1606583682569},{"$f":"VLOOKUP($A132,'8.Non-elective admissions - CCG'!$D$5:$N$215,9,0)*$H132","v":3945.0970571281691},{"$f":"VLOOKUP($A132,'8.Non-elective admissions - CCG'!$D$5:$N$215,10,0)*$H132","v":3968.7102930408646},{"$f":"VLOOKUP($A132,'8.Non-elective admissions - CCG'!$D$5:$Q$215,11,0)*$H132","v":3749.4445309944076},{"$f":"VLOOKUP($A132,'8.Non-elective admissions - CCG'!$D$5:$Q$215,12,0)*$H132","v":3790.7676938416248},{"$f":"VLOOKUP($A132,'8.Non-elective admissions - CCG'!$D$5:$Q$215,13,0)*$H132","v":3856.5474224555614},{"$f":"VLOOKUP($A132,'8.Non-elective admissions - CCG'!$D$5:$Q$215,14,0)*$H132","v":3875.9440090981329}]
["07R","NHS Camden CCG","E09000001","City of London",{"$f":"COUNTIF($D$5:D133,D133)","v":1},"City of London1","NHS Camden CCG",1.8149527177553791E-3,6.42315644383184E-2,{"$f":"VLOOKUP($A133,'8.Non-elective admissions - CCG'!$D$5:$N$215,3,0)*$H133","v":8.0983190266245018},{"$f":"VLOOKUP($A133,'8.Non-elective admissions - CCG'!$D$5:$N$215,4,0)*$H133","v":8.0475003505273506},{"$f":"VLOOKUP($A133,'8.Non-elective admissions - CCG'!$D$5:$N$215,5,0)*$H133","v":7.7970368754771089},{"$f":"VLOOKUP($A133,'8.Non-elective admissions - CCG'!$D$5:$N$215,6,0)*$H133","v":7.9367882347442729},{"$f":"VLOOKUP($A133,'8.Non-elective admissions - CCG'!$D$5:$N$215,7,0)*$H133","v":8.2580348657869749},{"$f":"VLOOKUP($A133,'8.Non-elective admissions - CCG'!$D$5:$N$215,8,0)*$H133","v":8.3505974543924992},{"$f":"VLOOKUP($A133,'8.Non-elective admissions - CCG'!$D$5:$N$215,9,0)*$H133","v":8.4903488136596632},{"$f":"VLOOKUP($A133,'8.Non-elective admissions - CCG'!$D$5:$N$215,10,0)*$H133","v":8.5411674897568144},{"$f":"VLOOKUP($A133,'8.Non-elective admissions - CCG'!$D$5:$Q$215,11,0)*$H133","v":8.0692797831404164},{"$f":"VLOOKUP($A133,'8.Non-elective admissions - CCG'!$D$5:$Q$215,12,0)*$H133","v":8.1582124663104292},{"$f":"VLOOKUP($A133,'8.Non-elective admissions - CCG'!$D$5:$Q$215,13,0)*$H133","v":8.299778778295348},{"$f":"VLOOKUP($A133,'8.Non-elective admissions - CCG'!$D$5:$Q$215,14,0)*$H133","v":8.341522690803723}]
["07R","NHS Camden CCG","E09000012","Hackney",{"$f":"COUNTIF($D$5:D134,D134)","v":1},{"$f":"D134&E134","v":"Hackney1"},{"$f":"B134","v":"NHS Camden CCG"},8.7670784713891805E-3,8.1442004681739396E-3,{"$f":"VLOOKUP($A134,'8.Non-elective admissions - CCG'!$D$5:$N$215,3,0)*$H134","v":39.118704139338526},{"$f":"VLOOKUP($A134,'8.Non-elective admissions - CCG'!$D$5:$N$215,4,0)*$H134","v":38.873225942139626},{"$f":"VLOOKUP($A134,'8.Non-elective admissions - CCG'!$D$5:$N$215,5,0)*$H134","v":37.663369113087917},{"$f":"VLOOKUP($A134,'8.Non-elective admissions - CCG'!$D$5:$N$215,6,0)*$H134","v":38.338434155384888},{"$f":"VLOOKUP($A134,'8.Non-elective admissions - CCG'!$D$5:$N$215,7,0)*$H134","v":39.89020704482077},{"$f":"VLOOKUP($A134,'8.Non-elective admissions - CCG'!$D$5:$N$215,8,0)*$H134","v":40.337328046861622},{"$f":"VLOOKUP($A134,'8.Non-elective admissions - CCG'!$D$5:$N$215,9,0)*$H134","v":41.012393089158586},{"$f":"VLOOKUP($A134,'8.Non-elective admissions - CCG'!$D$5:$N$215,10,0)*$H134","v":41.257871286357485},{"$f":"VLOOKUP($A134,'8.Non-elective admissions - CCG'!$D$5:$Q$215,11,0)*$H134","v":38.9784308837963},{"$f":"VLOOKUP($A134,'8.Non-elective admissions - CCG'!$D$5:$Q$215,12,0)*$H134","v":39.408017728894364},{"$f":"VLOOKUP($A134,'8.Non-elective admissions - CCG'!$D$5:$Q$215,13,0)*$H134","v":40.091849849662722},{"$f":"VLOOKUP($A134,'8.Non-elective admissions - CCG'!$D$5:$Q$215,14,0)*$H134","v":40.293492654504675}]
["07R","NHS Camden CCG","E09000013","Hammersmith and Fulham",{"$f":"COUNTIF($D$5:D135,D135)","v":2},"Hammersmith and Fulham2","NHS Camden CCG",0,9.0131985828183518E-4,{"$f":"VLOOKUP($A135,'8.Non-elective admissions - CCG'!$D$5:$N$215,3,0)*$H135","v":0},{"$f":"VLOOKUP($A135,'8.Non-elective admissions - CCG'!$D$5:$N$215,4,0)*$H135","v":0},{"$f":"VLOOKUP($A135,'8.Non-elective admissions - CCG'!$D$5:$N$215,5,0)*$H135","v":0},{"$f":"VLOOKUP($A135,'8.Non-elective admissions - CCG'!$D$5:$N$215,6,0)*$H135","v":0},{"$f":"VLOOKUP($A135,'8.Non-elective admissions - CCG'!$D$5:$N$215,7,0)*$H135","v":0},{"$f":"VLOOKUP($A135,'8.Non-elective admissions - CCG'!$D$5:$N$215,8,0)*$H135","v":0},{"$f":"VLOOKUP($A135,'8.Non-elective admissions - CCG'!$D$5:$N$215,9,0)*$H135","v":0},{"$f":"VLOOKUP($A135,'8.Non-elective admissions - CCG'!$D$5:$N$215,10,0)*$H135","v":0},{"$f":"VLOOKUP($A135,'8.Non-elective admissions - CCG'!$D$5:$Q$215,11,0)*$H135","v":0},{"$f":"VLOOKUP($A135,'8.Non-elective admissions - CCG'!$D$5:$Q$215,12,0)*$H135","v":0},{"$f":"VLOOKUP($A135,'8.Non-elective admissions - CCG'!$D$5:$Q$215,13,0)*$H135","v":0},{"$f":"VLOOKUP($A135,'8.Non-elective admissions - CCG'!$D$5:$Q$215,14,0)*$H135","v":0}]
["07R","NHS Camden CCG","E09000014","Haringey",{"$f":"COUNTIF($D$5:D136,D136)","v":2},"Haringey2","NHS Camden CCG",4.3854866098552714E-3,4.128231826247635E-3,{"$f":"VLOOKUP($A136,'8.Non-elective admissions - CCG'!$D$5:$N$215,3,0)*$H136","v":19.568041253174222},{"$f":"VLOOKUP($A136,'8.Non-elective admissions - CCG'!$D$5:$N$215,4,0)*$H136","v":19.445247628098272},{"$f":"VLOOKUP($A136,'8.Non-elective admissions - CCG'!$D$5:$N$215,5,0)*$H136","v":18.840050475938245},{"$f":"VLOOKUP($A136,'8.Non-elective admissions - CCG'!$D$5:$N$215,6,0)*$H136","v":19.177732944897102},{"$f":"VLOOKUP($A136,'8.Non-elective admissions - CCG'!$D$5:$N$215,7,0)*$H136","v":19.953964074841483},{"$f":"VLOOKUP($A136,'8.Non-elective admissions - CCG'!$D$5:$N$215,8,0)*$H136","v":20.177623891944105},{"$f":"VLOOKUP($A136,'8.Non-elective admissions - CCG'!$D$5:$N$215,9,0)*$H136","v":20.515306360902958},{"$f":"VLOOKUP($A136,'8.Non-elective admissions - CCG'!$D$5:$N$215,10,0)*$H136","v":20.638099985978908},{"$f":"VLOOKUP($A136,'8.Non-elective admissions - CCG'!$D$5:$Q$215,11,0)*$H136","v":19.497873467416536},{"$f":"VLOOKUP($A136,'8.Non-elective admissions - CCG'!$D$5:$Q$215,12,0)*$H136","v":19.712762311299446},{"$f":"VLOOKUP($A136,'8.Non-elective admissions - CCG'!$D$5:$Q$215,13,0)*$H136","v":20.054830266868155},{"$f":"VLOOKUP($A136,'8.Non-elective admissions - CCG'!$D$5:$Q$215,14,0)*$H136","v":20.155696458894827}]
["07R","NHS Camden CCG","E09000019","Islington",{"$f":"COUNTIF($D$5:D137,D137)","v":1},"Islington1","NHS Camden CCG",4.608655688669399E-2,5.1005409599344811E-2,{"$f":"VLOOKUP($A137,'8.Non-elective admissions - CCG'!$D$5:$N$215,3,0)*$H137","v":205.6382168284286},{"$f":"VLOOKUP($A137,'8.Non-elective admissions - CCG'!$D$5:$N$215,4,0)*$H137","v":204.34779323560116},{"$f":"VLOOKUP($A137,'8.Non-elective admissions - CCG'!$D$5:$N$215,5,0)*$H137","v":197.98784838523738},{"$f":"VLOOKUP($A137,'8.Non-elective admissions - CCG'!$D$5:$N$215,6,0)*$H137","v":201.53651326551281},{"$f":"VLOOKUP($A137,'8.Non-elective admissions - CCG'!$D$5:$N$215,7,0)*$H137","v":209.69383383445765},{"$f":"VLOOKUP($A137,'8.Non-elective admissions - CCG'!$D$5:$N$215,8,0)*$H137","v":212.04424823567905},{"$f":"VLOOKUP($A137,'8.Non-elective admissions - CCG'!$D$5:$N$215,9,0)*$H137","v":215.59291311595447},{"$f":"VLOOKUP($A137,'8.Non-elective admissions - CCG'!$D$5:$N$215,10,0)*$H137","v":216.88333670878191},{"$f":"VLOOKUP($A137,'8.Non-elective admissions - CCG'!$D$5:$Q$215,11,0)*$H137","v":204.90083191824147},{"$f":"VLOOKUP($A137,'8.Non-elective admissions - CCG'!$D$5:$Q$215,12,0)*$H137","v":207.15907320568948},{"$f":"VLOOKUP($A137,'8.Non-elective admissions - CCG'!$D$5:$Q$215,13,0)*$H137","v":210.75382464285161},{"$f":"VLOOKUP($A137,'8.Non-elective admissions - CCG'!$D$5:$Q$215,14,0)*$H137","v":211.81381545124557}]
["07R","NHS Camden CCG","E09000020","Kensington and Chelsea",{"$f":"COUNTIF($D$5:D138,D138)","v":2},"Kensington and Chelsea2","NHS Camden CCG",2.5471654021717123E-3,4.0780440353929328E-3,{"$f":"VLOOKUP($A138,'8.Non-elective admissions - CCG'!$D$5:$N$215,3,0)*$H138","v":11.36545202449018},{"$f":"VLOOKUP($A138,'8.Non-elective admissions - CCG'!$D$5:$N$215,4,0)*$H138","v":11.294131393229373},{"$f":"VLOOKUP($A138,'8.Non-elective admissions - CCG'!$D$5:$N$215,5,0)*$H138","v":10.942622567729677},{"$f":"VLOOKUP($A138,'8.Non-elective admissions - CCG'!$D$5:$N$215,6,0)*$H138","v":11.138754303696897},{"$f":"VLOOKUP($A138,'8.Non-elective admissions - CCG'!$D$5:$N$215,7,0)*$H138","v":11.589602579881291},{"$f":"VLOOKUP($A138,'8.Non-elective admissions - CCG'!$D$5:$N$215,8,0)*$H138","v":11.719508015392048},{"$f":"VLOOKUP($A138,'8.Non-elective admissions - CCG'!$D$5:$N$215,9,0)*$H138","v":11.91563975135927},{"$f":"VLOOKUP($A138,'8.Non-elective admissions - CCG'!$D$5:$N$215,10,0)*$H138","v":11.986960382620078},{"$f":"VLOOKUP($A138,'8.Non-elective admissions - CCG'!$D$5:$Q$215,11,0)*$H138","v":11.324697378055433},{"$f":"VLOOKUP($A138,'8.Non-elective admissions - CCG'!$D$5:$Q$215,12,0)*$H138","v":11.449508482761846},{"$f":"VLOOKUP($A138,'8.Non-elective admissions - CCG'!$D$5:$Q$215,13,0)*$H138","v":11.648187384131241},{"$f":"VLOOKUP($A138,'8.Non-elective admissions - CCG'!$D$5:$Q$215,14,0)*$H138","v":11.706772188381189}]
["07R","NHS Camden CCG","E09000028","Southwark",{"$f":"COUNTIF($D$5:D139,D139)","v":1},"Southwark1","NHS Camden CCG",4.8840143949897968E-3,3.8794823644424095E-3,{"$f":"VLOOKUP($A139,'8.Non-elective admissions - CCG'!$D$5:$N$215,3,0)*$H139","v":21.792472230444474},{"$f":"VLOOKUP($A139,'8.Non-elective admissions - CCG'!$D$5:$N$215,4,0)*$H139","v":21.655719827384758},{"$f":"VLOOKUP($A139,'8.Non-elective admissions - CCG'!$D$5:$N$215,5,0)*$H139","v":20.981725840876166},{"$f":"VLOOKUP($A139,'8.Non-elective admissions - CCG'!$D$5:$N$215,6,0)*$H139","v":21.35779494929038},{"$f":"VLOOKUP($A139,'8.Non-elective admissions - CCG'!$D$5:$N$215,7,0)*$H139","v":22.222265497203576},{"$f":"VLOOKUP($A139,'8.Non-elective admissions - CCG'!$D$5:$N$215,8,0)*$H139","v":22.471350231348055},{"$f":"VLOOKUP($A139,'8.Non-elective admissions - CCG'!$D$5:$N$215,9,0)*$H139","v":22.847419339762268},{"$f":"VLOOKUP($A139,'8.Non-elective admissions - CCG'!$D$5:$N$215,10,0)*$H139","v":22.984171742821985},{"$f":"VLOOKUP($A139,'8.Non-elective admissions - CCG'!$D$5:$Q$215,11,0)*$H139","v":21.714328000124638},{"$f":"VLOOKUP($A139,'8.Non-elective admissions - CCG'!$D$5:$Q$215,12,0)*$H139","v":21.953644705479135},{"$f":"VLOOKUP($A139,'8.Non-elective admissions - CCG'!$D$5:$Q$215,13,0)*$H139","v":22.334597828288342},{"$f":"VLOOKUP($A139,'8.Non-elective admissions - CCG'!$D$5:$Q$215,14,0)*$H139","v":22.446930159373107}]
["07R","NHS Camden CCG","E09000030","Tower Hamlets",{"$f":"COUNTIF($D$5:D140,D140)","v":1},"Tower Hamlets1","NHS Camden CCG",1.1298664880275439E-2,1.0000517089818502E-2,{"$f":"VLOOKUP($A140,'8.Non-elective admissions - CCG'!$D$5:$N$215,3,0)*$H140","v":50.414642695789013},{"$f":"VLOOKUP($A140,'8.Non-elective admissions - CCG'!$D$5:$N$215,4,0)*$H140","v":50.098280079141297},{"$f":"VLOOKUP($A140,'8.Non-elective admissions - CCG'!$D$5:$N$215,5,0)*$H140","v":48.53906432566329},{"$f":"VLOOKUP($A140,'8.Non-elective admissions - CCG'!$D$5:$N$215,6,0)*$H140","v":49.409061521444499},{"$f":"VLOOKUP($A140,'8.Non-elective admissions - CCG'!$D$5:$N$215,7,0)*$H140","v":51.408925205253247},{"$f":"VLOOKUP($A140,'8.Non-elective admissions - CCG'!$D$5:$N$215,8,0)*$H140","v":51.985157114147299},{"$f":"VLOOKUP($A140,'8.Non-elective admissions - CCG'!$D$5:$N$215,9,0)*$H140","v":52.855154309928508},{"$f":"VLOOKUP($A140,'8.Non-elective admissions - CCG'!$D$5:$N$215,10,0)*$H140","v":53.171516926576217},{"$f":"VLOOKUP($A140,'8.Non-elective admissions - CCG'!$D$5:$Q$215,11,0)*$H140","v":50.233864057704601},{"$f":"VLOOKUP($A140,'8.Non-elective admissions - CCG'!$D$5:$Q$215,12,0)*$H140","v":50.787498636838102},{"$f":"VLOOKUP($A140,'8.Non-elective admissions - CCG'!$D$5:$Q$215,13,0)*$H140","v":51.668794497499583},{"$f":"VLOOKUP($A140,'8.Non-elective admissions - CCG'!$D$5:$Q$215,14,0)*$H140","v":51.928663789745919}]
["07R","NHS Camden CCG","E09000033","Westminster",{"$f":"COUNTIF($D$5:D141,D141)","v":2},"Westminster2","NHS Camden CCG",3.1625356369471412E-2,3.4713464292584914E-2,{"$f":"VLOOKUP($A141,'8.Non-elective admissions - CCG'!$D$5:$N$215,3,0)*$H141","v":141.11234012058145},{"$f":"VLOOKUP($A141,'8.Non-elective admissions - CCG'!$D$5:$N$215,4,0)*$H141","v":140.22683014223625},{"$f":"VLOOKUP($A141,'8.Non-elective admissions - CCG'!$D$5:$N$215,5,0)*$H141","v":135.86253096324918},{"$f":"VLOOKUP($A141,'8.Non-elective admissions - CCG'!$D$5:$N$215,6,0)*$H141","v":138.29768340369847},{"$f":"VLOOKUP($A141,'8.Non-elective admissions - CCG'!$D$5:$N$215,7,0)*$H141","v":143.89537148109491},{"$f":"VLOOKUP($A141,'8.Non-elective admissions - CCG'!$D$5:$N$215,8,0)*$H141","v":145.50826465593798},{"$f":"VLOOKUP($A141,'8.Non-elective admissions - CCG'!$D$5:$N$215,9,0)*$H141","v":147.94341709638726},{"$f":"VLOOKUP($A141,'8.Non-elective admissions - CCG'!$D$5:$N$215,10,0)*$H141","v":148.82892707473246},{"$f":"VLOOKUP($A141,'8.Non-elective admissions - CCG'!$D$5:$Q$215,11,0)*$H141","v":140.60633441866989},{"$f":"VLOOKUP($A141,'8.Non-elective admissions - CCG'!$D$5:$Q$215,12,0)*$H141","v":142.15597688077401},{"$f":"VLOOKUP($A141,'8.Non-elective admissions - CCG'!$D$5:$Q$215,13,0)*$H141","v":144.62275467759278},{"$f":"VLOOKUP($A141,'8.Non-elective admissions - CCG'!$D$5:$Q$215,14,0)*$H141","v":145.35013787409062}]
["04Y","NHS Cannock Chase CCG","E10000028","Staffordshire",{"$f":"COUNTIF($D$5:D142,D142)","v":2},"Staffordshire2","NHS Cannock Chase CCG",0.99319411407175062,0.15219531041588091,{"$f":"VLOOKUP($A142,'8.Non-elective admissions - CCG'!$D$5:$N$215,3,0)*$H142","v":3547.6893754642933},{"$f":"VLOOKUP($A142,'8.Non-elective admissions - CCG'!$D$5:$N$215,4,0)*$H142","v":3471.2134286807686},{"$f":"VLOOKUP($A142,'8.Non-elective admissions - CCG'!$D$5:$N$215,5,0)*$H142","v":3601.3218576241679},{"$f":"VLOOKUP($A142,'8.Non-elective admissions - CCG'!$D$5:$N$215,6,0)*$H142","v":3574.5056165442306},{"$f":"VLOOKUP($A142,'8.Non-elective admissions - CCG'!$D$5:$N$215,7,0)*$H142","v":3566.5600636316567},{"$f":"VLOOKUP($A142,'8.Non-elective admissions - CCG'!$D$5:$N$215,8,0)*$H142","v":3454.3291287415486},{"$f":"VLOOKUP($A142,'8.Non-elective admissions - CCG'!$D$5:$N$215,9,0)*$H142","v":3303.3636234026426},{"$f":"VLOOKUP($A142,'8.Non-elective admissions - CCG'!$D$5:$N$215,10,0)*$H142","v":3301.3772351744992},{"$f":"VLOOKUP($A142,'8.Non-elective admissions - CCG'!$D$5:$Q$215,11,0)*$H142","v":3328.1934762544365},{"$f":"VLOOKUP($A142,'8.Non-elective admissions - CCG'!$D$5:$Q$215,12,0)*$H142","v":3328.1934762544365},{"$f":"VLOOKUP($A142,'8.Non-elective admissions - CCG'!$D$5:$Q$215,13,0)*$H142","v":3328.1934762544365},{"$f":"VLOOKUP($A142,'8.Non-elective admissions - CCG'!$D$5:$Q$215,14,0)*$H142","v":3328.1934762544365}]
["04Y","NHS Cannock Chase CCG","E08000030","Walsall",{"$f":"COUNTIF($D$5:D143,D143)","v":2},"Walsall2","NHS Cannock Chase CCG",6.8058859282493032E-3,3.2533914902469997E-3,{"$f":"VLOOKUP($A143,'8.Non-elective admissions - CCG'!$D$5:$N$215,3,0)*$H143","v":24.310624535706513},{"$f":"VLOOKUP($A143,'8.Non-elective admissions - CCG'!$D$5:$N$215,4,0)*$H143","v":23.786571319231314},{"$f":"VLOOKUP($A143,'8.Non-elective admissions - CCG'!$D$5:$N$215,5,0)*$H143","v":24.678142375831975},{"$f":"VLOOKUP($A143,'8.Non-elective admissions - CCG'!$D$5:$N$215,6,0)*$H143","v":24.494383455769242},{"$f":"VLOOKUP($A143,'8.Non-elective admissions - CCG'!$D$5:$N$215,7,0)*$H143","v":24.439936368343247},{"$f":"VLOOKUP($A143,'8.Non-elective admissions - CCG'!$D$5:$N$215,8,0)*$H143","v":23.670871258451076},{"$f":"VLOOKUP($A143,'8.Non-elective admissions - CCG'!$D$5:$N$215,9,0)*$H143","v":22.636376597357181},{"$f":"VLOOKUP($A143,'8.Non-elective admissions - CCG'!$D$5:$N$215,10,0)*$H143","v":22.622764825500685},{"$f":"VLOOKUP($A143,'8.Non-elective admissions - CCG'!$D$5:$Q$215,11,0)*$H143","v":22.806523745563414},{"$f":"VLOOKUP($A143,'8.Non-elective admissions - CCG'!$D$5:$Q$215,12,0)*$H143","v":22.806523745563414},{"$f":"VLOOKUP($A143,'8.Non-elective admissions - CCG'!$D$5:$Q$215,13,0)*$H143","v":22.806523745563414},{"$f":"VLOOKUP($A143,'8.Non-elective admissions - CCG'!$D$5:$Q$215,14,0)*$H143","v":22.806523745563414}]
["09E","NHS Canterbury and Coastal CCG","E10000016","Kent",{"$f":"COUNTIF($D$5:D144,D144)","v":4},"Kent4","NHS Canterbury and Coastal CCG",0.99999999999999989,0.14061174826287143,{"$f":"VLOOKUP($A144,'8.Non-elective admissions - CCG'!$D$5:$N$215,3,0)*$H144","v":5468.9999999999991},{"$f":"VLOOKUP($A144,'8.Non-elective admissions - CCG'!$D$5:$N$215,4,0)*$H144","v":5330.9999999999991},{"$f":"VLOOKUP($A144,'8.Non-elective admissions - CCG'!$D$5:$N$215,5,0)*$H144","v":5427.9999999999991},{"$f":"VLOOKUP($A144,'8.Non-elective admissions - CCG'!$D$5:$N$215,6,0)*$H144","v":5525.9999999999991},{"$f":"VLOOKUP($A144,'8.Non-elective admissions - CCG'!$D$5:$N$215,7,0)*$H144","v":5621.2836131966997},{"$f":"VLOOKUP($A144,'8.Non-elective admissions - CCG'!$D$5:$N$215,8,0)*$H144","v":5683.0559605103999},{"$f":"VLOOKUP($A144,'8.Non-elective admissions - CCG'!$D$5:$N$215,9,0)*$H144","v":5683.0559605103999},{"$f":"VLOOKUP($A144,'8.Non-elective admissions - CCG'!$D$5:$N$215,10,0)*$H144","v":5559.5112657028994},{"$f":"VLOOKUP($A144,'8.Non-elective admissions - CCG'!$D$5:$Q$215,11,0)*$H144","v":5492.1012201745989},{"$f":"VLOOKUP($A144,'8.Non-elective admissions - CCG'!$D$5:$Q$215,12,0)*$H144","v":5552.4539807853989},{"$f":"VLOOKUP($A144,'8.Non-elective admissions - CCG'!$D$5:$Q$215,13,0)*$H144","v":5552.4539807853989},{"$f":"VLOOKUP($A144,'8.Non-elective admissions - CCG'!$D$5:$Q$215,14,0)*$H144","v":5492.1012200645991}]
["99F","NHS Castle Point and Rochford CCG","E10000012","Essex",{"$f":"COUNTIF($D$5:D145,D145)","v":3},"Essex3","NHS Castle Point and Rochford CCG",0.95696181562163496,0.11770415066044347,{"$f":"VLOOKUP($A145,'8.Non-elective admissions - CCG'!$D$5:$N$215,3,0)*$H145","v":3715.8827300588086},{"$f":"VLOOKUP($A145,'8.Non-elective admissions - CCG'!$D$5:$N$215,4,0)*$H145","v":3788.6118280460528},{"$f":"VLOOKUP($A145,'8.Non-elective admissions - CCG'!$D$5:$N$215,5,0)*$H145","v":3773.3004389961065},{"$f":"VLOOKUP($A145,'8.Non-elective admissions - CCG'!$D$5:$N$215,6,0)*$H145","v":3951.2953367017308},{"$f":"VLOOKUP($A145,'8.Non-elective admissions - CCG'!$D$5:$N$215,7,0)*$H145","v":3965.396331395832},{"$f":"VLOOKUP($A145,'8.Non-elective admissions - CCG'!$D$5:$N$215,8,0)*$H145","v":3997.9541198245943},{"$f":"VLOOKUP($A145,'8.Non-elective admissions - CCG'!$D$5:$N$215,9,0)*$H145","v":4008.0360580775873},{"$f":"VLOOKUP($A145,'8.Non-elective admissions - CCG'!$D$5:$N$215,10,0)*$H145","v":3929.1438432116947},{"$f":"VLOOKUP($A145,'8.Non-elective admissions - CCG'!$D$5:$Q$215,11,0)*$H145","v":3979.611211380613},{"$f":"VLOOKUP($A145,'8.Non-elective admissions - CCG'!$D$5:$Q$215,12,0)*$H145","v":4012.0390724682466},{"$f":"VLOOKUP($A145,'8.Non-elective admissions - CCG'!$D$5:$Q$215,13,0)*$H145","v":4022.2734763925992},{"$f":"VLOOKUP($A145,'8.Non-elective admissions - CCG'!$D$5:$Q$215,14,0)*$H145","v":3943.4472486708046}]
["99F","NHS Castle Point and Rochford CCG","E06000033","Southend-on-Sea",{"$f":"COUNTIF($D$5:D146,D146)","v":1},"Southend-on-Sea1","NHS Castle Point and Rochford CCG",4.3038184378364944E-2,4.192283487437673E-2,{"$f":"VLOOKUP($A146,'8.Non-elective admissions - CCG'!$D$5:$N$215,3,0)*$H146","v":167.11726994119107},{"$f":"VLOOKUP($A146,'8.Non-elective admissions - CCG'!$D$5:$N$215,4,0)*$H146","v":170.38817195394682},{"$f":"VLOOKUP($A146,'8.Non-elective admissions - CCG'!$D$5:$N$215,5,0)*$H146","v":169.69956100389297},{"$f":"VLOOKUP($A146,'8.Non-elective admissions - CCG'!$D$5:$N$215,6,0)*$H146","v":177.70466329826885},{"$f":"VLOOKUP($A146,'8.Non-elective admissions - CCG'!$D$5:$N$215,7,0)*$H146","v":178.33883824616774},{"$f":"VLOOKUP($A146,'8.Non-elective admissions - CCG'!$D$5:$N$215,8,0)*$H146","v":179.80308486340465},{"$f":"VLOOKUP($A146,'8.Non-elective admissions - CCG'!$D$5:$N$215,9,0)*$H146","v":180.25650767541282},{"$f":"VLOOKUP($A146,'8.Non-elective admissions - CCG'!$D$5:$N$215,10,0)*$H146","v":176.70842703730474},{"$f":"VLOOKUP($A146,'8.Non-elective admissions - CCG'!$D$5:$Q$215,11,0)*$H146","v":178.97813504538635},{"$f":"VLOOKUP($A146,'8.Non-elective admissions - CCG'!$D$5:$Q$215,12,0)*$H146","v":180.4365383397529},{"$f":"VLOOKUP($A146,'8.Non-elective admissions - CCG'!$D$5:$Q$215,13,0)*$H146","v":180.89681810840054},{"$f":"VLOOKUP($A146,'8.Non-elective admissions - CCG'!$D$5:$Q$215,14,0)*$H146","v":177.35170516119499}]
["09A","NHS Central London (Westminster) CCG","E09000003","Barnet",{"$f":"COUNTIF($D$5:D147,D147)","v":4},"Barnet4","NHS Central London (Westminster) CCG",1.4603556395498668E-3,0,{"$f":"VLOOKUP($A147,'8.Non-elective admissions - CCG'!$D$5:$N$215,3,0)*$H147","v":5.5843999656386911},{"$f":"VLOOKUP($A147,'8.Non-elective admissions - CCG'!$D$5:$N$215,4,0)*$H147","v":5.1667382527274288},{"$f":"VLOOKUP($A147,'8.Non-elective admissions - CCG'!$D$5:$N$215,5,0)*$H147","v":5.6165277897087877},{"$f":"VLOOKUP($A147,'8.Non-elective admissions - CCG'!$D$5:$N$215,6,0)*$H147","v":5.1550554076110302},{"$f":"VLOOKUP($A147,'8.Non-elective admissions - CCG'!$D$5:$N$215,7,0)*$H147","v":5.8478082233519464},{"$f":"VLOOKUP($A147,'8.Non-elective admissions - CCG'!$D$5:$N$215,8,0)*$H147","v":5.7126491052564203},{"$f":"VLOOKUP($A147,'8.Non-elective admissions - CCG'!$D$5:$N$215,9,0)*$H147","v":5.685545778317155},{"$f":"VLOOKUP($A147,'8.Non-elective admissions - CCG'!$D$5:$N$215,10,0)*$H147","v":5.1685573316888593},{"$f":"VLOOKUP($A147,'8.Non-elective admissions - CCG'!$D$5:$Q$215,11,0)*$H147","v":5.79448024406752},{"$f":"VLOOKUP($A147,'8.Non-elective admissions - CCG'!$D$5:$Q$215,12,0)*$H147","v":5.6521181504716083},{"$f":"VLOOKUP($A147,'8.Non-elective admissions - CCG'!$D$5:$Q$215,13,0)*$H147","v":5.6280518933201611},{"$f":"VLOOKUP($A147,'8.Non-elective admissions - CCG'!$D$5:$Q$215,14,0)*$H147","v":5.1027920600077312}]
["09A","NHS Central London (Westminster) CCG","E09000005","Brent",{"$f":"COUNTIF($D$5:D148,D148)","v":4},"Brent4","NHS Central London (Westminster) CCG",1.2744003193580499E-2,6.9062399877319767E-3,{"$f":"VLOOKUP($A148,'8.Non-elective admissions - CCG'!$D$5:$N$215,3,0)*$H148","v":48.73306821225183},{"$f":"VLOOKUP($A148,'8.Non-elective admissions - CCG'!$D$5:$N$215,4,0)*$H148","v":45.088283298887809},{"$f":"VLOOKUP($A148,'8.Non-elective admissions - CCG'!$D$5:$N$215,5,0)*$H148","v":49.013436282510597},{"$f":"VLOOKUP($A148,'8.Non-elective admissions - CCG'!$D$5:$N$215,6,0)*$H148","v":44.986331273339161},{"$f":"VLOOKUP($A148,'8.Non-elective admissions - CCG'!$D$5:$N$215,7,0)*$H148","v":51.03173819824778},{"$f":"VLOOKUP($A148,'8.Non-elective admissions - CCG'!$D$5:$N$215,8,0)*$H148","v":49.852252745524886},{"$f":"VLOOKUP($A148,'8.Non-elective admissions - CCG'!$D$5:$N$215,9,0)*$H148","v":49.615731670989156},{"$f":"VLOOKUP($A148,'8.Non-elective admissions - CCG'!$D$5:$N$215,10,0)*$H148","v":45.104157752661948},{"$f":"VLOOKUP($A148,'8.Non-elective admissions - CCG'!$D$5:$Q$215,11,0)*$H148","v":50.566363929198225},{"$f":"VLOOKUP($A148,'8.Non-elective admissions - CCG'!$D$5:$Q$215,12,0)*$H148","v":49.324020676433896},{"$f":"VLOOKUP($A148,'8.Non-elective admissions - CCG'!$D$5:$Q$215,13,0)*$H148","v":49.114003027520582},{"$f":"VLOOKUP($A148,'8.Non-elective admissions - CCG'!$D$5:$Q$215,14,0)*$H148","v":44.530247665534596}]
["09A","NHS Central London (Westminster) CCG","E09000007","Camden",{"$f":"COUNTIF($D$5:D149,D149)","v":4},"Camden4","NHS Central London (Westminster) CCG",6.2704336094028715E-2,5.0768129283011144E-2,{"$f":"VLOOKUP($A149,'8.Non-elective admissions - CCG'!$D$5:$N$215,3,0)*$H149","v":239.7813812235658},{"$f":"VLOOKUP($A149,'8.Non-elective admissions - CCG'!$D$5:$N$215,4,0)*$H149","v":221.84794110067358},{"$f":"VLOOKUP($A149,'8.Non-elective admissions - CCG'!$D$5:$N$215,5,0)*$H149","v":241.16087661763444},{"$f":"VLOOKUP($A149,'8.Non-elective admissions - CCG'!$D$5:$N$215,6,0)*$H149","v":221.34630641192138},{"$f":"VLOOKUP($A149,'8.Non-elective admissions - CCG'!$D$5:$N$215,7,0)*$H149","v":251.09153025458235},{"$f":"VLOOKUP($A149,'8.Non-elective admissions - CCG'!$D$5:$N$215,8,0)*$H149","v":245.28810639144265},{"$f":"VLOOKUP($A149,'8.Non-elective admissions - CCG'!$D$5:$N$215,9,0)*$H149","v":244.1243514295418},{"$f":"VLOOKUP($A149,'8.Non-elective admissions - CCG'!$D$5:$N$215,10,0)*$H149","v":221.92604819697942},{"$f":"VLOOKUP($A149,'8.Non-elective admissions - CCG'!$D$5:$Q$215,11,0)*$H149","v":248.80174861118982},{"$f":"VLOOKUP($A149,'8.Non-elective admissions - CCG'!$D$5:$Q$215,12,0)*$H149","v":242.68904542976537},{"$f":"VLOOKUP($A149,'8.Non-elective admissions - CCG'!$D$5:$Q$215,13,0)*$H149","v":241.65569530868473},{"$f":"VLOOKUP($A149,'8.Non-elective admissions - CCG'!$D$5:$Q$215,14,0)*$H149","v":219.10223762157764}]
["09A","NHS Central London (Westminster) CCG","E09000001","City of London",{"$f":"COUNTIF($D$5:D150,D150)","v":2},"City of London2","NHS Central London (Westminster) CCG",0,8.1323225361819435E-3,{"$f":"VLOOKUP($A150,'8.Non-elective admissions - CCG'!$D$5:$N$215,3,0)*$H150","v":0},{"$f":"VLOOKUP($A150,'8.Non-elective admissions - CCG'!$D$5:$N$215,4,0)*$H150","v":0},{"$f":"VLOOKUP($A150,'8.Non-elective admissions - CCG'!$D$5:$N$215,5,0)*$H150","v":0},{"$f":"VLOOKUP($A150,'8.Non-elective admissions - CCG'!$D$5:$N$215,6,0)*$H150","v":0},{"$f":"VLOOKUP($A150,'8.Non-elective admissions - CCG'!$D$5:$N$215,7,0)*$H150","v":0},{"$f":"VLOOKUP($A150,'8.Non-elective admissions - CCG'!$D$5:$N$215,8,0)*$H150","v":0},{"$f":"VLOOKUP($A150,'8.Non-elective admissions - CCG'!$D$5:$N$215,9,0)*$H150","v":0},{"$f":"VLOOKUP($A150,'8.Non-elective admissions - CCG'!$D$5:$N$215,10,0)*$H150","v":0},{"$f":"VLOOKUP($A150,'8.Non-elective admissions - CCG'!$D$5:$Q$215,11,0)*$H150","v":0},{"$f":"VLOOKUP($A150,'8.Non-elective admissions - CCG'!$D$5:$Q$215,12,0)*$H150","v":0},{"$f":"VLOOKUP($A150,'8.Non-elective admissions - CCG'!$D$5:$Q$215,13,0)*$H150","v":0},{"$f":"VLOOKUP($A150,'8.Non-elective admissions - CCG'!$D$5:$Q$215,14,0)*$H150","v":0}]
["09A","NHS Central London (Westminster) CCG","E09000009","Ealing",{"$f":"COUNTIF($D$5:D151,D151)","v":2},"Ealing2","NHS Central London (Westminster) CCG",1.9757752770380552E-3,9.9312432849809631E-4,{"$f":"VLOOKUP($A151,'8.Non-elective admissions - CCG'!$D$5:$N$215,3,0)*$H151","v":7.5553646593935229},{"$f":"VLOOKUP($A151,'8.Non-elective admissions - CCG'!$D$5:$N$215,4,0)*$H151","v":6.9902929301606394},{"$f":"VLOOKUP($A151,'8.Non-elective admissions - CCG'!$D$5:$N$215,5,0)*$H151","v":7.5988317154883607},{"$f":"VLOOKUP($A151,'8.Non-elective admissions - CCG'!$D$5:$N$215,6,0)*$H151","v":6.9744867279443348},{"$f":"VLOOKUP($A151,'8.Non-elective admissions - CCG'!$D$5:$N$215,7,0)*$H151","v":7.9117405374761622},{"$f":"VLOOKUP($A151,'8.Non-elective admissions - CCG'!$D$5:$N$215,8,0)*$H151","v":7.7288782012292749},{"$f":"VLOOKUP($A151,'8.Non-elective admissions - CCG'!$D$5:$N$215,9,0)*$H151","v":7.6922089941937983},{"$f":"VLOOKUP($A151,'8.Non-elective admissions - CCG'!$D$5:$N$215,10,0)*$H151","v":6.9927540369908092},{"$f":"VLOOKUP($A151,'8.Non-elective admissions - CCG'!$D$5:$Q$215,11,0)*$H151","v":7.8395909184442925},{"$f":"VLOOKUP($A151,'8.Non-elective admissions - CCG'!$D$5:$Q$215,12,0)*$H151","v":7.6469833800498233},{"$f":"VLOOKUP($A151,'8.Non-elective admissions - CCG'!$D$5:$Q$215,13,0)*$H151","v":7.6144231497861012},{"$f":"VLOOKUP($A151,'8.Non-elective admissions - CCG'!$D$5:$Q$215,14,0)*$H151","v":6.9037774929516367}]
["09A","NHS Central London (Westminster) CCG","E09000012","Hackney",{"$f":"COUNTIF($D$5:D152,D152)","v":2},"Hackney2","NHS Central London (Westminster) CCG",1.3643460992334396E-3,9.7686989178452405E-4,{"$f":"VLOOKUP($A152,'8.Non-elective admissions - CCG'!$D$5:$N$215,3,0)*$H152","v":5.2172594834686734},{"$f":"VLOOKUP($A152,'8.Non-elective admissions - CCG'!$D$5:$N$215,4,0)*$H152","v":4.8270564990879095},{"$f":"VLOOKUP($A152,'8.Non-elective admissions - CCG'!$D$5:$N$215,5,0)*$H152","v":5.2472750976518086},{"$f":"VLOOKUP($A152,'8.Non-elective admissions - CCG'!$D$5:$N$215,6,0)*$H152","v":4.8161417302940421},{"$f":"VLOOKUP($A152,'8.Non-elective admissions - CCG'!$D$5:$N$215,7,0)*$H152","v":5.4633502432699839},{"$f":"VLOOKUP($A152,'8.Non-elective admissions - CCG'!$D$5:$N$215,8,0)*$H152","v":5.337077018751673},{"$f":"VLOOKUP($A152,'8.Non-elective admissions - CCG'!$D$5:$N$215,9,0)*$H152","v":5.311755571438173},{"$f":"VLOOKUP($A152,'8.Non-elective admissions - CCG'!$D$5:$N$215,10,0)*$H152","v":4.8287559846228101},{"$f":"VLOOKUP($A152,'8.Non-elective admissions - CCG'!$D$5:$Q$215,11,0)*$H152","v":5.4135282557032198},{"$f":"VLOOKUP($A152,'8.Non-elective admissions - CCG'!$D$5:$Q$215,12,0)*$H152","v":5.2805256077070393},{"$f":"VLOOKUP($A152,'8.Non-elective admissions - CCG'!$D$5:$Q$215,13,0)*$H152","v":5.2580415612333686},{"$f":"VLOOKUP($A152,'8.Non-elective admissions - CCG'!$D$5:$Q$215,14,0)*$H152","v":4.7673143813221017}]
["09A","NHS Central London (Westminster) CCG","E09000013","Hammersmith and Fulham",{"$f":"COUNTIF($D$5:D153,D153)","v":3},"Hammersmith and Fulham3","NHS Central London (Westminster) CCG",2.556885652637483E-2,2.4258928100564289E-2,{"$f":"VLOOKUP($A153,'8.Non-elective admissions - CCG'!$D$5:$N$215,3,0)*$H153","v":97.775307356857354},{"$f":"VLOOKUP($A153,'8.Non-elective admissions - CCG'!$D$5:$N$215,4,0)*$H153","v":90.462614390314144},{"$f":"VLOOKUP($A153,'8.Non-elective admissions - CCG'!$D$5:$N$215,5,0)*$H153","v":98.3378222004376},{"$f":"VLOOKUP($A153,'8.Non-elective admissions - CCG'!$D$5:$N$215,6,0)*$H153","v":90.258063538103144},{"$f":"VLOOKUP($A153,'8.Non-elective admissions - CCG'!$D$5:$N$215,7,0)*$H153","v":102.38723048498562},{"$f":"VLOOKUP($A153,'8.Non-elective admissions - CCG'!$D$5:$N$215,8,0)*$H153","v":100.02077672179061},{"$f":"VLOOKUP($A153,'8.Non-elective admissions - CCG'!$D$5:$N$215,9,0)*$H153","v":99.546234042507976},{"$f":"VLOOKUP($A153,'8.Non-elective admissions - CCG'!$D$5:$N$215,10,0)*$H153","v":90.494464008116353},{"$f":"VLOOKUP($A153,'8.Non-elective admissions - CCG'!$D$5:$Q$215,11,0)*$H153","v":101.45352953280847},{"$f":"VLOOKUP($A153,'8.Non-elective admissions - CCG'!$D$5:$Q$215,12,0)*$H153","v":98.960961388880065},{"$f":"VLOOKUP($A153,'8.Non-elective admissions - CCG'!$D$5:$Q$215,13,0)*$H153","v":98.539593703114235},{"$f":"VLOOKUP($A153,'8.Non-elective admissions - CCG'!$D$5:$Q$215,14,0)*$H153","v":89.343002849962346}]
["09A","NHS Central London (Westminster) CCG","E09000019","Islington",{"$f":"COUNTIF($D$5:D154,D154)","v":2},"Islington2","NHS Central London (Westminster) CCG",3.784797141947579E-3,3.2285178559882752E-3,{"$f":"VLOOKUP($A154,'8.Non-elective admissions - CCG'!$D$5:$N$215,3,0)*$H154","v":14.473064270807543},{"$f":"VLOOKUP($A154,'8.Non-elective admissions - CCG'!$D$5:$N$215,4,0)*$H154","v":13.390612288210535},{"$f":"VLOOKUP($A154,'8.Non-elective admissions - CCG'!$D$5:$N$215,5,0)*$H154","v":14.556329807930389},{"$f":"VLOOKUP($A154,'8.Non-elective admissions - CCG'!$D$5:$N$215,6,0)*$H154","v":13.360333911074955},{"$f":"VLOOKUP($A154,'8.Non-elective admissions - CCG'!$D$5:$N$215,7,0)*$H154","v":15.155738267441549},{"$f":"VLOOKUP($A154,'8.Non-elective admissions - CCG'!$D$5:$N$215,8,0)*$H154","v":14.805446989055568},{"$f":"VLOOKUP($A154,'8.Non-elective admissions - CCG'!$D$5:$N$215,9,0)*$H154","v":14.735203418545154},{"$f":"VLOOKUP($A154,'8.Non-elective admissions - CCG'!$D$5:$N$215,10,0)*$H154","v":13.395326786972165},{"$f":"VLOOKUP($A154,'8.Non-elective admissions - CCG'!$D$5:$Q$215,11,0)*$H154","v":15.017528383413747},{"$f":"VLOOKUP($A154,'8.Non-elective admissions - CCG'!$D$5:$Q$215,12,0)*$H154","v":14.648569185824343},{"$f":"VLOOKUP($A154,'8.Non-elective admissions - CCG'!$D$5:$Q$215,13,0)*$H154","v":14.586196775421458},{"$f":"VLOOKUP($A154,'8.Non-elective admissions - CCG'!$D$5:$Q$215,14,0)*$H154","v":13.224883228186128}]
["09A","NHS Central London (Westminster) CCG","E09000020","Kensington and Chelsea",{"$f":"COUNTIF($D$5:D155,D155)","v":3},"Kensington and Chelsea3","NHS Central London (Westminster) CCG",4.0849532837789353E-2,5.040811618060622E-2,{"$f":"VLOOKUP($A155,'8.Non-elective admissions - CCG'!$D$5:$N$215,3,0)*$H155","v":156.20861357170648},{"$f":"VLOOKUP($A155,'8.Non-elective admissions - CCG'!$D$5:$N$215,4,0)*$H155","v":144.52564718009873},{"$f":"VLOOKUP($A155,'8.Non-elective admissions - CCG'!$D$5:$N$215,5,0)*$H155","v":157.10730329413786},{"$f":"VLOOKUP($A155,'8.Non-elective admissions - CCG'!$D$5:$N$215,6,0)*$H155","v":144.19885091739641},{"$f":"VLOOKUP($A155,'8.Non-elective admissions - CCG'!$D$5:$N$215,7,0)*$H155","v":163.57675320960945},{"$f":"VLOOKUP($A155,'8.Non-elective admissions - CCG'!$D$5:$N$215,8,0)*$H155","v":159.79603933180934},{"$f":"VLOOKUP($A155,'8.Non-elective admissions - CCG'!$D$5:$N$215,9,0)*$H155","v":159.03789644261551},{"$f":"VLOOKUP($A155,'8.Non-elective admissions - CCG'!$D$5:$N$215,10,0)*$H155","v":144.5765310358918},{"$f":"VLOOKUP($A155,'8.Non-elective admissions - CCG'!$D$5:$Q$215,11,0)*$H155","v":162.08504599668453},{"$f":"VLOOKUP($A155,'8.Non-elective admissions - CCG'!$D$5:$Q$215,12,0)*$H155","v":158.1028481951989},{"$f":"VLOOKUP($A155,'8.Non-elective admissions - CCG'!$D$5:$Q$215,13,0)*$H155","v":157.42965918892796},{"$f":"VLOOKUP($A155,'8.Non-elective admissions - CCG'!$D$5:$Q$215,14,0)*$H155","v":142.7369239207699}]
["09A","NHS Central London (Westminster) CCG","E09000022","Lambeth",{"$f":"COUNTIF($D$5:D156,D156)","v":1},"Lambeth1","NHS Central London (Westminster) CCG",6.3315765271833328E-3,3.5931818442514829E-3,{"$f":"VLOOKUP($A156,'8.Non-elective admissions - CCG'!$D$5:$N$215,3,0)*$H156","v":24.211948639949064},{"$f":"VLOOKUP($A156,'8.Non-elective admissions - CCG'!$D$5:$N$215,4,0)*$H156","v":22.401117753174631},{"$f":"VLOOKUP($A156,'8.Non-elective admissions - CCG'!$D$5:$N$215,5,0)*$H156","v":24.351243323547099},{"$f":"VLOOKUP($A156,'8.Non-elective admissions - CCG'!$D$5:$N$215,6,0)*$H156","v":22.350465140957166},{"$f":"VLOOKUP($A156,'8.Non-elective admissions - CCG'!$D$5:$N$215,7,0)*$H156","v":25.353992054878852},{"$f":"VLOOKUP($A156,'8.Non-elective admissions - CCG'!$D$5:$N$215,8,0)*$H156","v":24.767990757392024},{"$f":"VLOOKUP($A156,'8.Non-elective admissions - CCG'!$D$5:$N$215,9,0)*$H156","v":24.650480485229743},{"$f":"VLOOKUP($A156,'8.Non-elective admissions - CCG'!$D$5:$N$215,10,0)*$H156","v":22.409004624934742},{"$f":"VLOOKUP($A156,'8.Non-elective admissions - CCG'!$D$5:$Q$215,11,0)*$H156","v":25.12278112739309},{"$f":"VLOOKUP($A156,'8.Non-elective admissions - CCG'!$D$5:$Q$215,12,0)*$H156","v":24.505550320210816},{"$f":"VLOOKUP($A156,'8.Non-elective admissions - CCG'!$D$5:$Q$215,13,0)*$H156","v":24.401207689723744},{"$f":"VLOOKUP($A156,'8.Non-elective admissions - CCG'!$D$5:$Q$215,14,0)*$H156","v":22.123870073320717}]
["09A","NHS Central London (Westminster) CCG","E09000023","Lewisham",{"$f":"COUNTIF($D$5:D157,D157)","v":2},"Lewisham2","NHS Central London (Westminster) CCG",1.2076989545066372E-3,0,{"$f":"VLOOKUP($A157,'8.Non-elective admissions - CCG'!$D$5:$N$215,3,0)*$H157","v":4.6182408020333812},{"$f":"VLOOKUP($A157,'8.Non-elective admissions - CCG'!$D$5:$N$215,4,0)*$H157","v":4.2728389010444827},{"$f":"VLOOKUP($A157,'8.Non-elective admissions - CCG'!$D$5:$N$215,5,0)*$H157","v":4.6448101790325271},{"$f":"VLOOKUP($A157,'8.Non-elective admissions - CCG'!$D$5:$N$215,6,0)*$H157","v":4.2631773094084293},{"$f":"VLOOKUP($A157,'8.Non-elective admissions - CCG'!$D$5:$N$215,7,0)*$H157","v":4.8360766968204674},{"$f":"VLOOKUP($A157,'8.Non-elective admissions - CCG'!$D$5:$N$215,8,0)*$H157","v":4.7243015091912959},{"$f":"VLOOKUP($A157,'8.Non-elective admissions - CCG'!$D$5:$N$215,9,0)*$H157","v":4.7018873391619378},{"$f":"VLOOKUP($A157,'8.Non-elective admissions - CCG'!$D$5:$N$215,10,0)*$H157","v":4.2743432604624125},{"$f":"VLOOKUP($A157,'8.Non-elective admissions - CCG'!$D$5:$Q$215,11,0)*$H157","v":4.7919750115298871},{"$f":"VLOOKUP($A157,'8.Non-elective admissions - CCG'!$D$5:$Q$215,12,0)*$H157","v":4.6742430379332678},{"$f":"VLOOKUP($A157,'8.Non-elective admissions - CCG'!$D$5:$Q$215,13,0)*$H157","v":4.6543404930917598},{"$f":"VLOOKUP($A157,'8.Non-elective admissions - CCG'!$D$5:$Q$215,14,0)*$H157","v":4.2199560634666016}]
["09A","NHS Central London (Westminster) CCG","E09000028","Southwark",{"$f":"COUNTIF($D$5:D158,D158)","v":2},"Southwark2","NHS Central London (Westminster) CCG",1.6089177703552858E-2,9.8502965298123048E-3,{"$f":"VLOOKUP($A158,'8.Non-elective admissions - CCG'!$D$5:$N$215,3,0)*$H158","v":61.525015538386128},{"$f":"VLOOKUP($A158,'8.Non-elective admissions - CCG'!$D$5:$N$215,4,0)*$H158","v":56.923510715170011},{"$f":"VLOOKUP($A158,'8.Non-elective admissions - CCG'!$D$5:$N$215,5,0)*$H158","v":61.878977447864294},{"$f":"VLOOKUP($A158,'8.Non-elective admissions - CCG'!$D$5:$N$215,6,0)*$H158","v":56.794797293541592},{"$f":"VLOOKUP($A158,'8.Non-elective admissions - CCG'!$D$5:$N$215,7,0)*$H158","v":64.427063609524552},{"$f":"VLOOKUP($A158,'8.Non-elective admissions - CCG'!$D$5:$N$215,8,0)*$H158","v":62.937974917427141},{"$f":"VLOOKUP($A158,'8.Non-elective admissions - CCG'!$D$5:$N$215,9,0)*$H158","v":62.639369405404224},{"$f":"VLOOKUP($A158,'8.Non-elective admissions - CCG'!$D$5:$N$215,10,0)*$H158","v":56.943552055700096},{"$f":"VLOOKUP($A158,'8.Non-elective admissions - CCG'!$D$5:$Q$215,11,0)*$H158","v":63.839533207996482},{"$f":"VLOOKUP($A158,'8.Non-elective admissions - CCG'!$D$5:$Q$215,12,0)*$H158","v":62.271087166441525},{"$f":"VLOOKUP($A158,'8.Non-elective admissions - CCG'!$D$5:$Q$215,13,0)*$H158","v":62.005941966544619},{"$f":"VLOOKUP($A158,'8.Non-elective admissions - CCG'!$D$5:$Q$215,14,0)*$H158","v":56.218996259739157}]
["09A","NHS Central London (Westminster) CCG","E09000030","Tower Hamlets",{"$f":"COUNTIF($D$5:D159,D159)","v":2},"Tower Hamlets2","NHS Central London (Westminster) CCG",2.7236390647660145E-3,1.8580760811486288E-3,{"$f":"VLOOKUP($A159,'8.Non-elective admissions - CCG'!$D$5:$N$215,3,0)*$H159","v":10.41519578366524},{"$f":"VLOOKUP($A159,'8.Non-elective admissions - CCG'!$D$5:$N$215,4,0)*$H159","v":9.6362350111421602},{"$f":"VLOOKUP($A159,'8.Non-elective admissions - CCG'!$D$5:$N$215,5,0)*$H159","v":10.475115843090093},{"$f":"VLOOKUP($A159,'8.Non-elective admissions - CCG'!$D$5:$N$215,6,0)*$H159","v":9.614445898624032},{"$f":"VLOOKUP($A159,'8.Non-elective admissions - CCG'!$D$5:$N$215,7,0)*$H159","v":10.906465856009339},{"$f":"VLOOKUP($A159,'8.Non-elective admissions - CCG'!$D$5:$N$215,8,0)*$H159","v":10.654387085582044},{"$f":"VLOOKUP($A159,'8.Non-elective admissions - CCG'!$D$5:$N$215,9,0)*$H159","v":10.60383797409324},{"$f":"VLOOKUP($A159,'8.Non-elective admissions - CCG'!$D$5:$N$215,10,0)*$H159","v":9.6396276878210898},{"$f":"VLOOKUP($A159,'8.Non-elective admissions - CCG'!$D$5:$Q$215,11,0)*$H159","v":10.807006406755686},{"$f":"VLOOKUP($A159,'8.Non-elective admissions - CCG'!$D$5:$Q$215,12,0)*$H159","v":10.541493713163311},{"$f":"VLOOKUP($A159,'8.Non-elective admissions - CCG'!$D$5:$Q$215,13,0)*$H159","v":10.496608894462168},{"$f":"VLOOKUP($A159,'8.Non-elective admissions - CCG'!$D$5:$Q$215,14,0)*$H159","v":9.5169720427133804}]
["09A","NHS Central London (Westminster) CCG","E09000032","Wandsworth",{"$f":"COUNTIF($D$5:D160,D160)","v":1},"Wandsworth1","NHS Central London (Westminster) CCG",6.700455287346448E-3,3.7904124860646607E-3,{"$f":"VLOOKUP($A160,'8.Non-elective admissions - CCG'!$D$5:$N$215,3,0)*$H160","v":25.622541018812818},{"$f":"VLOOKUP($A160,'8.Non-elective admissions - CCG'!$D$5:$N$215,4,0)*$H160","v":23.706210806631734},{"$f":"VLOOKUP($A160,'8.Non-elective admissions - CCG'!$D$5:$N$215,5,0)*$H160","v":25.76995103513444},{"$f":"VLOOKUP($A160,'8.Non-elective admissions - CCG'!$D$5:$N$215,6,0)*$H160","v":23.652607164332963},{"$f":"VLOOKUP($A160,'8.Non-elective admissions - CCG'!$D$5:$N$215,7,0)*$H160","v":26.831120083614813},{"$f":"VLOOKUP($A160,'8.Non-elective admissions - CCG'!$D$5:$N$215,8,0)*$H160","v":26.210978247647105},{"$f":"VLOOKUP($A160,'8.Non-elective admissions - CCG'!$D$5:$N$215,9,0)*$H160","v":26.086621806396359},{"$f":"VLOOKUP($A160,'8.Non-elective admissions - CCG'!$D$5:$N$215,10,0)*$H160","v":23.714557168925353},{"$f":"VLOOKUP($A160,'8.Non-elective admissions - CCG'!$D$5:$Q$215,11,0)*$H160","v":26.586438766898034},{"$f":"VLOOKUP($A160,'8.Non-elective admissions - CCG'!$D$5:$Q$215,12,0)*$H160","v":25.933247984516793},{"$f":"VLOOKUP($A160,'8.Non-elective admissions - CCG'!$D$5:$Q$215,13,0)*$H160","v":25.822826334057211},{"$f":"VLOOKUP($A160,'8.Non-elective admissions - CCG'!$D$5:$Q$215,14,0)*$H160","v":23.412810628270769}]
["09A","NHS Central London (Westminster) CCG","E09000033","Westminster",{"$f":"COUNTIF($D$5:D161,D161)","v":3},"Westminster3","NHS Central London (Westminster) CCG",0.81649544965310239,0.6907722890793665,{"$f":"VLOOKUP($A161,'8.Non-elective admissions - CCG'!$D$5:$N$215,3,0)*$H161","v":3122.2785994734636},{"$f":"VLOOKUP($A161,'8.Non-elective admissions - CCG'!$D$5:$N$215,4,0)*$H161","v":2888.7609008726763},{"$f":"VLOOKUP($A161,'8.Non-elective admissions - CCG'!$D$5:$N$215,5,0)*$H161","v":3140.2414993658317},{"$f":"VLOOKUP($A161,'8.Non-elective admissions - CCG'!$D$5:$N$215,6,0)*$H161","v":2882.2289372754512},{"$f":"VLOOKUP($A161,'8.Non-elective admissions - CCG'!$D$5:$N$215,7,0)*$H161","v":3269.5520704001874},{"$f":"VLOOKUP($A161,'8.Non-elective admissions - CCG'!$D$5:$N$215,8,0)*$H161","v":3193.9836253478998},{"$f":"VLOOKUP($A161,'8.Non-elective admissions - CCG'!$D$5:$N$215,9,0)*$H161","v":3178.8299583115659},{"$f":"VLOOKUP($A161,'8.Non-elective admissions - CCG'!$D$5:$N$215,10,0)*$H161","v":2889.777961138233},{"$f":"VLOOKUP($A161,'8.Non-elective admissions - CCG'!$D$5:$Q$215,11,0)*$H161","v":3239.7360096779171},{"$f":"VLOOKUP($A161,'8.Non-elective admissions - CCG'!$D$5:$Q$215,12,0)*$H161","v":3160.1403286834029},{"$f":"VLOOKUP($A161,'8.Non-elective admissions - CCG'!$D$5:$Q$215,13,0)*$H161","v":3146.6847094341119},{"$f":"VLOOKUP($A161,'8.Non-elective admissions - CCG'!$D$5:$Q$215,14,0)*$H161","v":2853.0081198621774}]
["00W","NHS Central Manchester CCG","E08000003","Manchester",{"$f":"COUNTIF($D$5:D162,D162)","v":2},"Manchester2","NHS Central Manchester CCG",0.93663621619373705,0.3663128904534636,{"$f":"VLOOKUP($A162,'8.Non-elective admissions - CCG'!$D$5:$N$215,3,0)*$H162","v":4944.5025852867375},{"$f":"VLOOKUP($A162,'8.Non-elective admissions - CCG'!$D$5:$N$215,4,0)*$H162","v":4766.541704209928},{"$f":"VLOOKUP($A162,'8.Non-elective admissions - CCG'!$D$5:$N$215,5,0)*$H162","v":5077.5049279862487},{"$f":"VLOOKUP($A162,'8.Non-elective admissions - CCG'!$D$5:$N$215,6,0)*$H162","v":5090.6178350129612},{"$f":"VLOOKUP($A162,'8.Non-elective admissions - CCG'!$D$5:$N$215,7,0)*$H162","v":4903.2905917742137},{"$f":"VLOOKUP($A162,'8.Non-elective admissions - CCG'!$D$5:$N$215,8,0)*$H162","v":4784.3377923176085},{"$f":"VLOOKUP($A162,'8.Non-elective admissions - CCG'!$D$5:$N$215,9,0)*$H162","v":5075.6316555538615},{"$f":"VLOOKUP($A162,'8.Non-elective admissions - CCG'!$D$5:$N$215,10,0)*$H162","v":4954.8055836648691},{"$f":"VLOOKUP($A162,'8.Non-elective admissions - CCG'!$D$5:$Q$215,11,0)*$H162","v":4508.9667447566499},{"$f":"VLOOKUP($A162,'8.Non-elective admissions - CCG'!$D$5:$Q$215,12,0)*$H162","v":4405.0001247591454},{"$f":"VLOOKUP($A162,'8.Non-elective admissions - CCG'!$D$5:$Q$215,13,0)*$H162","v":4671.9414463743606},{"$f":"VLOOKUP($A162,'8.Non-elective admissions - CCG'!$D$5:$Q$215,14,0)*$H162","v":4553.92528313395}]
["00W","NHS Central Manchester CCG","E08000006","Salford",{"$f":"COUNTIF($D$5:D163,D163)","v":3},"Salford3","NHS Central Manchester CCG",2.2780095833506609E-3,1.9646913481847529E-3,{"$f":"VLOOKUP($A163,'8.Non-elective admissions - CCG'!$D$5:$N$215,3,0)*$H163","v":12.025612590508139},{"$f":"VLOOKUP($A163,'8.Non-elective admissions - CCG'!$D$5:$N$215,4,0)*$H163","v":11.592790769671513},{"$f":"VLOOKUP($A163,'8.Non-elective admissions - CCG'!$D$5:$N$215,5,0)*$H163","v":12.349089951343933},{"$f":"VLOOKUP($A163,'8.Non-elective admissions - CCG'!$D$5:$N$215,6,0)*$H163","v":12.380982085510842},{"$f":"VLOOKUP($A163,'8.Non-elective admissions - CCG'!$D$5:$N$215,7,0)*$H163","v":11.925380168840709},{"$f":"VLOOKUP($A163,'8.Non-elective admissions - CCG'!$D$5:$N$215,8,0)*$H163","v":11.636072951755176},{"$f":"VLOOKUP($A163,'8.Non-elective admissions - CCG'!$D$5:$N$215,9,0)*$H163","v":12.344533932177232},{"$f":"VLOOKUP($A163,'8.Non-elective admissions - CCG'!$D$5:$N$215,10,0)*$H163","v":12.050670695924996},{"$f":"VLOOKUP($A163,'8.Non-elective admissions - CCG'!$D$5:$Q$215,11,0)*$H163","v":10.966338134250082},{"$f":"VLOOKUP($A163,'8.Non-elective admissions - CCG'!$D$5:$Q$215,12,0)*$H163","v":10.713479070498158},{"$f":"VLOOKUP($A163,'8.Non-elective admissions - CCG'!$D$5:$Q$215,13,0)*$H163","v":11.362711801753097},{"$f":"VLOOKUP($A163,'8.Non-elective admissions - CCG'!$D$5:$Q$215,14,0)*$H163","v":11.075682594250914}]
["00W","NHS Central Manchester CCG","E08000007","Stockport",{"$f":"COUNTIF($D$5:D164,D164)","v":1},"Stockport1","NHS Central Manchester CCG",8.4605183511461662E-3,6.1087293776168946E-3,{"$f":"VLOOKUP($A164,'8.Non-elective admissions - CCG'!$D$5:$N$215,3,0)*$H164","v":44.663076375700612},{"$f":"VLOOKUP($A164,'8.Non-elective admissions - CCG'!$D$5:$N$215,4,0)*$H164","v":43.055577888982839},{"$f":"VLOOKUP($A164,'8.Non-elective admissions - CCG'!$D$5:$N$215,5,0)*$H164","v":45.864469981563367},{"$f":"VLOOKUP($A164,'8.Non-elective admissions - CCG'!$D$5:$N$215,6,0)*$H164","v":45.982917238479416},{"$f":"VLOOKUP($A164,'8.Non-elective admissions - CCG'!$D$5:$N$215,7,0)*$H164","v":44.290813568250179},{"$f":"VLOOKUP($A164,'8.Non-elective admissions - CCG'!$D$5:$N$215,8,0)*$H164","v":43.216327737654616},{"$f":"VLOOKUP($A164,'8.Non-elective admissions - CCG'!$D$5:$N$215,9,0)*$H164","v":45.847548944861074},{"$f":"VLOOKUP($A164,'8.Non-elective admissions - CCG'!$D$5:$N$215,10,0)*$H164","v":44.756142077563219},{"$f":"VLOOKUP($A164,'8.Non-elective admissions - CCG'!$D$5:$Q$215,11,0)*$H164","v":40.728935342417643},{"$f":"VLOOKUP($A164,'8.Non-elective admissions - CCG'!$D$5:$Q$215,12,0)*$H164","v":39.789817805440421},{"$f":"VLOOKUP($A164,'8.Non-elective admissions - CCG'!$D$5:$Q$215,13,0)*$H164","v":42.201065535517074},{"$f":"VLOOKUP($A164,'8.Non-elective admissions - CCG'!$D$5:$Q$215,14,0)*$H164","v":41.135040223272661}]
["00W","NHS Central Manchester CCG","E08000008","Tameside",{"$f":"COUNTIF($D$5:D165,D165)","v":1},"Tameside1","NHS Central Manchester CCG",5.9191283494365041E-3,5.4844606946983544E-3,{"$f":"VLOOKUP($A165,'8.Non-elective admissions - CCG'!$D$5:$N$215,3,0)*$H165","v":31.247078556675305},{"$f":"VLOOKUP($A165,'8.Non-elective admissions - CCG'!$D$5:$N$215,4,0)*$H165","v":30.122444170282371},{"$f":"VLOOKUP($A165,'8.Non-elective admissions - CCG'!$D$5:$N$215,5,0)*$H165","v":32.087594782295291},{"$f":"VLOOKUP($A165,'8.Non-elective admissions - CCG'!$D$5:$N$215,6,0)*$H165","v":32.170462579187401},{"$f":"VLOOKUP($A165,'8.Non-elective admissions - CCG'!$D$5:$N$215,7,0)*$H165","v":30.986636909300099},{"$f":"VLOOKUP($A165,'8.Non-elective admissions - CCG'!$D$5:$N$215,8,0)*$H165","v":30.234907608921663},{"$f":"VLOOKUP($A165,'8.Non-elective admissions - CCG'!$D$5:$N$215,9,0)*$H165","v":32.075756525596418},{"$f":"VLOOKUP($A165,'8.Non-elective admissions - CCG'!$D$5:$N$215,10,0)*$H165","v":31.312188968519106},{"$f":"VLOOKUP($A165,'8.Non-elective admissions - CCG'!$D$5:$Q$215,11,0)*$H165","v":28.494683874187331},{"$f":"VLOOKUP($A165,'8.Non-elective admissions - CCG'!$D$5:$Q$215,12,0)*$H165","v":27.837660627399877},{"$f":"VLOOKUP($A165,'8.Non-elective admissions - CCG'!$D$5:$Q$215,13,0)*$H165","v":29.524612206989282},{"$f":"VLOOKUP($A165,'8.Non-elective admissions - CCG'!$D$5:$Q$215,14,0)*$H165","v":28.778802034960282}]
["00W","NHS Central Manchester CCG","E08000009","Trafford",{"$f":"COUNTIF($D$5:D166,D166)","v":1},"Trafford1","NHS Central Manchester CCG",4.6706127522329575E-2,4.1796228911677134E-2,{"$f":"VLOOKUP($A166,'8.Non-elective admissions - CCG'!$D$5:$N$215,3,0)*$H166","v":246.56164719037784},{"$f":"VLOOKUP($A166,'8.Non-elective admissions - CCG'!$D$5:$N$215,4,0)*$H166","v":237.6874829611352},{"$f":"VLOOKUP($A166,'8.Non-elective admissions - CCG'!$D$5:$N$215,5,0)*$H166","v":253.19391729854863},{"$f":"VLOOKUP($A166,'8.Non-elective admissions - CCG'!$D$5:$N$215,6,0)*$H166","v":253.84780308386124},{"$f":"VLOOKUP($A166,'8.Non-elective admissions - CCG'!$D$5:$N$215,7,0)*$H166","v":244.50657757939533},{"$f":"VLOOKUP($A166,'8.Non-elective admissions - CCG'!$D$5:$N$215,8,0)*$H166","v":238.57489938405948},{"$f":"VLOOKUP($A166,'8.Non-elective admissions - CCG'!$D$5:$N$215,9,0)*$H166","v":253.10050504350397},{"$f":"VLOOKUP($A166,'8.Non-elective admissions - CCG'!$D$5:$N$215,10,0)*$H166","v":247.07541459312344},{"$f":"VLOOKUP($A166,'8.Non-elective admissions - CCG'!$D$5:$Q$215,11,0)*$H166","v":224.84329789249458},{"$f":"VLOOKUP($A166,'8.Non-elective admissions - CCG'!$D$5:$Q$215,12,0)*$H166","v":219.65891773751599},{"$f":"VLOOKUP($A166,'8.Non-elective admissions - CCG'!$D$5:$Q$215,13,0)*$H166","v":232.97016408137992},{"$f":"VLOOKUP($A166,'8.Non-elective admissions - CCG'!$D$5:$Q$215,14,0)*$H166","v":227.0851920135664}]
["10H","NHS Chiltern CCG","E10000002","Buckinghamshire",{"$f":"COUNTIF($D$5:D167,D167)","v":3},"Buckinghamshire3","NHS Chiltern CCG",0.96445207828190116,0.59708870105641676,{"$f":"VLOOKUP($A167,'8.Non-elective admissions - CCG'!$D$5:$N$215,3,0)*$H167","v":5937.1669939033836},{"$f":"VLOOKUP($A167,'8.Non-elective admissions - CCG'!$D$5:$N$215,4,0)*$H167","v":5848.4374027014483},{"$f":"VLOOKUP($A167,'8.Non-elective admissions - CCG'!$D$5:$N$215,5,0)*$H167","v":6215.8936445268528},{"$f":"VLOOKUP($A167,'8.Non-elective admissions - CCG'!$D$5:$N$215,6,0)*$H167","v":6274.7252213020492},{"$f":"VLOOKUP($A167,'8.Non-elective admissions - CCG'!$D$5:$N$215,7,0)*$H167","v":6835.7747397504845},{"$f":"VLOOKUP($A167,'8.Non-elective admissions - CCG'!$D$5:$N$215,8,0)*$H167","v":6911.0839142247169},{"$f":"VLOOKUP($A167,'8.Non-elective admissions - CCG'!$D$5:$N$215,9,0)*$H167","v":6911.0839142247169},{"$f":"VLOOKUP($A167,'8.Non-elective admissions - CCG'!$D$5:$N$215,10,0)*$H167","v":6760.4655652761539},{"$f":"VLOOKUP($A167,'8.Non-elective admissions - CCG'!$D$5:$Q$215,11,0)*$H167","v":6835.9163662353176},{"$f":"VLOOKUP($A167,'8.Non-elective admissions - CCG'!$D$5:$Q$215,12,0)*$H167","v":6911.2270970446152},{"$f":"VLOOKUP($A167,'8.Non-elective admissions - CCG'!$D$5:$Q$215,13,0)*$H167","v":6911.2270970446152},{"$f":"VLOOKUP($A167,'8.Non-elective admissions - CCG'!$D$5:$Q$215,14,0)*$H167","v":6760.605635426019}]
["10H","NHS Chiltern CCG","E10000015","Hertfordshire",{"$f":"COUNTIF($D$5:D168,D168)","v":5},"Hertfordshire5","NHS Chiltern CCG",9.0432650435320937E-4,0,{"$f":"VLOOKUP($A168,'8.Non-elective admissions - CCG'!$D$5:$N$215,3,0)*$H168","v":5.5670339607983568},{"$f":"VLOOKUP($A168,'8.Non-elective admissions - CCG'!$D$5:$N$215,4,0)*$H168","v":5.4838359223978612},{"$f":"VLOOKUP($A168,'8.Non-elective admissions - CCG'!$D$5:$N$215,5,0)*$H168","v":5.8283843205564345},{"$f":"VLOOKUP($A168,'8.Non-elective admissions - CCG'!$D$5:$N$215,6,0)*$H168","v":5.8835482373219801},{"$f":"VLOOKUP($A168,'8.Non-elective admissions - CCG'!$D$5:$N$215,7,0)*$H168","v":6.4096209797762969},{"$f":"VLOOKUP($A168,'8.Non-elective admissions - CCG'!$D$5:$N$215,8,0)*$H168","v":6.4802352529284999},{"$f":"VLOOKUP($A168,'8.Non-elective admissions - CCG'!$D$5:$N$215,9,0)*$H168","v":6.4802352529284999},{"$f":"VLOOKUP($A168,'8.Non-elective admissions - CCG'!$D$5:$N$215,10,0)*$H168","v":6.3390067066240015},{"$f":"VLOOKUP($A168,'8.Non-elective admissions - CCG'!$D$5:$Q$215,11,0)*$H168","v":6.4097537770265047},{"$f":"VLOOKUP($A168,'8.Non-elective admissions - CCG'!$D$5:$Q$215,12,0)*$H168","v":6.4803695094892122},{"$f":"VLOOKUP($A168,'8.Non-elective admissions - CCG'!$D$5:$Q$215,13,0)*$H168","v":6.4803695094892122},{"$f":"VLOOKUP($A168,'8.Non-elective admissions - CCG'!$D$5:$Q$215,14,0)*$H168","v":6.3391380445637955}]
["10H","NHS Chiltern CCG","E09000017","Hillingdon",{"$f":"COUNTIF($D$5:D169,D169)","v":1},"Hillingdon1","NHS Chiltern CCG",1.010539348824224E-3,1.0778966449253079E-3,{"$f":"VLOOKUP($A169,'8.Non-elective admissions - CCG'!$D$5:$N$215,3,0)*$H169","v":6.2208802313619227},{"$f":"VLOOKUP($A169,'8.Non-elective admissions - CCG'!$D$5:$N$215,4,0)*$H169","v":6.127910611270095},{"$f":"VLOOKUP($A169,'8.Non-elective admissions - CCG'!$D$5:$N$215,5,0)*$H169","v":6.5129261031721235},{"$f":"VLOOKUP($A169,'8.Non-elective admissions - CCG'!$D$5:$N$215,6,0)*$H169","v":6.5745690034504012},{"$f":"VLOOKUP($A169,'8.Non-elective admissions - CCG'!$D$5:$N$215,7,0)*$H169","v":7.1624288129715001},{"$f":"VLOOKUP($A169,'8.Non-elective admissions - CCG'!$D$5:$N$215,8,0)*$H169","v":7.2413367088093654},{"$f":"VLOOKUP($A169,'8.Non-elective admissions - CCG'!$D$5:$N$215,9,0)*$H169","v":7.2413367088093654},{"$f":"VLOOKUP($A169,'8.Non-elective admissions - CCG'!$D$5:$N$215,10,0)*$H169","v":7.0835209171335327},{"$f":"VLOOKUP($A169,'8.Non-elective admissions - CCG'!$D$5:$Q$215,11,0)*$H169","v":7.1625772072141816},{"$f":"VLOOKUP($A169,'8.Non-elective admissions - CCG'!$D$5:$Q$215,12,0)*$H169","v":7.2414867337580811},{"$f":"VLOOKUP($A169,'8.Non-elective admissions - CCG'!$D$5:$Q$215,13,0)*$H169","v":7.2414867337580811},{"$f":"VLOOKUP($A169,'8.Non-elective admissions - CCG'!$D$5:$Q$215,14,0)*$H169","v":7.0836676806702821}]
["10H","NHS Chiltern CCG","E06000039","Slough",{"$f":"COUNTIF($D$5:D170,D170)","v":1},"Slough1","NHS Chiltern CCG",2.8510562108719471E-2,6.0910776571880543E-2,{"$f":"VLOOKUP($A170,'8.Non-elective admissions - CCG'!$D$5:$N$215,3,0)*$H170","v":175.51102034127706},{"$f":"VLOOKUP($A170,'8.Non-elective admissions - CCG'!$D$5:$N$215,4,0)*$H170","v":172.88804862727488},{"$f":"VLOOKUP($A170,'8.Non-elective admissions - CCG'!$D$5:$N$215,5,0)*$H170","v":183.75057279069699},{"$f":"VLOOKUP($A170,'8.Non-elective admissions - CCG'!$D$5:$N$215,6,0)*$H170","v":185.48971707932887},{"$f":"VLOOKUP($A170,'8.Non-elective admissions - CCG'!$D$5:$N$215,7,0)*$H170","v":202.07513122482655},{"$f":"VLOOKUP($A170,'8.Non-elective admissions - CCG'!$D$5:$N$215,8,0)*$H170","v":204.30137651430624},{"$f":"VLOOKUP($A170,'8.Non-elective admissions - CCG'!$D$5:$N$215,9,0)*$H170","v":204.30137651430624},{"$f":"VLOOKUP($A170,'8.Non-elective admissions - CCG'!$D$5:$N$215,10,0)*$H170","v":199.84888593534396},{"$f":"VLOOKUP($A170,'8.Non-elective admissions - CCG'!$D$5:$Q$215,11,0)*$H170","v":202.07931790323494},{"$f":"VLOOKUP($A170,'8.Non-elective admissions - CCG'!$D$5:$Q$215,12,0)*$H170","v":204.30560920017166},{"$f":"VLOOKUP($A170,'8.Non-elective admissions - CCG'!$D$5:$Q$215,13,0)*$H170","v":204.30560920017166},{"$f":"VLOOKUP($A170,'8.Non-elective admissions - CCG'!$D$5:$Q$215,14,0)*$H170","v":199.85302660629819}]
["10H","NHS Chiltern CCG","E06000040","Windsor and Maidenhead",{"$f":"COUNTIF($D$5:D171,D171)","v":2},"Windsor and Maidenhead2","NHS Chiltern CCG",5.122493756202072E-3,1.0835307182242421E-2,{"$f":"VLOOKUP($A171,'8.Non-elective admissions - CCG'!$D$5:$N$215,3,0)*$H171","v":31.534071563179957},{"$f":"VLOOKUP($A171,'8.Non-elective admissions - CCG'!$D$5:$N$215,4,0)*$H171","v":31.062802137609363},{"$f":"VLOOKUP($A171,'8.Non-elective admissions - CCG'!$D$5:$N$215,5,0)*$H171","v":33.014472258722357},{"$f":"VLOOKUP($A171,'8.Non-elective admissions - CCG'!$D$5:$N$215,6,0)*$H171","v":33.32694437785068},{"$f":"VLOOKUP($A171,'8.Non-elective admissions - CCG'!$D$5:$N$215,7,0)*$H171","v":36.306846355242918},{"$f":"VLOOKUP($A171,'8.Non-elective admissions - CCG'!$D$5:$N$215,8,0)*$H171","v":36.70683592933996},{"$f":"VLOOKUP($A171,'8.Non-elective admissions - CCG'!$D$5:$N$215,9,0)*$H171","v":36.70683592933996},{"$f":"VLOOKUP($A171,'8.Non-elective admissions - CCG'!$D$5:$N$215,10,0)*$H171","v":35.906856781145351},{"$f":"VLOOKUP($A171,'8.Non-elective admissions - CCG'!$D$5:$Q$215,11,0)*$H171","v":36.307598575908521},{"$f":"VLOOKUP($A171,'8.Non-elective admissions - CCG'!$D$5:$Q$215,12,0)*$H171","v":36.707596416167085},{"$f":"VLOOKUP($A171,'8.Non-elective admissions - CCG'!$D$5:$Q$215,13,0)*$H171","v":36.707596416167085},{"$f":"VLOOKUP($A171,'8.Non-elective admissions - CCG'!$D$5:$Q$215,14,0)*$H171","v":35.907600735649957}]
["00X","NHS Chorley and South Ribble CCG","E08000001","Bolton",{"$f":"COUNTIF($D$5:D172,D172)","v":3},"Bolton3","NHS Chorley and South Ribble CCG",2.2610459746014834E-3,1.3400863835132432E-3,{"$f":"VLOOKUP($A172,'8.Non-elective admissions - CCG'!$D$5:$N$215,3,0)*$H172","v":10.140791196087653},{"$f":"VLOOKUP($A172,'8.Non-elective admissions - CCG'!$D$5:$N$215,4,0)*$H172","v":9.9621685640941369},{"$f":"VLOOKUP($A172,'8.Non-elective admissions - CCG'!$D$5:$N$215,5,0)*$H172","v":10.02999994333218},{"$f":"VLOOKUP($A172,'8.Non-elective admissions - CCG'!$D$5:$N$215,6,0)*$H172","v":9.7903290700244234},{"$f":"VLOOKUP($A172,'8.Non-elective admissions - CCG'!$D$5:$N$215,7,0)*$H172","v":10.100092368544827},{"$f":"VLOOKUP($A172,'8.Non-elective admissions - CCG'!$D$5:$N$215,8,0)*$H172","v":9.9169476446021072},{"$f":"VLOOKUP($A172,'8.Non-elective admissions - CCG'!$D$5:$N$215,9,0)*$H172","v":9.9847790238401508},{"$f":"VLOOKUP($A172,'8.Non-elective admissions - CCG'!$D$5:$N$215,10,0)*$H172","v":9.9802569318909473},{"$f":"VLOOKUP($A172,'8.Non-elective admissions - CCG'!$D$5:$Q$215,11,0)*$H172","v":9.7654575643038068},{"$f":"VLOOKUP($A172,'8.Non-elective admissions - CCG'!$D$5:$Q$215,12,0)*$H172","v":9.5913570242594925},{"$f":"VLOOKUP($A172,'8.Non-elective admissions - CCG'!$D$5:$Q$215,13,0)*$H172","v":9.6524052655737336},{"$f":"VLOOKUP($A172,'8.Non-elective admissions - CCG'!$D$5:$Q$215,14,0)*$H172","v":9.6524052655737336}]
["00X","NHS Chorley and South Ribble CCG","E10000017","Lancashire",{"$f":"COUNTIF($D$5:D173,D173)","v":6},"Lancashire6","NHS Chorley and South Ribble CCG",0.99773895402539847,0.14356900270311043,{"$f":"VLOOKUP($A173,'8.Non-elective admissions - CCG'!$D$5:$N$215,3,0)*$H173","v":4474.8592088039122},{"$f":"VLOOKUP($A173,'8.Non-elective admissions - CCG'!$D$5:$N$215,4,0)*$H173","v":4396.0378314359059},{"$f":"VLOOKUP($A173,'8.Non-elective admissions - CCG'!$D$5:$N$215,5,0)*$H173","v":4425.9700000566672},{"$f":"VLOOKUP($A173,'8.Non-elective admissions - CCG'!$D$5:$N$215,6,0)*$H173","v":4320.2096709299758},{"$f":"VLOOKUP($A173,'8.Non-elective admissions - CCG'!$D$5:$N$215,7,0)*$H173","v":4456.8999076314549},{"$f":"VLOOKUP($A173,'8.Non-elective admissions - CCG'!$D$5:$N$215,8,0)*$H173","v":4376.0830523553977},{"$f":"VLOOKUP($A173,'8.Non-elective admissions - CCG'!$D$5:$N$215,9,0)*$H173","v":4406.01522097616},{"$f":"VLOOKUP($A173,'8.Non-elective admissions - CCG'!$D$5:$N$215,10,0)*$H173","v":4404.0197430681092},{"$f":"VLOOKUP($A173,'8.Non-elective admissions - CCG'!$D$5:$Q$215,11,0)*$H173","v":4309.2345424356963},{"$f":"VLOOKUP($A173,'8.Non-elective admissions - CCG'!$D$5:$Q$215,12,0)*$H173","v":4232.4086429757399},{"$f":"VLOOKUP($A173,'8.Non-elective admissions - CCG'!$D$5:$Q$215,13,0)*$H173","v":4259.3475947344259},{"$f":"VLOOKUP($A173,'8.Non-elective admissions - CCG'!$D$5:$Q$215,14,0)*$H173","v":4259.3475947344259}]
["07T","NHS City and Hackney CCG","E09000001","City of London",{"$f":"COUNTIF($D$5:D174,D174)","v":3},"City of London3","NHS City and Hackney CCG",1.9010798189050094E-2,0.75299793246037217,{"$f":"VLOOKUP($A174,'8.Non-elective admissions - CCG'!$D$5:$N$215,3,0)*$H174","v":113.53248678500717},{"$f":"VLOOKUP($A174,'8.Non-elective admissions - CCG'!$D$5:$N$215,4,0)*$H174","v":108.07638770474978},{"$f":"VLOOKUP($A174,'8.Non-elective admissions - CCG'!$D$5:$N$215,5,0)*$H174","v":109.84439193633145},{"$f":"VLOOKUP($A174,'8.Non-elective admissions - CCG'!$D$5:$N$215,6,0)*$H174","v":105.28180037095942},{"$f":"VLOOKUP($A174,'8.Non-elective admissions - CCG'!$D$5:$N$215,7,0)*$H174","v":134.64880213585178},{"$f":"VLOOKUP($A174,'8.Non-elective admissions - CCG'!$D$5:$N$215,8,0)*$H174","v":126.87266955953373},{"$f":"VLOOKUP($A174,'8.Non-elective admissions - CCG'!$D$5:$N$215,9,0)*$H174","v":133.32651083362941},{"$f":"VLOOKUP($A174,'8.Non-elective admissions - CCG'!$D$5:$N$215,10,0)*$H174","v":140.06051975795094},{"$f":"VLOOKUP($A174,'8.Non-elective admissions - CCG'!$D$5:$Q$215,11,0)*$H174","v":139.14116563502654},{"$f":"VLOOKUP($A174,'8.Non-elective admissions - CCG'!$D$5:$Q$215,12,0)*$H174","v":131.05427331397331},{"$f":"VLOOKUP($A174,'8.Non-elective admissions - CCG'!$D$5:$Q$215,13,0)*$H174","v":137.7852931493936},{"$f":"VLOOKUP($A174,'8.Non-elective admissions - CCG'!$D$5:$Q$215,14,0)*$H174","v":144.74142138072207}]
["07T","NHS City and Hackney CCG","E09000010","Enfield",{"$f":"COUNTIF($D$5:D175,D175)","v":2},"Enfield2","NHS City and Hackney CCG",1.1100942014107594E-3,9.7583060314896546E-4,{"$f":"VLOOKUP($A175,'8.Non-elective admissions - CCG'!$D$5:$N$215,3,0)*$H175","v":6.6294825708250551},{"$f":"VLOOKUP($A175,'8.Non-elective admissions - CCG'!$D$5:$N$215,4,0)*$H175","v":6.3108855350201676},{"$f":"VLOOKUP($A175,'8.Non-elective admissions - CCG'!$D$5:$N$215,5,0)*$H175","v":6.4141242957513684},{"$f":"VLOOKUP($A175,'8.Non-elective admissions - CCG'!$D$5:$N$215,6,0)*$H175","v":6.1477016874127859},{"$f":"VLOOKUP($A175,'8.Non-elective admissions - CCG'!$D$5:$N$215,7,0)*$H175","v":7.8625238662523724},{"$f":"VLOOKUP($A175,'8.Non-elective admissions - CCG'!$D$5:$N$215,8,0)*$H175","v":7.4084535217813015},{"$f":"VLOOKUP($A175,'8.Non-elective admissions - CCG'!$D$5:$N$215,9,0)*$H175","v":7.7853115423627628},{"$f":"VLOOKUP($A175,'8.Non-elective admissions - CCG'!$D$5:$N$215,10,0)*$H175","v":8.1785293433619515},{"$f":"VLOOKUP($A175,'8.Non-elective admissions - CCG'!$D$5:$Q$215,11,0)*$H175","v":8.1248456594496528},{"$f":"VLOOKUP($A175,'8.Non-elective admissions - CCG'!$D$5:$Q$215,12,0)*$H175","v":7.6526291757564495},{"$f":"VLOOKUP($A175,'8.Non-elective admissions - CCG'!$D$5:$Q$215,13,0)*$H175","v":8.0456724354121452},{"$f":"VLOOKUP($A175,'8.Non-elective admissions - CCG'!$D$5:$Q$215,14,0)*$H175","v":8.4518604101135519}]
["07T","NHS City and Hackney CCG","E09000012","Hackney",{"$f":"COUNTIF($D$5:D176,D176)","v":3},"Hackney3","NHS City and Hackney CCG",0.90993273316328149,0.94604783768040424,{"$f":"VLOOKUP($A176,'8.Non-elective admissions - CCG'!$D$5:$N$215,3,0)*$H176","v":5434.118282451117},{"$f":"VLOOKUP($A176,'8.Non-elective admissions - CCG'!$D$5:$N$215,4,0)*$H176","v":5172.9675880332552},{"$f":"VLOOKUP($A176,'8.Non-elective admissions - CCG'!$D$5:$N$215,5,0)*$H176","v":5257.5913322174401},{"$f":"VLOOKUP($A176,'8.Non-elective admissions - CCG'!$D$5:$N$215,6,0)*$H176","v":5039.2074762582533},{"$f":"VLOOKUP($A176,'8.Non-elective admissions - CCG'!$D$5:$N$215,7,0)*$H176","v":6444.8294767132811},{"$f":"VLOOKUP($A176,'8.Non-elective admissions - CCG'!$D$5:$N$215,8,0)*$H176","v":6072.6327126297701},{"$f":"VLOOKUP($A176,'8.Non-elective admissions - CCG'!$D$5:$N$215,9,0)*$H176","v":6381.539333569146},{"$f":"VLOOKUP($A176,'8.Non-elective admissions - CCG'!$D$5:$N$215,10,0)*$H176","v":6703.8558972778264},{"$f":"VLOOKUP($A176,'8.Non-elective admissions - CCG'!$D$5:$Q$215,11,0)*$H176","v":6659.8519369233691},{"$f":"VLOOKUP($A176,'8.Non-elective admissions - CCG'!$D$5:$Q$215,12,0)*$H176","v":6272.7809702381574},{"$f":"VLOOKUP($A176,'8.Non-elective admissions - CCG'!$D$5:$Q$215,13,0)*$H176","v":6594.9544642131759},{"$f":"VLOOKUP($A176,'8.Non-elective admissions - CCG'!$D$5:$Q$215,14,0)*$H176","v":6927.9025451313537}]
["07T","NHS City and Hackney CCG","E09000014","Haringey",{"$f":"COUNTIF($D$5:D177,D177)","v":3},"Haringey3","NHS City and Hackney CCG",2.7964630101996436E-2,2.9462229978442271E-2,{"$f":"VLOOKUP($A177,'8.Non-elective admissions - CCG'!$D$5:$N$215,3,0)*$H177","v":167.00477096912272},{"$f":"VLOOKUP($A177,'8.Non-elective admissions - CCG'!$D$5:$N$215,4,0)*$H177","v":158.97892212984974},{"$f":"VLOOKUP($A177,'8.Non-elective admissions - CCG'!$D$5:$N$215,5,0)*$H177","v":161.5796327293354},{"$f":"VLOOKUP($A177,'8.Non-elective admissions - CCG'!$D$5:$N$215,6,0)*$H177","v":154.86812150485628},{"$f":"VLOOKUP($A177,'8.Non-elective admissions - CCG'!$D$5:$N$215,7,0)*$H177","v":198.0665886808905},{"$f":"VLOOKUP($A177,'8.Non-elective admissions - CCG'!$D$5:$N$215,8,0)*$H177","v":186.6280015706412},{"$f":"VLOOKUP($A177,'8.Non-elective admissions - CCG'!$D$5:$N$215,9,0)*$H177","v":196.12151584459926},{"$f":"VLOOKUP($A177,'8.Non-elective admissions - CCG'!$D$5:$N$215,10,0)*$H177","v":206.02715298826536},{"$f":"VLOOKUP($A177,'8.Non-elective admissions - CCG'!$D$5:$Q$215,11,0)*$H177","v":204.67479535842449},{"$f":"VLOOKUP($A177,'8.Non-elective admissions - CCG'!$D$5:$Q$215,12,0)*$H177","v":192.77908481623459},{"$f":"VLOOKUP($A177,'8.Non-elective admissions - CCG'!$D$5:$Q$215,13,0)*$H177","v":202.68032505006897},{"$f":"VLOOKUP($A177,'8.Non-elective admissions - CCG'!$D$5:$Q$215,14,0)*$H177","v":212.91269672624608}]
["07T","NHS City and Hackney CCG","E09000019","Islington",{"$f":"COUNTIF($D$5:D178,D178)","v":3},"Islington3","NHS City and Hackney CCG",3.1660304214530061E-2,3.9216362421603916E-2,{"$f":"VLOOKUP($A178,'8.Non-elective admissions - CCG'!$D$5:$N$215,3,0)*$H178","v":189.07533676917353},{"$f":"VLOOKUP($A178,'8.Non-elective admissions - CCG'!$D$5:$N$215,4,0)*$H178","v":179.98882945960341},{"$f":"VLOOKUP($A178,'8.Non-elective admissions - CCG'!$D$5:$N$215,5,0)*$H178","v":182.93323775155469},{"$f":"VLOOKUP($A178,'8.Non-elective admissions - CCG'!$D$5:$N$215,6,0)*$H178","v":175.33476474006747},{"$f":"VLOOKUP($A178,'8.Non-elective admissions - CCG'!$D$5:$N$215,7,0)*$H178","v":224.24213835474634},{"$f":"VLOOKUP($A178,'8.Non-elective admissions - CCG'!$D$5:$N$215,8,0)*$H178","v":211.29188132027048},{"$f":"VLOOKUP($A178,'8.Non-elective admissions - CCG'!$D$5:$N$215,9,0)*$H178","v":222.04001383202637},{"$f":"VLOOKUP($A178,'8.Non-elective admissions - CCG'!$D$5:$N$215,10,0)*$H178","v":233.25473343544527},{"$f":"VLOOKUP($A178,'8.Non-elective admissions - CCG'!$D$5:$Q$215,11,0)*$H178","v":231.72365457577726},{"$f":"VLOOKUP($A178,'8.Non-elective admissions - CCG'!$D$5:$Q$215,12,0)*$H178","v":218.25586282455228},{"$f":"VLOOKUP($A178,'8.Non-elective admissions - CCG'!$D$5:$Q$215,13,0)*$H178","v":229.46560444319655},{"$f":"VLOOKUP($A178,'8.Non-elective admissions - CCG'!$D$5:$Q$215,14,0)*$H178","v":241.05023827966488}]
["07T","NHS City and Hackney CCG","E09000030","Tower Hamlets",{"$f":"COUNTIF($D$5:D179,D179)","v":3},"Tower Hamlets3","NHS City and Hackney CCG",7.8994164175624562E-3,7.8252925866556348E-3,{"$f":"VLOOKUP($A179,'8.Non-elective admissions - CCG'!$D$5:$N$215,3,0)*$H179","v":47.17531484568299},{"$f":"VLOOKUP($A179,'8.Non-elective admissions - CCG'!$D$5:$N$215,4,0)*$H179","v":44.908182333842561},{"$f":"VLOOKUP($A179,'8.Non-elective admissions - CCG'!$D$5:$N$215,5,0)*$H179","v":45.642828060675875},{"$f":"VLOOKUP($A179,'8.Non-elective admissions - CCG'!$D$5:$N$215,6,0)*$H179","v":43.746968120460885},{"$f":"VLOOKUP($A179,'8.Non-elective admissions - CCG'!$D$5:$N$215,7,0)*$H179","v":55.949621242610917},{"$f":"VLOOKUP($A179,'8.Non-elective admissions - CCG'!$D$5:$N$215,8,0)*$H179","v":52.718462365026809},{"$f":"VLOOKUP($A179,'8.Non-elective admissions - CCG'!$D$5:$N$215,9,0)*$H179","v":55.400179313992069},{"$f":"VLOOKUP($A179,'8.Non-elective admissions - CCG'!$D$5:$N$215,10,0)*$H179","v":58.19831225527156},{"$f":"VLOOKUP($A179,'8.Non-elective admissions - CCG'!$D$5:$Q$215,11,0)*$H179","v":57.816299833701287},{"$f":"VLOOKUP($A179,'8.Non-elective admissions - CCG'!$D$5:$Q$215,12,0)*$H179","v":54.456013256950271},{"$f":"VLOOKUP($A179,'8.Non-elective admissions - CCG'!$D$5:$Q$215,13,0)*$H179","v":57.25290416421808},{"$f":"VLOOKUP($A179,'8.Non-elective admissions - CCG'!$D$5:$Q$215,14,0)*$H179","v":60.143332698927146}]
["07T","NHS City and Hackney CCG","E09000031","Waltham Forest",{"$f":"COUNTIF($D$5:D180,D180)","v":1},"Waltham Forest1","NHS City and Hackney CCG",2.4220237121689299E-3,2.4181192174465914E-3,{"$f":"VLOOKUP($A180,'8.Non-elective admissions - CCG'!$D$5:$N$215,3,0)*$H180","v":14.46432560907285},{"$f":"VLOOKUP($A180,'8.Non-elective admissions - CCG'!$D$5:$N$215,4,0)*$H180","v":13.769204803680367},{"$f":"VLOOKUP($A180,'8.Non-elective admissions - CCG'!$D$5:$N$215,5,0)*$H180","v":13.994453008912076},{"$f":"VLOOKUP($A180,'8.Non-elective admissions - CCG'!$D$5:$N$215,6,0)*$H180","v":13.413167317991533},{"$f":"VLOOKUP($A180,'8.Non-elective admissions - CCG'!$D$5:$N$215,7,0)*$H180","v":17.154597526368814},{"$f":"VLOOKUP($A180,'8.Non-elective admissions - CCG'!$D$5:$N$215,8,0)*$H180","v":16.163898592977386},{"$f":"VLOOKUP($A180,'8.Non-elective admissions - CCG'!$D$5:$N$215,9,0)*$H180","v":16.98613427424603},{"$f":"VLOOKUP($A180,'8.Non-elective admissions - CCG'!$D$5:$N$215,10,0)*$H180","v":17.844064021880623},{"$f":"VLOOKUP($A180,'8.Non-elective admissions - CCG'!$D$5:$Q$215,11,0)*$H180","v":17.726935984253789},{"$f":"VLOOKUP($A180,'8.Non-elective admissions - CCG'!$D$5:$Q$215,12,0)*$H180","v":16.696645474377711},{"$f":"VLOOKUP($A180,'8.Non-elective admissions - CCG'!$D$5:$Q$215,13,0)*$H180","v":17.55419440453559},{"$f":"VLOOKUP($A180,'8.Non-elective admissions - CCG'!$D$5:$Q$215,14,0)*$H180","v":18.440422712975025}]
["09G","NHS Coastal West Sussex CCG","E06000043","Brighton and Hove",{"$f":"COUNTIF($D$5:D181,D181)","v":2},"Brighton and Hove2","NHS Coastal West Sussex CCG",9.1457027284008317E-4,1.5161483153722079E-3,{"$f":"VLOOKUP($A181,'8.Non-elective admissions - CCG'!$D$5:$N$215,3,0)*$H181","v":10.77821066542038},{"$f":"VLOOKUP($A181,'8.Non-elective admissions - CCG'!$D$5:$N$215,4,0)*$H181","v":10.839486873700666},{"$f":"VLOOKUP($A181,'8.Non-elective admissions - CCG'!$D$5:$N$215,5,0)*$H181","v":11.55102254597025},{"$f":"VLOOKUP($A181,'8.Non-elective admissions - CCG'!$D$5:$N$215,6,0)*$H181","v":11.480600634961563},{"$f":"VLOOKUP($A181,'8.Non-elective admissions - CCG'!$D$5:$N$215,7,0)*$H181","v":10.241357915263251},{"$f":"VLOOKUP($A181,'8.Non-elective admissions - CCG'!$D$5:$N$215,8,0)*$H181","v":10.244101626081772},{"$f":"VLOOKUP($A181,'8.Non-elective admissions - CCG'!$D$5:$N$215,9,0)*$H181","v":10.604442313580764},{"$f":"VLOOKUP($A181,'8.Non-elective admissions - CCG'!$D$5:$N$215,10,0)*$H181","v":10.422442829285588},{"$f":"VLOOKUP($A181,'8.Non-elective admissions - CCG'!$D$5:$Q$215,11,0)*$H181","v":10.029177611964352},{"$f":"VLOOKUP($A181,'8.Non-elective admissions - CCG'!$D$5:$Q$215,12,0)*$H181","v":10.031006752510033},{"$f":"VLOOKUP($A181,'8.Non-elective admissions - CCG'!$D$5:$Q$215,13,0)*$H181","v":10.365739472369503},{"$f":"VLOOKUP($A181,'8.Non-elective admissions - CCG'!$D$5:$Q$215,14,0)*$H181","v":10.321840099273178}]
["09G","NHS Coastal West Sussex CCG","E10000014","Hampshire",{"$f":"COUNTIF($D$5:D182,D182)","v":2},"Hampshire2","NHS Coastal West Sussex CCG",2.2380783549016134E-3,0,{"$f":"VLOOKUP($A182,'8.Non-elective admissions - CCG'!$D$5:$N$215,3,0)*$H182","v":26.375753412515515},{"$f":"VLOOKUP($A182,'8.Non-elective admissions - CCG'!$D$5:$N$215,4,0)*$H182","v":26.525704662293922},{"$f":"VLOOKUP($A182,'8.Non-elective admissions - CCG'!$D$5:$N$215,5,0)*$H182","v":28.266929622407378},{"$f":"VLOOKUP($A182,'8.Non-elective admissions - CCG'!$D$5:$N$215,6,0)*$H182","v":28.094597589079953},{"$f":"VLOOKUP($A182,'8.Non-elective admissions - CCG'!$D$5:$N$215,7,0)*$H182","v":25.062001418188267},{"$f":"VLOOKUP($A182,'8.Non-elective admissions - CCG'!$D$5:$N$215,8,0)*$H182","v":25.068715653252973},{"$f":"VLOOKUP($A182,'8.Non-elective admissions - CCG'!$D$5:$N$215,9,0)*$H182","v":25.950518525084206},{"$f":"VLOOKUP($A182,'8.Non-elective admissions - CCG'!$D$5:$N$215,10,0)*$H182","v":25.505140932458787},{"$f":"VLOOKUP($A182,'8.Non-elective admissions - CCG'!$D$5:$Q$215,11,0)*$H182","v":24.542767239851091},{"$f":"VLOOKUP($A182,'8.Non-elective admissions - CCG'!$D$5:$Q$215,12,0)*$H182","v":24.547243396560894},{"$f":"VLOOKUP($A182,'8.Non-elective admissions - CCG'!$D$5:$Q$215,13,0)*$H182","v":25.366380074454888},{"$f":"VLOOKUP($A182,'8.Non-elective admissions - CCG'!$D$5:$Q$215,14,0)*$H182","v":25.258952313419609}]
["09G","NHS Coastal West Sussex CCG","E10000030","Surrey",{"$f":"COUNTIF($D$5:D183,D183)","v":3},"Surrey3","NHS Coastal West Sussex CCG",1.6840985640843823E-3,0,{"$f":"VLOOKUP($A183,'8.Non-elective admissions - CCG'!$D$5:$N$215,3,0)*$H183","v":19.847101577734445},{"$f":"VLOOKUP($A183,'8.Non-elective admissions - CCG'!$D$5:$N$215,4,0)*$H183","v":19.9599361815281},{"$f":"VLOOKUP($A183,'8.Non-elective admissions - CCG'!$D$5:$N$215,5,0)*$H183","v":21.270164864385748},{"$f":"VLOOKUP($A183,'8.Non-elective admissions - CCG'!$D$5:$N$215,6,0)*$H183","v":21.14048927495125},{"$f":"VLOOKUP($A183,'8.Non-elective admissions - CCG'!$D$5:$N$215,7,0)*$H183","v":18.858535720616914},{"$f":"VLOOKUP($A183,'8.Non-elective admissions - CCG'!$D$5:$N$215,8,0)*$H183","v":18.863588016309166},{"$f":"VLOOKUP($A183,'8.Non-elective admissions - CCG'!$D$5:$N$215,9,0)*$H183","v":19.527122850558413},{"$f":"VLOOKUP($A183,'8.Non-elective admissions - CCG'!$D$5:$N$215,10,0)*$H183","v":19.191987236305621},{"$f":"VLOOKUP($A183,'8.Non-elective admissions - CCG'!$D$5:$Q$215,11,0)*$H183","v":18.467824853749335},{"$f":"VLOOKUP($A183,'8.Non-elective admissions - CCG'!$D$5:$Q$215,12,0)*$H183","v":18.471193050877506},{"$f":"VLOOKUP($A183,'8.Non-elective admissions - CCG'!$D$5:$Q$215,13,0)*$H183","v":19.087573125332387},{"$f":"VLOOKUP($A183,'8.Non-elective admissions - CCG'!$D$5:$Q$215,14,0)*$H183","v":19.00673639425634}]
["09G","NHS Coastal West Sussex CCG","E10000032","West Sussex",{"$f":"COUNTIF($D$5:D184,D184)","v":2},"West Sussex2","NHS Coastal West Sussex CCG",0.99516325280817397,0.57699167345070002,{"$f":"VLOOKUP($A184,'8.Non-elective admissions - CCG'!$D$5:$N$215,3,0)*$H184","v":11727.99893434433},{"$f":"VLOOKUP($A184,'8.Non-elective admissions - CCG'!$D$5:$N$215,4,0)*$H184","v":11794.674872282478},{"$f":"VLOOKUP($A184,'8.Non-elective admissions - CCG'!$D$5:$N$215,5,0)*$H184","v":12568.911882967237},{"$f":"VLOOKUP($A184,'8.Non-elective admissions - CCG'!$D$5:$N$215,6,0)*$H184","v":12492.284312501008},{"$f":"VLOOKUP($A184,'8.Non-elective admissions - CCG'!$D$5:$N$215,7,0)*$H184","v":11143.838104945931},{"$f":"VLOOKUP($A184,'8.Non-elective admissions - CCG'!$D$5:$N$215,8,0)*$H184","v":11146.823594704356},{"$f":"VLOOKUP($A184,'8.Non-elective admissions - CCG'!$D$5:$N$215,9,0)*$H184","v":11538.917916310776},{"$f":"VLOOKUP($A184,'8.Non-elective admissions - CCG'!$D$5:$N$215,10,0)*$H184","v":11340.880429001951},{"$f":"VLOOKUP($A184,'8.Non-elective admissions - CCG'!$D$5:$Q$215,11,0)*$H184","v":10912.960230294435},{"$f":"VLOOKUP($A184,'8.Non-elective admissions - CCG'!$D$5:$Q$215,12,0)*$H184","v":10914.950556800051},{"$f":"VLOOKUP($A184,'8.Non-elective admissions - CCG'!$D$5:$Q$215,13,0)*$H184","v":11279.180307327844},{"$f":"VLOOKUP($A184,'8.Non-elective admissions - CCG'!$D$5:$Q$215,14,0)*$H184","v":11231.412471193051}]
["03V","NHS Corby CCG","E10000018","Leicestershire",{"$f":"COUNTIF($D$5:D185,D185)","v":1},"Leicestershire1","NHS Corby CCG",6.8784892135915644E-3,0,{"$f":"VLOOKUP($A185,'8.Non-elective admissions - CCG'!$D$5:$N$215,3,0)*$H185","v":10.138893100833966},{"$f":"VLOOKUP($A185,'8.Non-elective admissions - CCG'!$D$5:$N$215,4,0)*$H185","v":10.998704252532912},{"$f":"VLOOKUP($A185,'8.Non-elective admissions - CCG'!$D$5:$N$215,5,0)*$H185","v":10.923040871183405},{"$f":"VLOOKUP($A185,'8.Non-elective admissions - CCG'!$D$5:$N$215,6,0)*$H185","v":10.81298504376594},{"$f":"VLOOKUP($A185,'8.Non-elective admissions - CCG'!$D$5:$N$215,7,0)*$H185","v":10.524088496795093},{"$f":"VLOOKUP($A185,'8.Non-elective admissions - CCG'!$D$5:$N$215,8,0)*$H185","v":11.624646770969743},{"$f":"VLOOKUP($A185,'8.Non-elective admissions - CCG'!$D$5:$N$215,9,0)*$H185","v":11.260086842649391},{"$f":"VLOOKUP($A185,'8.Non-elective admissions - CCG'!$D$5:$N$215,10,0)*$H185","v":11.108760079950377},{"$f":"VLOOKUP($A185,'8.Non-elective admissions - CCG'!$D$5:$Q$215,11,0)*$H185","v":10.5997518781446},{"$f":"VLOOKUP($A185,'8.Non-elective admissions - CCG'!$D$5:$Q$215,12,0)*$H185","v":11.865393893445448},{"$f":"VLOOKUP($A185,'8.Non-elective admissions - CCG'!$D$5:$Q$215,13,0)*$H185","v":11.493955475911504},{"$f":"VLOOKUP($A185,'8.Non-elective admissions - CCG'!$D$5:$Q$215,14,0)*$H185","v":11.34950720242608}]
["03V","NHS Corby CCG","E10000021","Northamptonshire",{"$f":"COUNTIF($D$5:D186,D186)","v":4},"Northamptonshire4","NHS Corby CCG",0.99011647942656278,9.5535776038646325E-2,{"$f":"VLOOKUP($A186,'8.Non-elective admissions - CCG'!$D$5:$N$215,3,0)*$H186","v":1459.4316906747536},{"$f":"VLOOKUP($A186,'8.Non-elective admissions - CCG'!$D$5:$N$215,4,0)*$H186","v":1583.1962506030738},{"$f":"VLOOKUP($A186,'8.Non-elective admissions - CCG'!$D$5:$N$215,5,0)*$H186","v":1572.3049693293817},{"$f":"VLOOKUP($A186,'8.Non-elective admissions - CCG'!$D$5:$N$215,6,0)*$H186","v":1556.4631056585567},{"$f":"VLOOKUP($A186,'8.Non-elective admissions - CCG'!$D$5:$N$215,7,0)*$H186","v":1514.8782135226411},{"$f":"VLOOKUP($A186,'8.Non-elective admissions - CCG'!$D$5:$N$215,8,0)*$H186","v":1673.2968502308911},{"$f":"VLOOKUP($A186,'8.Non-elective admissions - CCG'!$D$5:$N$215,9,0)*$H186","v":1620.8206768212833},{"$f":"VLOOKUP($A186,'8.Non-elective admissions - CCG'!$D$5:$N$215,10,0)*$H186","v":1599.0381142738988},{"$f":"VLOOKUP($A186,'8.Non-elective admissions - CCG'!$D$5:$Q$215,11,0)*$H186","v":1525.7694947963332},{"$f":"VLOOKUP($A186,'8.Non-elective admissions - CCG'!$D$5:$Q$215,12,0)*$H186","v":1707.9509270108208},{"$f":"VLOOKUP($A186,'8.Non-elective admissions - CCG'!$D$5:$Q$215,13,0)*$H186","v":1654.4846371217864},{"$f":"VLOOKUP($A186,'8.Non-elective admissions - CCG'!$D$5:$Q$215,14,0)*$H186","v":1633.6921910538285}]
["03V","NHS Corby CCG","E06000017","Rutland",{"$f":"COUNTIF($D$5:D187,D187)","v":2},"Rutland2","NHS Corby CCG",3.005031359845613E-3,5.9597036551026555E-3,{"$f":"VLOOKUP($A187,'8.Non-elective admissions - CCG'!$D$5:$N$215,3,0)*$H187","v":4.4294162244124333},{"$f":"VLOOKUP($A187,'8.Non-elective admissions - CCG'!$D$5:$N$215,4,0)*$H187","v":4.8050451443931355},{"$f":"VLOOKUP($A187,'8.Non-elective admissions - CCG'!$D$5:$N$215,5,0)*$H187","v":4.7719897994348335},{"$f":"VLOOKUP($A187,'8.Non-elective admissions - CCG'!$D$5:$N$215,6,0)*$H187","v":4.7239092976773032},{"$f":"VLOOKUP($A187,'8.Non-elective admissions - CCG'!$D$5:$N$215,7,0)*$H187","v":4.5976979805637876},{"$f":"VLOOKUP($A187,'8.Non-elective admissions - CCG'!$D$5:$N$215,8,0)*$H187","v":5.0785029981390863},{"$f":"VLOOKUP($A187,'8.Non-elective admissions - CCG'!$D$5:$N$215,9,0)*$H187","v":4.9192363360672688},{"$f":"VLOOKUP($A187,'8.Non-elective admissions - CCG'!$D$5:$N$215,10,0)*$H187","v":4.8531256461506649},{"$f":"VLOOKUP($A187,'8.Non-elective admissions - CCG'!$D$5:$Q$215,11,0)*$H187","v":4.6307533255220896},{"$f":"VLOOKUP($A187,'8.Non-elective admissions - CCG'!$D$5:$Q$215,12,0)*$H187","v":5.183679095733682},{"$f":"VLOOKUP($A187,'8.Non-elective admissions - CCG'!$D$5:$Q$215,13,0)*$H187","v":5.0214074023020192},{"$f":"VLOOKUP($A187,'8.Non-elective admissions - CCG'!$D$5:$Q$215,14,0)*$H187","v":4.9583017437452614}]
["05A","NHS Coventry and Rugby CCG","E08000026","Coventry",{"$f":"COUNTIF($D$5:D188,D188)","v":1},"Coventry1","NHS Coventry and Rugby CCG",0.73949489702570104,0.99877579771974578,{"$f":"VLOOKUP($A188,'8.Non-elective admissions - CCG'!$D$5:$N$215,3,0)*$H188","v":8107.8220509897865},{"$f":"VLOOKUP($A188,'8.Non-elective admissions - CCG'!$D$5:$N$215,4,0)*$H188","v":7956.2255970995175},{"$f":"VLOOKUP($A188,'8.Non-elective admissions - CCG'!$D$5:$N$215,5,0)*$H188","v":8354.0738516993442},{"$f":"VLOOKUP($A188,'8.Non-elective admissions - CCG'!$D$5:$N$215,6,0)*$H188","v":8134.4438672827118},{"$f":"VLOOKUP($A188,'8.Non-elective admissions - CCG'!$D$5:$N$215,7,0)*$H188","v":7883.4341772424368},{"$f":"VLOOKUP($A188,'8.Non-elective admissions - CCG'!$D$5:$N$215,8,0)*$H188","v":7970.0653220238464},{"$f":"VLOOKUP($A188,'8.Non-elective admissions - CCG'!$D$5:$N$215,9,0)*$H188","v":7970.0653220238464},{"$f":"VLOOKUP($A188,'8.Non-elective admissions - CCG'!$D$5:$N$215,10,0)*$H188","v":7796.8030324469773},{"$f":"VLOOKUP($A188,'8.Non-elective admissions - CCG'!$D$5:$Q$215,11,0)*$H188","v":7543.5663776910042},{"$f":"VLOOKUP($A188,'8.Non-elective admissions - CCG'!$D$5:$Q$215,12,0)*$H188","v":7626.4627115791436},{"$f":"VLOOKUP($A188,'8.Non-elective admissions - CCG'!$D$5:$Q$215,13,0)*$H188","v":7626.4627115791436},{"$f":"VLOOKUP($A188,'8.Non-elective admissions - CCG'!$D$5:$Q$215,14,0)*$H188","v":7543.5663777649534}]
["05A","NHS Coventry and Rugby CCG","E10000021","Northamptonshire",{"$f":"COUNTIF($D$5:D189,D189)","v":5},"Northamptonshire5","NHS Coventry and Rugby CCG",3.2617816351809751E-3,2.0629279478189626E-3,{"$f":"VLOOKUP($A189,'8.Non-elective admissions - CCG'!$D$5:$N$215,3,0)*$H189","v":35.762173848124213},{"$f":"VLOOKUP($A189,'8.Non-elective admissions - CCG'!$D$5:$N$215,4,0)*$H189","v":35.09350861291211},{"$f":"VLOOKUP($A189,'8.Non-elective admissions - CCG'!$D$5:$N$215,5,0)*$H189","v":36.848347132639475},{"$f":"VLOOKUP($A189,'8.Non-elective admissions - CCG'!$D$5:$N$215,6,0)*$H189","v":35.879597986990724},{"$f":"VLOOKUP($A189,'8.Non-elective admissions - CCG'!$D$5:$N$215,7,0)*$H189","v":34.77243849134193},{"$f":"VLOOKUP($A189,'8.Non-elective admissions - CCG'!$D$5:$N$215,8,0)*$H189","v":35.154553199934547},{"$f":"VLOOKUP($A189,'8.Non-elective admissions - CCG'!$D$5:$N$215,9,0)*$H189","v":35.154553199934547},{"$f":"VLOOKUP($A189,'8.Non-elective admissions - CCG'!$D$5:$N$215,10,0)*$H189","v":34.390323782687332},{"$f":"VLOOKUP($A189,'8.Non-elective admissions - CCG'!$D$5:$Q$215,11,0)*$H189","v":33.273341538239215},{"$f":"VLOOKUP($A189,'8.Non-elective admissions - CCG'!$D$5:$Q$215,12,0)*$H189","v":33.638982654341149},{"$f":"VLOOKUP($A189,'8.Non-elective admissions - CCG'!$D$5:$Q$215,13,0)*$H189","v":33.638982654341149},{"$f":"VLOOKUP($A189,'8.Non-elective admissions - CCG'!$D$5:$Q$215,14,0)*$H189","v":33.27334153856539}]
["05A","NHS Coventry and Rugby CCG","E10000031","Warwickshire",{"$f":"COUNTIF($D$5:D190,D190)","v":2},"Warwickshire2","NHS Coventry and Rugby CCG",0.25724332133911804,0.21289953145777205,{"$f":"VLOOKUP($A190,'8.Non-elective admissions - CCG'!$D$5:$N$215,3,0)*$H190","v":2820.4157751620901},{"$f":"VLOOKUP($A190,'8.Non-elective admissions - CCG'!$D$5:$N$215,4,0)*$H190","v":2767.6808942875709},{"$f":"VLOOKUP($A190,'8.Non-elective admissions - CCG'!$D$5:$N$215,5,0)*$H190","v":2906.0778011680163},{"$f":"VLOOKUP($A190,'8.Non-elective admissions - CCG'!$D$5:$N$215,6,0)*$H190","v":2829.6765347302985},{"$f":"VLOOKUP($A190,'8.Non-elective admissions - CCG'!$D$5:$N$215,7,0)*$H190","v":2742.3594124432211},{"$f":"VLOOKUP($A190,'8.Non-elective admissions - CCG'!$D$5:$N$215,8,0)*$H190","v":2772.4952301542194},{"$f":"VLOOKUP($A190,'8.Non-elective admissions - CCG'!$D$5:$N$215,9,0)*$H190","v":2772.4952301542194},{"$f":"VLOOKUP($A190,'8.Non-elective admissions - CCG'!$D$5:$N$215,10,0)*$H190","v":2712.2235947273357},{"$f":"VLOOKUP($A190,'8.Non-elective admissions - CCG'!$D$5:$Q$215,11,0)*$H190","v":2624.1317925847579},{"$f":"VLOOKUP($A190,'8.Non-elective admissions - CCG'!$D$5:$Q$215,12,0)*$H190","v":2652.9684057135164},{"$f":"VLOOKUP($A190,'8.Non-elective admissions - CCG'!$D$5:$Q$215,13,0)*$H190","v":2652.9684057135164},{"$f":"VLOOKUP($A190,'8.Non-elective admissions - CCG'!$D$5:$Q$215,14,0)*$H190","v":2624.1317926104821}]
["09H","NHS Crawley CCG","E10000030","Surrey",{"$f":"COUNTIF($D$5:D191,D191)","v":4},"Surrey4","NHS Crawley CCG",6.5852557516889274E-2,6.9771660880536338E-3,{"$f":"VLOOKUP($A191,'8.Non-elective admissions - CCG'!$D$5:$N$215,3,0)*$H191","v":199.66495439120828},{"$f":"VLOOKUP($A191,'8.Non-elective admissions - CCG'!$D$5:$N$215,4,0)*$H191","v":204.40633853242431},{"$f":"VLOOKUP($A191,'8.Non-elective admissions - CCG'!$D$5:$N$215,5,0)*$H191","v":202.36490924940074},{"$f":"VLOOKUP($A191,'8.Non-elective admissions - CCG'!$D$5:$N$215,6,0)*$H191","v":197.88693533825227},{"$f":"VLOOKUP($A191,'8.Non-elective admissions - CCG'!$D$5:$N$215,7,0)*$H191","v":189.91877587870866},{"$f":"VLOOKUP($A191,'8.Non-elective admissions - CCG'!$D$5:$N$215,8,0)*$H191","v":188.53587217085399},{"$f":"VLOOKUP($A191,'8.Non-elective admissions - CCG'!$D$5:$N$215,9,0)*$H191","v":192.8162884094518},{"$f":"VLOOKUP($A191,'8.Non-elective admissions - CCG'!$D$5:$N$215,10,0)*$H191","v":189.06269263098909},{"$f":"VLOOKUP($A191,'8.Non-elective admissions - CCG'!$D$5:$Q$215,11,0)*$H191","v":178.65798854332061},{"$f":"VLOOKUP($A191,'8.Non-elective admissions - CCG'!$D$5:$Q$215,12,0)*$H191","v":177.27508483546592},{"$f":"VLOOKUP($A191,'8.Non-elective admissions - CCG'!$D$5:$Q$215,13,0)*$H191","v":181.29209084399616},{"$f":"VLOOKUP($A191,'8.Non-elective admissions - CCG'!$D$5:$Q$215,14,0)*$H191","v":180.04089225117528}]
["09H","NHS Crawley CCG","E10000032","West Sussex",{"$f":"COUNTIF($D$5:D192,D192)","v":3},"West Sussex3","NHS Crawley CCG",0.93414744248311077,0.14018479823681318,{"$f":"VLOOKUP($A192,'8.Non-elective admissions - CCG'!$D$5:$N$215,3,0)*$H192","v":2832.3350456087919},{"$f":"VLOOKUP($A192,'8.Non-elective admissions - CCG'!$D$5:$N$215,4,0)*$H192","v":2899.5936614675757},{"$f":"VLOOKUP($A192,'8.Non-elective admissions - CCG'!$D$5:$N$215,5,0)*$H192","v":2870.6350907505994},{"$f":"VLOOKUP($A192,'8.Non-elective admissions - CCG'!$D$5:$N$215,6,0)*$H192","v":2807.113064661748},{"$f":"VLOOKUP($A192,'8.Non-elective admissions - CCG'!$D$5:$N$215,7,0)*$H192","v":2694.0812241212916},{"$f":"VLOOKUP($A192,'8.Non-elective admissions - CCG'!$D$5:$N$215,8,0)*$H192","v":2674.464127829146},{"$f":"VLOOKUP($A192,'8.Non-elective admissions - CCG'!$D$5:$N$215,9,0)*$H192","v":2735.1837115905482},{"$f":"VLOOKUP($A192,'8.Non-elective admissions - CCG'!$D$5:$N$215,10,0)*$H192","v":2681.9373073690108},{"$f":"VLOOKUP($A192,'8.Non-elective admissions - CCG'!$D$5:$Q$215,11,0)*$H192","v":2534.3420114566793},{"$f":"VLOOKUP($A192,'8.Non-elective admissions - CCG'!$D$5:$Q$215,12,0)*$H192","v":2514.7249151645342},{"$f":"VLOOKUP($A192,'8.Non-elective admissions - CCG'!$D$5:$Q$215,13,0)*$H192","v":2571.707909156004},{"$f":"VLOOKUP($A192,'8.Non-elective admissions - CCG'!$D$5:$Q$215,14,0)*$H192","v":2553.9591077488249}]
["07V","NHS Croydon CCG","E09000006","Bromley",{"$f":"COUNTIF($D$5:D193,D193)","v":3},"Bromley3","NHS Croydon CCG",9.6568865335089592E-3,1.1575905127439603E-2,{"$f":"VLOOKUP($A193,'8.Non-elective admissions - CCG'!$D$5:$N$215,3,0)*$H193","v":85.859378169428155},{"$f":"VLOOKUP($A193,'8.Non-elective admissions - CCG'!$D$5:$N$215,4,0)*$H193","v":87.539676426258708},{"$f":"VLOOKUP($A193,'8.Non-elective admissions - CCG'!$D$5:$N$215,5,0)*$H193","v":88.099775845202231},{"$f":"VLOOKUP($A193,'8.Non-elective admissions - CCG'!$D$5:$N$215,6,0)*$H193","v":87.317568035988003},{"$f":"VLOOKUP($A193,'8.Non-elective admissions - CCG'!$D$5:$N$215,7,0)*$H193","v":79.611372582247853},{"$f":"VLOOKUP($A193,'8.Non-elective admissions - CCG'!$D$5:$N$215,8,0)*$H193","v":81.214415746810346},{"$f":"VLOOKUP($A193,'8.Non-elective admissions - CCG'!$D$5:$N$215,9,0)*$H193","v":80.886081604671048},{"$f":"VLOOKUP($A193,'8.Non-elective admissions - CCG'!$D$5:$N$215,10,0)*$H193","v":82.566379861501602},{"$f":"VLOOKUP($A193,'8.Non-elective admissions - CCG'!$D$5:$Q$215,11,0)*$H193","v":82.315300811630365},{"$f":"VLOOKUP($A193,'8.Non-elective admissions - CCG'!$D$5:$Q$215,12,0)*$H193","v":83.976285295393907},{"$f":"VLOOKUP($A193,'8.Non-elective admissions - CCG'!$D$5:$Q$215,13,0)*$H193","v":83.618980493654078},{"$f":"VLOOKUP($A193,'8.Non-elective admissions - CCG'!$D$5:$Q$215,14,0)*$H193","v":85.357220069685695}]
["07V","NHS Croydon CCG","E09000008","Croydon",{"$f":"COUNTIF($D$5:D194,D194)","v":2},"Croydon2","NHS Croydon CCG",0.95715639226319305,0.94000065562030499,{"$f":"VLOOKUP($A194,'8.Non-elective admissions - CCG'!$D$5:$N$215,3,0)*$H194","v":8510.077483612049},{"$f":"VLOOKUP($A194,'8.Non-elective admissions - CCG'!$D$5:$N$215,4,0)*$H194","v":8676.6226958658444},{"$f":"VLOOKUP($A194,'8.Non-elective admissions - CCG'!$D$5:$N$215,5,0)*$H194","v":8732.1377666171102},{"$f":"VLOOKUP($A194,'8.Non-elective admissions - CCG'!$D$5:$N$215,6,0)*$H194","v":8654.6080988437916},{"$f":"VLOOKUP($A194,'8.Non-elective admissions - CCG'!$D$5:$N$215,7,0)*$H194","v":7890.7972978177631},{"$f":"VLOOKUP($A194,'8.Non-elective admissions - CCG'!$D$5:$N$215,8,0)*$H194","v":8049.685258933454},{"$f":"VLOOKUP($A194,'8.Non-elective admissions - CCG'!$D$5:$N$215,9,0)*$H194","v":8017.1419415965047},{"$f":"VLOOKUP($A194,'8.Non-elective admissions - CCG'!$D$5:$N$215,10,0)*$H194","v":8183.6871538503001},{"$f":"VLOOKUP($A194,'8.Non-elective admissions - CCG'!$D$5:$Q$215,11,0)*$H194","v":8158.8010876514572},{"$f":"VLOOKUP($A194,'8.Non-elective admissions - CCG'!$D$5:$Q$215,12,0)*$H194","v":8323.4319871207263},{"$f":"VLOOKUP($A194,'8.Non-elective admissions - CCG'!$D$5:$Q$215,13,0)*$H194","v":8288.0172006069879},{"$f":"VLOOKUP($A194,'8.Non-elective admissions - CCG'!$D$5:$Q$215,14,0)*$H194","v":8460.3053512143633}]
["07V","NHS Croydon CCG","E09000022","Lambeth",{"$f":"COUNTIF($D$5:D195,D195)","v":2},"Lambeth2","NHS Croydon CCG",6.786267244898744E-3,7.57923353101091E-3,{"$f":"VLOOKUP($A195,'8.Non-elective admissions - CCG'!$D$5:$N$215,3,0)*$H195","v":60.336702074394729},{"$f":"VLOOKUP($A195,'8.Non-elective admissions - CCG'!$D$5:$N$215,4,0)*$H195","v":61.517512575007117},{"$f":"VLOOKUP($A195,'8.Non-elective admissions - CCG'!$D$5:$N$215,5,0)*$H195","v":61.91111607521124},{"$f":"VLOOKUP($A195,'8.Non-elective admissions - CCG'!$D$5:$N$215,6,0)*$H195","v":61.361428428374445},{"$f":"VLOOKUP($A195,'8.Non-elective admissions - CCG'!$D$5:$N$215,7,0)*$H195","v":55.945987166945244},{"$f":"VLOOKUP($A195,'8.Non-elective admissions - CCG'!$D$5:$N$215,8,0)*$H195","v":57.07250752959844},{"$f":"VLOOKUP($A195,'8.Non-elective admissions - CCG'!$D$5:$N$215,9,0)*$H195","v":56.841774443271881},{"$f":"VLOOKUP($A195,'8.Non-elective admissions - CCG'!$D$5:$N$215,10,0)*$H195","v":58.022584943884262},{"$f":"VLOOKUP($A195,'8.Non-elective admissions - CCG'!$D$5:$Q$215,11,0)*$H195","v":57.846141995516895},{"$f":"VLOOKUP($A195,'8.Non-elective admissions - CCG'!$D$5:$Q$215,12,0)*$H195","v":59.01337996163948},{"$f":"VLOOKUP($A195,'8.Non-elective admissions - CCG'!$D$5:$Q$215,13,0)*$H195","v":58.762288073578226},{"$f":"VLOOKUP($A195,'8.Non-elective admissions - CCG'!$D$5:$Q$215,14,0)*$H195","v":59.983816177659996}]
["07V","NHS Croydon CCG","E09000024","Merton",{"$f":"COUNTIF($D$5:D196,D196)","v":1},"Merton1","NHS Croydon CCG",4.7424273936163379E-3,8.034067578383269E-3,{"$f":"VLOOKUP($A196,'8.Non-elective admissions - CCG'!$D$5:$N$215,3,0)*$H196","v":42.164921956642857},{"$f":"VLOOKUP($A196,'8.Non-elective admissions - CCG'!$D$5:$N$215,4,0)*$H196","v":42.990104323132101},{"$f":"VLOOKUP($A196,'8.Non-elective admissions - CCG'!$D$5:$N$215,5,0)*$H196","v":43.265165111961849},{"$f":"VLOOKUP($A196,'8.Non-elective admissions - CCG'!$D$5:$N$215,6,0)*$H196","v":42.881028493078929},{"$f":"VLOOKUP($A196,'8.Non-elective admissions - CCG'!$D$5:$N$215,7,0)*$H196","v":39.096571432973093},{"$f":"VLOOKUP($A196,'8.Non-elective admissions - CCG'!$D$5:$N$215,8,0)*$H196","v":39.883814380313403},{"$f":"VLOOKUP($A196,'8.Non-elective admissions - CCG'!$D$5:$N$215,9,0)*$H196","v":39.722571848930443},{"$f":"VLOOKUP($A196,'8.Non-elective admissions - CCG'!$D$5:$N$215,10,0)*$H196","v":40.547754215419687},{"$f":"VLOOKUP($A196,'8.Non-elective admissions - CCG'!$D$5:$Q$215,11,0)*$H196","v":40.424451103185667},{"$f":"VLOOKUP($A196,'8.Non-elective admissions - CCG'!$D$5:$Q$215,12,0)*$H196","v":41.240148614887673},{"$f":"VLOOKUP($A196,'8.Non-elective admissions - CCG'!$D$5:$Q$215,13,0)*$H196","v":41.064678801323872},{"$f":"VLOOKUP($A196,'8.Non-elective admissions - CCG'!$D$5:$Q$215,14,0)*$H196","v":41.918315732174811}]
["07V","NHS Croydon CCG","E10000030","Surrey",{"$f":"COUNTIF($D$5:D197,D197)","v":5},"Surrey5","NHS Croydon CCG",1.1726402764832602E-2,3.7660699118474113E-3,{"$f":"VLOOKUP($A197,'8.Non-elective admissions - CCG'!$D$5:$N$215,3,0)*$H197","v":104.25944698212666},{"$f":"VLOOKUP($A197,'8.Non-elective admissions - CCG'!$D$5:$N$215,4,0)*$H197","v":106.29984106320754},{"$f":"VLOOKUP($A197,'8.Non-elective admissions - CCG'!$D$5:$N$215,5,0)*$H197","v":106.97997242356783},{"$f":"VLOOKUP($A197,'8.Non-elective admissions - CCG'!$D$5:$N$215,6,0)*$H197","v":106.03013379961639},{"$f":"VLOOKUP($A197,'8.Non-elective admissions - CCG'!$D$5:$N$215,7,0)*$H197","v":96.672464393279967},{"$f":"VLOOKUP($A197,'8.Non-elective admissions - CCG'!$D$5:$N$215,8,0)*$H197","v":98.619047252242183},{"$f":"VLOOKUP($A197,'8.Non-elective admissions - CCG'!$D$5:$N$215,9,0)*$H197","v":98.220349558237871},{"$f":"VLOOKUP($A197,'8.Non-elective admissions - CCG'!$D$5:$N$215,10,0)*$H197","v":100.26074363931875},{"$f":"VLOOKUP($A197,'8.Non-elective admissions - CCG'!$D$5:$Q$215,11,0)*$H197","v":99.955857167433095},{"$f":"VLOOKUP($A197,'8.Non-elective admissions - CCG'!$D$5:$Q$215,12,0)*$H197","v":101.97279844298431},{"$f":"VLOOKUP($A197,'8.Non-elective admissions - CCG'!$D$5:$Q$215,13,0)*$H197","v":101.53892154068551},{"$f":"VLOOKUP($A197,'8.Non-elective admissions - CCG'!$D$5:$Q$215,14,0)*$H197","v":103.64967403835537}]
["07V","NHS Croydon CCG","E09000029","Sutton",{"$f":"COUNTIF($D$5:D198,D198)","v":1},{"$f":"D198&E198","v":"Sutton1"},{"$f":"B198","v":"NHS Croydon CCG"},9.9316237999501865E-3,1.8863139825218474E-2,{"$f":"VLOOKUP($A198,'8.Non-elective admissions - CCG'!$D$5:$N$215,3,0)*$H198","v":88.302067205357105},{"$f":"VLOOKUP($A198,'8.Non-elective admissions - CCG'!$D$5:$N$215,4,0)*$H198","v":90.030169746548438},{"$f":"VLOOKUP($A198,'8.Non-elective admissions - CCG'!$D$5:$N$215,5,0)*$H198","v":90.606203926945554},{"$f":"VLOOKUP($A198,'8.Non-elective admissions - CCG'!$D$5:$N$215,6,0)*$H198","v":89.801742399149589},{"$f":"VLOOKUP($A198,'8.Non-elective admissions - CCG'!$D$5:$N$215,7,0)*$H198","v":81.876306606789342},{"$f":"VLOOKUP($A198,'8.Non-elective admissions - CCG'!$D$5:$N$215,8,0)*$H198","v":83.524956157581073},{"$f":"VLOOKUP($A198,'8.Non-elective admissions - CCG'!$D$5:$N$215,9,0)*$H198","v":83.187280948382764},{"$f":"VLOOKUP($A198,'8.Non-elective admissions - CCG'!$D$5:$N$215,10,0)*$H198","v":84.915383489574097},{"$f":"VLOOKUP($A198,'8.Non-elective admissions - CCG'!$D$5:$Q$215,11,0)*$H198","v":84.65716127077539},{"$f":"VLOOKUP($A198,'8.Non-elective admissions - CCG'!$D$5:$Q$215,12,0)*$H198","v":86.365400564366823},{"$f":"VLOOKUP($A198,'8.Non-elective admissions - CCG'!$D$5:$Q$215,13,0)*$H198","v":85.99793048376867},{"$f":"VLOOKUP($A198,'8.Non-elective admissions - CCG'!$D$5:$Q$215,14,0)*$H198","v":87.785622767759705}]
["01H","NHS Cumbria CCG","E10000006","Cumbria",{"$f":"COUNTIF($D$5:D199,D199)","v":1},"Cumbria1","NHS Cumbria CCG",0.97359875650220062,0.99999999999999989,{"$f":"VLOOKUP($A199,'8.Non-elective admissions - CCG'!$D$5:$N$215,3,0)*$H199","v":13769.607213210624},{"$f":"VLOOKUP($A199,'8.Non-elective admissions - CCG'!$D$5:$N$215,4,0)*$H199","v":13726.768867924526},{"$f":"VLOOKUP($A199,'8.Non-elective admissions - CCG'!$D$5:$N$215,5,0)*$H199","v":14452.099941518665},{"$f":"VLOOKUP($A199,'8.Non-elective admissions - CCG'!$D$5:$N$215,6,0)*$H199","v":14600.086952507001},{"$f":"VLOOKUP($A199,'8.Non-elective admissions - CCG'!$D$5:$N$215,7,0)*$H199","v":13485.316376311981},{"$f":"VLOOKUP($A199,'8.Non-elective admissions - CCG'!$D$5:$N$215,8,0)*$H199","v":13638.171381082826},{"$f":"VLOOKUP($A199,'8.Non-elective admissions - CCG'!$D$5:$N$215,9,0)*$H199","v":14552.380613438392},{"$f":"VLOOKUP($A199,'8.Non-elective admissions - CCG'!$D$5:$N$215,10,0)*$H199","v":14170.72990088953},{"$f":"VLOOKUP($A199,'8.Non-elective admissions - CCG'!$D$5:$Q$215,11,0)*$H199","v":13373.352519314229},{"$f":"VLOOKUP($A199,'8.Non-elective admissions - CCG'!$D$5:$Q$215,12,0)*$H199","v":13523.286727815566},{"$f":"VLOOKUP($A199,'8.Non-elective admissions - CCG'!$D$5:$Q$215,13,0)*$H199","v":14431.65436763212},{"$f":"VLOOKUP($A199,'8.Non-elective admissions - CCG'!$D$5:$Q$215,14,0)*$H199","v":14050.003655083257}]
["01H","NHS Cumbria CCG","E10000017","Lancashire",{"$f":"COUNTIF($D$5:D200,D200)","v":7},"Lancashire7","NHS Cumbria CCG",1.3968189233278954E-2,5.9207495321539679E-3,{"$f":"VLOOKUP($A200,'8.Non-elective admissions - CCG'!$D$5:$N$215,3,0)*$H200","v":197.55210032626425},{"$f":"VLOOKUP($A200,'8.Non-elective admissions - CCG'!$D$5:$N$215,4,0)*$H200","v":196.93749999999997},{"$f":"VLOOKUP($A200,'8.Non-elective admissions - CCG'!$D$5:$N$215,5,0)*$H200","v":207.34380097879279},{"$f":"VLOOKUP($A200,'8.Non-elective admissions - CCG'!$D$5:$N$215,6,0)*$H200","v":209.4669657422512},{"$f":"VLOOKUP($A200,'8.Non-elective admissions - CCG'!$D$5:$N$215,7,0)*$H200","v":193.47338907014679},{"$f":"VLOOKUP($A200,'8.Non-elective admissions - CCG'!$D$5:$N$215,8,0)*$H200","v":195.66639477977159},{"$f":"VLOOKUP($A200,'8.Non-elective admissions - CCG'!$D$5:$N$215,9,0)*$H200","v":208.78252446982052},{"$f":"VLOOKUP($A200,'8.Non-elective admissions - CCG'!$D$5:$N$215,10,0)*$H200","v":203.30699429037517},{"$f":"VLOOKUP($A200,'8.Non-elective admissions - CCG'!$D$5:$Q$215,11,0)*$H200","v":191.86704730831971},{"$f":"VLOOKUP($A200,'8.Non-elective admissions - CCG'!$D$5:$Q$215,12,0)*$H200","v":194.01814845024467},{"$f":"VLOOKUP($A200,'8.Non-elective admissions - CCG'!$D$5:$Q$215,13,0)*$H200","v":207.05046900489393},{"$f":"VLOOKUP($A200,'8.Non-elective admissions - CCG'!$D$5:$Q$215,14,0)*$H200","v":201.57493882544858}]
["01H","NHS Cumbria CCG","E10000023","North Yorkshire",{"$f":"COUNTIF($D$5:D201,D201)","v":2},"North Yorkshire2","NHS Cumbria CCG",1.2433054264520297E-2,1.0596193699011042E-2,{"$f":"VLOOKUP($A201,'8.Non-elective admissions - CCG'!$D$5:$N$215,3,0)*$H201","v":175.84068646311056},{"$f":"VLOOKUP($A201,'8.Non-elective admissions - CCG'!$D$5:$N$215,4,0)*$H201","v":175.29363207547166},{"$f":"VLOOKUP($A201,'8.Non-elective admissions - CCG'!$D$5:$N$215,5,0)*$H201","v":184.5562575025393},{"$f":"VLOOKUP($A201,'8.Non-elective admissions - CCG'!$D$5:$N$215,6,0)*$H201","v":186.44608175074637},{"$f":"VLOOKUP($A201,'8.Non-elective admissions - CCG'!$D$5:$N$215,7,0)*$H201","v":172.21023461787064},{"$f":"VLOOKUP($A201,'8.Non-elective admissions - CCG'!$D$5:$N$215,8,0)*$H201","v":174.16222413740033},{"$f":"VLOOKUP($A201,'8.Non-elective admissions - CCG'!$D$5:$N$215,9,0)*$H201","v":185.83686209178487},{"$f":"VLOOKUP($A201,'8.Non-elective admissions - CCG'!$D$5:$N$215,10,0)*$H201","v":180.96310482009292},{"$f":"VLOOKUP($A201,'8.Non-elective admissions - CCG'!$D$5:$Q$215,11,0)*$H201","v":170.78043337745081},{"$f":"VLOOKUP($A201,'8.Non-elective admissions - CCG'!$D$5:$Q$215,12,0)*$H201","v":172.69512373418692},{"$f":"VLOOKUP($A201,'8.Non-elective admissions - CCG'!$D$5:$Q$215,13,0)*$H201","v":184.29516336298437},{"$f":"VLOOKUP($A201,'8.Non-elective admissions - CCG'!$D$5:$Q$215,14,0)*$H201","v":179.4214060912924}]
["01H","NHS Cumbria CCG","E06000048","Northumberland",{"$f":"COUNTIF($D$5:D202,D202)","v":1},"Northumberland1","NHS Cumbria CCG",0,1.214468175912734E-3,{"$f":"VLOOKUP($A202,'8.Non-elective admissions - CCG'!$D$5:$N$215,3,0)*$H202","v":0},{"$f":"VLOOKUP($A202,'8.Non-elective admissions - CCG'!$D$5:$N$215,4,0)*$H202","v":0},{"$f":"VLOOKUP($A202,'8.Non-elective admissions - CCG'!$D$5:$N$215,5,0)*$H202","v":0},{"$f":"VLOOKUP($A202,'8.Non-elective admissions - CCG'!$D$5:$N$215,6,0)*$H202","v":0},{"$f":"VLOOKUP($A202,'8.Non-elective admissions - CCG'!$D$5:$N$215,7,0)*$H202","v":0},{"$f":"VLOOKUP($A202,'8.Non-elective admissions - CCG'!$D$5:$N$215,8,0)*$H202","v":0},{"$f":"VLOOKUP($A202,'8.Non-elective admissions - CCG'!$D$5:$N$215,9,0)*$H202","v":0},{"$f":"VLOOKUP($A202,'8.Non-elective admissions - CCG'!$D$5:$N$215,10,0)*$H202","v":0},{"$f":"VLOOKUP($A202,'8.Non-elective admissions - CCG'!$D$5:$Q$215,11,0)*$H202","v":0},{"$f":"VLOOKUP($A202,'8.Non-elective admissions - CCG'!$D$5:$Q$215,12,0)*$H202","v":0},{"$f":"VLOOKUP($A202,'8.Non-elective admissions - CCG'!$D$5:$Q$215,13,0)*$H202","v":0},{"$f":"VLOOKUP($A202,'8.Non-elective admissions - CCG'!$D$5:$Q$215,14,0)*$H202","v":0}]
["00C","NHS Darlington CCG","E06000005","Darlington",{"$f":"COUNTIF($D$5:D203,D203)","v":1},"Darlington1","NHS Darlington CCG",0.98209086981837301,0.96511466937381751,{"$f":"VLOOKUP($A203,'8.Non-elective admissions - CCG'!$D$5:$N$215,3,0)*$H203","v":3266.4342330159088},{"$f":"VLOOKUP($A203,'8.Non-elective admissions - CCG'!$D$5:$N$215,4,0)*$H203","v":3256.6133243177251},{"$f":"VLOOKUP($A203,'8.Non-elective admissions - CCG'!$D$5:$N$215,5,0)*$H203","v":3454.9956800210362},{"$f":"VLOOKUP($A203,'8.Non-elective admissions - CCG'!$D$5:$N$215,6,0)*$H203","v":3203.5804173475326},{"$f":"VLOOKUP($A203,'8.Non-elective admissions - CCG'!$D$5:$N$215,7,0)*$H203","v":3261.5237786668167},{"$f":"VLOOKUP($A203,'8.Non-elective admissions - CCG'!$D$5:$N$215,8,0)*$H203","v":3136.7982381998836},{"$f":"VLOOKUP($A203,'8.Non-elective admissions - CCG'!$D$5:$N$215,9,0)*$H203","v":3280.1835051933658},{"$f":"VLOOKUP($A203,'8.Non-elective admissions - CCG'!$D$5:$N$215,10,0)*$H203","v":3282.1476869330027},{"$f":"VLOOKUP($A203,'8.Non-elective admissions - CCG'!$D$5:$Q$215,11,0)*$H203","v":3228.1326890929922},{"$f":"VLOOKUP($A203,'8.Non-elective admissions - CCG'!$D$5:$Q$215,12,0)*$H203","v":3104.3892394958771},{"$f":"VLOOKUP($A203,'8.Non-elective admissions - CCG'!$D$5:$Q$215,13,0)*$H203","v":3243.8461430100861},{"$f":"VLOOKUP($A203,'8.Non-elective admissions - CCG'!$D$5:$Q$215,14,0)*$H203","v":3243.8461430100861}]
["00C","NHS Darlington CCG","E10000023","North Yorkshire",{"$f":"COUNTIF($D$5:D204,D204)","v":3},"North Yorkshire3","NHS Darlington CCG",1.3504629890497923E-2,2.3576244064951075E-3,{"$f":"VLOOKUP($A204,'8.Non-elective admissions - CCG'!$D$5:$N$215,3,0)*$H204","v":44.916399015796088},{"$f":"VLOOKUP($A204,'8.Non-elective admissions - CCG'!$D$5:$N$215,4,0)*$H204","v":44.781352716891114},{"$f":"VLOOKUP($A204,'8.Non-elective admissions - CCG'!$D$5:$N$215,5,0)*$H204","v":47.509287954771693},{"$f":"VLOOKUP($A204,'8.Non-elective admissions - CCG'!$D$5:$N$215,6,0)*$H204","v":44.052102702804227},{"$f":"VLOOKUP($A204,'8.Non-elective admissions - CCG'!$D$5:$N$215,7,0)*$H204","v":44.848875866343597},{"$f":"VLOOKUP($A204,'8.Non-elective admissions - CCG'!$D$5:$N$215,8,0)*$H204","v":43.133787870250366},{"$f":"VLOOKUP($A204,'8.Non-elective admissions - CCG'!$D$5:$N$215,9,0)*$H204","v":45.105463834263062},{"$f":"VLOOKUP($A204,'8.Non-elective admissions - CCG'!$D$5:$N$215,10,0)*$H204","v":45.132473094044059},{"$f":"VLOOKUP($A204,'8.Non-elective admissions - CCG'!$D$5:$Q$215,11,0)*$H204","v":44.389718450066674},{"$f":"VLOOKUP($A204,'8.Non-elective admissions - CCG'!$D$5:$Q$215,12,0)*$H204","v":42.688135083863934},{"$f":"VLOOKUP($A204,'8.Non-elective admissions - CCG'!$D$5:$Q$215,13,0)*$H204","v":44.605792528314637},{"$f":"VLOOKUP($A204,'8.Non-elective admissions - CCG'!$D$5:$Q$215,14,0)*$H204","v":44.605792528314637}]
["00C","NHS Darlington CCG","E06000004","Stockton-on-Tees",{"$f":"COUNTIF($D$5:D205,D205)","v":1},"Stockton-on-Tees1","NHS Darlington CCG",4.4045002911290172E-3,2.371753378105025E-3,{"$f":"VLOOKUP($A205,'8.Non-elective admissions - CCG'!$D$5:$N$215,3,0)*$H205","v":14.649367968295111},{"$f":"VLOOKUP($A205,'8.Non-elective admissions - CCG'!$D$5:$N$215,4,0)*$H205","v":14.60532296538382},{"$f":"VLOOKUP($A205,'8.Non-elective admissions - CCG'!$D$5:$N$215,5,0)*$H205","v":15.495032024191882},{"$f":"VLOOKUP($A205,'8.Non-elective admissions - CCG'!$D$5:$N$215,6,0)*$H205","v":14.367479949662854},{"$f":"VLOOKUP($A205,'8.Non-elective admissions - CCG'!$D$5:$N$215,7,0)*$H205","v":14.627345466839467},{"$f":"VLOOKUP($A205,'8.Non-elective admissions - CCG'!$D$5:$N$215,8,0)*$H205","v":14.067973929866081},{"$f":"VLOOKUP($A205,'8.Non-elective admissions - CCG'!$D$5:$N$215,9,0)*$H205","v":14.711030972370917},{"$f":"VLOOKUP($A205,'8.Non-elective admissions - CCG'!$D$5:$N$215,10,0)*$H205","v":14.719839972953176},{"$f":"VLOOKUP($A205,'8.Non-elective admissions - CCG'!$D$5:$Q$215,11,0)*$H205","v":14.47759245694108},{"$f":"VLOOKUP($A205,'8.Non-elective admissions - CCG'!$D$5:$Q$215,12,0)*$H205","v":13.922625420258823},{"$f":"VLOOKUP($A205,'8.Non-elective admissions - CCG'!$D$5:$Q$215,13,0)*$H205","v":14.548064461599143},{"$f":"VLOOKUP($A205,'8.Non-elective admissions - CCG'!$D$5:$Q$215,14,0)*$H205","v":14.548064461599143}]
["09J","NHS Dartford, Gravesham and Swanley CCG","E09000004","Bexley",{"$f":"COUNTIF($D$5:D206,D206)","v":2},"Bexley2","NHS Dartford, Gravesham and Swanley CCG",1.4785484770636435E-2,1.5846886406790078E-2,{"$f":"VLOOKUP($A206,'8.Non-elective admissions - CCG'!$D$5:$N$215,3,0)*$H206","v":96.40136070454956},{"$f":"VLOOKUP($A206,'8.Non-elective admissions - CCG'!$D$5:$N$215,4,0)*$H206","v":96.312647795925741},{"$f":"VLOOKUP($A206,'8.Non-elective admissions - CCG'!$D$5:$N$215,5,0)*$H206","v":100.58565289463967},{"$f":"VLOOKUP($A206,'8.Non-elective admissions - CCG'!$D$5:$N$215,6,0)*$H206","v":97.96862209023702},{"$f":"VLOOKUP($A206,'8.Non-elective admissions - CCG'!$D$5:$N$215,7,0)*$H206","v":97.303275275558377},{"$f":"VLOOKUP($A206,'8.Non-elective admissions - CCG'!$D$5:$N$215,8,0)*$H206","v":97.998193059778288},{"$f":"VLOOKUP($A206,'8.Non-elective admissions - CCG'!$D$5:$N$215,9,0)*$H206","v":97.998193059778288},{"$f":"VLOOKUP($A206,'8.Non-elective admissions - CCG'!$D$5:$N$215,10,0)*$H206","v":95.736013889870918},{"$f":"VLOOKUP($A206,'8.Non-elective admissions - CCG'!$D$5:$Q$215,11,0)*$H206","v":93.104197600697631},{"$f":"VLOOKUP($A206,'8.Non-elective admissions - CCG'!$D$5:$Q$215,12,0)*$H206","v":94.12439604987155},{"$f":"VLOOKUP($A206,'8.Non-elective admissions - CCG'!$D$5:$Q$215,13,0)*$H206","v":94.12439604987155},{"$f":"VLOOKUP($A206,'8.Non-elective admissions - CCG'!$D$5:$Q$215,14,0)*$H206","v":93.08941211592699}]
["09J","NHS Dartford, Gravesham and Swanley CCG","E10000016","Kent",{"$f":"COUNTIF($D$5:D207,D207)","v":5},"Kent5","NHS Dartford, Gravesham and Swanley CCG",0.98374146613558333,0.16325651223568233,{"$f":"VLOOKUP($A207,'8.Non-elective admissions - CCG'!$D$5:$N$215,3,0)*$H207","v":6413.9943592040036},{"$f":"VLOOKUP($A207,'8.Non-elective admissions - CCG'!$D$5:$N$215,4,0)*$H207","v":6408.09191040719},{"$f":"VLOOKUP($A207,'8.Non-elective admissions - CCG'!$D$5:$N$215,5,0)*$H207","v":6692.3931941203737},{"$f":"VLOOKUP($A207,'8.Non-elective admissions - CCG'!$D$5:$N$215,6,0)*$H207","v":6518.2709546143751},{"$f":"VLOOKUP($A207,'8.Non-elective admissions - CCG'!$D$5:$N$215,7,0)*$H207","v":6474.0025886382737},{"$f":"VLOOKUP($A207,'8.Non-elective admissions - CCG'!$D$5:$N$215,8,0)*$H207","v":6520.2384375466463},{"$f":"VLOOKUP($A207,'8.Non-elective admissions - CCG'!$D$5:$N$215,9,0)*$H207","v":6520.2384375466463},{"$f":"VLOOKUP($A207,'8.Non-elective admissions - CCG'!$D$5:$N$215,10,0)*$H207","v":6369.7259932279021},{"$f":"VLOOKUP($A207,'8.Non-elective admissions - CCG'!$D$5:$Q$215,11,0)*$H207","v":6194.6200122557684},{"$f":"VLOOKUP($A207,'8.Non-elective admissions - CCG'!$D$5:$Q$215,12,0)*$H207","v":6262.4981734191233},{"$f":"VLOOKUP($A207,'8.Non-elective admissions - CCG'!$D$5:$Q$215,13,0)*$H207","v":6262.4981734191233},{"$f":"VLOOKUP($A207,'8.Non-elective admissions - CCG'!$D$5:$Q$215,14,0)*$H207","v":6193.6362707896324}]
["09J","NHS Dartford, Gravesham and Swanley CCG","E06000035","Medway",{"$f":"COUNTIF($D$5:D208,D208)","v":1},"Medway1","NHS Dartford, Gravesham and Swanley CCG",1.4730490937801975E-3,1.355557242471235E-3,{"$f":"VLOOKUP($A208,'8.Non-elective admissions - CCG'!$D$5:$N$215,3,0)*$H208","v":9.6042800914468884},{"$f":"VLOOKUP($A208,'8.Non-elective admissions - CCG'!$D$5:$N$215,4,0)*$H208","v":9.5954417968842058},{"$f":"VLOOKUP($A208,'8.Non-elective admissions - CCG'!$D$5:$N$215,5,0)*$H208","v":10.021152984986683},{"$f":"VLOOKUP($A208,'8.Non-elective admissions - CCG'!$D$5:$N$215,6,0)*$H208","v":9.7604232953875893},{"$f":"VLOOKUP($A208,'8.Non-elective admissions - CCG'!$D$5:$N$215,7,0)*$H208","v":9.6941360861674806},{"$f":"VLOOKUP($A208,'8.Non-elective admissions - CCG'!$D$5:$N$215,8,0)*$H208","v":9.7633693935751484},{"$f":"VLOOKUP($A208,'8.Non-elective admissions - CCG'!$D$5:$N$215,9,0)*$H208","v":9.7633693935751484},{"$f":"VLOOKUP($A208,'8.Non-elective admissions - CCG'!$D$5:$N$215,10,0)*$H208","v":9.5379928822267797},{"$f":"VLOOKUP($A208,'8.Non-elective admissions - CCG'!$D$5:$Q$215,11,0)*$H208","v":9.2757901435339036},{"$f":"VLOOKUP($A208,'8.Non-elective admissions - CCG'!$D$5:$Q$215,12,0)*$H208","v":9.3774305310047374},{"$f":"VLOOKUP($A208,'8.Non-elective admissions - CCG'!$D$5:$Q$215,13,0)*$H208","v":9.3774305310047374},{"$f":"VLOOKUP($A208,'8.Non-elective admissions - CCG'!$D$5:$Q$215,14,0)*$H208","v":9.2743170944401232}]
["02X","NHS Doncaster CCG","E08000016","Barnsley",{"$f":"COUNTIF($D$5:D209,D209)","v":2},"Barnsley2","NHS Doncaster CCG",2.3306655880115184E-3,2.9873715656542794E-3,{"$f":"VLOOKUP($A209,'8.Non-elective admissions - CCG'!$D$5:$N$215,3,0)*$H209","v":22.013136478768789},{"$f":"VLOOKUP($A209,'8.Non-elective admissions - CCG'!$D$5:$N$215,4,0)*$H209","v":22.63775485635588},{"$f":"VLOOKUP($A209,'8.Non-elective admissions - CCG'!$D$5:$N$215,5,0)*$H209","v":22.483930927547117},{"$f":"VLOOKUP($A209,'8.Non-elective admissions - CCG'!$D$5:$N$215,6,0)*$H209","v":22.672714840176052},{"$f":"VLOOKUP($A209,'8.Non-elective admissions - CCG'!$D$5:$N$215,7,0)*$H209","v":21.71947261467934},{"$f":"VLOOKUP($A209,'8.Non-elective admissions - CCG'!$D$5:$N$215,8,0)*$H209","v":21.961861835832536},{"$f":"VLOOKUP($A209,'8.Non-elective admissions - CCG'!$D$5:$N$215,9,0)*$H209","v":22.227557712865849},{"$f":"VLOOKUP($A209,'8.Non-elective admissions - CCG'!$D$5:$N$215,10,0)*$H209","v":21.290630146485221},{"$f":"VLOOKUP($A209,'8.Non-elective admissions - CCG'!$D$5:$Q$215,11,0)*$H209","v":21.56797935145859},{"$f":"VLOOKUP($A209,'8.Non-elective admissions - CCG'!$D$5:$Q$215,12,0)*$H209","v":21.805707241435766},{"$f":"VLOOKUP($A209,'8.Non-elective admissions - CCG'!$D$5:$Q$215,13,0)*$H209","v":22.066741787293054},{"$f":"VLOOKUP($A209,'8.Non-elective admissions - CCG'!$D$5:$Q$215,14,0)*$H209","v":21.35355811736153}]
["02X","NHS Doncaster CCG","E08000017","Doncaster",{"$f":"COUNTIF($D$5:D210,D210)","v":3},"Doncaster3","NHS Doncaster CCG",0.96696297580409563,0.97792900138309002,{"$f":"VLOOKUP($A210,'8.Non-elective admissions - CCG'!$D$5:$N$215,3,0)*$H210","v":9132.9653064696831},{"$f":"VLOOKUP($A210,'8.Non-elective admissions - CCG'!$D$5:$N$215,4,0)*$H210","v":9392.1113839851805},{"$f":"VLOOKUP($A210,'8.Non-elective admissions - CCG'!$D$5:$N$215,5,0)*$H210","v":9328.2918275821103},{"$f":"VLOOKUP($A210,'8.Non-elective admissions - CCG'!$D$5:$N$215,6,0)*$H210","v":9406.6158286222417},{"$f":"VLOOKUP($A210,'8.Non-elective admissions - CCG'!$D$5:$N$215,7,0)*$H210","v":9011.1279715183664},{"$f":"VLOOKUP($A210,'8.Non-elective admissions - CCG'!$D$5:$N$215,8,0)*$H210","v":9111.6921210019937},{"$f":"VLOOKUP($A210,'8.Non-elective admissions - CCG'!$D$5:$N$215,9,0)*$H210","v":9221.9259002436593},{"$f":"VLOOKUP($A210,'8.Non-elective admissions - CCG'!$D$5:$N$215,10,0)*$H210","v":8833.2067839704141},{"$f":"VLOOKUP($A210,'8.Non-elective admissions - CCG'!$D$5:$Q$215,11,0)*$H210","v":8948.2753780911007},{"$f":"VLOOKUP($A210,'8.Non-elective admissions - CCG'!$D$5:$Q$215,12,0)*$H210","v":9046.9056016231189},{"$f":"VLOOKUP($A210,'8.Non-elective admissions - CCG'!$D$5:$Q$215,13,0)*$H210","v":9155.2054549131772},{"$f":"VLOOKUP($A210,'8.Non-elective admissions - CCG'!$D$5:$Q$215,14,0)*$H210","v":8859.3147843171246}]
["02X","NHS Doncaster CCG","E06000013","North Lincolnshire",{"$f":"COUNTIF($D$5:D211,D211)","v":2},"North Lincolnshire2","NHS Doncaster CCG",0,9.1397502973348263E-4,{"$f":"VLOOKUP($A211,'8.Non-elective admissions - CCG'!$D$5:$N$215,3,0)*$H211","v":0},{"$f":"VLOOKUP($A211,'8.Non-elective admissions - CCG'!$D$5:$N$215,4,0)*$H211","v":0},{"$f":"VLOOKUP($A211,'8.Non-elective admissions - CCG'!$D$5:$N$215,5,0)*$H211","v":0},{"$f":"VLOOKUP($A211,'8.Non-elective admissions - CCG'!$D$5:$N$215,6,0)*$H211","v":0},{"$f":"VLOOKUP($A211,'8.Non-elective admissions - CCG'!$D$5:$N$215,7,0)*$H211","v":0},{"$f":"VLOOKUP($A211,'8.Non-elective admissions - CCG'!$D$5:$N$215,8,0)*$H211","v":0},{"$f":"VLOOKUP($A211,'8.Non-elective admissions - CCG'!$D$5:$N$215,9,0)*$H211","v":0},{"$f":"VLOOKUP($A211,'8.Non-elective admissions - CCG'!$D$5:$N$215,10,0)*$H211","v":0},{"$f":"VLOOKUP($A211,'8.Non-elective admissions - CCG'!$D$5:$Q$215,11,0)*$H211","v":0},{"$f":"VLOOKUP($A211,'8.Non-elective admissions - CCG'!$D$5:$Q$215,12,0)*$H211","v":0},{"$f":"VLOOKUP($A211,'8.Non-elective admissions - CCG'!$D$5:$Q$215,13,0)*$H211","v":0},{"$f":"VLOOKUP($A211,'8.Non-elective admissions - CCG'!$D$5:$Q$215,14,0)*$H211","v":0}]
["02X","NHS Doncaster CCG","E10000023","North Yorkshire",{"$f":"COUNTIF($D$5:D212,D212)","v":4},"North Yorkshire4","NHS Doncaster CCG",2.0834737832224177E-3,1.0640460638493218E-3,{"$f":"VLOOKUP($A212,'8.Non-elective admissions - CCG'!$D$5:$N$215,3,0)*$H212","v":19.678409882535735},{"$f":"VLOOKUP($A212,'8.Non-elective admissions - CCG'!$D$5:$N$215,4,0)*$H212","v":20.236780856439342},{"$f":"VLOOKUP($A212,'8.Non-elective admissions - CCG'!$D$5:$N$215,5,0)*$H212","v":20.099271586746664},{"$f":"VLOOKUP($A212,'8.Non-elective admissions - CCG'!$D$5:$N$215,6,0)*$H212","v":20.268032963187679},{"$f":"VLOOKUP($A212,'8.Non-elective admissions - CCG'!$D$5:$N$215,7,0)*$H212","v":19.41589218584971},{"$f":"VLOOKUP($A212,'8.Non-elective admissions - CCG'!$D$5:$N$215,8,0)*$H212","v":19.63257345930484},{"$f":"VLOOKUP($A212,'8.Non-elective admissions - CCG'!$D$5:$N$215,9,0)*$H212","v":19.870089470592198},{"$f":"VLOOKUP($A212,'8.Non-elective admissions - CCG'!$D$5:$N$215,10,0)*$H212","v":19.032533009736785},{"$f":"VLOOKUP($A212,'8.Non-elective admissions - CCG'!$D$5:$Q$215,11,0)*$H212","v":19.280466389940251},{"$f":"VLOOKUP($A212,'8.Non-elective admissions - CCG'!$D$5:$Q$215,12,0)*$H212","v":19.492980715828939},{"$f":"VLOOKUP($A212,'8.Non-elective admissions - CCG'!$D$5:$Q$215,13,0)*$H212","v":19.72632977954985},{"$f":"VLOOKUP($A212,'8.Non-elective admissions - CCG'!$D$5:$Q$215,14,0)*$H212","v":19.088786801883792}]
["02X","NHS Doncaster CCG","E10000024","Nottinghamshire",{"$f":"COUNTIF($D$5:D213,D213)","v":2},"Nottinghamshire2","NHS Doncaster CCG",1.7367631998818613E-2,6.609562974718727E-3,{"$f":"VLOOKUP($A213,'8.Non-elective admissions - CCG'!$D$5:$N$215,3,0)*$H213","v":164.0372842288418},{"$f":"VLOOKUP($A213,'8.Non-elective admissions - CCG'!$D$5:$N$215,4,0)*$H213","v":168.69180960452519},{"$f":"VLOOKUP($A213,'8.Non-elective admissions - CCG'!$D$5:$N$215,5,0)*$H213","v":167.54554589260314},{"$f":"VLOOKUP($A213,'8.Non-elective admissions - CCG'!$D$5:$N$215,6,0)*$H213","v":168.95232408450747},{"$f":"VLOOKUP($A213,'8.Non-elective admissions - CCG'!$D$5:$N$215,7,0)*$H213","v":161.84896259699065},{"$f":"VLOOKUP($A213,'8.Non-elective admissions - CCG'!$D$5:$N$215,8,0)*$H213","v":163.65519632486777},{"$f":"VLOOKUP($A213,'8.Non-elective admissions - CCG'!$D$5:$N$215,9,0)*$H213","v":165.63510637273311},{"$f":"VLOOKUP($A213,'8.Non-elective admissions - CCG'!$D$5:$N$215,10,0)*$H213","v":158.65331830920803},{"$f":"VLOOKUP($A213,'8.Non-elective admissions - CCG'!$D$5:$Q$215,11,0)*$H213","v":160.72006651706744},{"$f":"VLOOKUP($A213,'8.Non-elective admissions - CCG'!$D$5:$Q$215,12,0)*$H213","v":162.49156498094695},{"$f":"VLOOKUP($A213,'8.Non-elective admissions - CCG'!$D$5:$Q$215,13,0)*$H213","v":164.43673976481463},{"$f":"VLOOKUP($A213,'8.Non-elective admissions - CCG'!$D$5:$Q$215,14,0)*$H213","v":159.12224437317613}]
["02X","NHS Doncaster CCG","E08000018","Rotherham",{"$f":"COUNTIF($D$5:D214,D214)","v":3},"Rotherham3","NHS Doncaster CCG",1.1255252825851767E-2,1.2993895907997585E-2,{"$f":"VLOOKUP($A214,'8.Non-elective admissions - CCG'!$D$5:$N$215,3,0)*$H214","v":106.30586294016994},{"$f":"VLOOKUP($A214,'8.Non-elective admissions - CCG'!$D$5:$N$215,4,0)*$H214","v":109.32227069749821},{"$f":"VLOOKUP($A214,'8.Non-elective admissions - CCG'!$D$5:$N$215,5,0)*$H214","v":108.579424010992},{"$f":"VLOOKUP($A214,'8.Non-elective admissions - CCG'!$D$5:$N$215,6,0)*$H214","v":109.491099489886},{"$f":"VLOOKUP($A214,'8.Non-elective admissions - CCG'!$D$5:$N$215,7,0)*$H214","v":104.88770108411262},{"$f":"VLOOKUP($A214,'8.Non-elective admissions - CCG'!$D$5:$N$215,8,0)*$H214","v":106.0582473780012},{"$f":"VLOOKUP($A214,'8.Non-elective admissions - CCG'!$D$5:$N$215,9,0)*$H214","v":107.34134620014831},{"$f":"VLOOKUP($A214,'8.Non-elective admissions - CCG'!$D$5:$N$215,10,0)*$H214","v":102.81673456415589},{"$f":"VLOOKUP($A214,'8.Non-elective admissions - CCG'!$D$5:$Q$215,11,0)*$H214","v":104.15610965043226},{"$f":"VLOOKUP($A214,'8.Non-elective admissions - CCG'!$D$5:$Q$215,12,0)*$H214","v":105.30414543866914},{"$f":"VLOOKUP($A214,'8.Non-elective admissions - CCG'!$D$5:$Q$215,13,0)*$H214","v":106.56473375516454},{"$f":"VLOOKUP($A214,'8.Non-elective admissions - CCG'!$D$5:$Q$215,14,0)*$H214","v":103.12062639045389}]
["11J","NHS Dorset CCG","E06000028 & E06000029","Bournemouth & Poole",{"$f":"COUNTIF($D$5:D215,D215)","v":1},"Bournemouth & Poole1","NHS Dorset CCG",0.45502710061907575,1,{"$f":"VLOOKUP($A215,'8.Non-elective admissions - CCG'!$D$5:$N$215,3,0)*$H215","v":8994.9757250378898},{"$f":"VLOOKUP($A215,'8.Non-elective admissions - CCG'!$D$5:$N$215,4,0)*$H215","v":9151.5050476508513},{"$f":"VLOOKUP($A215,'8.Non-elective admissions - CCG'!$D$5:$N$215,5,0)*$H215","v":9464.1086657761571},{"$f":"VLOOKUP($A215,'8.Non-elective admissions - CCG'!$D$5:$N$215,6,0)*$H215","v":9626.5533406971663},{"$f":"VLOOKUP($A215,'8.Non-elective admissions - CCG'!$D$5:$N$215,7,0)*$H215","v":8765.1870392252567},{"$f":"VLOOKUP($A215,'8.Non-elective admissions - CCG'!$D$5:$N$215,8,0)*$H215","v":8907.610521719027},{"$f":"VLOOKUP($A215,'8.Non-elective admissions - CCG'!$D$5:$N$215,9,0)*$H215","v":9228.4046276554745},{"$f":"VLOOKUP($A215,'8.Non-elective admissions - CCG'!$D$5:$N$215,10,0)*$H215","v":9093.7166058722287},{"$f":"VLOOKUP($A215,'8.Non-elective admissions - CCG'!$D$5:$Q$215,11,0)*$H215","v":8546.3190038274806},{"$f":"VLOOKUP($A215,'8.Non-elective admissions - CCG'!$D$5:$Q$215,12,0)*$H215","v":8685.1022695162992},{"$f":"VLOOKUP($A215,'8.Non-elective admissions - CCG'!$D$5:$Q$215,13,0)*$H215","v":8998.6159418428415},{"$f":"VLOOKUP($A215,'8.Non-elective admissions - CCG'!$D$5:$Q$215,14,0)*$H215","v":8867.11310976393}]
["11J","NHS Dorset CCG","E10000008","Devon",{"$f":"COUNTIF($D$5:D216,D216)","v":1},"Devon1","NHS Dorset CCG",3.2212489403786381E-3,3.1889368811739557E-3,{"$f":"VLOOKUP($A216,'8.Non-elective admissions - CCG'!$D$5:$N$215,3,0)*$H216","v":63.67764905340492},{"$f":"VLOOKUP($A216,'8.Non-elective admissions - CCG'!$D$5:$N$215,4,0)*$H216","v":64.785758688895172},{"$f":"VLOOKUP($A216,'8.Non-elective admissions - CCG'!$D$5:$N$215,5,0)*$H216","v":66.998756710935297},{"$f":"VLOOKUP($A216,'8.Non-elective admissions - CCG'!$D$5:$N$215,6,0)*$H216","v":68.14874258265047},{"$f":"VLOOKUP($A216,'8.Non-elective admissions - CCG'!$D$5:$N$215,7,0)*$H216","v":62.050918338513704},{"$f":"VLOOKUP($A216,'8.Non-elective admissions - CCG'!$D$5:$N$215,8,0)*$H216","v":63.059169256852222},{"$f":"VLOOKUP($A216,'8.Non-elective admissions - CCG'!$D$5:$N$215,9,0)*$H216","v":65.330149759819165},{"$f":"VLOOKUP($A216,'8.Non-elective admissions - CCG'!$D$5:$N$215,10,0)*$H216","v":64.376660073467079},{"$f":"VLOOKUP($A216,'8.Non-elective admissions - CCG'!$D$5:$Q$215,11,0)*$H216","v":60.501497598191584},{"$f":"VLOOKUP($A216,'8.Non-elective admissions - CCG'!$D$5:$Q$215,12,0)*$H216","v":61.483978525007068},{"$f":"VLOOKUP($A216,'8.Non-elective admissions - CCG'!$D$5:$Q$215,13,0)*$H216","v":63.703419044927948},{"$f":"VLOOKUP($A216,'8.Non-elective admissions - CCG'!$D$5:$Q$215,14,0)*$H216","v":62.772478101158519}]
["11J","NHS Dorset CCG","E10000009","Dorset",{"$f":"COUNTIF($D$5:D217,D217)","v":1},"Dorset1","NHS Dorset CCG",0.52804592976958054,0.95865521607435589,{"$f":"VLOOKUP($A217,'8.Non-elective admissions - CCG'!$D$5:$N$215,3,0)*$H217","v":10438.411939685067},{"$f":"VLOOKUP($A217,'8.Non-elective admissions - CCG'!$D$5:$N$215,4,0)*$H217","v":10620.059739525805},{"$f":"VLOOKUP($A217,'8.Non-elective admissions - CCG'!$D$5:$N$215,5,0)*$H217","v":10982.827293277505},{"$f":"VLOOKUP($A217,'8.Non-elective admissions - CCG'!$D$5:$N$215,6,0)*$H217","v":11171.339690205246},{"$f":"VLOOKUP($A217,'8.Non-elective admissions - CCG'!$D$5:$N$215,7,0)*$H217","v":10171.74874515143},{"$f":"VLOOKUP($A217,'8.Non-elective admissions - CCG'!$D$5:$N$215,8,0)*$H217","v":10337.027121169309},{"$f":"VLOOKUP($A217,'8.Non-elective admissions - CCG'!$D$5:$N$215,9,0)*$H217","v":10709.299501656862},{"$f":"VLOOKUP($A217,'8.Non-elective admissions - CCG'!$D$5:$N$215,10,0)*$H217","v":10552.997906445067},{"$f":"VLOOKUP($A217,'8.Non-elective admissions - CCG'!$D$5:$Q$215,11,0)*$H217","v":9917.7586529322616},{"$f":"VLOOKUP($A217,'8.Non-elective admissions - CCG'!$D$5:$Q$215,12,0)*$H217","v":10078.812661511984},{"$f":"VLOOKUP($A217,'8.Non-elective admissions - CCG'!$D$5:$Q$215,13,0)*$H217","v":10442.636307123224},{"$f":"VLOOKUP($A217,'8.Non-elective admissions - CCG'!$D$5:$Q$215,14,0)*$H217","v":10290.031033419817}]
["11J","NHS Dorset CCG","E10000014","Hampshire",{"$f":"COUNTIF($D$5:D218,D218)","v":3},"Hampshire3","NHS Dorset CCG",5.3469136119602351E-3,3.0661449138305015E-3,{"$f":"VLOOKUP($A218,'8.Non-elective admissions - CCG'!$D$5:$N$215,3,0)*$H218","v":105.69778828122993},{"$f":"VLOOKUP($A218,'8.Non-elective admissions - CCG'!$D$5:$N$215,4,0)*$H218","v":107.53712656374425},{"$f":"VLOOKUP($A218,'8.Non-elective admissions - CCG'!$D$5:$N$215,5,0)*$H218","v":111.21045621516093},{"$f":"VLOOKUP($A218,'8.Non-elective admissions - CCG'!$D$5:$N$215,6,0)*$H218","v":113.11930437463073},{"$f":"VLOOKUP($A218,'8.Non-elective admissions - CCG'!$D$5:$N$215,7,0)*$H218","v":102.99759690719002},{"$f":"VLOOKUP($A218,'8.Non-elective admissions - CCG'!$D$5:$N$215,8,0)*$H218","v":104.67118086773357},{"$f":"VLOOKUP($A218,'8.Non-elective admissions - CCG'!$D$5:$N$215,9,0)*$H218","v":108.44075496416554},{"$f":"VLOOKUP($A218,'8.Non-elective admissions - CCG'!$D$5:$N$215,10,0)*$H218","v":106.8580685350253},{"$f":"VLOOKUP($A218,'8.Non-elective admissions - CCG'!$D$5:$Q$215,11,0)*$H218","v":100.42573145983714},{"$f":"VLOOKUP($A218,'8.Non-elective admissions - CCG'!$D$5:$Q$215,12,0)*$H218","v":102.05654011148501},{"$f":"VLOOKUP($A218,'8.Non-elective admissions - CCG'!$D$5:$Q$215,13,0)*$H218","v":105.7405635901256},{"$f":"VLOOKUP($A218,'8.Non-elective admissions - CCG'!$D$5:$Q$215,14,0)*$H218","v":104.1953055562691}]
["11J","NHS Dorset CCG","E10000027","Somerset",{"$f":"COUNTIF($D$5:D219,D219)","v":2},"Somerset2","NHS Dorset CCG",5.4548023324513858E-3,7.5904210923271867E-3,{"$f":"VLOOKUP($A219,'8.Non-elective admissions - CCG'!$D$5:$N$215,3,0)*$H219","v":107.83053250789899},{"$f":"VLOOKUP($A219,'8.Non-elective admissions - CCG'!$D$5:$N$215,4,0)*$H219","v":109.70698451026227},{"$f":"VLOOKUP($A219,'8.Non-elective admissions - CCG'!$D$5:$N$215,5,0)*$H219","v":113.45443371265637},{"$f":"VLOOKUP($A219,'8.Non-elective admissions - CCG'!$D$5:$N$215,6,0)*$H219","v":115.40179814534152},{"$f":"VLOOKUP($A219,'8.Non-elective admissions - CCG'!$D$5:$N$215,7,0)*$H219","v":105.07585733001105},{"$f":"VLOOKUP($A219,'8.Non-elective admissions - CCG'!$D$5:$N$215,8,0)*$H219","v":106.78321046006833},{"$f":"VLOOKUP($A219,'8.Non-elective admissions - CCG'!$D$5:$N$215,9,0)*$H219","v":110.62884610444655},{"$f":"VLOOKUP($A219,'8.Non-elective admissions - CCG'!$D$5:$N$215,10,0)*$H219","v":109.01422461404094},{"$f":"VLOOKUP($A219,'8.Non-elective admissions - CCG'!$D$5:$Q$215,11,0)*$H219","v":102.45209740810193},{"$f":"VLOOKUP($A219,'8.Non-elective admissions - CCG'!$D$5:$Q$215,12,0)*$H219","v":104.11581211949959},{"$f":"VLOOKUP($A219,'8.Non-elective admissions - CCG'!$D$5:$Q$215,13,0)*$H219","v":107.87417092655861},{"$f":"VLOOKUP($A219,'8.Non-elective admissions - CCG'!$D$5:$Q$215,14,0)*$H219","v":106.29773305248015}]
["11J","NHS Dorset CCG","E06000054","Wiltshire",{"$f":"COUNTIF($D$5:D220,D220)","v":2},"Wiltshire2","NHS Dorset CCG",2.9040047265534693E-3,4.7269610302726212E-3,{"$f":"VLOOKUP($A220,'8.Non-elective admissions - CCG'!$D$5:$N$215,3,0)*$H220","v":57.406365434508977},{"$f":"VLOOKUP($A220,'8.Non-elective admissions - CCG'!$D$5:$N$215,4,0)*$H220","v":58.405343060443371},{"$f":"VLOOKUP($A220,'8.Non-elective admissions - CCG'!$D$5:$N$215,5,0)*$H220","v":60.400394307585607},{"$f":"VLOOKUP($A220,'8.Non-elective admissions - CCG'!$D$5:$N$215,6,0)*$H220","v":61.437123994965198},{"$f":"VLOOKUP($A220,'8.Non-elective admissions - CCG'!$D$5:$N$215,7,0)*$H220","v":55.939843047599481},{"$f":"VLOOKUP($A220,'8.Non-elective admissions - CCG'!$D$5:$N$215,8,0)*$H220","v":56.848796527010713},{"$f":"VLOOKUP($A220,'8.Non-elective admissions - CCG'!$D$5:$N$215,9,0)*$H220","v":58.896119859230907},{"$f":"VLOOKUP($A220,'8.Non-elective admissions - CCG'!$D$5:$N$215,10,0)*$H220","v":58.036534460171083},{"$f":"VLOOKUP($A220,'8.Non-elective admissions - CCG'!$D$5:$Q$215,11,0)*$H220","v":54.54301677412726},{"$f":"VLOOKUP($A220,'8.Non-elective admissions - CCG'!$D$5:$Q$215,12,0)*$H220","v":55.428738215726071},{"$f":"VLOOKUP($A220,'8.Non-elective admissions - CCG'!$D$5:$Q$215,13,0)*$H220","v":57.429597472321412},{"$f":"VLOOKUP($A220,'8.Non-elective admissions - CCG'!$D$5:$Q$215,14,0)*$H220","v":56.590340106347455}]
["05C","NHS Dudley CCG","E08000025","Birmingham",{"$f":"COUNTIF($D$5:D221,D221)","v":3},"Birmingham3","NHS Dudley CCG",1.8265626195394387E-3,0,{"$f":"VLOOKUP($A221,'8.Non-elective admissions - CCG'!$D$5:$N$215,3,0)*$H221","v":14.864566597811953},{"$f":"VLOOKUP($A221,'8.Non-elective admissions - CCG'!$D$5:$N$215,4,0)*$H221","v":14.84082128375794},{"$f":"VLOOKUP($A221,'8.Non-elective admissions - CCG'!$D$5:$N$215,5,0)*$H221","v":15.16960255527504},{"$f":"VLOOKUP($A221,'8.Non-elective admissions - CCG'!$D$5:$N$215,6,0)*$H221","v":15.816205722592001},{"$f":"VLOOKUP($A221,'8.Non-elective admissions - CCG'!$D$5:$N$215,7,0)*$H221","v":14.596061892739655},{"$f":"VLOOKUP($A221,'8.Non-elective admissions - CCG'!$D$5:$N$215,8,0)*$H221","v":14.758625965878664},{"$f":"VLOOKUP($A221,'8.Non-elective admissions - CCG'!$D$5:$N$215,9,0)*$H221","v":14.758625965878664},{"$f":"VLOOKUP($A221,'8.Non-elective admissions - CCG'!$D$5:$N$215,10,0)*$H221","v":14.438977507459263},{"$f":"VLOOKUP($A221,'8.Non-elective admissions - CCG'!$D$5:$Q$215,11,0)*$H221","v":13.900141534695129},{"$f":"VLOOKUP($A221,'8.Non-elective admissions - CCG'!$D$5:$Q$215,12,0)*$H221","v":14.057225919975521},{"$f":"VLOOKUP($A221,'8.Non-elective admissions - CCG'!$D$5:$Q$215,13,0)*$H221","v":14.057225919975521},{"$f":"VLOOKUP($A221,'8.Non-elective admissions - CCG'!$D$5:$Q$215,14,0)*$H221","v":13.752189962512434}]
["05C","NHS Dudley CCG","E08000027","Dudley",{"$f":"COUNTIF($D$5:D222,D222)","v":2},"Dudley2","NHS Dudley CCG",0.9307468186570782,0.91003983269023381,{"$f":"VLOOKUP($A222,'8.Non-elective admissions - CCG'!$D$5:$N$215,3,0)*$H222","v":7574.4176102313022},{"$f":"VLOOKUP($A222,'8.Non-elective admissions - CCG'!$D$5:$N$215,4,0)*$H222","v":7562.3179015887608},{"$f":"VLOOKUP($A222,'8.Non-elective admissions - CCG'!$D$5:$N$215,5,0)*$H222","v":7729.852328947034},{"$f":"VLOOKUP($A222,'8.Non-elective admissions - CCG'!$D$5:$N$215,6,0)*$H222","v":8059.3367027516406},{"$f":"VLOOKUP($A222,'8.Non-elective admissions - CCG'!$D$5:$N$215,7,0)*$H222","v":7437.5978278887123},{"$f":"VLOOKUP($A222,'8.Non-elective admissions - CCG'!$D$5:$N$215,8,0)*$H222","v":7520.4342947491923},{"$f":"VLOOKUP($A222,'8.Non-elective admissions - CCG'!$D$5:$N$215,9,0)*$H222","v":7520.4342947491923},{"$f":"VLOOKUP($A222,'8.Non-elective admissions - CCG'!$D$5:$N$215,10,0)*$H222","v":7357.5536014842028},{"$f":"VLOOKUP($A222,'8.Non-elective admissions - CCG'!$D$5:$Q$215,11,0)*$H222","v":7082.983289980365},{"$f":"VLOOKUP($A222,'8.Non-elective admissions - CCG'!$D$5:$Q$215,12,0)*$H222","v":7163.0275163848737},{"$f":"VLOOKUP($A222,'8.Non-elective admissions - CCG'!$D$5:$Q$215,13,0)*$H222","v":7163.0275163848737},{"$f":"VLOOKUP($A222,'8.Non-elective admissions - CCG'!$D$5:$Q$215,14,0)*$H222","v":7007.5927976691419}]
["05C","NHS Dudley CCG","E08000028","Sandwell",{"$f":"COUNTIF($D$5:D223,D223)","v":3},"Sandwell3","NHS Dudley CCG",3.0276948971004518E-2,2.8413901212482016E-2,{"$f":"VLOOKUP($A223,'8.Non-elective admissions - CCG'!$D$5:$N$215,3,0)*$H223","v":246.39381072603476},{"$f":"VLOOKUP($A223,'8.Non-elective admissions - CCG'!$D$5:$N$215,4,0)*$H223","v":246.00021038941171},{"$f":"VLOOKUP($A223,'8.Non-elective admissions - CCG'!$D$5:$N$215,5,0)*$H223","v":251.45006120419251},{"$f":"VLOOKUP($A223,'8.Non-elective admissions - CCG'!$D$5:$N$215,6,0)*$H223","v":262.16810113992813},{"$f":"VLOOKUP($A223,'8.Non-elective admissions - CCG'!$D$5:$N$215,7,0)*$H223","v":241.9430992272971},{"$f":"VLOOKUP($A223,'8.Non-elective admissions - CCG'!$D$5:$N$215,8,0)*$H223","v":244.6377476857165},{"$f":"VLOOKUP($A223,'8.Non-elective admissions - CCG'!$D$5:$N$215,9,0)*$H223","v":244.6377476857165},{"$f":"VLOOKUP($A223,'8.Non-elective admissions - CCG'!$D$5:$N$215,10,0)*$H223","v":239.33928161579072},{"$f":"VLOOKUP($A223,'8.Non-elective admissions - CCG'!$D$5:$Q$215,11,0)*$H223","v":230.40758166934438},{"$f":"VLOOKUP($A223,'8.Non-elective admissions - CCG'!$D$5:$Q$215,12,0)*$H223","v":233.01139928085078},{"$f":"VLOOKUP($A223,'8.Non-elective admissions - CCG'!$D$5:$Q$215,13,0)*$H223","v":233.01139928085078},{"$f":"VLOOKUP($A223,'8.Non-elective admissions - CCG'!$D$5:$Q$215,14,0)*$H223","v":227.955148802693}]
["05C","NHS Dudley CCG","E10000028","Staffordshire",{"$f":"COUNTIF($D$5:D224,D224)","v":3},"Staffordshire3","NHS Dudley CCG",1.4574248336011019E-2,5.2571544214370476E-3,{"$f":"VLOOKUP($A224,'8.Non-elective admissions - CCG'!$D$5:$N$215,3,0)*$H224","v":118.60523295845768},{"$f":"VLOOKUP($A224,'8.Non-elective admissions - CCG'!$D$5:$N$215,4,0)*$H224","v":118.41576773008953},{"$f":"VLOOKUP($A224,'8.Non-elective admissions - CCG'!$D$5:$N$215,5,0)*$H224","v":121.03913243057151},{"$f":"VLOOKUP($A224,'8.Non-elective admissions - CCG'!$D$5:$N$215,6,0)*$H224","v":126.19841634151942},{"$f":"VLOOKUP($A224,'8.Non-elective admissions - CCG'!$D$5:$N$215,7,0)*$H224","v":116.46281845306406},{"$f":"VLOOKUP($A224,'8.Non-elective admissions - CCG'!$D$5:$N$215,8,0)*$H224","v":117.75992655496903},{"$f":"VLOOKUP($A224,'8.Non-elective admissions - CCG'!$D$5:$N$215,9,0)*$H224","v":117.75992655496903},{"$f":"VLOOKUP($A224,'8.Non-elective admissions - CCG'!$D$5:$N$215,10,0)*$H224","v":115.2094330961671},{"$f":"VLOOKUP($A224,'8.Non-elective admissions - CCG'!$D$5:$Q$215,11,0)*$H224","v":110.91002983704385},{"$f":"VLOOKUP($A224,'8.Non-elective admissions - CCG'!$D$5:$Q$215,12,0)*$H224","v":112.16341519394081},{"$f":"VLOOKUP($A224,'8.Non-elective admissions - CCG'!$D$5:$Q$215,13,0)*$H224","v":112.16341519394081},{"$f":"VLOOKUP($A224,'8.Non-elective admissions - CCG'!$D$5:$Q$215,14,0)*$H224","v":109.72951572182696}]
["05C","NHS Dudley CCG","E08000031","Wolverhampton",{"$f":"COUNTIF($D$5:D225,D225)","v":1},"Wolverhampton1","NHS Dudley CCG",1.4574248336011019E-2,1.7189391603816856E-2,{"$f":"VLOOKUP($A225,'8.Non-elective admissions - CCG'!$D$5:$N$215,3,0)*$H225","v":118.60523295845768},{"$f":"VLOOKUP($A225,'8.Non-elective admissions - CCG'!$D$5:$N$215,4,0)*$H225","v":118.41576773008953},{"$f":"VLOOKUP($A225,'8.Non-elective admissions - CCG'!$D$5:$N$215,5,0)*$H225","v":121.03913243057151},{"$f":"VLOOKUP($A225,'8.Non-elective admissions - CCG'!$D$5:$N$215,6,0)*$H225","v":126.19841634151942},{"$f":"VLOOKUP($A225,'8.Non-elective admissions - CCG'!$D$5:$N$215,7,0)*$H225","v":116.46281845306406},{"$f":"VLOOKUP($A225,'8.Non-elective admissions - CCG'!$D$5:$N$215,8,0)*$H225","v":117.75992655496903},{"$f":"VLOOKUP($A225,'8.Non-elective admissions - CCG'!$D$5:$N$215,9,0)*$H225","v":117.75992655496903},{"$f":"VLOOKUP($A225,'8.Non-elective admissions - CCG'!$D$5:$N$215,10,0)*$H225","v":115.2094330961671},{"$f":"VLOOKUP($A225,'8.Non-elective admissions - CCG'!$D$5:$Q$215,11,0)*$H225","v":110.91002983704385},{"$f":"VLOOKUP($A225,'8.Non-elective admissions - CCG'!$D$5:$Q$215,12,0)*$H225","v":112.16341519394081},{"$f":"VLOOKUP($A225,'8.Non-elective admissions - CCG'!$D$5:$Q$215,13,0)*$H225","v":112.16341519394081},{"$f":"VLOOKUP($A225,'8.Non-elective admissions - CCG'!$D$5:$Q$215,14,0)*$H225","v":109.72951572182696}]
["05C","NHS Dudley CCG","E10000034","Worcestershire",{"$f":"COUNTIF($D$5:D226,D226)","v":3},"Worcestershire3","NHS Dudley CCG",8.0011730803560051E-3,4.256921313099106E-3,{"$f":"VLOOKUP($A226,'8.Non-elective admissions - CCG'!$D$5:$N$215,3,0)*$H226","v":65.113546527937174},{"$f":"VLOOKUP($A226,'8.Non-elective admissions - CCG'!$D$5:$N$215,4,0)*$H226","v":65.009531277892549},{"$f":"VLOOKUP($A226,'8.Non-elective admissions - CCG'!$D$5:$N$215,5,0)*$H226","v":66.449742432356629},{"$f":"VLOOKUP($A226,'8.Non-elective admissions - CCG'!$D$5:$N$215,6,0)*$H226","v":69.28215770280265},{"$f":"VLOOKUP($A226,'8.Non-elective admissions - CCG'!$D$5:$N$215,7,0)*$H226","v":63.937374085124837},{"$f":"VLOOKUP($A226,'8.Non-elective admissions - CCG'!$D$5:$N$215,8,0)*$H226","v":64.649478489276518},{"$f":"VLOOKUP($A226,'8.Non-elective admissions - CCG'!$D$5:$N$215,9,0)*$H226","v":64.649478489276518},{"$f":"VLOOKUP($A226,'8.Non-elective admissions - CCG'!$D$5:$N$215,10,0)*$H226","v":63.249273200214219},{"$f":"VLOOKUP($A226,'8.Non-elective admissions - CCG'!$D$5:$Q$215,11,0)*$H226","v":60.8889271415092},{"$f":"VLOOKUP($A226,'8.Non-elective admissions - CCG'!$D$5:$Q$215,12,0)*$H226","v":61.577028026419818},{"$f":"VLOOKUP($A226,'8.Non-elective admissions - CCG'!$D$5:$Q$215,13,0)*$H226","v":61.577028026419818},{"$f":"VLOOKUP($A226,'8.Non-elective admissions - CCG'!$D$5:$Q$215,14,0)*$H226","v":60.240832122000363}]
["00D","NHS Durham Dales, Easington and Sedgefield CCG","E06000047","County Durham",{"$f":"COUNTIF($D$5:D227,D227)","v":1},"County Durham1","NHS Durham Dales, Easington and Sedgefield CCG",0.97533437855537353,0.52996377508132697,{"$f":"VLOOKUP($A227,'8.Non-elective admissions - CCG'!$D$5:$N$215,3,0)*$H227","v":8666.8212878430495},{"$f":"VLOOKUP($A227,'8.Non-elective admissions - CCG'!$D$5:$N$215,4,0)*$H227","v":8194.7594486222479},{"$f":"VLOOKUP($A227,'8.Non-elective admissions - CCG'!$D$5:$N$215,5,0)*$H227","v":8466.877740239197},{"$f":"VLOOKUP($A227,'8.Non-elective admissions - CCG'!$D$5:$N$215,6,0)*$H227","v":8261.082186364014},{"$f":"VLOOKUP($A227,'8.Non-elective admissions - CCG'!$D$5:$N$215,7,0)*$H227","v":8417.1356869328738},{"$f":"VLOOKUP($A227,'8.Non-elective admissions - CCG'!$D$5:$N$215,8,0)*$H227","v":8358.6156242195502},{"$f":"VLOOKUP($A227,'8.Non-elective admissions - CCG'!$D$5:$N$215,9,0)*$H227","v":8511.7431216527439},{"$f":"VLOOKUP($A227,'8.Non-elective admissions - CCG'!$D$5:$N$215,10,0)*$H227","v":8576.1151906373998},{"$f":"VLOOKUP($A227,'8.Non-elective admissions - CCG'!$D$5:$Q$215,11,0)*$H227","v":8417.1356869328738},{"$f":"VLOOKUP($A227,'8.Non-elective admissions - CCG'!$D$5:$Q$215,12,0)*$H227","v":8358.6156242195502},{"$f":"VLOOKUP($A227,'8.Non-elective admissions - CCG'!$D$5:$Q$215,13,0)*$H227","v":8511.7431216527439},{"$f":"VLOOKUP($A227,'8.Non-elective admissions - CCG'!$D$5:$Q$215,14,0)*$H227","v":8576.1151906373998}]
["00D","NHS Durham Dales, Easington and Sedgefield CCG","E06000005","Darlington",{"$f":"COUNTIF($D$5:D228,D228)","v":2},"Darlington2","NHS Durham Dales, Easington and Sedgefield CCG",1.1380664317229512E-2,3.0280097826588526E-2,{"$f":"VLOOKUP($A228,'8.Non-elective admissions - CCG'!$D$5:$N$215,3,0)*$H228","v":101.12858312290145},{"$f":"VLOOKUP($A228,'8.Non-elective admissions - CCG'!$D$5:$N$215,4,0)*$H228","v":95.620341593362355},{"$f":"VLOOKUP($A228,'8.Non-elective admissions - CCG'!$D$5:$N$215,5,0)*$H228","v":98.795546937869389},{"$f":"VLOOKUP($A228,'8.Non-elective admissions - CCG'!$D$5:$N$215,6,0)*$H228","v":96.394226766933969},{"$f":"VLOOKUP($A228,'8.Non-elective admissions - CCG'!$D$5:$N$215,7,0)*$H228","v":98.215133057690693},{"$f":"VLOOKUP($A228,'8.Non-elective admissions - CCG'!$D$5:$N$215,8,0)*$H228","v":97.532293198656916},{"$f":"VLOOKUP($A228,'8.Non-elective admissions - CCG'!$D$5:$N$215,9,0)*$H228","v":99.319057496461951},{"$f":"VLOOKUP($A228,'8.Non-elective admissions - CCG'!$D$5:$N$215,10,0)*$H228","v":100.07018134139911},{"$f":"VLOOKUP($A228,'8.Non-elective admissions - CCG'!$D$5:$Q$215,11,0)*$H228","v":98.215133057690693},{"$f":"VLOOKUP($A228,'8.Non-elective admissions - CCG'!$D$5:$Q$215,12,0)*$H228","v":97.532293198656916},{"$f":"VLOOKUP($A228,'8.Non-elective admissions - CCG'!$D$5:$Q$215,13,0)*$H228","v":99.319057496461951},{"$f":"VLOOKUP($A228,'8.Non-elective admissions - CCG'!$D$5:$Q$215,14,0)*$H228","v":100.07018134139911}]
["00D","NHS Durham Dales, Easington and Sedgefield CCG","E06000001","Hartlepool",{"$f":"COUNTIF($D$5:D229,D229)","v":1},"Hartlepool1","NHS Durham Dales, Easington and Sedgefield CCG",1.1273135943613505E-3,3.5114256388093573E-3,{"$f":"VLOOKUP($A229,'8.Non-elective admissions - CCG'!$D$5:$N$215,3,0)*$H229","v":10.01730859949496},{"$f":"VLOOKUP($A229,'8.Non-elective admissions - CCG'!$D$5:$N$215,4,0)*$H229","v":9.4716888198240667},{"$f":"VLOOKUP($A229,'8.Non-elective admissions - CCG'!$D$5:$N$215,5,0)*$H229","v":9.7862093126508842},{"$f":"VLOOKUP($A229,'8.Non-elective admissions - CCG'!$D$5:$N$215,6,0)*$H229","v":9.5483461442406394},{"$f":"VLOOKUP($A229,'8.Non-elective admissions - CCG'!$D$5:$N$215,7,0)*$H229","v":9.7287163193384547},{"$f":"VLOOKUP($A229,'8.Non-elective admissions - CCG'!$D$5:$N$215,8,0)*$H229","v":9.6610775036767738},{"$f":"VLOOKUP($A229,'8.Non-elective admissions - CCG'!$D$5:$N$215,9,0)*$H229","v":9.8380657379915064},{"$f":"VLOOKUP($A229,'8.Non-elective admissions - CCG'!$D$5:$N$215,10,0)*$H229","v":9.9124684352193544},{"$f":"VLOOKUP($A229,'8.Non-elective admissions - CCG'!$D$5:$Q$215,11,0)*$H229","v":9.7287163193384547},{"$f":"VLOOKUP($A229,'8.Non-elective admissions - CCG'!$D$5:$Q$215,12,0)*$H229","v":9.6610775036767738},{"$f":"VLOOKUP($A229,'8.Non-elective admissions - CCG'!$D$5:$Q$215,13,0)*$H229","v":9.8380657379915064},{"$f":"VLOOKUP($A229,'8.Non-elective admissions - CCG'!$D$5:$Q$215,14,0)*$H229","v":9.9124684352193544}]
["00D","NHS Durham Dales, Easington and Sedgefield CCG","E10000023","North Yorkshire",{"$f":"COUNTIF($D$5:D230,D230)","v":5},"North Yorkshire5","NHS Durham Dales, Easington and Sedgefield CCG",2.3344063046313508E-3,1.1033944545001441E-3,{"$f":"VLOOKUP($A230,'8.Non-elective admissions - CCG'!$D$5:$N$215,3,0)*$H230","v":20.743534422954184},{"$f":"VLOOKUP($A230,'8.Non-elective admissions - CCG'!$D$5:$N$215,4,0)*$H230","v":19.61368177151261},{"$f":"VLOOKUP($A230,'8.Non-elective admissions - CCG'!$D$5:$N$215,5,0)*$H230","v":20.264981130504754},{"$f":"VLOOKUP($A230,'8.Non-elective admissions - CCG'!$D$5:$N$215,6,0)*$H230","v":19.77242140022754},{"$f":"VLOOKUP($A230,'8.Non-elective admissions - CCG'!$D$5:$N$215,7,0)*$H230","v":20.145926408968556},{"$f":"VLOOKUP($A230,'8.Non-elective admissions - CCG'!$D$5:$N$215,8,0)*$H230","v":20.005862030690675},{"$f":"VLOOKUP($A230,'8.Non-elective admissions - CCG'!$D$5:$N$215,9,0)*$H230","v":20.372363820517798},{"$f":"VLOOKUP($A230,'8.Non-elective admissions - CCG'!$D$5:$N$215,10,0)*$H230","v":20.526434636623467},{"$f":"VLOOKUP($A230,'8.Non-elective admissions - CCG'!$D$5:$Q$215,11,0)*$H230","v":20.145926408968556},{"$f":"VLOOKUP($A230,'8.Non-elective admissions - CCG'!$D$5:$Q$215,12,0)*$H230","v":20.005862030690675},{"$f":"VLOOKUP($A230,'8.Non-elective admissions - CCG'!$D$5:$Q$215,13,0)*$H230","v":20.372363820517798},{"$f":"VLOOKUP($A230,'8.Non-elective admissions - CCG'!$D$5:$Q$215,14,0)*$H230","v":20.526434636623467}]
["00D","NHS Durham Dales, Easington and Sedgefield CCG","E06000004","Stockton-on-Tees",{"$f":"COUNTIF($D$5:D231,D231)","v":2},"Stockton-on-Tees2","NHS Durham Dales, Easington and Sedgefield CCG",3.3299109248827586E-3,4.854761712112631E-3,{"$f":"VLOOKUP($A231,'8.Non-elective admissions - CCG'!$D$5:$N$215,3,0)*$H231","v":29.589588478508194},{"$f":"VLOOKUP($A231,'8.Non-elective admissions - CCG'!$D$5:$N$215,4,0)*$H231","v":27.977911590864938},{"$f":"VLOOKUP($A231,'8.Non-elective admissions - CCG'!$D$5:$N$215,5,0)*$H231","v":28.906956738907226},{"$f":"VLOOKUP($A231,'8.Non-elective admissions - CCG'!$D$5:$N$215,6,0)*$H231","v":28.204345533756968},{"$f":"VLOOKUP($A231,'8.Non-elective admissions - CCG'!$D$5:$N$215,7,0)*$H231","v":28.737131281738208},{"$f":"VLOOKUP($A231,'8.Non-elective admissions - CCG'!$D$5:$N$215,8,0)*$H231","v":28.537336626245242},{"$f":"VLOOKUP($A231,'8.Non-elective admissions - CCG'!$D$5:$N$215,9,0)*$H231","v":29.060132641451833},{"$f":"VLOOKUP($A231,'8.Non-elective admissions - CCG'!$D$5:$N$215,10,0)*$H231","v":29.279906762494097},{"$f":"VLOOKUP($A231,'8.Non-elective admissions - CCG'!$D$5:$Q$215,11,0)*$H231","v":28.737131281738208},{"$f":"VLOOKUP($A231,'8.Non-elective admissions - CCG'!$D$5:$Q$215,12,0)*$H231","v":28.537336626245242},{"$f":"VLOOKUP($A231,'8.Non-elective admissions - CCG'!$D$5:$Q$215,13,0)*$H231","v":29.060132641451833},{"$f":"VLOOKUP($A231,'8.Non-elective admissions - CCG'!$D$5:$Q$215,14,0)*$H231","v":29.279906762494097}]
["00D","NHS Durham Dales, Easington and Sedgefield CCG","E08000024","Sunderland",{"$f":"COUNTIF($D$5:D232,D232)","v":1},"Sunderland1","NHS Durham Dales, Easington and Sedgefield CCG",6.4933263035213797E-3,6.4589809853396307E-3,{"$f":"VLOOKUP($A232,'8.Non-elective admissions - CCG'!$D$5:$N$215,3,0)*$H232","v":57.699697533090983},{"$f":"VLOOKUP($A232,'8.Non-elective admissions - CCG'!$D$5:$N$215,4,0)*$H232","v":54.556927602186633},{"$f":"VLOOKUP($A232,'8.Non-elective admissions - CCG'!$D$5:$N$215,5,0)*$H232","v":56.3685656408691},{"$f":"VLOOKUP($A232,'8.Non-elective admissions - CCG'!$D$5:$N$215,6,0)*$H232","v":54.998473790826083},{"$f":"VLOOKUP($A232,'8.Non-elective admissions - CCG'!$D$5:$N$215,7,0)*$H232","v":56.037405999389506},{"$f":"VLOOKUP($A232,'8.Non-elective admissions - CCG'!$D$5:$N$215,8,0)*$H232","v":55.647806421178224},{"$f":"VLOOKUP($A232,'8.Non-elective admissions - CCG'!$D$5:$N$215,9,0)*$H232","v":56.66725865083108},{"$f":"VLOOKUP($A232,'8.Non-elective admissions - CCG'!$D$5:$N$215,10,0)*$H232","v":57.09581818686349},{"$f":"VLOOKUP($A232,'8.Non-elective admissions - CCG'!$D$5:$Q$215,11,0)*$H232","v":56.037405999389506},{"$f":"VLOOKUP($A232,'8.Non-elective admissions - CCG'!$D$5:$Q$215,12,0)*$H232","v":55.647806421178224},{"$f":"VLOOKUP($A232,'8.Non-elective admissions - CCG'!$D$5:$Q$215,13,0)*$H232","v":56.66725865083108},{"$f":"VLOOKUP($A232,'8.Non-elective admissions - CCG'!$D$5:$Q$215,14,0)*$H232","v":57.09581818686349}]
["07W","NHS Ealing CCG","E09000005","Brent",{"$f":"COUNTIF($D$5:D233,D233)","v":5},"Brent5","NHS Ealing CCG",5.5698569031111282E-3,6.2983156113336821E-3,{"$f":"VLOOKUP($A233,'8.Non-elective admissions - CCG'!$D$5:$N$215,3,0)*$H233","v":51.950055335317494},{"$f":"VLOOKUP($A233,'8.Non-elective admissions - CCG'!$D$5:$N$215,4,0)*$H233","v":53.698990402894388},{"$f":"VLOOKUP($A233,'8.Non-elective admissions - CCG'!$D$5:$N$215,5,0)*$H233","v":53.453916699157496},{"$f":"VLOOKUP($A233,'8.Non-elective admissions - CCG'!$D$5:$N$215,6,0)*$H233","v":52.016893618154825},{"$f":"VLOOKUP($A233,'8.Non-elective admissions - CCG'!$D$5:$N$215,7,0)*$H233","v":54.774917789340748},{"$f":"VLOOKUP($A233,'8.Non-elective admissions - CCG'!$D$5:$N$215,8,0)*$H233","v":54.888147151381439},{"$f":"VLOOKUP($A233,'8.Non-elective admissions - CCG'!$D$5:$N$215,9,0)*$H233","v":54.963684117967141},{"$f":"VLOOKUP($A233,'8.Non-elective admissions - CCG'!$D$5:$N$215,10,0)*$H233","v":53.586235538634213},{"$f":"VLOOKUP($A233,'8.Non-elective admissions - CCG'!$D$5:$Q$215,11,0)*$H233","v":55.130665090018567},{"$f":"VLOOKUP($A233,'8.Non-elective admissions - CCG'!$D$5:$Q$215,12,0)*$H233","v":55.261895912812356},{"$f":"VLOOKUP($A233,'8.Non-elective admissions - CCG'!$D$5:$Q$215,13,0)*$H233","v":55.334625252554261},{"$f":"VLOOKUP($A233,'8.Non-elective admissions - CCG'!$D$5:$Q$215,14,0)*$H233","v":53.959664964406194}]
["07W","NHS Ealing CCG","E09000009","Ealing",{"$f":"COUNTIF($D$5:D234,D234)","v":3},"Ealing3","NHS Ealing CCG",0.86564294311238754,0.90792391296065345,{"$f":"VLOOKUP($A234,'8.Non-elective admissions - CCG'!$D$5:$N$215,3,0)*$H234","v":8073.8517304092384},{"$f":"VLOOKUP($A234,'8.Non-elective admissions - CCG'!$D$5:$N$215,4,0)*$H234","v":8345.6636145465291},{"$f":"VLOOKUP($A234,'8.Non-elective admissions - CCG'!$D$5:$N$215,5,0)*$H234","v":8307.5753250495836},{"$f":"VLOOKUP($A234,'8.Non-elective admissions - CCG'!$D$5:$N$215,6,0)*$H234","v":8084.2394457265873},{"$f":"VLOOKUP($A234,'8.Non-elective admissions - CCG'!$D$5:$N$215,7,0)*$H234","v":8512.8795710028626},{"$f":"VLOOKUP($A234,'8.Non-elective admissions - CCG'!$D$5:$N$215,8,0)*$H234","v":8530.4771861496538},{"$f":"VLOOKUP($A234,'8.Non-elective admissions - CCG'!$D$5:$N$215,9,0)*$H234","v":8542.2168130748087},{"$f":"VLOOKUP($A234,'8.Non-elective admissions - CCG'!$D$5:$N$215,10,0)*$H234","v":8328.1397437817523},{"$f":"VLOOKUP($A234,'8.Non-elective admissions - CCG'!$D$5:$Q$215,11,0)*$H234","v":8568.168269746815},{"$f":"VLOOKUP($A234,'8.Non-elective admissions - CCG'!$D$5:$Q$215,12,0)*$H234","v":8588.5635936566323},{"$f":"VLOOKUP($A234,'8.Non-elective admissions - CCG'!$D$5:$Q$215,13,0)*$H234","v":8599.8668714247979},{"$f":"VLOOKUP($A234,'8.Non-elective admissions - CCG'!$D$5:$Q$215,14,0)*$H234","v":8386.1765215290343}]
["07W","NHS Ealing CCG","E09000013","Hammersmith and Fulham",{"$f":"COUNTIF($D$5:D235,D235)","v":4},"Hammersmith and Fulham4","NHS Ealing CCG",6.1776978086245599E-3,1.2230143396154051E-2,{"$f":"VLOOKUP($A235,'8.Non-elective admissions - CCG'!$D$5:$N$215,3,0)*$H235","v":57.619387461041271},{"$f":"VLOOKUP($A235,'8.Non-elective admissions - CCG'!$D$5:$N$215,4,0)*$H235","v":59.559184572949384},{"$f":"VLOOKUP($A235,'8.Non-elective admissions - CCG'!$D$5:$N$215,5,0)*$H235","v":59.2873658693699},{"$f":"VLOOKUP($A235,'8.Non-elective admissions - CCG'!$D$5:$N$215,6,0)*$H235","v":57.693519834744762},{"$f":"VLOOKUP($A235,'8.Non-elective admissions - CCG'!$D$5:$N$215,7,0)*$H235","v":60.752528382873152},{"$f":"VLOOKUP($A235,'8.Non-elective admissions - CCG'!$D$5:$N$215,8,0)*$H235","v":60.878114514423501},{"$f":"VLOOKUP($A235,'8.Non-elective admissions - CCG'!$D$5:$N$215,9,0)*$H235","v":60.961894863014862},{"$f":"VLOOKUP($A235,'8.Non-elective admissions - CCG'!$D$5:$N$215,10,0)*$H235","v":59.434124721328644},{"$f":"VLOOKUP($A235,'8.Non-elective admissions - CCG'!$D$5:$Q$215,11,0)*$H235","v":61.147098541146683},{"$f":"VLOOKUP($A235,'8.Non-elective admissions - CCG'!$D$5:$Q$215,12,0)*$H235","v":61.292650640688834},{"$f":"VLOOKUP($A235,'8.Non-elective admissions - CCG'!$D$5:$Q$215,13,0)*$H235","v":61.37331696489823},{"$f":"VLOOKUP($A235,'8.Non-elective admissions - CCG'!$D$5:$Q$215,14,0)*$H235","v":59.848306662695741}]
["07W","NHS Ealing CCG","E09000015","Harrow",{"$f":"COUNTIF($D$5:D236,D236)","v":3},"Harrow3","NHS Ealing CCG",1.2788875784926029E-2,1.9675343787606138E-2,{"$f":"VLOOKUP($A236,'8.Non-elective admissions - CCG'!$D$5:$N$215,3,0)*$H236","v":119.28184444600507},{"$f":"VLOOKUP($A236,'8.Non-elective admissions - CCG'!$D$5:$N$215,4,0)*$H236","v":123.29755144247184},{"$f":"VLOOKUP($A236,'8.Non-elective admissions - CCG'!$D$5:$N$215,5,0)*$H236","v":122.73484090793509},{"$f":"VLOOKUP($A236,'8.Non-elective admissions - CCG'!$D$5:$N$215,6,0)*$H236","v":119.43531095542419},{"$f":"VLOOKUP($A236,'8.Non-elective admissions - CCG'!$D$5:$N$215,7,0)*$H236","v":125.76797428065585},{"$f":"VLOOKUP($A236,'8.Non-elective admissions - CCG'!$D$5:$N$215,8,0)*$H236","v":126.02795874193276},{"$f":"VLOOKUP($A236,'8.Non-elective admissions - CCG'!$D$5:$N$215,9,0)*$H236","v":126.20139818564542},{"$f":"VLOOKUP($A236,'8.Non-elective admissions - CCG'!$D$5:$N$215,10,0)*$H236","v":123.03865646935968},{"$f":"VLOOKUP($A236,'8.Non-elective admissions - CCG'!$D$5:$Q$215,11,0)*$H236","v":126.58480101756001},{"$f":"VLOOKUP($A236,'8.Non-elective admissions - CCG'!$D$5:$Q$215,12,0)*$H236","v":126.88611839807045},{"$f":"VLOOKUP($A236,'8.Non-elective admissions - CCG'!$D$5:$Q$215,13,0)*$H236","v":127.05311128640828},{"$f":"VLOOKUP($A236,'8.Non-elective admissions - CCG'!$D$5:$Q$215,14,0)*$H236","v":123.89608290305613}]
["07W","NHS Ealing CCG","E09000017","Hillingdon",{"$f":"COUNTIF($D$5:D237,D237)","v":2},"Hillingdon2","NHS Ealing CCG",5.1213623385649616E-2,6.8454529269911135E-2,{"$f":"VLOOKUP($A237,'8.Non-elective admissions - CCG'!$D$5:$N$215,3,0)*$H237","v":477.66946531795395},{"$f":"VLOOKUP($A237,'8.Non-elective admissions - CCG'!$D$5:$N$215,4,0)*$H237","v":493.75054306104795},{"$f":"VLOOKUP($A237,'8.Non-elective admissions - CCG'!$D$5:$N$215,5,0)*$H237","v":491.49714363207937},{"$f":"VLOOKUP($A237,'8.Non-elective admissions - CCG'!$D$5:$N$215,6,0)*$H237","v":478.28402879858174},{"$f":"VLOOKUP($A237,'8.Non-elective admissions - CCG'!$D$5:$N$215,7,0)*$H237","v":503.6434614821643},{"$f":"VLOOKUP($A237,'8.Non-elective admissions - CCG'!$D$5:$N$215,8,0)*$H237","v":504.68458085104976},{"$f":"VLOOKUP($A237,'8.Non-elective admissions - CCG'!$D$5:$N$215,9,0)*$H237","v":505.37912683772561},{"$f":"VLOOKUP($A237,'8.Non-elective admissions - CCG'!$D$5:$N$215,10,0)*$H237","v":492.71378659610269},{"$f":"VLOOKUP($A237,'8.Non-elective admissions - CCG'!$D$5:$Q$215,11,0)*$H237","v":506.91448057552714},{"$f":"VLOOKUP($A237,'8.Non-elective admissions - CCG'!$D$5:$Q$215,12,0)*$H237","v":508.12111946267629},{"$f":"VLOOKUP($A237,'8.Non-elective admissions - CCG'!$D$5:$Q$215,13,0)*$H237","v":508.7898499308771},{"$f":"VLOOKUP($A237,'8.Non-elective admissions - CCG'!$D$5:$Q$215,14,0)*$H237","v":496.1473889857661}]
["07W","NHS Ealing CCG","E09000018","Hounslow",{"$f":"COUNTIF($D$5:D238,D238)","v":1},"Hounslow1","NHS Ealing CCG",5.8607003005301042E-2,8.1246579895323828E-2,{"$f":"VLOOKUP($A238,'8.Non-elective admissions - CCG'!$D$5:$N$215,3,0)*$H238","v":546.62751703044285},{"$f":"VLOOKUP($A238,'8.Non-elective admissions - CCG'!$D$5:$N$215,4,0)*$H238","v":565.03011597410739},{"$f":"VLOOKUP($A238,'8.Non-elective admissions - CCG'!$D$5:$N$215,5,0)*$H238","v":562.45140784187413},{"$f":"VLOOKUP($A238,'8.Non-elective admissions - CCG'!$D$5:$N$215,6,0)*$H238","v":547.33080106650641},{"$f":"VLOOKUP($A238,'8.Non-elective admissions - CCG'!$D$5:$N$215,7,0)*$H238","v":576.35121105210226},{"$f":"VLOOKUP($A238,'8.Non-elective admissions - CCG'!$D$5:$N$215,8,0)*$H238","v":577.54263009155738},{"$f":"VLOOKUP($A238,'8.Non-elective admissions - CCG'!$D$5:$N$215,9,0)*$H238","v":578.33744319083598},{"$f":"VLOOKUP($A238,'8.Non-elective admissions - CCG'!$D$5:$N$215,10,0)*$H238","v":563.84368968282024},{"$f":"VLOOKUP($A238,'8.Non-elective admissions - CCG'!$D$5:$Q$215,11,0)*$H238","v":580.09444601893006},{"$f":"VLOOKUP($A238,'8.Non-elective admissions - CCG'!$D$5:$Q$215,12,0)*$H238","v":581.47527955911812},{"$f":"VLOOKUP($A238,'8.Non-elective admissions - CCG'!$D$5:$Q$215,13,0)*$H238","v":582.24055032046329},{"$f":"VLOOKUP($A238,'8.Non-elective admissions - CCG'!$D$5:$Q$215,14,0)*$H238","v":567.77297904504098}]
["06K","NHS East and North Hertfordshire CCG","E10000003","Cambridgeshire",{"$f":"COUNTIF($D$5:D239,D239)","v":3},"Cambridgeshire3","NHS East and North Hertfordshire CCG",8.5989722123078101E-3,7.3833510863032352E-3,{"$f":"VLOOKUP($A239,'8.Non-elective admissions - CCG'!$D$5:$N$215,3,0)*$H239","v":98.870982497115207},{"$f":"VLOOKUP($A239,'8.Non-elective admissions - CCG'!$D$5:$N$215,4,0)*$H239","v":103.95297507458912},{"$f":"VLOOKUP($A239,'8.Non-elective admissions - CCG'!$D$5:$N$215,5,0)*$H239","v":108.79419643011842},{"$f":"VLOOKUP($A239,'8.Non-elective admissions - CCG'!$D$5:$N$215,6,0)*$H239","v":110.53118881700459},{"$f":"VLOOKUP($A239,'8.Non-elective admissions - CCG'!$D$5:$N$215,7,0)*$H239","v":103.35104701972757},{"$f":"VLOOKUP($A239,'8.Non-elective admissions - CCG'!$D$5:$N$215,8,0)*$H239","v":104.43451751847836},{"$f":"VLOOKUP($A239,'8.Non-elective admissions - CCG'!$D$5:$N$215,9,0)*$H239","v":104.49471032396451},{"$f":"VLOOKUP($A239,'8.Non-elective admissions - CCG'!$D$5:$N$215,10,0)*$H239","v":102.1815867988537},{"$f":"VLOOKUP($A239,'8.Non-elective admissions - CCG'!$D$5:$Q$215,11,0)*$H239","v":102.25037857655217},{"$f":"VLOOKUP($A239,'8.Non-elective admissions - CCG'!$D$5:$Q$215,12,0)*$H239","v":103.31665113087834},{"$f":"VLOOKUP($A239,'8.Non-elective admissions - CCG'!$D$5:$Q$215,13,0)*$H239","v":103.37684393636449},{"$f":"VLOOKUP($A239,'8.Non-elective admissions - CCG'!$D$5:$Q$215,14,0)*$H239","v":102.08699810451832}]
["06K","NHS East and North Hertfordshire CCG","E06000056","Central Bedfordshire",{"$f":"COUNTIF($D$5:D240,D240)","v":3},"Central Bedfordshire3","NHS East and North Hertfordshire CCG",2.3476944081557696E-3,4.998247846695808E-3,{"$f":"VLOOKUP($A240,'8.Non-elective admissions - CCG'!$D$5:$N$215,3,0)*$H240","v":26.99379030497504},{"$f":"VLOOKUP($A240,'8.Non-elective admissions - CCG'!$D$5:$N$215,4,0)*$H240","v":28.381277700195099},{"$f":"VLOOKUP($A240,'8.Non-elective admissions - CCG'!$D$5:$N$215,5,0)*$H240","v":29.703029651986796},{"$f":"VLOOKUP($A240,'8.Non-elective admissions - CCG'!$D$5:$N$215,6,0)*$H240","v":30.177263922434264},{"$f":"VLOOKUP($A240,'8.Non-elective admissions - CCG'!$D$5:$N$215,7,0)*$H240","v":28.216939091624194},{"$f":"VLOOKUP($A240,'8.Non-elective admissions - CCG'!$D$5:$N$215,8,0)*$H240","v":28.512748587051821},{"$f":"VLOOKUP($A240,'8.Non-elective admissions - CCG'!$D$5:$N$215,9,0)*$H240","v":28.529182447908912},{"$f":"VLOOKUP($A240,'8.Non-elective admissions - CCG'!$D$5:$N$215,10,0)*$H240","v":27.89765265211501},{"$f":"VLOOKUP($A240,'8.Non-elective admissions - CCG'!$D$5:$Q$215,11,0)*$H240","v":27.916434207380256},{"$f":"VLOOKUP($A240,'8.Non-elective admissions - CCG'!$D$5:$Q$215,12,0)*$H240","v":28.207548313991573},{"$f":"VLOOKUP($A240,'8.Non-elective admissions - CCG'!$D$5:$Q$215,13,0)*$H240","v":28.223982174848661},{"$f":"VLOOKUP($A240,'8.Non-elective admissions - CCG'!$D$5:$Q$215,14,0)*$H240","v":27.871828013625297}]
["06K","NHS East and North Hertfordshire CCG","E09000010","Enfield",{"$f":"COUNTIF($D$5:D241,D241)","v":3},"Enfield3","NHS East and North Hertfordshire CCG",3.2382589290355225E-3,5.7173272642176056E-3,{"$f":"VLOOKUP($A241,'8.Non-elective admissions - CCG'!$D$5:$N$215,3,0)*$H241","v":37.233501166050438},{"$f":"VLOOKUP($A241,'8.Non-elective admissions - CCG'!$D$5:$N$215,4,0)*$H241","v":39.14731219311043},{"$f":"VLOOKUP($A241,'8.Non-elective admissions - CCG'!$D$5:$N$215,5,0)*$H241","v":40.970451970157434},{"$f":"VLOOKUP($A241,'8.Non-elective admissions - CCG'!$D$5:$N$215,6,0)*$H241","v":41.624580273822609},{"$f":"VLOOKUP($A241,'8.Non-elective admissions - CCG'!$D$5:$N$215,7,0)*$H241","v":38.920634068077945},{"$f":"VLOOKUP($A241,'8.Non-elective admissions - CCG'!$D$5:$N$215,8,0)*$H241","v":39.328654693136421},{"$f":"VLOOKUP($A241,'8.Non-elective admissions - CCG'!$D$5:$N$215,9,0)*$H241","v":39.351322505639672},{"$f":"VLOOKUP($A241,'8.Non-elective admissions - CCG'!$D$5:$N$215,10,0)*$H241","v":38.480230853729111},{"$f":"VLOOKUP($A241,'8.Non-elective admissions - CCG'!$D$5:$Q$215,11,0)*$H241","v":38.5061369251614},{"$f":"VLOOKUP($A241,'8.Non-elective admissions - CCG'!$D$5:$Q$215,12,0)*$H241","v":38.907681032361801},{"$f":"VLOOKUP($A241,'8.Non-elective admissions - CCG'!$D$5:$Q$215,13,0)*$H241","v":38.930348844865051},{"$f":"VLOOKUP($A241,'8.Non-elective admissions - CCG'!$D$5:$Q$215,14,0)*$H241","v":38.444610005509723}]
["06K","NHS East and North Hertfordshire CCG","E10000012","Essex",{"$f":"COUNTIF($D$5:D242,D242)","v":4},"Essex4","NHS East and North Hertfordshire CCG",1.9483264663993818E-2,7.6374814581374999E-3,{"$f":"VLOOKUP($A242,'8.Non-elective admissions - CCG'!$D$5:$N$215,3,0)*$H242","v":224.01857710660093},{"$f":"VLOOKUP($A242,'8.Non-elective admissions - CCG'!$D$5:$N$215,4,0)*$H242","v":235.53318652302127},{"$f":"VLOOKUP($A242,'8.Non-elective admissions - CCG'!$D$5:$N$215,5,0)*$H242","v":246.50226452884979},{"$f":"VLOOKUP($A242,'8.Non-elective admissions - CCG'!$D$5:$N$215,6,0)*$H242","v":250.43788399097653},{"$f":"VLOOKUP($A242,'8.Non-elective admissions - CCG'!$D$5:$N$215,7,0)*$H242","v":234.16935799654169},{"$f":"VLOOKUP($A242,'8.Non-elective admissions - CCG'!$D$5:$N$215,8,0)*$H242","v":236.62424934420491},{"$f":"VLOOKUP($A242,'8.Non-elective admissions - CCG'!$D$5:$N$215,9,0)*$H242","v":236.76063219685287},{"$f":"VLOOKUP($A242,'8.Non-elective admissions - CCG'!$D$5:$N$215,10,0)*$H242","v":231.51963400223855},{"$f":"VLOOKUP($A242,'8.Non-elective admissions - CCG'!$D$5:$Q$215,11,0)*$H242","v":231.67550011955049},{"$f":"VLOOKUP($A242,'8.Non-elective admissions - CCG'!$D$5:$Q$215,12,0)*$H242","v":234.09142493788573},{"$f":"VLOOKUP($A242,'8.Non-elective admissions - CCG'!$D$5:$Q$215,13,0)*$H242","v":234.22780779053369},{"$f":"VLOOKUP($A242,'8.Non-elective admissions - CCG'!$D$5:$Q$215,14,0)*$H242","v":231.30531809093461}]
["06K","NHS East and North Hertfordshire CCG","E10000015","Hertfordshire",{"$f":"COUNTIF($D$5:D243,D243)","v":6},"Hertfordshire6","NHS East and North Hertfordshire CCG",0.96633180978650712,0.46807689241188882,{"$f":"VLOOKUP($A243,'8.Non-elective admissions - CCG'!$D$5:$N$215,3,0)*$H243","v":11110.883148925259},{"$f":"VLOOKUP($A243,'8.Non-elective admissions - CCG'!$D$5:$N$215,4,0)*$H243","v":11681.985248509085},{"$f":"VLOOKUP($A243,'8.Non-elective admissions - CCG'!$D$5:$N$215,5,0)*$H243","v":12226.030057418888},{"$f":"VLOOKUP($A243,'8.Non-elective admissions - CCG'!$D$5:$N$215,6,0)*$H243","v":12421.229082995762},{"$f":"VLOOKUP($A243,'8.Non-elective admissions - CCG'!$D$5:$N$215,7,0)*$H243","v":11614.34202182403},{"$f":"VLOOKUP($A243,'8.Non-elective admissions - CCG'!$D$5:$N$215,8,0)*$H243","v":11736.099829857128},{"$f":"VLOOKUP($A243,'8.Non-elective admissions - CCG'!$D$5:$N$215,9,0)*$H243","v":11742.864152525635},{"$f":"VLOOKUP($A243,'8.Non-elective admissions - CCG'!$D$5:$N$215,10,0)*$H243","v":11482.920895693063},{"$f":"VLOOKUP($A243,'8.Non-elective admissions - CCG'!$D$5:$Q$215,11,0)*$H243","v":11490.651550171357},{"$f":"VLOOKUP($A243,'8.Non-elective admissions - CCG'!$D$5:$Q$215,12,0)*$H243","v":11610.476694584882},{"$f":"VLOOKUP($A243,'8.Non-elective admissions - CCG'!$D$5:$Q$215,13,0)*$H243","v":11617.241017253389},{"$f":"VLOOKUP($A243,'8.Non-elective admissions - CCG'!$D$5:$Q$215,14,0)*$H243","v":11472.291245785413}]
["01A","NHS East Lancashire CCG","E06000008","Blackburn with Darwen",{"$f":"COUNTIF($D$5:D244,D244)","v":4},"Blackburn with Darwen4","NHS East Lancashire CCG",7.0132257076371612E-3,1.654128667127203E-2,{"$f":"VLOOKUP($A244,'8.Non-elective admissions - CCG'!$D$5:$N$215,3,0)*$H244","v":75.918168285172271},{"$f":"VLOOKUP($A244,'8.Non-elective admissions - CCG'!$D$5:$N$215,4,0)*$H244","v":70.980857386995709},{"$f":"VLOOKUP($A244,'8.Non-elective admissions - CCG'!$D$5:$N$215,5,0)*$H244","v":76.29688247338467},{"$f":"VLOOKUP($A244,'8.Non-elective admissions - CCG'!$D$5:$N$215,6,0)*$H244","v":74.501496692229566},{"$f":"VLOOKUP($A244,'8.Non-elective admissions - CCG'!$D$5:$N$215,7,0)*$H244","v":72.420921178401954},{"$f":"VLOOKUP($A244,'8.Non-elective admissions - CCG'!$D$5:$N$215,8,0)*$H244","v":72.006921167446805},{"$f":"VLOOKUP($A244,'8.Non-elective admissions - CCG'!$D$5:$N$215,9,0)*$H244","v":73.039304312405605},{"$f":"VLOOKUP($A244,'8.Non-elective admissions - CCG'!$D$5:$N$215,10,0)*$H244","v":73.114398973000419},{"$f":"VLOOKUP($A244,'8.Non-elective admissions - CCG'!$D$5:$Q$215,11,0)*$H244","v":72.636885281036882},{"$f":"VLOOKUP($A244,'8.Non-elective admissions - CCG'!$D$5:$Q$215,12,0)*$H244","v":72.228201840095778},{"$f":"VLOOKUP($A244,'8.Non-elective admissions - CCG'!$D$5:$Q$215,13,0)*$H244","v":73.247494100753997},{"$f":"VLOOKUP($A244,'8.Non-elective admissions - CCG'!$D$5:$Q$215,14,0)*$H244","v":73.346410301074286}]
["01A","NHS East Lancashire CCG","E08000002","Bury",{"$f":"COUNTIF($D$5:D245,D245)","v":3},"Bury3","NHS East Lancashire CCG",1.0130214911031456E-3,1.9065053806942311E-3,{"$f":"VLOOKUP($A245,'8.Non-elective admissions - CCG'!$D$5:$N$215,3,0)*$H245","v":10.965957641191551},{"$f":"VLOOKUP($A245,'8.Non-elective admissions - CCG'!$D$5:$N$215,4,0)*$H245","v":10.252790511454936},{"$f":"VLOOKUP($A245,'8.Non-elective admissions - CCG'!$D$5:$N$215,5,0)*$H245","v":11.02066080171112},{"$f":"VLOOKUP($A245,'8.Non-elective admissions - CCG'!$D$5:$N$215,6,0)*$H245","v":10.761327299988716},{"$f":"VLOOKUP($A245,'8.Non-elective admissions - CCG'!$D$5:$N$215,7,0)*$H245","v":10.460799725769172},{"$f":"VLOOKUP($A245,'8.Non-elective admissions - CCG'!$D$5:$N$215,8,0)*$H245","v":10.400999724186761},{"$f":"VLOOKUP($A245,'8.Non-elective admissions - CCG'!$D$5:$N$215,9,0)*$H245","v":10.550121734014144},{"$f":"VLOOKUP($A245,'8.Non-elective admissions - CCG'!$D$5:$N$215,10,0)*$H245","v":10.560968740544507},{"$f":"VLOOKUP($A245,'8.Non-elective admissions - CCG'!$D$5:$Q$215,11,0)*$H245","v":10.491994540594218},{"$f":"VLOOKUP($A245,'8.Non-elective admissions - CCG'!$D$5:$Q$215,12,0)*$H245","v":10.432962488013835},{"$f":"VLOOKUP($A245,'8.Non-elective admissions - CCG'!$D$5:$Q$215,13,0)*$H245","v":10.580193592331133},{"$f":"VLOOKUP($A245,'8.Non-elective admissions - CCG'!$D$5:$Q$215,14,0)*$H245","v":10.594481487932953}]
["01A","NHS East Lancashire CCG","E10000017","Lancashire",{"$f":"COUNTIF($D$5:D246,D246)","v":8},"Lancashire8","NHS East Lancashire CCG",0.98906098013188093,0.30014147500947924,{"$f":"VLOOKUP($A246,'8.Non-elective admissions - CCG'!$D$5:$N$215,3,0)*$H246","v":10706.585109927611},{"$f":"VLOOKUP($A246,'8.Non-elective admissions - CCG'!$D$5:$N$215,4,0)*$H246","v":10010.286179914767},{"$f":"VLOOKUP($A246,'8.Non-elective admissions - CCG'!$D$5:$N$215,5,0)*$H246","v":10759.994402854732},{"$f":"VLOOKUP($A246,'8.Non-elective admissions - CCG'!$D$5:$N$215,6,0)*$H246","v":10506.794791940971},{"$f":"VLOOKUP($A246,'8.Non-elective admissions - CCG'!$D$5:$N$215,7,0)*$H246","v":10213.375452149321},{"$f":"VLOOKUP($A246,'8.Non-elective admissions - CCG'!$D$5:$N$215,8,0)*$H246","v":10154.989871293994},{"$f":"VLOOKUP($A246,'8.Non-elective admissions - CCG'!$D$5:$N$215,9,0)*$H246","v":10300.584769817317},{"$f":"VLOOKUP($A246,'8.Non-elective admissions - CCG'!$D$5:$N$215,10,0)*$H246","v":10311.175217309928},{"$f":"VLOOKUP($A246,'8.Non-elective admissions - CCG'!$D$5:$Q$215,11,0)*$H246","v":10243.83243099613},{"$f":"VLOOKUP($A246,'8.Non-elective admissions - CCG'!$D$5:$Q$215,12,0)*$H246","v":10186.196635213782},{"$f":"VLOOKUP($A246,'8.Non-elective admissions - CCG'!$D$5:$Q$215,13,0)*$H246","v":10329.945352907216},{"$f":"VLOOKUP($A246,'8.Non-elective admissions - CCG'!$D$5:$Q$215,14,0)*$H246","v":10343.895303774072}]
["01A","NHS East Lancashire CCG","E10000023","North Yorkshire",{"$f":"COUNTIF($D$5:D247,D247)","v":6},"North Yorkshire6","NHS East Lancashire CCG",1.2011156671700425E-3,0,{"$f":"VLOOKUP($A247,'8.Non-elective admissions - CCG'!$D$5:$N$215,3,0)*$H247","v":13.002077097115711},{"$f":"VLOOKUP($A247,'8.Non-elective admissions - CCG'!$D$5:$N$215,4,0)*$H247","v":12.156491667428},{"$f":"VLOOKUP($A247,'8.Non-elective admissions - CCG'!$D$5:$N$215,5,0)*$H247","v":13.066937343142893},{"$f":"VLOOKUP($A247,'8.Non-elective admissions - CCG'!$D$5:$N$215,6,0)*$H247","v":12.759451732347362},{"$f":"VLOOKUP($A247,'8.Non-elective admissions - CCG'!$D$5:$N$215,7,0)*$H247","v":12.403123282278036},{"$f":"VLOOKUP($A247,'8.Non-elective admissions - CCG'!$D$5:$N$215,8,0)*$H247","v":12.332219832125947},{"$f":"VLOOKUP($A247,'8.Non-elective admissions - CCG'!$D$5:$N$215,9,0)*$H247","v":12.509030278791306},{"$f":"VLOOKUP($A247,'8.Non-elective admissions - CCG'!$D$5:$N$215,10,0)*$H247","v":12.521891318364439},{"$f":"VLOOKUP($A247,'8.Non-elective admissions - CCG'!$D$5:$Q$215,11,0)*$H247","v":12.440110237786776},{"$f":"VLOOKUP($A247,'8.Non-elective admissions - CCG'!$D$5:$Q$215,12,0)*$H247","v":12.370117326637091},{"$f":"VLOOKUP($A247,'8.Non-elective admissions - CCG'!$D$5:$Q$215,13,0)*$H247","v":12.544685771278557},{"$f":"VLOOKUP($A247,'8.Non-elective admissions - CCG'!$D$5:$Q$215,14,0)*$H247","v":12.561626591793182}]
["01A","NHS East Lancashire CCG","E08000005","Rochdale",{"$f":"COUNTIF($D$5:D248,D248)","v":2},"Rochdale2","NHS East Lancashire CCG",1.7116570022087632E-3,2.8342476785420314E-3,{"$f":"VLOOKUP($A248,'8.Non-elective admissions - CCG'!$D$5:$N$215,3,0)*$H248","v":18.528687048909863},{"$f":"VLOOKUP($A248,'8.Non-elective admissions - CCG'!$D$5:$N$215,4,0)*$H248","v":17.323680519354891},{"$f":"VLOOKUP($A248,'8.Non-elective admissions - CCG'!$D$5:$N$215,5,0)*$H248","v":18.621116527029134},{"$f":"VLOOKUP($A248,'8.Non-elective admissions - CCG'!$D$5:$N$215,6,0)*$H248","v":18.182932334463693},{"$f":"VLOOKUP($A248,'8.Non-elective admissions - CCG'!$D$5:$N$215,7,0)*$H248","v":17.675144364230672},{"$f":"VLOOKUP($A248,'8.Non-elective admissions - CCG'!$D$5:$N$215,8,0)*$H248","v":17.574102982246597},{"$f":"VLOOKUP($A248,'8.Non-elective admissions - CCG'!$D$5:$N$215,9,0)*$H248","v":17.826067757472174},{"$f":"VLOOKUP($A248,'8.Non-elective admissions - CCG'!$D$5:$N$215,10,0)*$H248","v":17.844395458161408},{"$f":"VLOOKUP($A248,'8.Non-elective admissions - CCG'!$D$5:$Q$215,11,0)*$H248","v":17.727852844452297},{"$f":"VLOOKUP($A248,'8.Non-elective admissions - CCG'!$D$5:$Q$215,12,0)*$H248","v":17.628109031471652},{"$f":"VLOOKUP($A248,'8.Non-elective admissions - CCG'!$D$5:$Q$215,13,0)*$H248","v":17.876878828421571},{"$f":"VLOOKUP($A248,'8.Non-elective admissions - CCG'!$D$5:$Q$215,14,0)*$H248","v":17.901020445128093}]
["03W","NHS East Leicestershire and Rutland CCG","E06000016","Leicester",{"$f":"COUNTIF($D$5:D249,D249)","v":1},"Leicester1","NHS East Leicestershire and Rutland CCG",2.6591709058345049E-2,2.3249934072626134E-2,{"$f":"VLOOKUP($A249,'8.Non-elective admissions - CCG'!$D$5:$N$215,3,0)*$H249","v":175.79778858471911},{"$f":"VLOOKUP($A249,'8.Non-elective admissions - CCG'!$D$5:$N$215,4,0)*$H249","v":173.1918010970013},{"$f":"VLOOKUP($A249,'8.Non-elective admissions - CCG'!$D$5:$N$215,5,0)*$H249","v":183.13710028482237},{"$f":"VLOOKUP($A249,'8.Non-elective admissions - CCG'!$D$5:$N$215,6,0)*$H249","v":186.886531262049},{"$f":"VLOOKUP($A249,'8.Non-elective admissions - CCG'!$D$5:$N$215,7,0)*$H249","v":160.00231340406216},{"$f":"VLOOKUP($A249,'8.Non-elective admissions - CCG'!$D$5:$N$215,8,0)*$H249","v":169.7614706284748},{"$f":"VLOOKUP($A249,'8.Non-elective admissions - CCG'!$D$5:$N$215,9,0)*$H249","v":168.21915150309079},{"$f":"VLOOKUP($A249,'8.Non-elective admissions - CCG'!$D$5:$N$215,10,0)*$H249","v":165.55998059725627},{"$f":"VLOOKUP($A249,'8.Non-elective admissions - CCG'!$D$5:$Q$215,11,0)*$H249","v":160.69369783957913},{"$f":"VLOOKUP($A249,'8.Non-elective admissions - CCG'!$D$5:$Q$215,12,0)*$H249","v":170.42626335493341},{"$f":"VLOOKUP($A249,'8.Non-elective admissions - CCG'!$D$5:$Q$215,13,0)*$H249","v":168.8839442295494},{"$f":"VLOOKUP($A249,'8.Non-elective admissions - CCG'!$D$5:$Q$215,14,0)*$H249","v":168.56484372084927}]
["03W","NHS East Leicestershire and Rutland CCG","E10000018","Leicestershire",{"$f":"COUNTIF($D$5:D250,D250)","v":2},"Leicestershire2","NHS East Leicestershire and Rutland CCG",0.85320767154637389,0.40287627185834463,{"$f":"VLOOKUP($A250,'8.Non-elective admissions - CCG'!$D$5:$N$215,3,0)*$H250","v":5640.5559165930781},{"$f":"VLOOKUP($A250,'8.Non-elective admissions - CCG'!$D$5:$N$215,4,0)*$H250","v":5556.9415647815331},{"$f":"VLOOKUP($A250,'8.Non-elective admissions - CCG'!$D$5:$N$215,5,0)*$H250","v":5876.0412339398772},{"$f":"VLOOKUP($A250,'8.Non-elective admissions - CCG'!$D$5:$N$215,6,0)*$H250","v":5996.3435156279156},{"$f":"VLOOKUP($A250,'8.Non-elective admissions - CCG'!$D$5:$N$215,7,0)*$H250","v":5133.7505596945321},{"$f":"VLOOKUP($A250,'8.Non-elective admissions - CCG'!$D$5:$N$215,8,0)*$H250","v":5446.8777751520511},{"$f":"VLOOKUP($A250,'8.Non-elective admissions - CCG'!$D$5:$N$215,9,0)*$H250","v":5397.391730202361},{"$f":"VLOOKUP($A250,'8.Non-elective admissions - CCG'!$D$5:$N$215,10,0)*$H250","v":5312.070963047724},{"$f":"VLOOKUP($A250,'8.Non-elective admissions - CCG'!$D$5:$Q$215,11,0)*$H250","v":5155.9339591547377},{"$f":"VLOOKUP($A250,'8.Non-elective admissions - CCG'!$D$5:$Q$215,12,0)*$H250","v":5468.2079669407103},{"$f":"VLOOKUP($A250,'8.Non-elective admissions - CCG'!$D$5:$Q$215,13,0)*$H250","v":5418.7219219910203},{"$f":"VLOOKUP($A250,'8.Non-elective admissions - CCG'!$D$5:$Q$215,14,0)*$H250","v":5408.4834299324639}]
["03W","NHS East Leicestershire and Rutland CCG","E10000019","Lincolnshire",{"$f":"COUNTIF($D$5:D251,D251)","v":2},"Lincolnshire2","NHS East Leicestershire and Rutland CCG",1.8967425778286342E-3,0,{"$f":"VLOOKUP($A251,'8.Non-elective admissions - CCG'!$D$5:$N$215,3,0)*$H251","v":12.539365182025101},{"$f":"VLOOKUP($A251,'8.Non-elective admissions - CCG'!$D$5:$N$215,4,0)*$H251","v":12.353484409397895},{"$f":"VLOOKUP($A251,'8.Non-elective admissions - CCG'!$D$5:$N$215,5,0)*$H251","v":13.062866133505803},{"$f":"VLOOKUP($A251,'8.Non-elective admissions - CCG'!$D$5:$N$215,6,0)*$H251","v":13.330306836979641},{"$f":"VLOOKUP($A251,'8.Non-elective admissions - CCG'!$D$5:$N$215,7,0)*$H251","v":11.412700090794893},{"$f":"VLOOKUP($A251,'8.Non-elective admissions - CCG'!$D$5:$N$215,8,0)*$H251","v":12.108804616858},{"$f":"VLOOKUP($A251,'8.Non-elective admissions - CCG'!$D$5:$N$215,9,0)*$H251","v":11.99879354734394},{"$f":"VLOOKUP($A251,'8.Non-elective admissions - CCG'!$D$5:$N$215,10,0)*$H251","v":11.809119289561076},{"$f":"VLOOKUP($A251,'8.Non-elective admissions - CCG'!$D$5:$Q$215,11,0)*$H251","v":11.462015397818437},{"$f":"VLOOKUP($A251,'8.Non-elective admissions - CCG'!$D$5:$Q$215,12,0)*$H251","v":12.156223181303716},{"$f":"VLOOKUP($A251,'8.Non-elective admissions - CCG'!$D$5:$Q$215,13,0)*$H251","v":12.046212111789655},{"$f":"VLOOKUP($A251,'8.Non-elective admissions - CCG'!$D$5:$Q$215,14,0)*$H251","v":12.023451200855712}]
["03W","NHS East Leicestershire and Rutland CCG","E10000021","Northamptonshire",{"$f":"COUNTIF($D$5:D252,D252)","v":6},"Northamptonshire6","NHS East Leicestershire and Rutland CCG",1.863782788771284E-2,7.9723985294821824E-3,{"$f":"VLOOKUP($A252,'8.Non-elective admissions - CCG'!$D$5:$N$215,3,0)*$H252","v":123.21468016566959},{"$f":"VLOOKUP($A252,'8.Non-elective admissions - CCG'!$D$5:$N$215,4,0)*$H252","v":121.38817303267372},{"$f":"VLOOKUP($A252,'8.Non-elective admissions - CCG'!$D$5:$N$215,5,0)*$H252","v":128.35872066267834},{"$f":"VLOOKUP($A252,'8.Non-elective admissions - CCG'!$D$5:$N$215,6,0)*$H252","v":130.98665439484583},{"$f":"VLOOKUP($A252,'8.Non-elective admissions - CCG'!$D$5:$N$215,7,0)*$H252","v":112.14381040036815},{"$f":"VLOOKUP($A252,'8.Non-elective admissions - CCG'!$D$5:$N$215,8,0)*$H252","v":118.98389323515877},{"$f":"VLOOKUP($A252,'8.Non-elective admissions - CCG'!$D$5:$N$215,9,0)*$H252","v":117.90289921767142},{"$f":"VLOOKUP($A252,'8.Non-elective admissions - CCG'!$D$5:$N$215,10,0)*$H252","v":116.03911642890014},{"$f":"VLOOKUP($A252,'8.Non-elective admissions - CCG'!$D$5:$Q$215,11,0)*$H252","v":112.62839392544869},{"$f":"VLOOKUP($A252,'8.Non-elective admissions - CCG'!$D$5:$Q$215,12,0)*$H252","v":119.4498389323516},{"$f":"VLOOKUP($A252,'8.Non-elective admissions - CCG'!$D$5:$Q$215,13,0)*$H252","v":118.36884491486424},{"$f":"VLOOKUP($A252,'8.Non-elective admissions - CCG'!$D$5:$Q$215,14,0)*$H252","v":118.14519098021169}]
["03W","NHS East Leicestershire and Rutland CCG","E10000024","Nottinghamshire",{"$f":"COUNTIF($D$5:D253,D253)","v":3},"Nottinghamshire3","NHS East Leicestershire and Rutland CCG",2.5435007027275781E-3,9.9937569562290546E-4,{"$f":"VLOOKUP($A253,'8.Non-elective admissions - CCG'!$D$5:$N$215,3,0)*$H253","v":16.815083145732018},{"$f":"VLOOKUP($A253,'8.Non-elective admissions - CCG'!$D$5:$N$215,4,0)*$H253","v":16.565820076864718},{"$f":"VLOOKUP($A253,'8.Non-elective admissions - CCG'!$D$5:$N$215,5,0)*$H253","v":17.51708933968483},{"$f":"VLOOKUP($A253,'8.Non-elective admissions - CCG'!$D$5:$N$215,6,0)*$H253","v":17.875722938769417},{"$f":"VLOOKUP($A253,'8.Non-elective admissions - CCG'!$D$5:$N$215,7,0)*$H253","v":15.304243728311837},{"$f":"VLOOKUP($A253,'8.Non-elective admissions - CCG'!$D$5:$N$215,8,0)*$H253","v":16.23770848621286},{"$f":"VLOOKUP($A253,'8.Non-elective admissions - CCG'!$D$5:$N$215,9,0)*$H253","v":16.090185445454658},{"$f":"VLOOKUP($A253,'8.Non-elective admissions - CCG'!$D$5:$N$215,10,0)*$H253","v":15.835835375181901},{"$f":"VLOOKUP($A253,'8.Non-elective admissions - CCG'!$D$5:$Q$215,11,0)*$H253","v":15.370374746582755},{"$f":"VLOOKUP($A253,'8.Non-elective admissions - CCG'!$D$5:$Q$215,12,0)*$H253","v":16.301296003781047},{"$f":"VLOOKUP($A253,'8.Non-elective admissions - CCG'!$D$5:$Q$215,13,0)*$H253","v":16.153772963022849},{"$f":"VLOOKUP($A253,'8.Non-elective admissions - CCG'!$D$5:$Q$215,14,0)*$H253","v":16.123250954590119}]
["03W","NHS East Leicestershire and Rutland CCG","E06000017","Rutland",{"$f":"COUNTIF($D$5:D254,D254)","v":3},"Rutland3","NHS East Leicestershire and Rutland CCG",9.712254822701212E-2,0.85390524617950203,{"$f":"VLOOKUP($A254,'8.Non-elective admissions - CCG'!$D$5:$N$215,3,0)*$H254","v":642.07716632877714},{"$f":"VLOOKUP($A254,'8.Non-elective admissions - CCG'!$D$5:$N$215,4,0)*$H254","v":632.55915660252992},{"$f":"VLOOKUP($A254,'8.Non-elective admissions - CCG'!$D$5:$N$215,5,0)*$H254","v":668.88298963943248},{"$f":"VLOOKUP($A254,'8.Non-elective admissions - CCG'!$D$5:$N$215,6,0)*$H254","v":682.57726893944118},{"$f":"VLOOKUP($A254,'8.Non-elective admissions - CCG'!$D$5:$N$215,7,0)*$H254","v":584.3863726819319},{"$f":"VLOOKUP($A254,'8.Non-elective admissions - CCG'!$D$5:$N$215,8,0)*$H254","v":620.03034788124535},{"$f":"VLOOKUP($A254,'8.Non-elective admissions - CCG'!$D$5:$N$215,9,0)*$H254","v":614.3972400840787},{"$f":"VLOOKUP($A254,'8.Non-elective admissions - CCG'!$D$5:$N$215,10,0)*$H254","v":604.68498526137751},{"$f":"VLOOKUP($A254,'8.Non-elective admissions - CCG'!$D$5:$Q$215,11,0)*$H254","v":586.91155893583425},{"$f":"VLOOKUP($A254,'8.Non-elective admissions - CCG'!$D$5:$Q$215,12,0)*$H254","v":622.45841158692065},{"$f":"VLOOKUP($A254,'8.Non-elective admissions - CCG'!$D$5:$Q$215,13,0)*$H254","v":616.825303789754},{"$f":"VLOOKUP($A254,'8.Non-elective admissions - CCG'!$D$5:$Q$215,14,0)*$H254","v":615.65983321102988}]
["02Y","NHS East Riding of Yorkshire CCG","E06000011","East Riding of Yorkshire",{"$f":"COUNTIF($D$5:D255,D255)","v":1},"East Riding of Yorkshire1","NHS East Riding of Yorkshire CCG",0.97340761263146702,0.85368632043864112,{"$f":"VLOOKUP($A255,'8.Non-elective admissions - CCG'!$D$5:$N$215,3,0)*$H255","v":7006.5879957212992},{"$f":"VLOOKUP($A255,'8.Non-elective admissions - CCG'!$D$5:$N$215,4,0)*$H255","v":6798.2787666181657},{"$f":"VLOOKUP($A255,'8.Non-elective admissions - CCG'!$D$5:$N$215,5,0)*$H255","v":6981.2793977928814},{"$f":"VLOOKUP($A255,'8.Non-elective admissions - CCG'!$D$5:$N$215,6,0)*$H255","v":6950.1303541886746},{"$f":"VLOOKUP($A255,'8.Non-elective admissions - CCG'!$D$5:$N$215,7,0)*$H255","v":6881.9918213044721},{"$f":"VLOOKUP($A255,'8.Non-elective admissions - CCG'!$D$5:$N$215,8,0)*$H255","v":6959.8644303149895},{"$f":"VLOOKUP($A255,'8.Non-elective admissions - CCG'!$D$5:$N$215,9,0)*$H255","v":6959.8644303149895},{"$f":"VLOOKUP($A255,'8.Non-elective admissions - CCG'!$D$5:$N$215,10,0)*$H255","v":6804.1192122939547},{"$f":"VLOOKUP($A255,'8.Non-elective admissions - CCG'!$D$5:$Q$215,11,0)*$H255","v":6989.0666586939333},{"$f":"VLOOKUP($A255,'8.Non-elective admissions - CCG'!$D$5:$Q$215,12,0)*$H255","v":7071.8063057676081},{"$f":"VLOOKUP($A255,'8.Non-elective admissions - CCG'!$D$5:$Q$215,13,0)*$H255","v":7071.8063057676081},{"$f":"VLOOKUP($A255,'8.Non-elective admissions - CCG'!$D$5:$Q$215,14,0)*$H255","v":6911.1940496834159}]
["02Y","NHS East Riding of Yorkshire CCG","E06000010","Kingston upon Hull, City of",{"$f":"COUNTIF($D$5:D256,D256)","v":1},"Kingston upon Hull, City of1","NHS East Riding of Yorkshire CCG",1.3141721977503604E-2,1.4897831604793214E-2,{"$f":"VLOOKUP($A256,'8.Non-elective admissions - CCG'!$D$5:$N$215,3,0)*$H256","v":94.594114794070947},{"$f":"VLOOKUP($A256,'8.Non-elective admissions - CCG'!$D$5:$N$215,4,0)*$H256","v":91.781786290885179},{"$f":"VLOOKUP($A256,'8.Non-elective admissions - CCG'!$D$5:$N$215,5,0)*$H256","v":94.252430022655844},{"$f":"VLOOKUP($A256,'8.Non-elective admissions - CCG'!$D$5:$N$215,6,0)*$H256","v":93.831894919375742},{"$f":"VLOOKUP($A256,'8.Non-elective admissions - CCG'!$D$5:$N$215,7,0)*$H256","v":92.911974380950483},{"$f":"VLOOKUP($A256,'8.Non-elective admissions - CCG'!$D$5:$N$215,8,0)*$H256","v":93.963312139150773},{"$f":"VLOOKUP($A256,'8.Non-elective admissions - CCG'!$D$5:$N$215,9,0)*$H256","v":93.963312139150773},{"$f":"VLOOKUP($A256,'8.Non-elective admissions - CCG'!$D$5:$N$215,10,0)*$H256","v":91.860636622750192},{"$f":"VLOOKUP($A256,'8.Non-elective admissions - CCG'!$D$5:$Q$215,11,0)*$H256","v":94.35756379847588},{"$f":"VLOOKUP($A256,'8.Non-elective admissions - CCG'!$D$5:$Q$215,12,0)*$H256","v":95.474610166563693},{"$f":"VLOOKUP($A256,'8.Non-elective admissions - CCG'!$D$5:$Q$215,13,0)*$H256","v":95.474610166563693},{"$f":"VLOOKUP($A256,'8.Non-elective admissions - CCG'!$D$5:$Q$215,14,0)*$H256","v":93.30622604027559}]
["02Y","NHS East Riding of Yorkshire CCG","E06000013","North Lincolnshire",{"$f":"COUNTIF($D$5:D257,D257)","v":3},"North Lincolnshire3","NHS East Riding of Yorkshire CCG",0,1.1776216729258333E-3,{"$f":"VLOOKUP($A257,'8.Non-elective admissions - CCG'!$D$5:$N$215,3,0)*$H257","v":0},{"$f":"VLOOKUP($A257,'8.Non-elective admissions - CCG'!$D$5:$N$215,4,0)*$H257","v":0},{"$f":"VLOOKUP($A257,'8.Non-elective admissions - CCG'!$D$5:$N$215,5,0)*$H257","v":0},{"$f":"VLOOKUP($A257,'8.Non-elective admissions - CCG'!$D$5:$N$215,6,0)*$H257","v":0},{"$f":"VLOOKUP($A257,'8.Non-elective admissions - CCG'!$D$5:$N$215,7,0)*$H257","v":0},{"$f":"VLOOKUP($A257,'8.Non-elective admissions - CCG'!$D$5:$N$215,8,0)*$H257","v":0},{"$f":"VLOOKUP($A257,'8.Non-elective admissions - CCG'!$D$5:$N$215,9,0)*$H257","v":0},{"$f":"VLOOKUP($A257,'8.Non-elective admissions - CCG'!$D$5:$N$215,10,0)*$H257","v":0},{"$f":"VLOOKUP($A257,'8.Non-elective admissions - CCG'!$D$5:$Q$215,11,0)*$H257","v":0},{"$f":"VLOOKUP($A257,'8.Non-elective admissions - CCG'!$D$5:$Q$215,12,0)*$H257","v":0},{"$f":"VLOOKUP($A257,'8.Non-elective admissions - CCG'!$D$5:$Q$215,13,0)*$H257","v":0},{"$f":"VLOOKUP($A257,'8.Non-elective admissions - CCG'!$D$5:$Q$215,14,0)*$H257","v":0}]
["02Y","NHS East Riding of Yorkshire CCG","E10000023","North Yorkshire",{"$f":"COUNTIF($D$5:D258,D258)","v":7},"North Yorkshire7","NHS East Riding of Yorkshire CCG",1.3450665391029347E-2,6.6384014060491591E-3,{"$f":"VLOOKUP($A258,'8.Non-elective admissions - CCG'!$D$5:$N$215,3,0)*$H258","v":96.817889484629234},{"$f":"VLOOKUP($A258,'8.Non-elective admissions - CCG'!$D$5:$N$215,4,0)*$H258","v":93.93944709094896},{"$f":"VLOOKUP($A258,'8.Non-elective admissions - CCG'!$D$5:$N$215,5,0)*$H258","v":96.468172184462475},{"$f":"VLOOKUP($A258,'8.Non-elective admissions - CCG'!$D$5:$N$215,6,0)*$H258","v":96.037750891949528},{"$f":"VLOOKUP($A258,'8.Non-elective admissions - CCG'!$D$5:$N$215,7,0)*$H258","v":95.096204314577477},{"$f":"VLOOKUP($A258,'8.Non-elective admissions - CCG'!$D$5:$N$215,8,0)*$H258","v":96.172257545859821},{"$f":"VLOOKUP($A258,'8.Non-elective admissions - CCG'!$D$5:$N$215,9,0)*$H258","v":96.172257545859821},{"$f":"VLOOKUP($A258,'8.Non-elective admissions - CCG'!$D$5:$N$215,10,0)*$H258","v":94.020151083295133},{"$f":"VLOOKUP($A258,'8.Non-elective admissions - CCG'!$D$5:$Q$215,11,0)*$H258","v":96.575777507590715},{"$f":"VLOOKUP($A258,'8.Non-elective admissions - CCG'!$D$5:$Q$215,12,0)*$H258","v":97.719084065828199},{"$f":"VLOOKUP($A258,'8.Non-elective admissions - CCG'!$D$5:$Q$215,13,0)*$H258","v":97.719084065828199},{"$f":"VLOOKUP($A258,'8.Non-elective admissions - CCG'!$D$5:$Q$215,14,0)*$H258","v":95.499724276308356}]
["05D","NHS East Staffordshire CCG","E10000007","Derbyshire",{"$f":"COUNTIF($D$5:D259,D259)","v":2},"Derbyshire2","NHS East Staffordshire CCG",8.2663563031607309E-2,1.4308702042471238E-2,{"$f":"VLOOKUP($A259,'8.Non-elective admissions - CCG'!$D$5:$N$215,3,0)*$H259","v":262.87013044051122},{"$f":"VLOOKUP($A259,'8.Non-elective admissions - CCG'!$D$5:$N$215,4,0)*$H259","v":267.66461709634444},{"$f":"VLOOKUP($A259,'8.Non-elective admissions - CCG'!$D$5:$N$215,5,0)*$H259","v":301.06069656111384},{"$f":"VLOOKUP($A259,'8.Non-elective admissions - CCG'!$D$5:$N$215,6,0)*$H259","v":300.5647151829242},{"$f":"VLOOKUP($A259,'8.Non-elective admissions - CCG'!$D$5:$N$215,7,0)*$H259","v":259.06760654105733},{"$f":"VLOOKUP($A259,'8.Non-elective admissions - CCG'!$D$5:$N$215,8,0)*$H259","v":263.61410250779574},{"$f":"VLOOKUP($A259,'8.Non-elective admissions - CCG'!$D$5:$N$215,9,0)*$H259","v":296.59686415740703},{"$f":"VLOOKUP($A259,'8.Non-elective admissions - CCG'!$D$5:$N$215,10,0)*$H259","v":282.46139487900217},{"$f":"VLOOKUP($A259,'8.Non-elective admissions - CCG'!$D$5:$Q$215,11,0)*$H259","v":252.70251218762354},{"$f":"VLOOKUP($A259,'8.Non-elective admissions - CCG'!$D$5:$Q$215,12,0)*$H259","v":257.00101746526713},{"$f":"VLOOKUP($A259,'8.Non-elective admissions - CCG'!$D$5:$Q$215,13,0)*$H259","v":289.07447992153078},{"$f":"VLOOKUP($A259,'8.Non-elective admissions - CCG'!$D$5:$Q$215,14,0)*$H259","v":275.68298271041039}]
["05D","NHS East Staffordshire CCG","E10000028","Staffordshire",{"$f":"COUNTIF($D$5:D260,D260)","v":4},"Staffordshire4","NHS East Staffordshire CCG",0.91733643696839273,0.14410145434140689,{"$f":"VLOOKUP($A260,'8.Non-elective admissions - CCG'!$D$5:$N$215,3,0)*$H260","v":2917.1298695594887},{"$f":"VLOOKUP($A260,'8.Non-elective admissions - CCG'!$D$5:$N$215,4,0)*$H260","v":2970.3353829036555},{"$f":"VLOOKUP($A260,'8.Non-elective admissions - CCG'!$D$5:$N$215,5,0)*$H260","v":3340.9393034388863},{"$f":"VLOOKUP($A260,'8.Non-elective admissions - CCG'!$D$5:$N$215,6,0)*$H260","v":3335.4352848170761},{"$f":"VLOOKUP($A260,'8.Non-elective admissions - CCG'!$D$5:$N$215,7,0)*$H260","v":2874.9323934589429},{"$f":"VLOOKUP($A260,'8.Non-elective admissions - CCG'!$D$5:$N$215,8,0)*$H260","v":2925.3858974922045},{"$f":"VLOOKUP($A260,'8.Non-elective admissions - CCG'!$D$5:$N$215,9,0)*$H260","v":3291.4031358425932},{"$f":"VLOOKUP($A260,'8.Non-elective admissions - CCG'!$D$5:$N$215,10,0)*$H260","v":3134.538605120998},{"$f":"VLOOKUP($A260,'8.Non-elective admissions - CCG'!$D$5:$Q$215,11,0)*$H260","v":2804.2974878123764},{"$f":"VLOOKUP($A260,'8.Non-elective admissions - CCG'!$D$5:$Q$215,12,0)*$H260","v":2851.9989825347329},{"$f":"VLOOKUP($A260,'8.Non-elective admissions - CCG'!$D$5:$Q$215,13,0)*$H260","v":3207.9255200784692},{"$f":"VLOOKUP($A260,'8.Non-elective admissions - CCG'!$D$5:$Q$215,14,0)*$H260","v":3059.3170172895898}]
["09L","NHS East Surrey CCG","E09000008","Croydon",{"$f":"COUNTIF($D$5:D261,D261)","v":3},{"$f":"D261&E261","v":"Croydon3"},{"$f":"B261","v":"NHS East Surrey CCG"},2.9689356645730771E-2,1.3230922079526742E-2,{"$f":"VLOOKUP($A261,'8.Non-elective admissions - CCG'!$D$5:$N$215,3,0)*$H261","v":122.14201324053639},{"$f":"VLOOKUP($A261,'8.Non-elective admissions - CCG'!$D$5:$N$215,4,0)*$H261","v":122.32014938041078},{"$f":"VLOOKUP($A261,'8.Non-elective admissions - CCG'!$D$5:$N$215,5,0)*$H261","v":123.47803428959428},{"$f":"VLOOKUP($A261,'8.Non-elective admissions - CCG'!$D$5:$N$215,6,0)*$H261","v":123.53741300288574},{"$f":"VLOOKUP($A261,'8.Non-elective admissions - CCG'!$D$5:$N$215,7,0)*$H261","v":110.68192157528432},{"$f":"VLOOKUP($A261,'8.Non-elective admissions - CCG'!$D$5:$N$215,8,0)*$H261","v":110.68192157528432},{"$f":"VLOOKUP($A261,'8.Non-elective admissions - CCG'!$D$5:$N$215,9,0)*$H261","v":110.7709896452215},{"$f":"VLOOKUP($A261,'8.Non-elective admissions - CCG'!$D$5:$N$215,10,0)*$H261","v":111.36477677813612},{"$f":"VLOOKUP($A261,'8.Non-elective admissions - CCG'!$D$5:$Q$215,11,0)*$H261","v":110.08813444236969},{"$f":"VLOOKUP($A261,'8.Non-elective admissions - CCG'!$D$5:$Q$215,12,0)*$H261","v":110.14751315566116},{"$f":"VLOOKUP($A261,'8.Non-elective admissions - CCG'!$D$5:$Q$215,13,0)*$H261","v":110.17720251230689},{"$f":"VLOOKUP($A261,'8.Non-elective admissions - CCG'!$D$5:$Q$215,14,0)*$H261","v":110.74130028857577}]
["09L","NHS East Surrey CCG","E10000016","Kent",{"$f":"COUNTIF($D$5:D262,D262)","v":6},"Kent6","NHS East Surrey CCG",1.4032705256606119E-3,0,{"$f":"VLOOKUP($A262,'8.Non-elective admissions - CCG'!$D$5:$N$215,3,0)*$H262","v":5.7730549425677573},{"$f":"VLOOKUP($A262,'8.Non-elective admissions - CCG'!$D$5:$N$215,4,0)*$H262","v":5.7814745657217212},{"$f":"VLOOKUP($A262,'8.Non-elective admissions - CCG'!$D$5:$N$215,5,0)*$H262","v":5.8362021162224851},{"$f":"VLOOKUP($A262,'8.Non-elective admissions - CCG'!$D$5:$N$215,6,0)*$H262","v":5.8390086572738058},{"$f":"VLOOKUP($A262,'8.Non-elective admissions - CCG'!$D$5:$N$215,7,0)*$H262","v":5.2313925196627613},{"$f":"VLOOKUP($A262,'8.Non-elective admissions - CCG'!$D$5:$N$215,8,0)*$H262","v":5.2313925196627613},{"$f":"VLOOKUP($A262,'8.Non-elective admissions - CCG'!$D$5:$N$215,9,0)*$H262","v":5.2356023312397433},{"$f":"VLOOKUP($A262,'8.Non-elective admissions - CCG'!$D$5:$N$215,10,0)*$H262","v":5.2636677417529549},{"$f":"VLOOKUP($A262,'8.Non-elective admissions - CCG'!$D$5:$Q$215,11,0)*$H262","v":5.2033271091495488},{"$f":"VLOOKUP($A262,'8.Non-elective admissions - CCG'!$D$5:$Q$215,12,0)*$H262","v":5.2061336502008704},{"$f":"VLOOKUP($A262,'8.Non-elective admissions - CCG'!$D$5:$Q$215,13,0)*$H262","v":5.2075369207265307},{"$f":"VLOOKUP($A262,'8.Non-elective admissions - CCG'!$D$5:$Q$215,14,0)*$H262","v":5.234199060714082}]
["09L","NHS East Surrey CCG","E10000030","Surrey",{"$f":"COUNTIF($D$5:D263,D263)","v":6},"Surrey6","NHS East Surrey CCG",0.96569343065693414,0.14073655652403375,{"$f":"VLOOKUP($A263,'8.Non-elective admissions - CCG'!$D$5:$N$215,3,0)*$H263","v":3972.862773722627},{"$f":"VLOOKUP($A263,'8.Non-elective admissions - CCG'!$D$5:$N$215,4,0)*$H263","v":3978.6569343065685},{"$f":"VLOOKUP($A263,'8.Non-elective admissions - CCG'!$D$5:$N$215,5,0)*$H263","v":4016.3189781021892},{"$f":"VLOOKUP($A263,'8.Non-elective admissions - CCG'!$D$5:$N$215,6,0)*$H263","v":4018.2503649635028},{"$f":"VLOOKUP($A263,'8.Non-elective admissions - CCG'!$D$5:$N$215,7,0)*$H263","v":3600.1051094890504},{"$f":"VLOOKUP($A263,'8.Non-elective admissions - CCG'!$D$5:$N$215,8,0)*$H263","v":3600.1051094890504},{"$f":"VLOOKUP($A263,'8.Non-elective admissions - CCG'!$D$5:$N$215,9,0)*$H263","v":3603.0021897810211},{"$f":"VLOOKUP($A263,'8.Non-elective admissions - CCG'!$D$5:$N$215,10,0)*$H263","v":3622.3160583941599},{"$f":"VLOOKUP($A263,'8.Non-elective admissions - CCG'!$D$5:$Q$215,11,0)*$H263","v":3580.7912408759116},{"$f":"VLOOKUP($A263,'8.Non-elective admissions - CCG'!$D$5:$Q$215,12,0)*$H263","v":3582.7226277372256},{"$f":"VLOOKUP($A263,'8.Non-elective admissions - CCG'!$D$5:$Q$215,13,0)*$H263","v":3583.6883211678828},{"$f":"VLOOKUP($A263,'8.Non-elective admissions - CCG'!$D$5:$Q$215,14,0)*$H263","v":3602.0364963503644}]
["09L","NHS East Surrey CCG","E10000032","West Sussex",{"$f":"COUNTIF($D$5:D264,D264)","v":4},"West Sussex4","NHS East Surrey CCG",3.213942171674305E-3,0,{"$f":"VLOOKUP($A264,'8.Non-elective admissions - CCG'!$D$5:$N$215,3,0)*$H264","v":13.222158094268091},{"$f":"VLOOKUP($A264,'8.Non-elective admissions - CCG'!$D$5:$N$215,4,0)*$H264","v":13.241441747298136},{"$f":"VLOOKUP($A264,'8.Non-elective admissions - CCG'!$D$5:$N$215,5,0)*$H264","v":13.366785491993435},{"$f":"VLOOKUP($A264,'8.Non-elective admissions - CCG'!$D$5:$N$215,6,0)*$H264","v":13.373213376336784},{"$f":"VLOOKUP($A264,'8.Non-elective admissions - CCG'!$D$5:$N$215,7,0)*$H264","v":11.981576416001809},{"$f":"VLOOKUP($A264,'8.Non-elective admissions - CCG'!$D$5:$N$215,8,0)*$H264","v":11.981576416001809},{"$f":"VLOOKUP($A264,'8.Non-elective admissions - CCG'!$D$5:$N$215,9,0)*$H264","v":11.991218242516831},{"$f":"VLOOKUP($A264,'8.Non-elective admissions - CCG'!$D$5:$N$215,10,0)*$H264","v":12.055497085950318},{"$f":"VLOOKUP($A264,'8.Non-elective admissions - CCG'!$D$5:$Q$215,11,0)*$H264","v":11.917297572568323},{"$f":"VLOOKUP($A264,'8.Non-elective admissions - CCG'!$D$5:$Q$215,12,0)*$H264","v":11.923725456911672},{"$f":"VLOOKUP($A264,'8.Non-elective admissions - CCG'!$D$5:$Q$215,13,0)*$H264","v":11.926939399083345},{"$f":"VLOOKUP($A264,'8.Non-elective admissions - CCG'!$D$5:$Q$215,14,0)*$H264","v":11.988004300345157}]
["09F","NHS Eastbourne, Hailsham and Seaford CCG","E10000011","East Sussex",{"$f":"COUNTIF($D$5:D265,D265)","v":2},"East Sussex2","NHS Eastbourne, Hailsham and Seaford CCG",1,0.34332573220007345,{"$f":"VLOOKUP($A265,'8.Non-elective admissions - CCG'!$D$5:$N$215,3,0)*$H265","v":4640},{"$f":"VLOOKUP($A265,'8.Non-elective admissions - CCG'!$D$5:$N$215,4,0)*$H265","v":4658},{"$f":"VLOOKUP($A265,'8.Non-elective admissions - CCG'!$D$5:$N$215,5,0)*$H265","v":4928},{"$f":"VLOOKUP($A265,'8.Non-elective admissions - CCG'!$D$5:$N$215,6,0)*$H265","v":4768},{"$f":"VLOOKUP($A265,'8.Non-elective admissions - CCG'!$D$5:$N$215,7,0)*$H265","v":4152},{"$f":"VLOOKUP($A265,'8.Non-elective admissions - CCG'!$D$5:$N$215,8,0)*$H265","v":4195},{"$f":"VLOOKUP($A265,'8.Non-elective admissions - CCG'!$D$5:$N$215,9,0)*$H265","v":4194},{"$f":"VLOOKUP($A265,'8.Non-elective admissions - CCG'!$D$5:$N$215,10,0)*$H265","v":4111},{"$f":"VLOOKUP($A265,'8.Non-elective admissions - CCG'!$D$5:$Q$215,11,0)*$H265","v":4198},{"$f":"VLOOKUP($A265,'8.Non-elective admissions - CCG'!$D$5:$Q$215,12,0)*$H265","v":4242},{"$f":"VLOOKUP($A265,'8.Non-elective admissions - CCG'!$D$5:$Q$215,13,0)*$H265","v":4241},{"$f":"VLOOKUP($A265,'8.Non-elective admissions - CCG'!$D$5:$Q$215,14,0)*$H265","v":4158}]
["01C","NHS Eastern Cheshire CCG","E06000049","Cheshire East",{"$f":"COUNTIF($D$5:D266,D266)","v":1},"Cheshire East1","NHS Eastern Cheshire CCG",0.96280983676892185,0.50830486966772814,{"$f":"VLOOKUP($A266,'8.Non-elective admissions - CCG'!$D$5:$N$215,3,0)*$H266","v":4672.5161378395778},{"$f":"VLOOKUP($A266,'8.Non-elective admissions - CCG'!$D$5:$N$215,4,0)*$H266","v":4781.3136493944658},{"$f":"VLOOKUP($A266,'8.Non-elective admissions - CCG'!$D$5:$N$215,5,0)*$H266","v":4962.3218987070231},{"$f":"VLOOKUP($A266,'8.Non-elective admissions - CCG'!$D$5:$N$215,6,0)*$H266","v":4692.7351444117248},{"$f":"VLOOKUP($A266,'8.Non-elective admissions - CCG'!$D$5:$N$215,7,0)*$H266","v":4608.0078787760604},{"$f":"VLOOKUP($A266,'8.Non-elective admissions - CCG'!$D$5:$N$215,8,0)*$H266","v":4676.3673771866534},{"$f":"VLOOKUP($A266,'8.Non-elective admissions - CCG'!$D$5:$N$215,9,0)*$H266","v":4801.5326559666137},{"$f":"VLOOKUP($A266,'8.Non-elective admissions - CCG'!$D$5:$N$215,10,0)*$H266","v":4667.702088655733},{"$f":"VLOOKUP($A266,'8.Non-elective admissions - CCG'!$D$5:$Q$215,11,0)*$H266","v":4464.5492130974908},{"$f":"VLOOKUP($A266,'8.Non-elective admissions - CCG'!$D$5:$Q$215,12,0)*$H266","v":4528.0946623242398},{"$f":"VLOOKUP($A266,'8.Non-elective admissions - CCG'!$D$5:$Q$215,13,0)*$H266","v":4652.2971312674299},{"$f":"VLOOKUP($A266,'8.Non-elective admissions - CCG'!$D$5:$Q$215,14,0)*$H266","v":4524.2434229771634}]
["01C","NHS Eastern Cheshire CCG","E06000050","Cheshire West and Chester",{"$f":"COUNTIF($D$5:D267,D267)","v":1},"Cheshire West and Chester1","NHS Eastern Cheshire CCG",1.1130721376055542E-2,6.5390740464924433E-3,{"$f":"VLOOKUP($A267,'8.Non-elective admissions - CCG'!$D$5:$N$215,3,0)*$H267","v":54.017390837997546},{"$f":"VLOOKUP($A267,'8.Non-elective admissions - CCG'!$D$5:$N$215,4,0)*$H267","v":55.275162353491822},{"$f":"VLOOKUP($A267,'8.Non-elective admissions - CCG'!$D$5:$N$215,5,0)*$H267","v":57.367737972190262},{"$f":"VLOOKUP($A267,'8.Non-elective admissions - CCG'!$D$5:$N$215,6,0)*$H267","v":54.25113598689471},{"$f":"VLOOKUP($A267,'8.Non-elective admissions - CCG'!$D$5:$N$215,7,0)*$H267","v":53.271632505801826},{"$f":"VLOOKUP($A267,'8.Non-elective admissions - CCG'!$D$5:$N$215,8,0)*$H267","v":54.061913723501767},{"$f":"VLOOKUP($A267,'8.Non-elective admissions - CCG'!$D$5:$N$215,9,0)*$H267","v":55.508907502388986},{"$f":"VLOOKUP($A267,'8.Non-elective admissions - CCG'!$D$5:$N$215,10,0)*$H267","v":53.961737231117269},{"$f":"VLOOKUP($A267,'8.Non-elective admissions - CCG'!$D$5:$Q$215,11,0)*$H267","v":51.613155020769547},{"$f":"VLOOKUP($A267,'8.Non-elective admissions - CCG'!$D$5:$Q$215,12,0)*$H267","v":52.347782631589219},{"$f":"VLOOKUP($A267,'8.Non-elective admissions - CCG'!$D$5:$Q$215,13,0)*$H267","v":53.783645689100382},{"$f":"VLOOKUP($A267,'8.Non-elective admissions - CCG'!$D$5:$Q$215,14,0)*$H267","v":52.30325974608499}]
["01C","NHS Eastern Cheshire CCG","E10000007","Derbyshire",{"$f":"COUNTIF($D$5:D268,D268)","v":3},"Derbyshire3","NHS Eastern Cheshire CCG",3.3445794410749464E-3,0,{"$f":"VLOOKUP($A268,'8.Non-elective admissions - CCG'!$D$5:$N$215,3,0)*$H268","v":16.231244027536714},{"$f":"VLOOKUP($A268,'8.Non-elective admissions - CCG'!$D$5:$N$215,4,0)*$H268","v":16.609181504378185},{"$f":"VLOOKUP($A268,'8.Non-elective admissions - CCG'!$D$5:$N$215,5,0)*$H268","v":17.237962439300272},{"$f":"VLOOKUP($A268,'8.Non-elective admissions - CCG'!$D$5:$N$215,6,0)*$H268","v":16.301480195799289},{"$f":"VLOOKUP($A268,'8.Non-elective admissions - CCG'!$D$5:$N$215,7,0)*$H268","v":16.007157204984694},{"$f":"VLOOKUP($A268,'8.Non-elective admissions - CCG'!$D$5:$N$215,8,0)*$H268","v":16.244622345301014},{"$f":"VLOOKUP($A268,'8.Non-elective admissions - CCG'!$D$5:$N$215,9,0)*$H268","v":16.679417672640756},{"$f":"VLOOKUP($A268,'8.Non-elective admissions - CCG'!$D$5:$N$215,10,0)*$H268","v":16.214521130331342},{"$f":"VLOOKUP($A268,'8.Non-elective admissions - CCG'!$D$5:$Q$215,11,0)*$H268","v":15.508814868264526},{"$f":"VLOOKUP($A268,'8.Non-elective admissions - CCG'!$D$5:$Q$215,12,0)*$H268","v":15.729557111375472},{"$f":"VLOOKUP($A268,'8.Non-elective admissions - CCG'!$D$5:$Q$215,13,0)*$H268","v":16.16100785927414},{"$f":"VLOOKUP($A268,'8.Non-elective admissions - CCG'!$D$5:$Q$215,14,0)*$H268","v":15.716178793611173}]
["01C","NHS Eastern Cheshire CCG","E10000028","Staffordshire",{"$f":"COUNTIF($D$5:D269,D269)","v":5},"Staffordshire5","NHS Eastern Cheshire CCG",6.016342609747061E-3,1.4189257559171734E-3,{"$f":"VLOOKUP($A269,'8.Non-elective admissions - CCG'!$D$5:$N$215,3,0)*$H269","v":29.197310685102487},{"$f":"VLOOKUP($A269,'8.Non-elective admissions - CCG'!$D$5:$N$215,4,0)*$H269","v":29.877157400003906},{"$f":"VLOOKUP($A269,'8.Non-elective admissions - CCG'!$D$5:$N$215,5,0)*$H269","v":31.008229810636351},{"$f":"VLOOKUP($A269,'8.Non-elective admissions - CCG'!$D$5:$N$215,6,0)*$H269","v":29.323653879907177},{"$f":"VLOOKUP($A269,'8.Non-elective admissions - CCG'!$D$5:$N$215,7,0)*$H269","v":28.794215730249434},{"$f":"VLOOKUP($A269,'8.Non-elective admissions - CCG'!$D$5:$N$215,8,0)*$H269","v":29.221376055541477},{"$f":"VLOOKUP($A269,'8.Non-elective admissions - CCG'!$D$5:$N$215,9,0)*$H269","v":30.003500594808592},{"$f":"VLOOKUP($A269,'8.Non-elective admissions - CCG'!$D$5:$N$215,10,0)*$H269","v":29.167228972053753},{"$f":"VLOOKUP($A269,'8.Non-elective admissions - CCG'!$D$5:$Q$215,11,0)*$H269","v":27.897780681397123},{"$f":"VLOOKUP($A269,'8.Non-elective admissions - CCG'!$D$5:$Q$215,12,0)*$H269","v":28.294859293640428},{"$f":"VLOOKUP($A269,'8.Non-elective admissions - CCG'!$D$5:$Q$215,13,0)*$H269","v":29.0709674902978},{"$f":"VLOOKUP($A269,'8.Non-elective admissions - CCG'!$D$5:$Q$215,14,0)*$H269","v":28.270793923201438}]
["01C","NHS Eastern Cheshire CCG","E08000007","Stockport",{"$f":"COUNTIF($D$5:D270,D270)","v":2},"Stockport2","NHS Eastern Cheshire CCG",1.6698519804200715E-2,1.1426760304936027E-2,{"$f":"VLOOKUP($A270,'8.Non-elective admissions - CCG'!$D$5:$N$215,3,0)*$H270","v":81.037916609786066},{"$f":"VLOOKUP($A270,'8.Non-elective admissions - CCG'!$D$5:$N$215,4,0)*$H270","v":82.924849347660754},{"$f":"VLOOKUP($A270,'8.Non-elective admissions - CCG'!$D$5:$N$215,5,0)*$H270","v":86.064171070850492},{"$f":"VLOOKUP($A270,'8.Non-elective admissions - CCG'!$D$5:$N$215,6,0)*$H270","v":81.388585525674287},{"$f":"VLOOKUP($A270,'8.Non-elective admissions - CCG'!$D$5:$N$215,7,0)*$H270","v":79.919115782904626},{"$f":"VLOOKUP($A270,'8.Non-elective admissions - CCG'!$D$5:$N$215,8,0)*$H270","v":81.104710689002872},{"$f":"VLOOKUP($A270,'8.Non-elective admissions - CCG'!$D$5:$N$215,9,0)*$H270","v":83.27551826354896},{"$f":"VLOOKUP($A270,'8.Non-elective admissions - CCG'!$D$5:$N$215,10,0)*$H270","v":80.954424010765067},{"$f":"VLOOKUP($A270,'8.Non-elective admissions - CCG'!$D$5:$Q$215,11,0)*$H270","v":77.431036332078719},{"$f":"VLOOKUP($A270,'8.Non-elective admissions - CCG'!$D$5:$Q$215,12,0)*$H270","v":78.533138639155965},{"$f":"VLOOKUP($A270,'8.Non-elective admissions - CCG'!$D$5:$Q$215,13,0)*$H270","v":80.687247693897859},{"$f":"VLOOKUP($A270,'8.Non-elective admissions - CCG'!$D$5:$Q$215,14,0)*$H270","v":78.466344559939159}]
["07X","NHS Enfield CCG","E09000003","Barnet",{"$f":"COUNTIF($D$5:D271,D271)","v":5},"Barnet5","NHS Enfield CCG",3.0616778380884311E-2,2.5070452981696724E-2,{"$f":"VLOOKUP($A271,'8.Non-elective admissions - CCG'!$D$5:$N$215,3,0)*$H271","v":180.14912399312328},{"$f":"VLOOKUP($A271,'8.Non-elective admissions - CCG'!$D$5:$N$215,4,0)*$H271","v":174.30131932237438},{"$f":"VLOOKUP($A271,'8.Non-elective admissions - CCG'!$D$5:$N$215,5,0)*$H271","v":192.15090111842994},{"$f":"VLOOKUP($A271,'8.Non-elective admissions - CCG'!$D$5:$N$215,6,0)*$H271","v":215.35841913114024},{"$f":"VLOOKUP($A271,'8.Non-elective admissions - CCG'!$D$5:$N$215,7,0)*$H271","v":182.57492686337767},{"$f":"VLOOKUP($A271,'8.Non-elective admissions - CCG'!$D$5:$N$215,8,0)*$H271","v":178.66641533704049},{"$f":"VLOOKUP($A271,'8.Non-elective admissions - CCG'!$D$5:$N$215,9,0)*$H271","v":185.05682420107206},{"$f":"VLOOKUP($A271,'8.Non-elective admissions - CCG'!$D$5:$N$215,10,0)*$H271","v":169.77809271689719},{"$f":"VLOOKUP($A271,'8.Non-elective admissions - CCG'!$D$5:$Q$215,11,0)*$H271","v":182.10385713019181},{"$f":"VLOOKUP($A271,'8.Non-elective admissions - CCG'!$D$5:$Q$215,12,0)*$H271","v":178.15655252142594},{"$f":"VLOOKUP($A271,'8.Non-elective admissions - CCG'!$D$5:$Q$215,13,0)*$H271","v":184.55655602247967},{"$f":"VLOOKUP($A271,'8.Non-elective admissions - CCG'!$D$5:$Q$215,14,0)*$H271","v":169.46567776744672}]
["07X","NHS Enfield CCG","E09000010","Enfield",{"$f":"COUNTIF($D$5:D272,D272)","v":4},"Enfield4","NHS Enfield CCG",0.95415853760616065,0.9066200470478829,{"$f":"VLOOKUP($A272,'8.Non-elective admissions - CCG'!$D$5:$N$215,3,0)*$H272","v":5614.2688352746491},{"$f":"VLOOKUP($A272,'8.Non-elective admissions - CCG'!$D$5:$N$215,4,0)*$H272","v":5432.0245545918724},{"$f":"VLOOKUP($A272,'8.Non-elective admissions - CCG'!$D$5:$N$215,5,0)*$H272","v":5988.2989820162638},{"$f":"VLOOKUP($A272,'8.Non-elective admissions - CCG'!$D$5:$N$215,6,0)*$H272","v":6711.5511535217338},{"$f":"VLOOKUP($A272,'8.Non-elective admissions - CCG'!$D$5:$N$215,7,0)*$H272","v":5689.867923147588},{"$f":"VLOOKUP($A272,'8.Non-elective admissions - CCG'!$D$5:$N$215,8,0)*$H272","v":5568.0608670363172},{"$f":"VLOOKUP($A272,'8.Non-elective admissions - CCG'!$D$5:$N$215,9,0)*$H272","v":5767.2151706196355},{"$f":"VLOOKUP($A272,'8.Non-elective admissions - CCG'!$D$5:$N$215,10,0)*$H272","v":5291.0601712902635},{"$f":"VLOOKUP($A272,'8.Non-elective admissions - CCG'!$D$5:$Q$215,11,0)*$H272","v":5675.1872404795586},{"$f":"VLOOKUP($A272,'8.Non-elective admissions - CCG'!$D$5:$Q$215,12,0)*$H272","v":5552.1712148830302},{"$f":"VLOOKUP($A272,'8.Non-elective admissions - CCG'!$D$5:$Q$215,13,0)*$H272","v":5751.6245311422099},{"$f":"VLOOKUP($A272,'8.Non-elective admissions - CCG'!$D$5:$Q$215,14,0)*$H272","v":5281.323895723136}]
["07X","NHS Enfield CCG","E09000014","Haringey",{"$f":"COUNTIF($D$5:D273,D273)","v":4},"Haringey4","NHS Enfield CCG",1.2829428164860567E-2,1.4610127733212101E-2,{"$f":"VLOOKUP($A273,'8.Non-elective admissions - CCG'!$D$5:$N$215,3,0)*$H273","v":75.488355322039567},{"$f":"VLOOKUP($A273,'8.Non-elective admissions - CCG'!$D$5:$N$215,4,0)*$H273","v":73.037934542551199},{"$f":"VLOOKUP($A273,'8.Non-elective admissions - CCG'!$D$5:$N$215,5,0)*$H273","v":80.517491162664911},{"$f":"VLOOKUP($A273,'8.Non-elective admissions - CCG'!$D$5:$N$215,6,0)*$H273","v":90.242197711629231},{"$f":"VLOOKUP($A273,'8.Non-elective admissions - CCG'!$D$5:$N$215,7,0)*$H273","v":76.504845799217676},{"$f":"VLOOKUP($A273,'8.Non-elective admissions - CCG'!$D$5:$N$215,8,0)*$H273","v":74.86705206289237},{"$f":"VLOOKUP($A273,'8.Non-elective admissions - CCG'!$D$5:$N$215,9,0)*$H273","v":77.544841686779407},{"$f":"VLOOKUP($A273,'8.Non-elective admissions - CCG'!$D$5:$N$215,10,0)*$H273","v":71.142555150035264},{"$f":"VLOOKUP($A273,'8.Non-elective admissions - CCG'!$D$5:$Q$215,11,0)*$H273","v":76.307452225427383},{"$f":"VLOOKUP($A273,'8.Non-elective admissions - CCG'!$D$5:$Q$215,12,0)*$H273","v":74.653402923016031},{"$f":"VLOOKUP($A273,'8.Non-elective admissions - CCG'!$D$5:$Q$215,13,0)*$H273","v":77.3352130125743},{"$f":"VLOOKUP($A273,'8.Non-elective admissions - CCG'!$D$5:$Q$215,14,0)*$H273","v":71.01164310234229}]
["07X","NHS Enfield CCG","E10000015","Hertfordshire",{"$f":"COUNTIF($D$5:D274,D274)","v":7},"Hertfordshire7","NHS Enfield CCG",2.3952558480944196E-3,0,{"$f":"VLOOKUP($A274,'8.Non-elective admissions - CCG'!$D$5:$N$215,3,0)*$H274","v":14.093685410187565},{"$f":"VLOOKUP($A274,'8.Non-elective admissions - CCG'!$D$5:$N$215,4,0)*$H274","v":13.63619154320153},{"$f":"VLOOKUP($A274,'8.Non-elective admissions - CCG'!$D$5:$N$215,5,0)*$H274","v":15.032625702640576},{"$f":"VLOOKUP($A274,'8.Non-elective admissions - CCG'!$D$5:$N$215,6,0)*$H274","v":16.848229635496146},{"$f":"VLOOKUP($A274,'8.Non-elective admissions - CCG'!$D$5:$N$215,7,0)*$H274","v":14.283464309816299},{"$f":"VLOOKUP($A274,'8.Non-elective admissions - CCG'!$D$5:$N$215,8,0)*$H274","v":13.977688013749543},{"$f":"VLOOKUP($A274,'8.Non-elective admissions - CCG'!$D$5:$N$215,9,0)*$H274","v":14.477631672512894},{"$f":"VLOOKUP($A274,'8.Non-elective admissions - CCG'!$D$5:$N$215,10,0)*$H274","v":13.282323972804576},{"$f":"VLOOKUP($A274,'8.Non-elective admissions - CCG'!$D$5:$Q$215,11,0)*$H274","v":14.246610904822578},{"$f":"VLOOKUP($A274,'8.Non-elective admissions - CCG'!$D$5:$Q$215,12,0)*$H274","v":13.937799692527962},{"$f":"VLOOKUP($A274,'8.Non-elective admissions - CCG'!$D$5:$Q$215,13,0)*$H274","v":14.438493972736582},{"$f":"VLOOKUP($A274,'8.Non-elective admissions - CCG'!$D$5:$Q$215,14,0)*$H274","v":13.257882677074697}]
["03X","NHS Erewash CCG","E10000007","Derbyshire",{"$f":"COUNTIF($D$5:D275,D275)","v":4},"Derbyshire4","NHS Erewash CCG",0.91816020012147292,0.11300871724697177,{"$f":"VLOOKUP($A275,'8.Non-elective admissions - CCG'!$D$5:$N$215,3,0)*$H275","v":2304.582102304897},{"$f":"VLOOKUP($A275,'8.Non-elective admissions - CCG'!$D$5:$N$215,4,0)*$H275","v":2276.1191361011315},{"$f":"VLOOKUP($A275,'8.Non-elective admissions - CCG'!$D$5:$N$215,5,0)*$H275","v":2342.2266705098773},{"$f":"VLOOKUP($A275,'8.Non-elective admissions - CCG'!$D$5:$N$215,6,0)*$H275","v":2109.0139796790231},{"$f":"VLOOKUP($A275,'8.Non-elective admissions - CCG'!$D$5:$N$215,7,0)*$H275","v":2274.1301343766208},{"$f":"VLOOKUP($A275,'8.Non-elective admissions - CCG'!$D$5:$N$215,8,0)*$H275","v":2269.8661608343054},{"$f":"VLOOKUP($A275,'8.Non-elective admissions - CCG'!$D$5:$N$215,9,0)*$H275","v":2362.8902281343167},{"$f":"VLOOKUP($A275,'8.Non-elective admissions - CCG'!$D$5:$N$215,10,0)*$H275","v":2194.5768697767858},{"$f":"VLOOKUP($A275,'8.Non-elective admissions - CCG'!$D$5:$Q$215,11,0)*$H275","v":2216.5492546052192},{"$f":"VLOOKUP($A275,'8.Non-elective admissions - CCG'!$D$5:$Q$215,12,0)*$H275","v":2212.2000015942972},{"$f":"VLOOKUP($A275,'8.Non-elective admissions - CCG'!$D$5:$Q$215,13,0)*$H275","v":2307.0845502349107},{"$f":"VLOOKUP($A275,'8.Non-elective admissions - CCG'!$D$5:$Q$215,14,0)*$H275","v":2135.4049246996879}]
["03X","NHS Erewash CCG","E10000024","Nottinghamshire",{"$f":"COUNTIF($D$5:D276,D276)","v":4},"Nottinghamshire4","NHS Erewash CCG",8.1839799878527089E-2,9.7127589000025657E-3,{"$f":"VLOOKUP($A276,'8.Non-elective admissions - CCG'!$D$5:$N$215,3,0)*$H276","v":205.41789769510299},{"$f":"VLOOKUP($A276,'8.Non-elective admissions - CCG'!$D$5:$N$215,4,0)*$H276","v":202.88086389886865},{"$f":"VLOOKUP($A276,'8.Non-elective admissions - CCG'!$D$5:$N$215,5,0)*$H276","v":208.77332949012259},{"$f":"VLOOKUP($A276,'8.Non-elective admissions - CCG'!$D$5:$N$215,6,0)*$H276","v":187.98602032097673},{"$f":"VLOOKUP($A276,'8.Non-elective admissions - CCG'!$D$5:$N$215,7,0)*$H276","v":202.70357511737885},{"$f":"VLOOKUP($A276,'8.Non-elective admissions - CCG'!$D$5:$N$215,8,0)*$H276","v":202.32350773769471},{"$f":"VLOOKUP($A276,'8.Non-elective admissions - CCG'!$D$5:$N$215,9,0)*$H276","v":210.61516648168333},{"$f":"VLOOKUP($A276,'8.Non-elective admissions - CCG'!$D$5:$N$215,10,0)*$H276","v":195.61263036321429},{"$f":"VLOOKUP($A276,'8.Non-elective admissions - CCG'!$D$5:$Q$215,11,0)*$H276","v":197.57112908378079},{"$f":"VLOOKUP($A276,'8.Non-elective admissions - CCG'!$D$5:$Q$215,12,0)*$H276","v":197.18346035670262},{"$f":"VLOOKUP($A276,'8.Non-elective admissions - CCG'!$D$5:$Q$215,13,0)*$H276","v":205.64095227508983},{"$f":"VLOOKUP($A276,'8.Non-elective admissions - CCG'!$D$5:$Q$215,14,0)*$H276","v":190.33836543331188}]
["10K","NHS Fareham and Gosport CCG","E10000014","Hampshire",{"$f":"COUNTIF($D$5:D277,D277)","v":4},"Hampshire4","NHS Fareham and Gosport CCG",0.98667779819689572,0.14275434530109427,{"$f":"VLOOKUP($A277,'8.Non-elective admissions - CCG'!$D$5:$N$215,3,0)*$H277","v":4276.2615773853458},{"$f":"VLOOKUP($A277,'8.Non-elective admissions - CCG'!$D$5:$N$215,4,0)*$H277","v":4244.6878878430452},{"$f":"VLOOKUP($A277,'8.Non-elective admissions - CCG'!$D$5:$N$215,5,0)*$H277","v":4598.9052173957307},{"$f":"VLOOKUP($A277,'8.Non-elective admissions - CCG'!$D$5:$N$215,6,0)*$H277","v":4327.5688228915842},{"$f":"VLOOKUP($A277,'8.Non-elective admissions - CCG'!$D$5:$N$215,7,0)*$H277","v":4214.1008760989416},{"$f":"VLOOKUP($A277,'8.Non-elective admissions - CCG'!$D$5:$N$215,8,0)*$H277","v":4147.9934636197495},{"$f":"VLOOKUP($A277,'8.Non-elective admissions - CCG'!$D$5:$N$215,9,0)*$H277","v":4273.3015439907549},{"$f":"VLOOKUP($A277,'8.Non-elective admissions - CCG'!$D$5:$N$215,10,0)*$H277","v":4249.6212768340301},{"$f":"VLOOKUP($A277,'8.Non-elective admissions - CCG'!$D$5:$Q$215,11,0)*$H277","v":4067.085884167604},{"$f":"VLOOKUP($A277,'8.Non-elective admissions - CCG'!$D$5:$Q$215,12,0)*$H277","v":4000.9784716884124},{"$f":"VLOOKUP($A277,'8.Non-elective admissions - CCG'!$D$5:$Q$215,13,0)*$H277","v":4271.3281883943619},{"$f":"VLOOKUP($A277,'8.Non-elective admissions - CCG'!$D$5:$Q$215,14,0)*$H277","v":4286.1283553673147}]
["10K","NHS Fareham and Gosport CCG","E06000044","Portsmouth",{"$f":"COUNTIF($D$5:D278,D278)","v":1},"Portsmouth1","NHS Fareham and Gosport CCG",1.3322201803104271E-2,1.267269390383861E-2,{"$f":"VLOOKUP($A278,'8.Non-elective admissions - CCG'!$D$5:$N$215,3,0)*$H278","v":57.738422614653913},{"$f":"VLOOKUP($A278,'8.Non-elective admissions - CCG'!$D$5:$N$215,4,0)*$H278","v":57.312112156954576},{"$f":"VLOOKUP($A278,'8.Non-elective admissions - CCG'!$D$5:$N$215,5,0)*$H278","v":62.094782604269007},{"$f":"VLOOKUP($A278,'8.Non-elective admissions - CCG'!$D$5:$N$215,6,0)*$H278","v":58.431177108415334},{"$f":"VLOOKUP($A278,'8.Non-elective admissions - CCG'!$D$5:$N$215,7,0)*$H278","v":56.899123901058339},{"$f":"VLOOKUP($A278,'8.Non-elective admissions - CCG'!$D$5:$N$215,8,0)*$H278","v":56.006536380250353},{"$f":"VLOOKUP($A278,'8.Non-elective admissions - CCG'!$D$5:$N$215,9,0)*$H278","v":57.698456009244602},{"$f":"VLOOKUP($A278,'8.Non-elective admissions - CCG'!$D$5:$N$215,10,0)*$H278","v":57.378723165970094},{"$f":"VLOOKUP($A278,'8.Non-elective admissions - CCG'!$D$5:$Q$215,11,0)*$H278","v":54.914115832395808},{"$f":"VLOOKUP($A278,'8.Non-elective admissions - CCG'!$D$5:$Q$215,12,0)*$H278","v":54.021528311587822},{"$f":"VLOOKUP($A278,'8.Non-elective admissions - CCG'!$D$5:$Q$215,13,0)*$H278","v":57.671811605638389},{"$f":"VLOOKUP($A278,'8.Non-elective admissions - CCG'!$D$5:$Q$215,14,0)*$H278","v":57.871644632684955}]
["02M","NHS Fylde & Wyre CCG","E06000009","Blackpool",{"$f":"COUNTIF($D$5:D279,D279)","v":2},"Blackpool2","NHS Fylde & Wyre CCG",2.6412159961717651E-2,2.5879977858096447E-2,{"$f":"VLOOKUP($A279,'8.Non-elective admissions - CCG'!$D$5:$N$215,3,0)*$H279","v":102.87536305089026},{"$f":"VLOOKUP($A279,'8.Non-elective admissions - CCG'!$D$5:$N$215,4,0)*$H279","v":97.513694578661571},{"$f":"VLOOKUP($A279,'8.Non-elective admissions - CCG'!$D$5:$N$215,5,0)*$H279","v":100.89445105376143},{"$f":"VLOOKUP($A279,'8.Non-elective admissions - CCG'!$D$5:$N$215,6,0)*$H279","v":105.35810608729172},{"$f":"VLOOKUP($A279,'8.Non-elective admissions - CCG'!$D$5:$N$215,7,0)*$H279","v":104.09032240912926},{"$f":"VLOOKUP($A279,'8.Non-elective admissions - CCG'!$D$5:$N$215,8,0)*$H279","v":96.272323060460835},{"$f":"VLOOKUP($A279,'8.Non-elective admissions - CCG'!$D$5:$N$215,9,0)*$H279","v":99.521018735752108},{"$f":"VLOOKUP($A279,'8.Non-elective admissions - CCG'!$D$5:$N$215,10,0)*$H279","v":103.82620080951209},{"$f":"VLOOKUP($A279,'8.Non-elective admissions - CCG'!$D$5:$Q$215,11,0)*$H279","v":102.3471198516559},{"$f":"VLOOKUP($A279,'8.Non-elective admissions - CCG'!$D$5:$Q$215,12,0)*$H279","v":94.634769142834344},{"$f":"VLOOKUP($A279,'8.Non-elective admissions - CCG'!$D$5:$Q$215,13,0)*$H279","v":97.830640498202186},{"$f":"VLOOKUP($A279,'8.Non-elective admissions - CCG'!$D$5:$Q$215,14,0)*$H279","v":102.056586092077}]
["02M","NHS Fylde & Wyre CCG","E10000017","Lancashire",{"$f":"COUNTIF($D$5:D280,D280)","v":9},"Lancashire9","NHS Fylde & Wyre CCG",0.97358784003828225,0.11944812515034268,{"$f":"VLOOKUP($A280,'8.Non-elective admissions - CCG'!$D$5:$N$215,3,0)*$H280","v":3792.1246369491096},{"$f":"VLOOKUP($A280,'8.Non-elective admissions - CCG'!$D$5:$N$215,4,0)*$H280","v":3594.4863054213379},{"$f":"VLOOKUP($A280,'8.Non-elective admissions - CCG'!$D$5:$N$215,5,0)*$H280","v":3719.1055489462383},{"$f":"VLOOKUP($A280,'8.Non-elective admissions - CCG'!$D$5:$N$215,6,0)*$H280","v":3883.6418939127079},{"$f":"VLOOKUP($A280,'8.Non-elective admissions - CCG'!$D$5:$N$215,7,0)*$H280","v":3836.9096775908702},{"$f":"VLOOKUP($A280,'8.Non-elective admissions - CCG'!$D$5:$N$215,8,0)*$H280","v":3548.7276769395389},{"$f":"VLOOKUP($A280,'8.Non-elective admissions - CCG'!$D$5:$N$215,9,0)*$H280","v":3668.4789812642475},{"$f":"VLOOKUP($A280,'8.Non-elective admissions - CCG'!$D$5:$N$215,10,0)*$H280","v":3827.1737991904874},{"$f":"VLOOKUP($A280,'8.Non-elective admissions - CCG'!$D$5:$Q$215,11,0)*$H280","v":3772.6528801483437},{"$f":"VLOOKUP($A280,'8.Non-elective admissions - CCG'!$D$5:$Q$215,12,0)*$H280","v":3488.3652308571654},{"$f":"VLOOKUP($A280,'8.Non-elective admissions - CCG'!$D$5:$Q$215,13,0)*$H280","v":3606.1693595017973},{"$f":"VLOOKUP($A280,'8.Non-elective admissions - CCG'!$D$5:$Q$215,14,0)*$H280","v":3761.9434139079226}]
["00F","NHS Gateshead CCG","E06000047","County Durham",{"$f":"COUNTIF($D$5:D281,D281)","v":2},"County Durham2","NHS Gateshead CCG",1.8197666491361349E-2,7.0433153528065831E-3,{"$f":"VLOOKUP($A281,'8.Non-elective admissions - CCG'!$D$5:$N$215,3,0)*$H281","v":115.15483355733461},{"$f":"VLOOKUP($A281,'8.Non-elective admissions - CCG'!$D$5:$N$215,4,0)*$H281","v":114.60890356259377},{"$f":"VLOOKUP($A281,'8.Non-elective admissions - CCG'!$D$5:$N$215,5,0)*$H281","v":119.88622684508856},{"$f":"VLOOKUP($A281,'8.Non-elective admissions - CCG'!$D$5:$N$215,6,0)*$H281","v":127.18349110812447},{"$f":"VLOOKUP($A281,'8.Non-elective admissions - CCG'!$D$5:$N$215,7,0)*$H281","v":115.02744989189509},{"$f":"VLOOKUP($A281,'8.Non-elective admissions - CCG'!$D$5:$N$215,8,0)*$H281","v":112.62535791503538},{"$f":"VLOOKUP($A281,'8.Non-elective admissions - CCG'!$D$5:$N$215,9,0)*$H281","v":117.64791386665112},{"$f":"VLOOKUP($A281,'8.Non-elective admissions - CCG'!$D$5:$N$215,10,0)*$H281","v":117.52053020121159},{"$f":"VLOOKUP($A281,'8.Non-elective admissions - CCG'!$D$5:$Q$215,11,0)*$H281","v":112.73454391398356},{"$f":"VLOOKUP($A281,'8.Non-elective admissions - CCG'!$D$5:$Q$215,12,0)*$H281","v":110.29605660414113},{"$f":"VLOOKUP($A281,'8.Non-elective admissions - CCG'!$D$5:$Q$215,13,0)*$H281","v":115.33681022224823},{"$f":"VLOOKUP($A281,'8.Non-elective admissions - CCG'!$D$5:$Q$215,14,0)*$H281","v":115.19122889031733}]
["00F","NHS Gateshead CCG","E08000020","Gateshead",{"$f":"COUNTIF($D$5:D282,D282)","v":1},"Gateshead1","NHS Gateshead CCG",0.96957478719881596,0.9801178456979428,{"$f":"VLOOKUP($A282,'8.Non-elective admissions - CCG'!$D$5:$N$215,3,0)*$H282","v":6135.469253394107},{"$f":"VLOOKUP($A282,'8.Non-elective admissions - CCG'!$D$5:$N$215,4,0)*$H282","v":6106.3820097781427},{"$f":"VLOOKUP($A282,'8.Non-elective admissions - CCG'!$D$5:$N$215,5,0)*$H282","v":6387.5586980657999},{"$f":"VLOOKUP($A282,'8.Non-elective admissions - CCG'!$D$5:$N$215,6,0)*$H282","v":6776.358187732525},{"$f":"VLOOKUP($A282,'8.Non-elective admissions - CCG'!$D$5:$N$215,7,0)*$H282","v":6128.682229883716},{"$f":"VLOOKUP($A282,'8.Non-elective admissions - CCG'!$D$5:$N$215,8,0)*$H282","v":6000.6983579734724},{"$f":"VLOOKUP($A282,'8.Non-elective admissions - CCG'!$D$5:$N$215,9,0)*$H282","v":6268.3009992403449},{"$f":"VLOOKUP($A282,'8.Non-elective admissions - CCG'!$D$5:$N$215,10,0)*$H282","v":6261.513975729953},{"$f":"VLOOKUP($A282,'8.Non-elective admissions - CCG'!$D$5:$Q$215,11,0)*$H282","v":6006.5158066966651},{"$f":"VLOOKUP($A282,'8.Non-elective admissions - CCG'!$D$5:$Q$215,12,0)*$H282","v":5876.592785212024},{"$f":"VLOOKUP($A282,'8.Non-elective admissions - CCG'!$D$5:$Q$215,13,0)*$H282","v":6145.1650012660957},{"$f":"VLOOKUP($A282,'8.Non-elective admissions - CCG'!$D$5:$Q$215,14,0)*$H282","v":6137.4084029685046}]
["00F","NHS Gateshead CCG","E08000023","South Tyneside",{"$f":"COUNTIF($D$5:D283,D283)","v":1},"South Tyneside1","NHS Gateshead CCG",9.8852724049942561E-4,1.3111831651832426E-3,{"$f":"VLOOKUP($A283,'8.Non-elective admissions - CCG'!$D$5:$N$215,3,0)*$H283","v":6.2554003778803651},{"$f":"VLOOKUP($A283,'8.Non-elective admissions - CCG'!$D$5:$N$215,4,0)*$H283","v":6.2257445606653823},{"$f":"VLOOKUP($A283,'8.Non-elective admissions - CCG'!$D$5:$N$215,5,0)*$H283","v":6.5124174604102159},{"$f":"VLOOKUP($A283,'8.Non-elective admissions - CCG'!$D$5:$N$215,6,0)*$H283","v":6.908816883850486},{"$f":"VLOOKUP($A283,'8.Non-elective admissions - CCG'!$D$5:$N$215,7,0)*$H283","v":6.248480687196869},{"$f":"VLOOKUP($A283,'8.Non-elective admissions - CCG'!$D$5:$N$215,8,0)*$H283","v":6.1179950914509451},{"$f":"VLOOKUP($A283,'8.Non-elective admissions - CCG'!$D$5:$N$215,9,0)*$H283","v":6.3908286098287865},{"$f":"VLOOKUP($A283,'8.Non-elective admissions - CCG'!$D$5:$N$215,10,0)*$H283","v":6.3839089191452905},{"$f":"VLOOKUP($A283,'8.Non-elective admissions - CCG'!$D$5:$Q$215,11,0)*$H283","v":6.1239262548939415},{"$f":"VLOOKUP($A283,'8.Non-elective admissions - CCG'!$D$5:$Q$215,12,0)*$H283","v":5.9914636046670182},{"$f":"VLOOKUP($A283,'8.Non-elective admissions - CCG'!$D$5:$Q$215,13,0)*$H283","v":6.2652856502853593},{"$f":"VLOOKUP($A283,'8.Non-elective admissions - CCG'!$D$5:$Q$215,14,0)*$H283","v":6.2573774323613645}]
["00F","NHS Gateshead CCG","E08000024","Sunderland",{"$f":"COUNTIF($D$5:D284,D284)","v":2},"Sunderland2","NHS Gateshead CCG",1.123901906932352E-2,7.9633163003012108E-3,{"$f":"VLOOKUP($A284,'8.Non-elective admissions - CCG'!$D$5:$N$215,3,0)*$H284","v":71.120512670679233},{"$f":"VLOOKUP($A284,'8.Non-elective admissions - CCG'!$D$5:$N$215,4,0)*$H284","v":70.783342098599533},{"$f":"VLOOKUP($A284,'8.Non-elective admissions - CCG'!$D$5:$N$215,5,0)*$H284","v":74.042657628703353},{"$f":"VLOOKUP($A284,'8.Non-elective admissions - CCG'!$D$5:$N$215,6,0)*$H284","v":78.549504275502088},{"$f":"VLOOKUP($A284,'8.Non-elective admissions - CCG'!$D$5:$N$215,7,0)*$H284","v":71.041839537193965},{"$f":"VLOOKUP($A284,'8.Non-elective admissions - CCG'!$D$5:$N$215,8,0)*$H284","v":69.558289020043262},{"$f":"VLOOKUP($A284,'8.Non-elective admissions - CCG'!$D$5:$N$215,9,0)*$H284","v":72.66025828317656},{"$f":"VLOOKUP($A284,'8.Non-elective admissions - CCG'!$D$5:$N$215,10,0)*$H284","v":72.581585149691293},{"$f":"VLOOKUP($A284,'8.Non-elective admissions - CCG'!$D$5:$Q$215,11,0)*$H284","v":69.625723134459207},{"$f":"VLOOKUP($A284,'8.Non-elective admissions - CCG'!$D$5:$Q$215,12,0)*$H284","v":68.11969457916986},{"$f":"VLOOKUP($A284,'8.Non-elective admissions - CCG'!$D$5:$Q$215,13,0)*$H284","v":71.232902861372466},{"$f":"VLOOKUP($A284,'8.Non-elective admissions - CCG'!$D$5:$Q$215,14,0)*$H284","v":71.142990708817877}]
["11M","NHS Gloucestershire CCG","E10000013","Gloucestershire",{"$f":"COUNTIF($D$5:D285,D285)","v":1},"Gloucestershire1","NHS Gloucestershire CCG",0.97540337381700948,0.98620521616776424,{"$f":"VLOOKUP($A285,'8.Non-elective admissions - CCG'!$D$5:$N$215,3,0)*$H285","v":12789.489037488629},{"$f":"VLOOKUP($A285,'8.Non-elective admissions - CCG'!$D$5:$N$215,4,0)*$H285","v":13021.635040457077},{"$f":"VLOOKUP($A285,'8.Non-elective admissions - CCG'!$D$5:$N$215,5,0)*$H285","v":14030.202128983865},{"$f":"VLOOKUP($A285,'8.Non-elective admissions - CCG'!$D$5:$N$215,6,0)*$H285","v":13730.753293222042},{"$f":"VLOOKUP($A285,'8.Non-elective admissions - CCG'!$D$5:$N$215,7,0)*$H285","v":12343.729695654254},{"$f":"VLOOKUP($A285,'8.Non-elective admissions - CCG'!$D$5:$N$215,8,0)*$H285","v":12586.60513573469},{"$f":"VLOOKUP($A285,'8.Non-elective admissions - CCG'!$D$5:$N$215,9,0)*$H285","v":13663.450460428669},{"$f":"VLOOKUP($A285,'8.Non-elective admissions - CCG'!$D$5:$N$215,10,0)*$H285","v":13788.302092277247},{"$f":"VLOOKUP($A285,'8.Non-elective admissions - CCG'!$D$5:$Q$215,11,0)*$H285","v":12098.903448826186},{"$f":"VLOOKUP($A285,'8.Non-elective admissions - CCG'!$D$5:$Q$215,12,0)*$H285","v":12343.729695654254},{"$f":"VLOOKUP($A285,'8.Non-elective admissions - CCG'!$D$5:$Q$215,13,0)*$H285","v":13447.88631481511},{"$f":"VLOOKUP($A285,'8.Non-elective admissions - CCG'!$D$5:$Q$215,14,0)*$H285","v":13574.688753411321}]
["11M","NHS Gloucestershire CCG","E06000019","Herefordshire, County of",{"$f":"COUNTIF($D$5:D286,D286)","v":1},"Herefordshire, County of1","NHS Gloucestershire CCG",2.8439649531591627E-3,9.7992312387614033E-3,{"$f":"VLOOKUP($A286,'8.Non-elective admissions - CCG'!$D$5:$N$215,3,0)*$H286","v":37.290068465822941},{"$f":"VLOOKUP($A286,'8.Non-elective admissions - CCG'!$D$5:$N$215,4,0)*$H286","v":37.96693212467482},{"$f":"VLOOKUP($A286,'8.Non-elective admissions - CCG'!$D$5:$N$215,5,0)*$H286","v":40.907591886241399},{"$f":"VLOOKUP($A286,'8.Non-elective admissions - CCG'!$D$5:$N$215,6,0)*$H286","v":40.034494645621535},{"$f":"VLOOKUP($A286,'8.Non-elective admissions - CCG'!$D$5:$N$215,7,0)*$H286","v":35.990376482229202},{"$f":"VLOOKUP($A286,'8.Non-elective admissions - CCG'!$D$5:$N$215,8,0)*$H286","v":36.698523755565837},{"$f":"VLOOKUP($A286,'8.Non-elective admissions - CCG'!$D$5:$N$215,9,0)*$H286","v":39.838261063853551},{"$f":"VLOOKUP($A286,'8.Non-elective admissions - CCG'!$D$5:$N$215,10,0)*$H286","v":40.202288577857928},{"$f":"VLOOKUP($A286,'8.Non-elective admissions - CCG'!$D$5:$Q$215,11,0)*$H286","v":35.276541278986258},{"$f":"VLOOKUP($A286,'8.Non-elective admissions - CCG'!$D$5:$Q$215,12,0)*$H286","v":35.990376482229202},{"$f":"VLOOKUP($A286,'8.Non-elective admissions - CCG'!$D$5:$Q$215,13,0)*$H286","v":39.209744809205375},{"$f":"VLOOKUP($A286,'8.Non-elective admissions - CCG'!$D$5:$Q$215,14,0)*$H286","v":39.579460253116068}]
["11M","NHS Gloucestershire CCG","E10000025","Oxfordshire",{"$f":"COUNTIF($D$5:D287,D287)","v":2},"Oxfordshire2","NHS Gloucestershire CCG",1.8959766354394419E-3,1.6791187170854568E-3,{"$f":"VLOOKUP($A287,'8.Non-elective admissions - CCG'!$D$5:$N$215,3,0)*$H287","v":24.860045643881961},{"$f":"VLOOKUP($A287,'8.Non-elective admissions - CCG'!$D$5:$N$215,4,0)*$H287","v":25.311288083116551},{"$f":"VLOOKUP($A287,'8.Non-elective admissions - CCG'!$D$5:$N$215,5,0)*$H287","v":27.271727924160931},{"$f":"VLOOKUP($A287,'8.Non-elective admissions - CCG'!$D$5:$N$215,6,0)*$H287","v":26.689663097081024},{"$f":"VLOOKUP($A287,'8.Non-elective admissions - CCG'!$D$5:$N$215,7,0)*$H287","v":23.993584321486136},{"$f":"VLOOKUP($A287,'8.Non-elective admissions - CCG'!$D$5:$N$215,8,0)*$H287","v":24.465682503710557},{"$f":"VLOOKUP($A287,'8.Non-elective admissions - CCG'!$D$5:$N$215,9,0)*$H287","v":26.558840709235703},{"$f":"VLOOKUP($A287,'8.Non-elective admissions - CCG'!$D$5:$N$215,10,0)*$H287","v":26.801525718571952},{"$f":"VLOOKUP($A287,'8.Non-elective admissions - CCG'!$D$5:$Q$215,11,0)*$H287","v":23.517694185990837},{"$f":"VLOOKUP($A287,'8.Non-elective admissions - CCG'!$D$5:$Q$215,12,0)*$H287","v":23.993584321486136},{"$f":"VLOOKUP($A287,'8.Non-elective admissions - CCG'!$D$5:$Q$215,13,0)*$H287","v":26.139829872803585},{"$f":"VLOOKUP($A287,'8.Non-elective admissions - CCG'!$D$5:$Q$215,14,0)*$H287","v":26.386306835410714}]
["11M","NHS Gloucestershire CCG","E06000025","South Gloucestershire",{"$f":"COUNTIF($D$5:D288,D288)","v":3},"South Gloucestershire3","NHS Gloucestershire CCG",8.2701607111508313E-3,1.8683569131369069E-2,{"$f":"VLOOKUP($A288,'8.Non-elective admissions - CCG'!$D$5:$N$215,3,0)*$H288","v":108.4383472446097},{"$f":"VLOOKUP($A288,'8.Non-elective admissions - CCG'!$D$5:$N$215,4,0)*$H288","v":110.40664549386359},{"$f":"VLOOKUP($A288,'8.Non-elective admissions - CCG'!$D$5:$N$215,5,0)*$H288","v":118.95799166919356},{"$f":"VLOOKUP($A288,'8.Non-elective admissions - CCG'!$D$5:$N$215,6,0)*$H288","v":116.41905233087026},{"$f":"VLOOKUP($A288,'8.Non-elective admissions - CCG'!$D$5:$N$215,7,0)*$H288","v":104.65888379961378},{"$f":"VLOOKUP($A288,'8.Non-elective admissions - CCG'!$D$5:$N$215,8,0)*$H288","v":106.71815381669033},{"$f":"VLOOKUP($A288,'8.Non-elective admissions - CCG'!$D$5:$N$215,9,0)*$H288","v":115.84841124180085},{"$f":"VLOOKUP($A288,'8.Non-elective admissions - CCG'!$D$5:$N$215,10,0)*$H288","v":116.90699181282815},{"$f":"VLOOKUP($A288,'8.Non-elective admissions - CCG'!$D$5:$Q$215,11,0)*$H288","v":102.58307346111491},{"$f":"VLOOKUP($A288,'8.Non-elective admissions - CCG'!$D$5:$Q$215,12,0)*$H288","v":104.65888379961378},{"$f":"VLOOKUP($A288,'8.Non-elective admissions - CCG'!$D$5:$Q$215,13,0)*$H288","v":114.02070572463651},{"$f":"VLOOKUP($A288,'8.Non-elective admissions - CCG'!$D$5:$Q$215,14,0)*$H288","v":115.09582661708612}]
["11M","NHS Gloucestershire CCG","E06000030","Swindon",{"$f":"COUNTIF($D$5:D289,D289)","v":1},"Swindon1","NHS Gloucestershire CCG",0,1.9981631235859412E-3,{"$f":"VLOOKUP($A289,'8.Non-elective admissions - CCG'!$D$5:$N$215,3,0)*$H289","v":0},{"$f":"VLOOKUP($A289,'8.Non-elective admissions - CCG'!$D$5:$N$215,4,0)*$H289","v":0},{"$f":"VLOOKUP($A289,'8.Non-elective admissions - CCG'!$D$5:$N$215,5,0)*$H289","v":0},{"$f":"VLOOKUP($A289,'8.Non-elective admissions - CCG'!$D$5:$N$215,6,0)*$H289","v":0},{"$f":"VLOOKUP($A289,'8.Non-elective admissions - CCG'!$D$5:$N$215,7,0)*$H289","v":0},{"$f":"VLOOKUP($A289,'8.Non-elective admissions - CCG'!$D$5:$N$215,8,0)*$H289","v":0},{"$f":"VLOOKUP($A289,'8.Non-elective admissions - CCG'!$D$5:$N$215,9,0)*$H289","v":0},{"$f":"VLOOKUP($A289,'8.Non-elective admissions - CCG'!$D$5:$N$215,10,0)*$H289","v":0},{"$f":"VLOOKUP($A289,'8.Non-elective admissions - CCG'!$D$5:$Q$215,11,0)*$H289","v":0},{"$f":"VLOOKUP($A289,'8.Non-elective admissions - CCG'!$D$5:$Q$215,12,0)*$H289","v":0},{"$f":"VLOOKUP($A289,'8.Non-elective admissions - CCG'!$D$5:$Q$215,13,0)*$H289","v":0},{"$f":"VLOOKUP($A289,'8.Non-elective admissions - CCG'!$D$5:$Q$215,14,0)*$H289","v":0}]
["11M","NHS Gloucestershire CCG","E10000031","Warwickshire",{"$f":"COUNTIF($D$5:D290,D290)","v":3},"Warwickshire3","NHS Gloucestershire CCG",1.9677939322363907E-3,2.146034796048372E-3,{"$f":"VLOOKUP($A290,'8.Non-elective admissions - CCG'!$D$5:$N$215,3,0)*$H290","v":25.801714039483556},{"$f":"VLOOKUP($A290,'8.Non-elective admissions - CCG'!$D$5:$N$215,4,0)*$H290","v":26.270048995355815},{"$f":"VLOOKUP($A290,'8.Non-elective admissions - CCG'!$D$5:$N$215,5,0)*$H290","v":28.304747921288243},{"$f":"VLOOKUP($A290,'8.Non-elective admissions - CCG'!$D$5:$N$215,6,0)*$H290","v":27.700635184091674},{"$f":"VLOOKUP($A290,'8.Non-elective admissions - CCG'!$D$5:$N$215,7,0)*$H290","v":24.902432212451526},{"$f":"VLOOKUP($A290,'8.Non-elective admissions - CCG'!$D$5:$N$215,8,0)*$H290","v":25.392412901578385},{"$f":"VLOOKUP($A290,'8.Non-elective admissions - CCG'!$D$5:$N$215,9,0)*$H290","v":27.564857402767363},{"$f":"VLOOKUP($A290,'8.Non-elective admissions - CCG'!$D$5:$N$215,10,0)*$H290","v":27.816735026093621},{"$f":"VLOOKUP($A290,'8.Non-elective admissions - CCG'!$D$5:$Q$215,11,0)*$H290","v":24.408515935460191},{"$f":"VLOOKUP($A290,'8.Non-elective admissions - CCG'!$D$5:$Q$215,12,0)*$H290","v":24.902432212451526},{"$f":"VLOOKUP($A290,'8.Non-elective admissions - CCG'!$D$5:$Q$215,13,0)*$H290","v":27.129974943743118},{"$f":"VLOOKUP($A290,'8.Non-elective admissions - CCG'!$D$5:$Q$215,14,0)*$H290","v":27.385788154933849}]
["11M","NHS Gloucestershire CCG","E06000054","Wiltshire",{"$f":"COUNTIF($D$5:D291,D291)","v":3},"Wiltshire3","NHS Gloucestershire CCG",4.219665171802933E-3,5.5276802140826224E-3,{"$f":"VLOOKUP($A291,'8.Non-elective admissions - CCG'!$D$5:$N$215,3,0)*$H291","v":55.328249732680057},{"$f":"VLOOKUP($A291,'8.Non-elective admissions - CCG'!$D$5:$N$215,4,0)*$H291","v":56.332530043569157},{"$f":"VLOOKUP($A291,'8.Non-elective admissions - CCG'!$D$5:$N$215,5,0)*$H291","v":60.695663831213388},{"$f":"VLOOKUP($A291,'8.Non-elective admissions - CCG'!$D$5:$N$215,6,0)*$H291","v":59.400226623469891},{"$f":"VLOOKUP($A291,'8.Non-elective admissions - CCG'!$D$5:$N$215,7,0)*$H291","v":53.399862749166118},{"$f":"VLOOKUP($A291,'8.Non-elective admissions - CCG'!$D$5:$N$215,8,0)*$H291","v":54.450559376945051},{"$f":"VLOOKUP($A291,'8.Non-elective admissions - CCG'!$D$5:$N$215,9,0)*$H291","v":59.109069726615488},{"$f":"VLOOKUP($A291,'8.Non-elective admissions - CCG'!$D$5:$N$215,10,0)*$H291","v":59.649186868606265},{"$f":"VLOOKUP($A291,'8.Non-elective admissions - CCG'!$D$5:$Q$215,11,0)*$H291","v":52.340726791043579},{"$f":"VLOOKUP($A291,'8.Non-elective admissions - CCG'!$D$5:$Q$215,12,0)*$H291","v":53.399862749166118},{"$f":"VLOOKUP($A291,'8.Non-elective admissions - CCG'!$D$5:$Q$215,13,0)*$H291","v":58.176523723647037},{"$f":"VLOOKUP($A291,'8.Non-elective admissions - CCG'!$D$5:$Q$215,14,0)*$H291","v":58.72508019598142}]
["11M","NHS Gloucestershire CCG","E10000034","Worcestershire",{"$f":"COUNTIF($D$5:D292,D292)","v":4},"Worcestershire4","NHS Gloucestershire CCG",5.3990647792017104E-3,5.737515857455887E-3,{"$f":"VLOOKUP($A292,'8.Non-elective admissions - CCG'!$D$5:$N$215,3,0)*$H292","v":70.792537384892825},{"$f":"VLOOKUP($A292,'8.Non-elective admissions - CCG'!$D$5:$N$215,4,0)*$H292","v":72.077514802342833},{"$f":"VLOOKUP($A292,'8.Non-elective admissions - CCG'!$D$5:$N$215,5,0)*$H292","v":77.660147784037406},{"$f":"VLOOKUP($A292,'8.Non-elective admissions - CCG'!$D$5:$N$215,6,0)*$H292","v":76.002634896822471},{"$f":"VLOOKUP($A292,'8.Non-elective admissions - CCG'!$D$5:$N$215,7,0)*$H292","v":68.32516478079765},{"$f":"VLOOKUP($A292,'8.Non-elective admissions - CCG'!$D$5:$N$215,8,0)*$H292","v":69.669531910818876},{"$f":"VLOOKUP($A292,'8.Non-elective admissions - CCG'!$D$5:$N$215,9,0)*$H292","v":75.630099427057559},{"$f":"VLOOKUP($A292,'8.Non-elective admissions - CCG'!$D$5:$N$215,10,0)*$H292","v":76.321179718795378},{"$f":"VLOOKUP($A292,'8.Non-elective admissions - CCG'!$D$5:$Q$215,11,0)*$H292","v":66.969999521218014},{"$f":"VLOOKUP($A292,'8.Non-elective admissions - CCG'!$D$5:$Q$215,12,0)*$H292","v":68.32516478079765},{"$f":"VLOOKUP($A292,'8.Non-elective admissions - CCG'!$D$5:$Q$215,13,0)*$H292","v":74.436906110853982},{"$f":"VLOOKUP($A292,'8.Non-elective admissions - CCG'!$D$5:$Q$215,14,0)*$H292","v":75.138784532150197}]
["06M","NHS Great Yarmouth and Waveney CCG","E10000020","Norfolk",{"$f":"COUNTIF($D$5:D293,D293)","v":2},"Norfolk2","NHS Great Yarmouth and Waveney CCG",0.47229046412564674,0.12304632060990528,{"$f":"VLOOKUP($A293,'8.Non-elective admissions - CCG'!$D$5:$N$215,3,0)*$H293","v":2792.1812239108235},{"$f":"VLOOKUP($A293,'8.Non-elective admissions - CCG'!$D$5:$N$215,4,0)*$H293","v":2330.2811499959412},{"$f":"VLOOKUP($A293,'8.Non-elective admissions - CCG'!$D$5:$N$215,5,0)*$H293","v":2427.5729856058242},{"$f":"VLOOKUP($A293,'8.Non-elective admissions - CCG'!$D$5:$N$215,6,0)*$H293","v":2493.2213601192893},{"$f":"VLOOKUP($A293,'8.Non-elective admissions - CCG'!$D$5:$N$215,7,0)*$H293","v":2514.0021405408174},{"$f":"VLOOKUP($A293,'8.Non-elective admissions - CCG'!$D$5:$N$215,8,0)*$H293","v":2466.773094128253},{"$f":"VLOOKUP($A293,'8.Non-elective admissions - CCG'!$D$5:$N$215,9,0)*$H293","v":2418.599466787437},{"$f":"VLOOKUP($A293,'8.Non-elective admissions - CCG'!$D$5:$N$215,10,0)*$H293","v":2361.4523206282338},{"$f":"VLOOKUP($A293,'8.Non-elective admissions - CCG'!$D$5:$Q$215,11,0)*$H293","v":2412.4596907538034},{"$f":"VLOOKUP($A293,'8.Non-elective admissions - CCG'!$D$5:$Q$215,12,0)*$H293","v":2366.1752252694901},{"$f":"VLOOKUP($A293,'8.Non-elective admissions - CCG'!$D$5:$Q$215,13,0)*$H293","v":2319.8907597851767},{"$f":"VLOOKUP($A293,'8.Non-elective admissions - CCG'!$D$5:$Q$215,14,0)*$H293","v":2265.5773564107276}]
["06M","NHS Great Yarmouth and Waveney CCG","E10000029","Suffolk",{"$f":"COUNTIF($D$5:D294,D294)","v":2},"Suffolk2","NHS Great Yarmouth and Waveney CCG",0.52770953587435321,0.16566961579113973,{"$f":"VLOOKUP($A294,'8.Non-elective admissions - CCG'!$D$5:$N$215,3,0)*$H294","v":3119.818776089176},{"$f":"VLOOKUP($A294,'8.Non-elective admissions - CCG'!$D$5:$N$215,4,0)*$H294","v":2603.7188500040588},{"$f":"VLOOKUP($A294,'8.Non-elective admissions - CCG'!$D$5:$N$215,5,0)*$H294","v":2712.4270143941753},{"$f":"VLOOKUP($A294,'8.Non-elective admissions - CCG'!$D$5:$N$215,6,0)*$H294","v":2785.7786398807107},{"$f":"VLOOKUP($A294,'8.Non-elective admissions - CCG'!$D$5:$N$215,7,0)*$H294","v":2808.9978594591821},{"$f":"VLOOKUP($A294,'8.Non-elective admissions - CCG'!$D$5:$N$215,8,0)*$H294","v":2756.226905871747},{"$f":"VLOOKUP($A294,'8.Non-elective admissions - CCG'!$D$5:$N$215,9,0)*$H294","v":2702.400533212563},{"$f":"VLOOKUP($A294,'8.Non-elective admissions - CCG'!$D$5:$N$215,10,0)*$H294","v":2638.5476793717662},{"$f":"VLOOKUP($A294,'8.Non-elective admissions - CCG'!$D$5:$Q$215,11,0)*$H294","v":2695.5403092461961},{"$f":"VLOOKUP($A294,'8.Non-elective admissions - CCG'!$D$5:$Q$215,12,0)*$H294","v":2643.8247747305095},{"$f":"VLOOKUP($A294,'8.Non-elective admissions - CCG'!$D$5:$Q$215,13,0)*$H294","v":2592.1092402148229},{"$f":"VLOOKUP($A294,'8.Non-elective admissions - CCG'!$D$5:$Q$215,14,0)*$H294","v":2531.4226435892724}]
["03A","NHS Greater Huddersfield CCG","E08000016","Barnsley",{"$f":"COUNTIF($D$5:D295,D295)","v":3},"Barnsley3","NHS Greater Huddersfield CCG",1.7430330431038412E-3,1.7323463211300987E-3,{"$f":"VLOOKUP($A295,'8.Non-elective admissions - CCG'!$D$5:$N$215,3,0)*$H295","v":10.630758529890327},{"$f":"VLOOKUP($A295,'8.Non-elective admissions - CCG'!$D$5:$N$215,4,0)*$H295","v":10.759742975080012},{"$f":"VLOOKUP($A295,'8.Non-elective admissions - CCG'!$D$5:$N$215,5,0)*$H295","v":10.90441471765763},{"$f":"VLOOKUP($A295,'8.Non-elective admissions - CCG'!$D$5:$N$215,6,0)*$H295","v":10.445997027321321},{"$f":"VLOOKUP($A295,'8.Non-elective admissions - CCG'!$D$5:$N$215,7,0)*$H295","v":10.747541743778285},{"$f":"VLOOKUP($A295,'8.Non-elective admissions - CCG'!$D$5:$N$215,8,0)*$H295","v":10.883498321140385},{"$f":"VLOOKUP($A295,'8.Non-elective admissions - CCG'!$D$5:$N$215,9,0)*$H295","v":11.026427030674899},{"$f":"VLOOKUP($A295,'8.Non-elective admissions - CCG'!$D$5:$N$215,10,0)*$H295","v":10.609842133373082},{"$f":"VLOOKUP($A295,'8.Non-elective admissions - CCG'!$D$5:$Q$215,11,0)*$H295","v":10.794603635942089},{"$f":"VLOOKUP($A295,'8.Non-elective admissions - CCG'!$D$5:$Q$215,12,0)*$H295","v":10.930560213304188},{"$f":"VLOOKUP($A295,'8.Non-elective admissions - CCG'!$D$5:$Q$215,13,0)*$H295","v":11.076974988924912},{"$f":"VLOOKUP($A295,'8.Non-elective admissions - CCG'!$D$5:$Q$215,14,0)*$H295","v":10.655160992493782}]
["03A","NHS Greater Huddersfield CCG","E08000033","Calderdale",{"$f":"COUNTIF($D$5:D296,D296)","v":3},"Calderdale3","NHS Greater Huddersfield CCG",3.8090033245974674E-3,4.2614689098050846E-3,{"$f":"VLOOKUP($A296,'8.Non-elective admissions - CCG'!$D$5:$N$215,3,0)*$H296","v":23.231111276719954},{"$f":"VLOOKUP($A296,'8.Non-elective admissions - CCG'!$D$5:$N$215,4,0)*$H296","v":23.512977522740165},{"$f":"VLOOKUP($A296,'8.Non-elective admissions - CCG'!$D$5:$N$215,5,0)*$H296","v":23.829124798681757},{"$f":"VLOOKUP($A296,'8.Non-elective admissions - CCG'!$D$5:$N$215,6,0)*$H296","v":22.827356924312621},{"$f":"VLOOKUP($A296,'8.Non-elective admissions - CCG'!$D$5:$N$215,7,0)*$H296","v":23.486314499467984},{"$f":"VLOOKUP($A296,'8.Non-elective admissions - CCG'!$D$5:$N$215,8,0)*$H296","v":23.783416758786586},{"$f":"VLOOKUP($A296,'8.Non-elective admissions - CCG'!$D$5:$N$215,9,0)*$H296","v":24.095755031403581},{"$f":"VLOOKUP($A296,'8.Non-elective admissions - CCG'!$D$5:$N$215,10,0)*$H296","v":23.185403236824783},{"$f":"VLOOKUP($A296,'8.Non-elective admissions - CCG'!$D$5:$Q$215,11,0)*$H296","v":23.589157589232116},{"$f":"VLOOKUP($A296,'8.Non-elective admissions - CCG'!$D$5:$Q$215,12,0)*$H296","v":23.886259848550718},{"$f":"VLOOKUP($A296,'8.Non-elective admissions - CCG'!$D$5:$Q$215,13,0)*$H296","v":24.206216127816905},{"$f":"VLOOKUP($A296,'8.Non-elective admissions - CCG'!$D$5:$Q$215,14,0)*$H296","v":23.284437323264317}]
["03A","NHS Greater Huddersfield CCG","E08000034","Kirklees",{"$f":"COUNTIF($D$5:D297,D297)","v":4},"Kirklees4","NHS Greater Huddersfield CCG",0.99444796363229881,0.54730020712425398,{"$f":"VLOOKUP($A297,'8.Non-elective admissions - CCG'!$D$5:$N$215,3,0)*$H297","v":6065.1381301933907},{"$f":"VLOOKUP($A297,'8.Non-elective admissions - CCG'!$D$5:$N$215,4,0)*$H297","v":6138.7272795021809},{"$f":"VLOOKUP($A297,'8.Non-elective admissions - CCG'!$D$5:$N$215,5,0)*$H297","v":6221.2664604836618},{"$f":"VLOOKUP($A297,'8.Non-elective admissions - CCG'!$D$5:$N$215,6,0)*$H297","v":5959.726646048367},{"$f":"VLOOKUP($A297,'8.Non-elective admissions - CCG'!$D$5:$N$215,7,0)*$H297","v":6131.7661437567549},{"$f":"VLOOKUP($A297,'8.Non-elective admissions - CCG'!$D$5:$N$215,8,0)*$H297","v":6209.3330849200738},{"$f":"VLOOKUP($A297,'8.Non-elective admissions - CCG'!$D$5:$N$215,9,0)*$H297","v":6290.8778179379224},{"$f":"VLOOKUP($A297,'8.Non-elective admissions - CCG'!$D$5:$N$215,10,0)*$H297","v":6053.2047546298027},{"$f":"VLOOKUP($A297,'8.Non-elective admissions - CCG'!$D$5:$Q$215,11,0)*$H297","v":6158.6162387748263},{"$f":"VLOOKUP($A297,'8.Non-elective admissions - CCG'!$D$5:$Q$215,12,0)*$H297","v":6236.1831799381462},{"$f":"VLOOKUP($A297,'8.Non-elective admissions - CCG'!$D$5:$Q$215,13,0)*$H297","v":6319.7168088832586},{"$f":"VLOOKUP($A297,'8.Non-elective admissions - CCG'!$D$5:$Q$215,14,0)*$H297","v":6079.0604016842426}]
["01E","NHS Greater Preston CCG","E10000017","Lancashire",{"$f":"COUNTIF($D$5:D298,D298)","v":10},"Lancashire10","NHS Greater Preston CCG",0.99999999999999989,0.17091893522727736,{"$f":"VLOOKUP($A298,'8.Non-elective admissions - CCG'!$D$5:$N$215,3,0)*$H298","v":5521.9999999999991},{"$f":"VLOOKUP($A298,'8.Non-elective admissions - CCG'!$D$5:$N$215,4,0)*$H298","v":5357.9999999999991},{"$f":"VLOOKUP($A298,'8.Non-elective admissions - CCG'!$D$5:$N$215,5,0)*$H298","v":5863.9999999999991},{"$f":"VLOOKUP($A298,'8.Non-elective admissions - CCG'!$D$5:$N$215,6,0)*$H298","v":5744.9999999999991},{"$f":"VLOOKUP($A298,'8.Non-elective admissions - CCG'!$D$5:$N$215,7,0)*$H298","v":5493.9999999999991},{"$f":"VLOOKUP($A298,'8.Non-elective admissions - CCG'!$D$5:$N$215,8,0)*$H298","v":5329.9999999999991},{"$f":"VLOOKUP($A298,'8.Non-elective admissions - CCG'!$D$5:$N$215,9,0)*$H298","v":5829.9999999999991},{"$f":"VLOOKUP($A298,'8.Non-elective admissions - CCG'!$D$5:$N$215,10,0)*$H298","v":5763.9999999999991},{"$f":"VLOOKUP($A298,'8.Non-elective admissions - CCG'!$D$5:$Q$215,11,0)*$H298","v":5291.9999999999991},{"$f":"VLOOKUP($A298,'8.Non-elective admissions - CCG'!$D$5:$Q$215,12,0)*$H298","v":5132.9999999999991},{"$f":"VLOOKUP($A298,'8.Non-elective admissions - CCG'!$D$5:$Q$215,13,0)*$H298","v":5618.9999999999991},{"$f":"VLOOKUP($A298,'8.Non-elective admissions - CCG'!$D$5:$Q$215,14,0)*$H298","v":5557.9999999999991}]
["08A","NHS Greenwich CCG","E09000004","Bexley",{"$f":"COUNTIF($D$5:D299,D299)","v":3},"Bexley3","NHS Greenwich CCG",8.1745291958522051E-2,8.8980856590730142E-2,{"$f":"VLOOKUP($A299,'8.Non-elective admissions - CCG'!$D$5:$N$215,3,0)*$H299","v":443.54995416694067},{"$f":"VLOOKUP($A299,'8.Non-elective admissions - CCG'!$D$5:$N$215,4,0)*$H299","v":435.94764201479808},{"$f":"VLOOKUP($A299,'8.Non-elective admissions - CCG'!$D$5:$N$215,5,0)*$H299","v":452.29670040650251},{"$f":"VLOOKUP($A299,'8.Non-elective admissions - CCG'!$D$5:$N$215,6,0)*$H299","v":432.75957562841575},{"$f":"VLOOKUP($A299,'8.Non-elective admissions - CCG'!$D$5:$N$215,7,0)*$H299","v":441.09759540818499},{"$f":"VLOOKUP($A299,'8.Non-elective admissions - CCG'!$D$5:$N$215,8,0)*$H299","v":433.65877383995951},{"$f":"VLOOKUP($A299,'8.Non-elective admissions - CCG'!$D$5:$N$215,9,0)*$H299","v":456.22047442051155},{"$f":"VLOOKUP($A299,'8.Non-elective admissions - CCG'!$D$5:$N$215,10,0)*$H299","v":422.21443296576638},{"$f":"VLOOKUP($A299,'8.Non-elective admissions - CCG'!$D$5:$Q$215,11,0)*$H299","v":431.77863212491349},{"$f":"VLOOKUP($A299,'8.Non-elective admissions - CCG'!$D$5:$Q$215,12,0)*$H299","v":424.503301140605},{"$f":"VLOOKUP($A299,'8.Non-elective admissions - CCG'!$D$5:$Q$215,13,0)*$H299","v":446.49278467744745},{"$f":"VLOOKUP($A299,'8.Non-elective admissions - CCG'!$D$5:$Q$215,14,0)*$H299","v":413.22245085032898}]
["08A","NHS Greenwich CCG","E09000006","Bromley",{"$f":"COUNTIF($D$5:D300,D300)","v":4},"Bromley4","NHS Greenwich CCG",1.5180992237388172E-2,1.2080677379739549E-2,{"$f":"VLOOKUP($A300,'8.Non-elective admissions - CCG'!$D$5:$N$215,3,0)*$H300","v":82.372063880068225},{"$f":"VLOOKUP($A300,'8.Non-elective admissions - CCG'!$D$5:$N$215,4,0)*$H300","v":80.960231601991126},{"$f":"VLOOKUP($A300,'8.Non-elective admissions - CCG'!$D$5:$N$215,5,0)*$H300","v":83.996430049468756},{"$f":"VLOOKUP($A300,'8.Non-elective admissions - CCG'!$D$5:$N$215,6,0)*$H300","v":80.368172904732987},{"$f":"VLOOKUP($A300,'8.Non-elective admissions - CCG'!$D$5:$N$215,7,0)*$H300","v":81.916634112946582},{"$f":"VLOOKUP($A300,'8.Non-elective admissions - CCG'!$D$5:$N$215,8,0)*$H300","v":80.535163819344248},{"$f":"VLOOKUP($A300,'8.Non-elective admissions - CCG'!$D$5:$N$215,9,0)*$H300","v":84.725117676863391},{"$f":"VLOOKUP($A300,'8.Non-elective admissions - CCG'!$D$5:$N$215,10,0)*$H300","v":78.409824906109904},{"$f":"VLOOKUP($A300,'8.Non-elective admissions - CCG'!$D$5:$Q$215,11,0)*$H300","v":80.186000997884321},{"$f":"VLOOKUP($A300,'8.Non-elective admissions - CCG'!$D$5:$Q$215,12,0)*$H300","v":78.834892688756781},{"$f":"VLOOKUP($A300,'8.Non-elective admissions - CCG'!$D$5:$Q$215,13,0)*$H300","v":82.918579600614194},{"$f":"VLOOKUP($A300,'8.Non-elective admissions - CCG'!$D$5:$Q$215,14,0)*$H300","v":76.739915759997217}]
["08A","NHS Greenwich CCG","E09000011","Greenwich",{"$f":"COUNTIF($D$5:D301,D301)","v":3},"Greenwich3","NHS Greenwich CCG",0.87881120260532897,0.89700831418622828,{"$f":"VLOOKUP($A301,'8.Non-elective admissions - CCG'!$D$5:$N$215,3,0)*$H301","v":4768.4295853365147},{"$f":"VLOOKUP($A301,'8.Non-elective admissions - CCG'!$D$5:$N$215,4,0)*$H301","v":4686.7001434942194},{"$f":"VLOOKUP($A301,'8.Non-elective admissions - CCG'!$D$5:$N$215,5,0)*$H301","v":4862.4623840152854},{"$f":"VLOOKUP($A301,'8.Non-elective admissions - CCG'!$D$5:$N$215,6,0)*$H301","v":4652.426506592612},{"$f":"VLOOKUP($A301,'8.Non-elective admissions - CCG'!$D$5:$N$215,7,0)*$H301","v":4742.0652492583549},{"$f":"VLOOKUP($A301,'8.Non-elective admissions - CCG'!$D$5:$N$215,8,0)*$H301","v":4662.0934298212705},{"$f":"VLOOKUP($A301,'8.Non-elective admissions - CCG'!$D$5:$N$215,9,0)*$H301","v":4904.6453217403414},{"$f":"VLOOKUP($A301,'8.Non-elective admissions - CCG'!$D$5:$N$215,10,0)*$H301","v":4539.0598614565242},{"$f":"VLOOKUP($A301,'8.Non-elective admissions - CCG'!$D$5:$Q$215,11,0)*$H301","v":4641.8807721613475},{"$f":"VLOOKUP($A301,'8.Non-elective admissions - CCG'!$D$5:$Q$215,12,0)*$H301","v":4563.6665751294731},{"$f":"VLOOKUP($A301,'8.Non-elective admissions - CCG'!$D$5:$Q$215,13,0)*$H301","v":4800.0667886303072},{"$f":"VLOOKUP($A301,'8.Non-elective admissions - CCG'!$D$5:$Q$215,14,0)*$H301","v":4442.3906291699377}]
["08A","NHS Greenwich CCG","E10000016","Kent",{"$f":"COUNTIF($D$5:D302,D302)","v":7},"Kent7","NHS Greenwich CCG",9.3600003094214976E-4,0,{"$f":"VLOOKUP($A302,'8.Non-elective admissions - CCG'!$D$5:$N$215,3,0)*$H302","v":5.0787361678921048},{"$f":"VLOOKUP($A302,'8.Non-elective admissions - CCG'!$D$5:$N$215,4,0)*$H302","v":4.9916881650144846},{"$f":"VLOOKUP($A302,'8.Non-elective admissions - CCG'!$D$5:$N$215,5,0)*$H302","v":5.1788881712029147},{"$f":"VLOOKUP($A302,'8.Non-elective admissions - CCG'!$D$5:$N$215,6,0)*$H302","v":4.9551841638077407},{"$f":"VLOOKUP($A302,'8.Non-elective admissions - CCG'!$D$5:$N$215,7,0)*$H302","v":5.0506561669638401},{"$f":"VLOOKUP($A302,'8.Non-elective admissions - CCG'!$D$5:$N$215,8,0)*$H302","v":4.9654801641481043},{"$f":"VLOOKUP($A302,'8.Non-elective admissions - CCG'!$D$5:$N$215,9,0)*$H302","v":5.2238161726881378},{"$f":"VLOOKUP($A302,'8.Non-elective admissions - CCG'!$D$5:$N$215,10,0)*$H302","v":4.8344401598162037},{"$f":"VLOOKUP($A302,'8.Non-elective admissions - CCG'!$D$5:$Q$215,11,0)*$H302","v":4.9439521634364354},{"$f":"VLOOKUP($A302,'8.Non-elective admissions - CCG'!$D$5:$Q$215,12,0)*$H302","v":4.860648160682584},{"$f":"VLOOKUP($A302,'8.Non-elective admissions - CCG'!$D$5:$Q$215,13,0)*$H302","v":5.1124321690060217},{"$f":"VLOOKUP($A302,'8.Non-elective admissions - CCG'!$D$5:$Q$215,14,0)*$H302","v":4.7314801564125668}]
["08A","NHS Greenwich CCG","E09000023","Lewisham",{"$f":"COUNTIF($D$5:D303,D303)","v":3},"Lewisham3","NHS Greenwich CCG",2.3326513167818617E-2,1.9867636933841526E-2,{"$f":"VLOOKUP($A303,'8.Non-elective admissions - CCG'!$D$5:$N$215,3,0)*$H303","v":126.56966044858382},{"$f":"VLOOKUP($A303,'8.Non-elective admissions - CCG'!$D$5:$N$215,4,0)*$H303","v":124.40029472397669},{"$f":"VLOOKUP($A303,'8.Non-elective admissions - CCG'!$D$5:$N$215,5,0)*$H303","v":129.06559735754041},{"$f":"VLOOKUP($A303,'8.Non-elective admissions - CCG'!$D$5:$N$215,6,0)*$H303","v":123.49056071043175},{"$f":"VLOOKUP($A303,'8.Non-elective admissions - CCG'!$D$5:$N$215,7,0)*$H303","v":125.86986505354926},{"$f":"VLOOKUP($A303,'8.Non-elective admissions - CCG'!$D$5:$N$215,8,0)*$H303","v":123.74715235527776},{"$f":"VLOOKUP($A303,'8.Non-elective admissions - CCG'!$D$5:$N$215,9,0)*$H303","v":130.1852699895957},{"$f":"VLOOKUP($A303,'8.Non-elective admissions - CCG'!$D$5:$N$215,10,0)*$H303","v":120.48144051178316},{"$f":"VLOOKUP($A303,'8.Non-elective admissions - CCG'!$D$5:$Q$215,11,0)*$H303","v":123.21064255241794},{"$f":"VLOOKUP($A303,'8.Non-elective admissions - CCG'!$D$5:$Q$215,12,0)*$H303","v":121.13458288048207},{"$f":"VLOOKUP($A303,'8.Non-elective admissions - CCG'!$D$5:$Q$215,13,0)*$H303","v":127.40941492262529},{"$f":"VLOOKUP($A303,'8.Non-elective admissions - CCG'!$D$5:$Q$215,14,0)*$H303","v":117.9155240633231}]
["09N","NHS Guildford and Waverley CCG","E10000014","Hampshire",{"$f":"COUNTIF($D$5:D304,D304)","v":5},"Hampshire5","NHS Guildford and Waverley CCG",2.9428880584122137E-2,4.7675128578488673E-3,{"$f":"VLOOKUP($A304,'8.Non-elective admissions - CCG'!$D$5:$N$215,3,0)*$H304","v":126.48532875055695},{"$f":"VLOOKUP($A304,'8.Non-elective admissions - CCG'!$D$5:$N$215,4,0)*$H304","v":125.19045800485557},{"$f":"VLOOKUP($A304,'8.Non-elective admissions - CCG'!$D$5:$N$215,5,0)*$H304","v":142.14149322130993},{"$f":"VLOOKUP($A304,'8.Non-elective admissions - CCG'!$D$5:$N$215,6,0)*$H304","v":131.78252725569894},{"$f":"VLOOKUP($A304,'8.Non-elective admissions - CCG'!$D$5:$N$215,7,0)*$H304","v":128.63363703319786},{"$f":"VLOOKUP($A304,'8.Non-elective admissions - CCG'!$D$5:$N$215,8,0)*$H304","v":101.91221346281496},{"$f":"VLOOKUP($A304,'8.Non-elective admissions - CCG'!$D$5:$N$215,9,0)*$H304","v":112.97747256244489},{"$f":"VLOOKUP($A304,'8.Non-elective admissions - CCG'!$D$5:$N$215,10,0)*$H304","v":113.24233248770199},{"$f":"VLOOKUP($A304,'8.Non-elective admissions - CCG'!$D$5:$Q$215,11,0)*$H304","v":102.26536002982442},{"$f":"VLOOKUP($A304,'8.Non-elective admissions - CCG'!$D$5:$Q$215,12,0)*$H304","v":74.984787728343207},{"$f":"VLOOKUP($A304,'8.Non-elective admissions - CCG'!$D$5:$Q$215,13,0)*$H304","v":86.256048992061977},{"$f":"VLOOKUP($A304,'8.Non-elective admissions - CCG'!$D$5:$Q$215,14,0)*$H304","v":86.579766678487331}]
["09N","NHS Guildford and Waverley CCG","E10000030","Surrey",{"$f":"COUNTIF($D$5:D305,D305)","v":7},"Surrey7","NHS Guildford and Waverley CCG",0.93916455258826848,0.17034560102913407,{"$f":"VLOOKUP($A305,'8.Non-elective admissions - CCG'!$D$5:$N$215,3,0)*$H305","v":4036.529247024378},{"$f":"VLOOKUP($A305,'8.Non-elective admissions - CCG'!$D$5:$N$215,4,0)*$H305","v":3995.206006710494},{"$f":"VLOOKUP($A305,'8.Non-elective admissions - CCG'!$D$5:$N$215,5,0)*$H305","v":4536.1647890013364},{"$f":"VLOOKUP($A305,'8.Non-elective admissions - CCG'!$D$5:$N$215,6,0)*$H305","v":4205.5788664902666},{"$f":"VLOOKUP($A305,'8.Non-elective admissions - CCG'!$D$5:$N$215,7,0)*$H305","v":4105.0882593633214},{"$f":"VLOOKUP($A305,'8.Non-elective admissions - CCG'!$D$5:$N$215,8,0)*$H305","v":3252.3268456131736},{"$f":"VLOOKUP($A305,'8.Non-elective admissions - CCG'!$D$5:$N$215,9,0)*$H305","v":3605.4527173863626},{"$f":"VLOOKUP($A305,'8.Non-elective admissions - CCG'!$D$5:$N$215,10,0)*$H305","v":3613.9051983596569},{"$f":"VLOOKUP($A305,'8.Non-elective admissions - CCG'!$D$5:$Q$215,11,0)*$H305","v":3263.5968202442327},{"$f":"VLOOKUP($A305,'8.Non-elective admissions - CCG'!$D$5:$Q$215,12,0)*$H305","v":2392.9912799949079},{"$f":"VLOOKUP($A305,'8.Non-elective admissions - CCG'!$D$5:$Q$215,13,0)*$H305","v":2752.6913036362148},{"$f":"VLOOKUP($A305,'8.Non-elective admissions - CCG'!$D$5:$Q$215,14,0)*$H305","v":2763.0221137146859}]
["09N","NHS Guildford and Waverley CCG","E10000032","West Sussex",{"$f":"COUNTIF($D$5:D306,D306)","v":5},"West Sussex5","NHS Guildford and Waverley CCG",3.1406566827609408E-2,8.0684251036876719E-3,{"$f":"VLOOKUP($A306,'8.Non-elective admissions - CCG'!$D$5:$N$215,3,0)*$H306","v":134.98542422506523},{"$f":"VLOOKUP($A306,'8.Non-elective admissions - CCG'!$D$5:$N$215,4,0)*$H306","v":133.60353528465043},{"$f":"VLOOKUP($A306,'8.Non-elective admissions - CCG'!$D$5:$N$215,5,0)*$H306","v":151.69371777735344},{"$f":"VLOOKUP($A306,'8.Non-elective admissions - CCG'!$D$5:$N$215,6,0)*$H306","v":140.63860625403493},{"$f":"VLOOKUP($A306,'8.Non-elective admissions - CCG'!$D$5:$N$215,7,0)*$H306","v":137.27810360348073},{"$f":"VLOOKUP($A306,'8.Non-elective admissions - CCG'!$D$5:$N$215,8,0)*$H306","v":108.76094092401138},{"$f":"VLOOKUP($A306,'8.Non-elective admissions - CCG'!$D$5:$N$215,9,0)*$H306","v":120.56981005119252},{"$f":"VLOOKUP($A306,'8.Non-elective admissions - CCG'!$D$5:$N$215,10,0)*$H306","v":120.85246915264101},{"$f":"VLOOKUP($A306,'8.Non-elective admissions - CCG'!$D$5:$Q$215,11,0)*$H306","v":109.13781972594269},{"$f":"VLOOKUP($A306,'8.Non-elective admissions - CCG'!$D$5:$Q$215,12,0)*$H306","v":80.023932276748766},{"$f":"VLOOKUP($A306,'8.Non-elective admissions - CCG'!$D$5:$Q$215,13,0)*$H306","v":92.052647371723182},{"$f":"VLOOKUP($A306,'8.Non-elective admissions - CCG'!$D$5:$Q$215,14,0)*$H306","v":92.398119606826882}]
["01F","NHS Halton CCG","E06000050","Cheshire West and Chester",{"$f":"COUNTIF($D$5:D307,D307)","v":2},"Cheshire West and Chester2","NHS Halton CCG",2.1285982986694323E-3,0,{"$f":"VLOOKUP($A307,'8.Non-elective admissions - CCG'!$D$5:$N$215,3,0)*$H307","v":9.4765196256763122},{"$f":"VLOOKUP($A307,'8.Non-elective admissions - CCG'!$D$5:$N$215,4,0)*$H307","v":8.7613105973233836},{"$f":"VLOOKUP($A307,'8.Non-elective admissions - CCG'!$D$5:$N$215,5,0)*$H307","v":8.8826407003475403},{"$f":"VLOOKUP($A307,'8.Non-elective admissions - CCG'!$D$5:$N$215,6,0)*$H307","v":8.9379842561129461},{"$f":"VLOOKUP($A307,'8.Non-elective admissions - CCG'!$D$5:$N$215,7,0)*$H307","v":8.9039266833342356},{"$f":"VLOOKUP($A307,'8.Non-elective admissions - CCG'!$D$5:$N$215,8,0)*$H307","v":8.7123528364539862},{"$f":"VLOOKUP($A307,'8.Non-elective admissions - CCG'!$D$5:$N$215,9,0)*$H307","v":8.7783393837127388},{"$f":"VLOOKUP($A307,'8.Non-elective admissions - CCG'!$D$5:$N$215,10,0)*$H307","v":8.725124426246003},{"$f":"VLOOKUP($A307,'8.Non-elective admissions - CCG'!$D$5:$Q$215,11,0)*$H307","v":8.4462780491203073},{"$f":"VLOOKUP($A307,'8.Non-elective admissions - CCG'!$D$5:$Q$215,12,0)*$H307","v":8.2632185954347364},{"$f":"VLOOKUP($A307,'8.Non-elective admissions - CCG'!$D$5:$Q$215,13,0)*$H307","v":8.3313337409921573},{"$f":"VLOOKUP($A307,'8.Non-elective admissions - CCG'!$D$5:$Q$215,14,0)*$H307","v":8.2759901852267532}]
["01F","NHS Halton CCG","E06000006","Halton",{"$f":"COUNTIF($D$5:D308,D308)","v":1},"Halton1","NHS Halton CCG",0.98254549395091062,0.96675628127308588,{"$f":"VLOOKUP($A308,'8.Non-elective admissions - CCG'!$D$5:$N$215,3,0)*$H308","v":4374.2925390694545},{"$f":"VLOOKUP($A308,'8.Non-elective admissions - CCG'!$D$5:$N$215,4,0)*$H308","v":4044.1572531019483},{"$f":"VLOOKUP($A308,'8.Non-elective admissions - CCG'!$D$5:$N$215,5,0)*$H308","v":4100.1623462571497},{"$f":"VLOOKUP($A308,'8.Non-elective admissions - CCG'!$D$5:$N$215,6,0)*$H308","v":4125.7085290998739},{"$f":"VLOOKUP($A308,'8.Non-elective admissions - CCG'!$D$5:$N$215,7,0)*$H308","v":4109.9878011966593},{"$f":"VLOOKUP($A308,'8.Non-elective admissions - CCG'!$D$5:$N$215,8,0)*$H308","v":4021.558706741077},{"$f":"VLOOKUP($A308,'8.Non-elective admissions - CCG'!$D$5:$N$215,9,0)*$H308","v":4052.0176170535556},{"$f":"VLOOKUP($A308,'8.Non-elective admissions - CCG'!$D$5:$N$215,10,0)*$H308","v":4027.4539797047828},{"$f":"VLOOKUP($A308,'8.Non-elective admissions - CCG'!$D$5:$Q$215,11,0)*$H308","v":3898.7405199972131},{"$f":"VLOOKUP($A308,'8.Non-elective admissions - CCG'!$D$5:$Q$215,12,0)*$H308","v":3814.2416075174351},{"$f":"VLOOKUP($A308,'8.Non-elective admissions - CCG'!$D$5:$Q$215,13,0)*$H308","v":3845.6830633238642},{"$f":"VLOOKUP($A308,'8.Non-elective admissions - CCG'!$D$5:$Q$215,14,0)*$H308","v":3820.1368804811405}]
["01F","NHS Halton CCG","E08000011","Knowsley",{"$f":"COUNTIF($D$5:D309,D309)","v":1},"Knowsley1","NHS Halton CCG",1.0666212565696283E-2,8.6724482988659105E-3,{"$f":"VLOOKUP($A309,'8.Non-elective admissions - CCG'!$D$5:$N$215,3,0)*$H309","v":47.485978342479854},{"$f":"VLOOKUP($A309,'8.Non-elective admissions - CCG'!$D$5:$N$215,4,0)*$H309","v":43.902130920405902},{"$f":"VLOOKUP($A309,'8.Non-elective admissions - CCG'!$D$5:$N$215,5,0)*$H309","v":44.510105036650586},{"$f":"VLOOKUP($A309,'8.Non-elective admissions - CCG'!$D$5:$N$215,6,0)*$H309","v":44.787426563358693},{"$f":"VLOOKUP($A309,'8.Non-elective admissions - CCG'!$D$5:$N$215,7,0)*$H309","v":44.616767162307553},{"$f":"VLOOKUP($A309,'8.Non-elective admissions - CCG'!$D$5:$N$215,8,0)*$H309","v":43.656808031394888},{"$f":"VLOOKUP($A309,'8.Non-elective admissions - CCG'!$D$5:$N$215,9,0)*$H309","v":43.987460620931472},{"$f":"VLOOKUP($A309,'8.Non-elective admissions - CCG'!$D$5:$N$215,10,0)*$H309","v":43.72080530678906},{"$f":"VLOOKUP($A309,'8.Non-elective admissions - CCG'!$D$5:$Q$215,11,0)*$H309","v":42.323531460682851},{"$f":"VLOOKUP($A309,'8.Non-elective admissions - CCG'!$D$5:$Q$215,12,0)*$H309","v":41.406237180032967},{"$f":"VLOOKUP($A309,'8.Non-elective admissions - CCG'!$D$5:$Q$215,13,0)*$H309","v":41.747555982135253},{"$f":"VLOOKUP($A309,'8.Non-elective admissions - CCG'!$D$5:$Q$215,14,0)*$H309","v":41.470234455427146}]
["01F","NHS Halton CCG","E08000013","St. Helens",{"$f":"COUNTIF($D$5:D310,D310)","v":1},"St. Helens1","NHS Halton CCG",1.6796575665864249E-3,1.183715995439693E-3,{"$f":"VLOOKUP($A310,'8.Non-elective admissions - CCG'!$D$5:$N$215,3,0)*$H310","v":7.4778354864427632},{"$f":"VLOOKUP($A310,'8.Non-elective admissions - CCG'!$D$5:$N$215,4,0)*$H310","v":6.9134705440697246},{"$f":"VLOOKUP($A310,'8.Non-elective admissions - CCG'!$D$5:$N$215,5,0)*$H310","v":7.0092110253651514},{"$f":"VLOOKUP($A310,'8.Non-elective admissions - CCG'!$D$5:$N$215,6,0)*$H310","v":7.0528821220963982},{"$f":"VLOOKUP($A310,'8.Non-elective admissions - CCG'!$D$5:$N$215,7,0)*$H310","v":7.0260076010310151},{"$f":"VLOOKUP($A310,'8.Non-elective admissions - CCG'!$D$5:$N$215,8,0)*$H310","v":6.8748384200382375},{"$f":"VLOOKUP($A310,'8.Non-elective admissions - CCG'!$D$5:$N$215,9,0)*$H310","v":6.9269078046024166},{"$f":"VLOOKUP($A310,'8.Non-elective admissions - CCG'!$D$5:$N$215,10,0)*$H310","v":6.8849163654377552},{"$f":"VLOOKUP($A310,'8.Non-elective admissions - CCG'!$D$5:$Q$215,11,0)*$H310","v":6.664881224214934},{"$f":"VLOOKUP($A310,'8.Non-elective admissions - CCG'!$D$5:$Q$215,12,0)*$H310","v":6.5204306734885016},{"$f":"VLOOKUP($A310,'8.Non-elective admissions - CCG'!$D$5:$Q$215,13,0)*$H310","v":6.574179715619267},{"$f":"VLOOKUP($A310,'8.Non-elective admissions - CCG'!$D$5:$Q$215,14,0)*$H310","v":6.5305086188880201}]
["01F","NHS Halton CCG","E06000007","Warrington",{"$f":"COUNTIF($D$5:D311,D311)","v":1},"Warrington1","NHS Halton CCG",2.9800376181372051E-3,1.7995699728895953E-3,{"$f":"VLOOKUP($A311,'8.Non-elective admissions - CCG'!$D$5:$N$215,3,0)*$H311","v":13.267127475946838},{"$f":"VLOOKUP($A311,'8.Non-elective admissions - CCG'!$D$5:$N$215,4,0)*$H311","v":12.265834836252736},{"$f":"VLOOKUP($A311,'8.Non-elective admissions - CCG'!$D$5:$N$215,5,0)*$H311","v":12.435696980486556},{"$f":"VLOOKUP($A311,'8.Non-elective admissions - CCG'!$D$5:$N$215,6,0)*$H311","v":12.513177958558124},{"$f":"VLOOKUP($A311,'8.Non-elective admissions - CCG'!$D$5:$N$215,7,0)*$H311","v":12.465497356667928},{"$f":"VLOOKUP($A311,'8.Non-elective admissions - CCG'!$D$5:$N$215,8,0)*$H311","v":12.197293971035581},{"$f":"VLOOKUP($A311,'8.Non-elective admissions - CCG'!$D$5:$N$215,9,0)*$H311","v":12.289675137197834},{"$f":"VLOOKUP($A311,'8.Non-elective admissions - CCG'!$D$5:$N$215,10,0)*$H311","v":12.215174196744403},{"$f":"VLOOKUP($A311,'8.Non-elective admissions - CCG'!$D$5:$Q$215,11,0)*$H311","v":11.824789268768431},{"$f":"VLOOKUP($A311,'8.Non-elective admissions - CCG'!$D$5:$Q$215,12,0)*$H311","v":11.56850603360863},{"$f":"VLOOKUP($A311,'8.Non-elective admissions - CCG'!$D$5:$Q$215,13,0)*$H311","v":11.66386723738902},{"$f":"VLOOKUP($A311,'8.Non-elective admissions - CCG'!$D$5:$Q$215,14,0)*$H311","v":11.586386259317454}]
["03D","NHS Hambleton, Richmondshire and Whitby CCG","E06000002","Middlesbrough",{"$f":"COUNTIF($D$5:D312,D312)","v":1},"Middlesbrough1","NHS Hambleton, Richmondshire and Whitby CCG",1.990252684731316E-3,1.8681964312827182E-3,{"$f":"VLOOKUP($A312,'8.Non-elective admissions - CCG'!$D$5:$N$215,3,0)*$H312","v":7.0096699556236945},{"$f":"VLOOKUP($A312,'8.Non-elective admissions - CCG'!$D$5:$N$215,4,0)*$H312","v":6.4464284458447327},{"$f":"VLOOKUP($A312,'8.Non-elective admissions - CCG'!$D$5:$N$215,5,0)*$H312","v":6.898215805278741},{"$f":"VLOOKUP($A312,'8.Non-elective admissions - CCG'!$D$5:$N$215,6,0)*$H312","v":7.075348294219828},{"$f":"VLOOKUP($A312,'8.Non-elective admissions - CCG'!$D$5:$N$215,7,0)*$H312","v":6.2055571965301644},{"$f":"VLOOKUP($A312,'8.Non-elective admissions - CCG'!$D$5:$N$215,8,0)*$H312","v":6.584422976299531},{"$f":"VLOOKUP($A312,'8.Non-elective admissions - CCG'!$D$5:$N$215,9,0)*$H312","v":6.4911185909526976},{"$f":"VLOOKUP($A312,'8.Non-elective admissions - CCG'!$D$5:$N$215,10,0)*$H312","v":6.3865177288989141},{"$f":"VLOOKUP($A312,'8.Non-elective admissions - CCG'!$D$5:$Q$215,11,0)*$H312","v":6.3818390733162227},{"$f":"VLOOKUP($A312,'8.Non-elective admissions - CCG'!$D$5:$Q$215,12,0)*$H312","v":6.4519691730364714},{"$f":"VLOOKUP($A312,'8.Non-elective admissions - CCG'!$D$5:$Q$215,13,0)*$H312","v":6.4519691730364714},{"$f":"VLOOKUP($A312,'8.Non-elective admissions - CCG'!$D$5:$Q$215,14,0)*$H312","v":6.3818390733343344}]
["03D","NHS Hambleton, Richmondshire and Whitby CCG","E10000023","North Yorkshire",{"$f":"COUNTIF($D$5:D313,D313)","v":8},"North Yorkshire8","NHS Hambleton, Richmondshire and Whitby CCG",0.98698248155675739,0.2300929933632381,{"$f":"VLOOKUP($A313,'8.Non-elective admissions - CCG'!$D$5:$N$215,3,0)*$H313","v":3476.1523000428997},{"$f":"VLOOKUP($A313,'8.Non-elective admissions - CCG'!$D$5:$N$215,4,0)*$H313","v":3196.836257762337},{"$f":"VLOOKUP($A313,'8.Non-elective admissions - CCG'!$D$5:$N$215,5,0)*$H313","v":3420.8812810757213},{"$f":"VLOOKUP($A313,'8.Non-elective admissions - CCG'!$D$5:$N$215,6,0)*$H313","v":3508.7227219342726},{"$f":"VLOOKUP($A313,'8.Non-elective admissions - CCG'!$D$5:$N$215,7,0)*$H313","v":3077.3862476163827},{"$f":"VLOOKUP($A313,'8.Non-elective admissions - CCG'!$D$5:$N$215,8,0)*$H313","v":3265.2688669251897},{"$f":"VLOOKUP($A313,'8.Non-elective admissions - CCG'!$D$5:$N$215,9,0)*$H313","v":3218.9984639275035},{"$f":"VLOOKUP($A313,'8.Non-elective admissions - CCG'!$D$5:$N$215,10,0)*$H313","v":3167.1260463220192},{"$f":"VLOOKUP($A313,'8.Non-elective admissions - CCG'!$D$5:$Q$215,11,0)*$H313","v":3164.8058629941534},{"$f":"VLOOKUP($A313,'8.Non-elective admissions - CCG'!$D$5:$Q$215,12,0)*$H313","v":3199.5839494073657},{"$f":"VLOOKUP($A313,'8.Non-elective admissions - CCG'!$D$5:$Q$215,13,0)*$H313","v":3199.5839494073657},{"$f":"VLOOKUP($A313,'8.Non-elective admissions - CCG'!$D$5:$Q$215,14,0)*$H313","v":3164.8058630031346}]
["03D","NHS Hambleton, Richmondshire and Whitby CCG","E06000003","Redcar and Cleveland",{"$f":"COUNTIF($D$5:D314,D314)","v":1},"Redcar and Cleveland1","NHS Hambleton, Richmondshire and Whitby CCG",9.5433671137116448E-3,9.6301237651867846E-3,{"$f":"VLOOKUP($A314,'8.Non-elective admissions - CCG'!$D$5:$N$215,3,0)*$H314","v":33.611738974492411},{"$f":"VLOOKUP($A314,'8.Non-elective admissions - CCG'!$D$5:$N$215,4,0)*$H314","v":30.910966081312019},{"$f":"VLOOKUP($A314,'8.Non-elective admissions - CCG'!$D$5:$N$215,5,0)*$H314","v":33.077310416124561},{"$f":"VLOOKUP($A314,'8.Non-elective admissions - CCG'!$D$5:$N$215,6,0)*$H314","v":33.926670089244894},{"$f":"VLOOKUP($A314,'8.Non-elective admissions - CCG'!$D$5:$N$215,7,0)*$H314","v":29.755975673821315},{"$f":"VLOOKUP($A314,'8.Non-elective admissions - CCG'!$D$5:$N$215,8,0)*$H314","v":31.572657169040504},{"$f":"VLOOKUP($A314,'8.Non-elective admissions - CCG'!$D$5:$N$215,9,0)*$H314","v":31.125257695840318},{"$f":"VLOOKUP($A314,'8.Non-elective admissions - CCG'!$D$5:$N$215,10,0)*$H314","v":30.623691018077121},{"$f":"VLOOKUP($A314,'8.Non-elective admissions - CCG'!$D$5:$Q$215,11,0)*$H314","v":30.60125661657284},{"$f":"VLOOKUP($A314,'8.Non-elective admissions - CCG'!$D$5:$Q$215,12,0)*$H314","v":30.937534161874527},{"$f":"VLOOKUP($A314,'8.Non-elective admissions - CCG'!$D$5:$Q$215,13,0)*$H314","v":30.937534161874527},{"$f":"VLOOKUP($A314,'8.Non-elective admissions - CCG'!$D$5:$Q$215,14,0)*$H314","v":30.601256616659683}]
["03D","NHS Hambleton, Richmondshire and Whitby CCG","E06000004","Stockton-on-Tees",{"$f":"COUNTIF($D$5:D315,D315)","v":3},"Stockton-on-Tees3","NHS Hambleton, Richmondshire and Whitby CCG",1.4838986447996737E-3,1.0670361679747554E-3,{"$f":"VLOOKUP($A315,'8.Non-elective admissions - CCG'!$D$5:$N$215,3,0)*$H315","v":5.2262910269844509},{"$f":"VLOOKUP($A315,'8.Non-elective admissions - CCG'!$D$5:$N$215,4,0)*$H315","v":4.8063477105061434},{"$f":"VLOOKUP($A315,'8.Non-elective admissions - CCG'!$D$5:$N$215,5,0)*$H315","v":5.1431927028756688},{"$f":"VLOOKUP($A315,'8.Non-elective admissions - CCG'!$D$5:$N$215,6,0)*$H315","v":5.2752596822628401},{"$f":"VLOOKUP($A315,'8.Non-elective admissions - CCG'!$D$5:$N$215,7,0)*$H315","v":4.6267581924659531},{"$f":"VLOOKUP($A315,'8.Non-elective admissions - CCG'!$D$5:$N$215,8,0)*$H315","v":4.9092340918699682},{"$f":"VLOOKUP($A315,'8.Non-elective admissions - CCG'!$D$5:$N$215,9,0)*$H315","v":4.8396679247032477},{"$f":"VLOOKUP($A315,'8.Non-elective admissions - CCG'!$D$5:$N$215,10,0)*$H315","v":4.7616792961048438},{"$f":"VLOOKUP($A315,'8.Non-elective admissions - CCG'!$D$5:$Q$215,11,0)*$H315","v":4.7581909698576785},{"$f":"VLOOKUP($A315,'8.Non-elective admissions - CCG'!$D$5:$Q$215,12,0)*$H315","v":4.8104787827233055},{"$f":"VLOOKUP($A315,'8.Non-elective admissions - CCG'!$D$5:$Q$215,13,0)*$H315","v":4.8104787827233055},{"$f":"VLOOKUP($A315,'8.Non-elective admissions - CCG'!$D$5:$Q$215,14,0)*$H315","v":4.7581909698711815}]
["08C","NHS Hammersmith and Fulham CCG","E09000005","Brent",{"$f":"COUNTIF($D$5:D316,D316)","v":6},"Brent6","NHS Hammersmith and Fulham CCG",1.7386293639597033E-3,9.5843933215947338E-4,{"$f":"VLOOKUP($A316,'8.Non-elective admissions - CCG'!$D$5:$N$215,3,0)*$H316","v":7.8377411727303423},{"$f":"VLOOKUP($A316,'8.Non-elective admissions - CCG'!$D$5:$N$215,4,0)*$H316","v":8.4532159675720777},{"$f":"VLOOKUP($A316,'8.Non-elective admissions - CCG'!$D$5:$N$215,5,0)*$H316","v":8.4080116041091255},{"$f":"VLOOKUP($A316,'8.Non-elective admissions - CCG'!$D$5:$N$215,6,0)*$H316","v":8.3036938422715423},{"$f":"VLOOKUP($A316,'8.Non-elective admissions - CCG'!$D$5:$N$215,7,0)*$H316","v":9.0095072800633851},{"$f":"VLOOKUP($A316,'8.Non-elective admissions - CCG'!$D$5:$N$215,8,0)*$H316","v":9.2585120872742248},{"$f":"VLOOKUP($A316,'8.Non-elective admissions - CCG'!$D$5:$N$215,9,0)*$H316","v":9.3091940162835041},{"$f":"VLOOKUP($A316,'8.Non-elective admissions - CCG'!$D$5:$N$215,10,0)*$H316","v":8.8735112525582682},{"$f":"VLOOKUP($A316,'8.Non-elective admissions - CCG'!$D$5:$Q$215,11,0)*$H316","v":8.8817251867039548},{"$f":"VLOOKUP($A316,'8.Non-elective admissions - CCG'!$D$5:$Q$215,12,0)*$H316","v":9.1309374868112538},{"$f":"VLOOKUP($A316,'8.Non-elective admissions - CCG'!$D$5:$Q$215,13,0)*$H316","v":9.1853410359498859},{"$f":"VLOOKUP($A316,'8.Non-elective admissions - CCG'!$D$5:$Q$215,14,0)*$H316","v":8.7472116199554897}]
["08C","NHS Hammersmith and Fulham CCG","E09000009","Ealing",{"$f":"COUNTIF($D$5:D317,D317)","v":4},"Ealing4","NHS Hammersmith and Fulham CCG",5.4667474715361528E-2,2.7952258913354348E-2,{"$f":"VLOOKUP($A317,'8.Non-elective admissions - CCG'!$D$5:$N$215,3,0)*$H317","v":246.44097601684976},{"$f":"VLOOKUP($A317,'8.Non-elective admissions - CCG'!$D$5:$N$215,4,0)*$H317","v":265.79326206608772},{"$f":"VLOOKUP($A317,'8.Non-elective admissions - CCG'!$D$5:$N$215,5,0)*$H317","v":264.37190772348833},{"$f":"VLOOKUP($A317,'8.Non-elective admissions - CCG'!$D$5:$N$215,6,0)*$H317","v":261.09185924056663},{"$f":"VLOOKUP($A317,'8.Non-elective admissions - CCG'!$D$5:$N$215,7,0)*$H317","v":283.28465033456445},{"$f":"VLOOKUP($A317,'8.Non-elective admissions - CCG'!$D$5:$N$215,8,0)*$H317","v":291.11407291557953},{"$f":"VLOOKUP($A317,'8.Non-elective admissions - CCG'!$D$5:$N$215,9,0)*$H317","v":292.70765756914278},{"$f":"VLOOKUP($A317,'8.Non-elective admissions - CCG'!$D$5:$N$215,10,0)*$H317","v":279.00854666972498},{"$f":"VLOOKUP($A317,'8.Non-elective admissions - CCG'!$D$5:$Q$215,11,0)*$H317","v":279.26681622764863},{"$f":"VLOOKUP($A317,'8.Non-elective admissions - CCG'!$D$5:$Q$215,12,0)*$H317","v":287.10276297816523},{"$f":"VLOOKUP($A317,'8.Non-elective admissions - CCG'!$D$5:$Q$215,13,0)*$H317","v":288.81336600179571},{"$f":"VLOOKUP($A317,'8.Non-elective admissions - CCG'!$D$5:$Q$215,14,0)*$H317","v":275.03732536460046}]
["08C","NHS Hammersmith and Fulham CCG","E09000013","Hammersmith and Fulham",{"$f":"COUNTIF($D$5:D318,D318)","v":5},"Hammersmith and Fulham5","NHS Hammersmith and Fulham CCG",0.91387326882190467,0.8819990123835596,{"$f":"VLOOKUP($A318,'8.Non-elective admissions - CCG'!$D$5:$N$215,3,0)*$H318","v":4119.7406958491465},{"$f":"VLOOKUP($A318,'8.Non-elective admissions - CCG'!$D$5:$N$215,4,0)*$H318","v":4443.2518330121002},{"$f":"VLOOKUP($A318,'8.Non-elective admissions - CCG'!$D$5:$N$215,5,0)*$H318","v":4419.4911280227307},{"$f":"VLOOKUP($A318,'8.Non-elective admissions - CCG'!$D$5:$N$215,6,0)*$H318","v":4364.6587318934171},{"$f":"VLOOKUP($A318,'8.Non-elective admissions - CCG'!$D$5:$N$215,7,0)*$H318","v":4735.6544408950313},{"$f":"VLOOKUP($A318,'8.Non-elective admissions - CCG'!$D$5:$N$215,8,0)*$H318","v":4866.5384819881119},{"$f":"VLOOKUP($A318,'8.Non-elective admissions - CCG'!$D$5:$N$215,9,0)*$H318","v":4893.1783519305045},{"$f":"VLOOKUP($A318,'8.Non-elective admissions - CCG'!$D$5:$N$215,10,0)*$H318","v":4664.1710432375558},{"$f":"VLOOKUP($A318,'8.Non-elective admissions - CCG'!$D$5:$Q$215,11,0)*$H318","v":4668.488521708362},{"$f":"VLOOKUP($A318,'8.Non-elective admissions - CCG'!$D$5:$Q$215,12,0)*$H318","v":4799.4816269961893},{"$f":"VLOOKUP($A318,'8.Non-elective admissions - CCG'!$D$5:$Q$215,13,0)*$H318","v":4828.0776868105731},{"$f":"VLOOKUP($A318,'8.Non-elective admissions - CCG'!$D$5:$Q$215,14,0)*$H318","v":4597.7843477806045}]
["08C","NHS Hammersmith and Fulham CCG","E09000017","Hillingdon",{"$f":"COUNTIF($D$5:D319,D319)","v":3},"Hillingdon3","NHS Hammersmith and Fulham CCG",4.7141693325650248E-3,3.0718435916940456E-3,{"$f":"VLOOKUP($A319,'8.Non-elective admissions - CCG'!$D$5:$N$215,3,0)*$H319","v":21.251475351203133},{"$f":"VLOOKUP($A319,'8.Non-elective admissions - CCG'!$D$5:$N$215,4,0)*$H319","v":22.92029129493115},{"$f":"VLOOKUP($A319,'8.Non-elective admissions - CCG'!$D$5:$N$215,5,0)*$H319","v":22.797722892284462},{"$f":"VLOOKUP($A319,'8.Non-elective admissions - CCG'!$D$5:$N$215,6,0)*$H319","v":22.514872732330559},{"$f":"VLOOKUP($A319,'8.Non-elective admissions - CCG'!$D$5:$N$215,7,0)*$H319","v":24.428635453657581},{"$f":"VLOOKUP($A319,'8.Non-elective admissions - CCG'!$D$5:$N$215,8,0)*$H319","v":25.103794202352116},{"$f":"VLOOKUP($A319,'8.Non-elective admissions - CCG'!$D$5:$N$215,9,0)*$H319","v":25.241214632722993},{"$f":"VLOOKUP($A319,'8.Non-elective admissions - CCG'!$D$5:$N$215,10,0)*$H319","v":24.059891939079421},{"$f":"VLOOKUP($A319,'8.Non-elective admissions - CCG'!$D$5:$Q$215,11,0)*$H319","v":24.082163434805871},{"$f":"VLOOKUP($A319,'8.Non-elective admissions - CCG'!$D$5:$Q$215,12,0)*$H319","v":24.757884785668228},{"$f":"VLOOKUP($A319,'8.Non-elective admissions - CCG'!$D$5:$Q$215,13,0)*$H319","v":24.905396123189838},{"$f":"VLOOKUP($A319,'8.Non-elective admissions - CCG'!$D$5:$Q$215,14,0)*$H319","v":23.71743950667932}]
["08C","NHS Hammersmith and Fulham CCG","E09000018","Hounslow",{"$f":"COUNTIF($D$5:D320,D320)","v":2},"Hounslow2","NHS Hammersmith and Fulham CCG",9.0607427424642829E-3,6.1234561269811428E-3,{"$f":"VLOOKUP($A320,'8.Non-elective admissions - CCG'!$D$5:$N$215,3,0)*$H320","v":40.845828283028986},{"$f":"VLOOKUP($A320,'8.Non-elective admissions - CCG'!$D$5:$N$215,4,0)*$H320","v":44.053331213861341},{"$f":"VLOOKUP($A320,'8.Non-elective admissions - CCG'!$D$5:$N$215,5,0)*$H320","v":43.817751902557269},{"$f":"VLOOKUP($A320,'8.Non-elective admissions - CCG'!$D$5:$N$215,6,0)*$H320","v":43.274107338009415},{"$f":"VLOOKUP($A320,'8.Non-elective admissions - CCG'!$D$5:$N$215,7,0)*$H320","v":46.952403653816042},{"$f":"VLOOKUP($A320,'8.Non-elective admissions - CCG'!$D$5:$N$215,8,0)*$H320","v":48.250074420537672},{"$f":"VLOOKUP($A320,'8.Non-elective admissions - CCG'!$D$5:$N$215,9,0)*$H320","v":48.514199673431754},{"$f":"VLOOKUP($A320,'8.Non-elective admissions - CCG'!$D$5:$N$215,10,0)*$H320","v":46.24367007047509},{"$f":"VLOOKUP($A320,'8.Non-elective admissions - CCG'!$D$5:$Q$215,11,0)*$H320","v":46.286476401565757},{"$f":"VLOOKUP($A320,'8.Non-elective admissions - CCG'!$D$5:$Q$215,12,0)*$H320","v":47.58522850269636},{"$f":"VLOOKUP($A320,'8.Non-elective admissions - CCG'!$D$5:$Q$215,13,0)*$H320","v":47.868748713064548},{"$f":"VLOOKUP($A320,'8.Non-elective admissions - CCG'!$D$5:$Q$215,14,0)*$H320","v":45.585468556568046}]
["08C","NHS Hammersmith and Fulham CCG","E09000020","Kensington and Chelsea",{"$f":"COUNTIF($D$5:D321,D321)","v":4},"Kensington and Chelsea4","NHS Hammersmith and Fulham CCG",9.4780137898146117E-3,1.1897412873898647E-2,{"$f":"VLOOKUP($A321,'8.Non-elective admissions - CCG'!$D$5:$N$215,3,0)*$H321","v":42.72688616448427},{"$f":"VLOOKUP($A321,'8.Non-elective admissions - CCG'!$D$5:$N$215,4,0)*$H321","v":46.082103046078643},{"$f":"VLOOKUP($A321,'8.Non-elective admissions - CCG'!$D$5:$N$215,5,0)*$H321","v":45.83567468754346},{"$f":"VLOOKUP($A321,'8.Non-elective admissions - CCG'!$D$5:$N$215,6,0)*$H321","v":45.266993860154585},{"$f":"VLOOKUP($A321,'8.Non-elective admissions - CCG'!$D$5:$N$215,7,0)*$H321","v":49.114685401031259},{"$f":"VLOOKUP($A321,'8.Non-elective admissions - CCG'!$D$5:$N$215,8,0)*$H321","v":50.472117321483488},{"$f":"VLOOKUP($A321,'8.Non-elective admissions - CCG'!$D$5:$N$215,9,0)*$H321","v":50.748406237339793},{"$f":"VLOOKUP($A321,'8.Non-elective admissions - CCG'!$D$5:$N$215,10,0)*$H321","v":48.373312771089076},{"$f":"VLOOKUP($A321,'8.Non-elective admissions - CCG'!$D$5:$Q$215,11,0)*$H321","v":48.418090446374713},{"$f":"VLOOKUP($A321,'8.Non-elective admissions - CCG'!$D$5:$Q$215,12,0)*$H321","v":49.776653499531065},{"$f":"VLOOKUP($A321,'8.Non-elective admissions - CCG'!$D$5:$Q$215,13,0)*$H321","v":50.073230561692526},{"$f":"VLOOKUP($A321,'8.Non-elective admissions - CCG'!$D$5:$Q$215,14,0)*$H321","v":47.684799345357362}]
["08C","NHS Hammersmith and Fulham CCG","E09000027","Richmond upon Thames",{"$f":"COUNTIF($D$5:D322,D322)","v":1},"Richmond upon Thames1","NHS Hammersmith and Fulham CCG",4.0236850994495995E-3,3.8543346990050111E-3,{"$f":"VLOOKUP($A322,'8.Non-elective admissions - CCG'!$D$5:$N$215,3,0)*$H322","v":18.138772428318795},{"$f":"VLOOKUP($A322,'8.Non-elective admissions - CCG'!$D$5:$N$215,4,0)*$H322","v":19.563156953523954},{"$f":"VLOOKUP($A322,'8.Non-elective admissions - CCG'!$D$5:$N$215,5,0)*$H322","v":19.458541140938262},{"$f":"VLOOKUP($A322,'8.Non-elective admissions - CCG'!$D$5:$N$215,6,0)*$H322","v":19.217120034971288},{"$f":"VLOOKUP($A322,'8.Non-elective admissions - CCG'!$D$5:$N$215,7,0)*$H322","v":20.850573991003838},{"$f":"VLOOKUP($A322,'8.Non-elective admissions - CCG'!$D$5:$N$215,8,0)*$H322","v":21.426842259120349},{"$f":"VLOOKUP($A322,'8.Non-elective admissions - CCG'!$D$5:$N$215,9,0)*$H322","v":21.544134723398972},{"$f":"VLOOKUP($A322,'8.Non-elective admissions - CCG'!$D$5:$N$215,10,0)*$H322","v":20.535840327349135},{"$f":"VLOOKUP($A322,'8.Non-elective admissions - CCG'!$D$5:$Q$215,11,0)*$H322","v":20.554849717800586},{"$f":"VLOOKUP($A322,'8.Non-elective admissions - CCG'!$D$5:$Q$215,12,0)*$H322","v":21.131598183763188},{"$f":"VLOOKUP($A322,'8.Non-elective admissions - CCG'!$D$5:$Q$215,13,0)*$H322","v":21.257503540341165},{"$f":"VLOOKUP($A322,'8.Non-elective admissions - CCG'!$D$5:$Q$215,14,0)*$H322","v":20.243546891896994}]
["08C","NHS Hammersmith and Fulham CCG","E09000032","Wandsworth",{"$f":"COUNTIF($D$5:D323,D323)","v":2},"Wandsworth2","NHS Hammersmith and Fulham CCG",2.4440161344804973E-3,1.4063973930194668E-3,{"$f":"VLOOKUP($A323,'8.Non-elective admissions - CCG'!$D$5:$N$215,3,0)*$H323","v":11.017624734238082},{"$f":"VLOOKUP($A323,'8.Non-elective admissions - CCG'!$D$5:$N$215,4,0)*$H323","v":11.882806445844178},{"$f":"VLOOKUP($A323,'8.Non-elective admissions - CCG'!$D$5:$N$215,5,0)*$H323","v":11.819262026347685},{"$f":"VLOOKUP($A323,'8.Non-elective admissions - CCG'!$D$5:$N$215,6,0)*$H323","v":11.672621058278855},{"$f":"VLOOKUP($A323,'8.Non-elective admissions - CCG'!$D$5:$N$215,7,0)*$H323","v":12.664793090831958},{"$f":"VLOOKUP($A323,'8.Non-elective admissions - CCG'!$D$5:$N$215,8,0)*$H323","v":13.014822705539768},{"$f":"VLOOKUP($A323,'8.Non-elective admissions - CCG'!$D$5:$N$215,9,0)*$H323","v":13.086067017175671},{"$f":"VLOOKUP($A323,'8.Non-elective admissions - CCG'!$D$5:$N$215,10,0)*$H323","v":12.473621532167622},{"$f":"VLOOKUP($A323,'8.Non-elective admissions - CCG'!$D$5:$Q$215,11,0)*$H323","v":12.485167976738133},{"$f":"VLOOKUP($A323,'8.Non-elective admissions - CCG'!$D$5:$Q$215,12,0)*$H323","v":12.835489267174676},{"$f":"VLOOKUP($A323,'8.Non-elective admissions - CCG'!$D$5:$Q$215,13,0)*$H323","v":12.91196511339241},{"$f":"VLOOKUP($A323,'8.Non-elective admissions - CCG'!$D$5:$Q$215,14,0)*$H323","v":12.296080334337432}]
["03Y","NHS Hardwick CCG","E10000007","Derbyshire",{"$f":"COUNTIF($D$5:D324,D324)","v":5},"Derbyshire5","NHS Hardwick CCG",0.94587555686101721,0.12240509857584511,{"$f":"VLOOKUP($A324,'8.Non-elective admissions - CCG'!$D$5:$N$215,3,0)*$H324","v":3388.1262446761634},{"$f":"VLOOKUP($A324,'8.Non-elective admissions - CCG'!$D$5:$N$215,4,0)*$H324","v":3282.1881823077297},{"$f":"VLOOKUP($A324,'8.Non-elective admissions - CCG'!$D$5:$N$215,5,0)*$H324","v":3431.6365202917705},{"$f":"VLOOKUP($A324,'8.Non-elective admissions - CCG'!$D$5:$N$215,6,0)*$H324","v":3535.6828315464822},{"$f":"VLOOKUP($A324,'8.Non-elective admissions - CCG'!$D$5:$N$215,7,0)*$H324","v":3323.2178345681218},{"$f":"VLOOKUP($A324,'8.Non-elective admissions - CCG'!$D$5:$N$215,8,0)*$H324","v":3364.9705749239765},{"$f":"VLOOKUP($A324,'8.Non-elective admissions - CCG'!$D$5:$N$215,9,0)*$H324","v":3463.9366038386784},{"$f":"VLOOKUP($A324,'8.Non-elective admissions - CCG'!$D$5:$N$215,10,0)*$H324","v":3448.425818860635},{"$f":"VLOOKUP($A324,'8.Non-elective admissions - CCG'!$D$5:$Q$215,11,0)*$H324","v":3257.0454505372613},{"$f":"VLOOKUP($A324,'8.Non-elective admissions - CCG'!$D$5:$Q$215,12,0)*$H324","v":3297.943199164858},{"$f":"VLOOKUP($A324,'8.Non-elective admissions - CCG'!$D$5:$Q$215,13,0)*$H324","v":3394.9407587114547},{"$f":"VLOOKUP($A324,'8.Non-elective admissions - CCG'!$D$5:$Q$215,14,0)*$H324","v":3379.7282266464767}]
["03Y","NHS Hardwick CCG","E10000024","Nottinghamshire",{"$f":"COUNTIF($D$5:D325,D325)","v":5},{"$f":"D325&E325","v":"Nottinghamshire5"},{"$f":"B325","v":"NHS Hardwick CCG"},5.0491995887795557E-2,6.3004651128695886E-3,{"$f":"VLOOKUP($A325,'8.Non-elective admissions - CCG'!$D$5:$N$215,3,0)*$H325","v":180.86232927008368},{"$f":"VLOOKUP($A325,'8.Non-elective admissions - CCG'!$D$5:$N$215,4,0)*$H325","v":175.20722573065058},{"$f":"VLOOKUP($A325,'8.Non-elective admissions - CCG'!$D$5:$N$215,5,0)*$H325","v":183.18496108092228},{"$f":"VLOOKUP($A325,'8.Non-elective admissions - CCG'!$D$5:$N$215,6,0)*$H325","v":188.73908062857979},{"$f":"VLOOKUP($A325,'8.Non-elective admissions - CCG'!$D$5:$N$215,7,0)*$H325","v":177.39743882811601},{"$f":"VLOOKUP($A325,'8.Non-elective admissions - CCG'!$D$5:$N$215,8,0)*$H325","v":179.62625125387336},{"$f":"VLOOKUP($A325,'8.Non-elective admissions - CCG'!$D$5:$N$215,9,0)*$H325","v":184.9091791070633},{"$f":"VLOOKUP($A325,'8.Non-elective admissions - CCG'!$D$5:$N$215,10,0)*$H325","v":184.08119440479771},{"$f":"VLOOKUP($A325,'8.Non-elective admissions - CCG'!$D$5:$Q$215,11,0)*$H325","v":173.86507590982697},{"$f":"VLOOKUP($A325,'8.Non-elective admissions - CCG'!$D$5:$Q$215,12,0)*$H325","v":176.04824782979671},{"$f":"VLOOKUP($A325,'8.Non-elective admissions - CCG'!$D$5:$Q$215,13,0)*$H325","v":181.22609637681504},{"$f":"VLOOKUP($A325,'8.Non-elective admissions - CCG'!$D$5:$Q$215,14,0)*$H325","v":180.41403278039769}]
["03Y","NHS Hardwick CCG","E08000019","Sheffield",{"$f":"COUNTIF($D$5:D326,D326)","v":2},"Sheffield2","NHS Hardwick CCG",3.632447251187154E-3,0,{"$f":"VLOOKUP($A326,'8.Non-elective admissions - CCG'!$D$5:$N$215,3,0)*$H326","v":13.011426053752386},{"$f":"VLOOKUP($A326,'8.Non-elective admissions - CCG'!$D$5:$N$215,4,0)*$H326","v":12.604591961619425},{"$f":"VLOOKUP($A326,'8.Non-elective admissions - CCG'!$D$5:$N$215,5,0)*$H326","v":13.178518627306994},{"$f":"VLOOKUP($A326,'8.Non-elective admissions - CCG'!$D$5:$N$215,6,0)*$H326","v":13.578087824937581},{"$f":"VLOOKUP($A326,'8.Non-elective admissions - CCG'!$D$5:$N$215,7,0)*$H326","v":12.76215819376208},{"$f":"VLOOKUP($A326,'8.Non-elective admissions - CCG'!$D$5:$N$215,8,0)*$H326","v":12.922501302149898},{"$f":"VLOOKUP($A326,'8.Non-elective admissions - CCG'!$D$5:$N$215,9,0)*$H326","v":13.302560684258385},{"$f":"VLOOKUP($A326,'8.Non-elective admissions - CCG'!$D$5:$N$215,10,0)*$H326","v":13.2429945945666},{"$f":"VLOOKUP($A326,'8.Non-elective admissions - CCG'!$D$5:$Q$215,11,0)*$H326","v":12.508036292911735},{"$f":"VLOOKUP($A326,'8.Non-elective admissions - CCG'!$D$5:$Q$215,12,0)*$H326","v":12.665095975345082},{"$f":"VLOOKUP($A326,'8.Non-elective admissions - CCG'!$D$5:$Q$215,13,0)*$H326","v":13.037595841729376},{"$f":"VLOOKUP($A326,'8.Non-elective admissions - CCG'!$D$5:$Q$215,14,0)*$H326","v":12.979175133125374}]
["08D","NHS Haringey CCG","E09000003","Barnet",{"$f":"COUNTIF($D$5:D327,D327)","v":6},"Barnet6","NHS Haringey CCG",2.1069295581703368E-2,1.5893770875567776E-2,{"$f":"VLOOKUP($A327,'8.Non-elective admissions - CCG'!$D$5:$N$215,3,0)*$H327","v":124.11922027181454},{"$f":"VLOOKUP($A327,'8.Non-elective admissions - CCG'!$D$5:$N$215,4,0)*$H327","v":111.87795953884488},{"$f":"VLOOKUP($A327,'8.Non-elective admissions - CCG'!$D$5:$N$215,5,0)*$H327","v":87.35329948174217},{"$f":"VLOOKUP($A327,'8.Non-elective admissions - CCG'!$D$5:$N$215,6,0)*$H327","v":99.152105007496047},{"$f":"VLOOKUP($A327,'8.Non-elective admissions - CCG'!$D$5:$N$215,7,0)*$H327","v":924.69823756338815},{"$f":"VLOOKUP($A327,'8.Non-elective admissions - CCG'!$D$5:$N$215,8,0)*$H327","v":950.88875040314019},{"$f":"VLOOKUP($A327,'8.Non-elective admissions - CCG'!$D$5:$N$215,9,0)*$H327","v":881.04634341123983},{"$f":"VLOOKUP($A327,'8.Non-elective admissions - CCG'!$D$5:$N$215,10,0)*$H327","v":900.91940514989062},{"$f":"VLOOKUP($A327,'8.Non-elective admissions - CCG'!$D$5:$Q$215,11,0)*$H327","v":129.78043890118832},{"$f":"VLOOKUP($A327,'8.Non-elective admissions - CCG'!$D$5:$Q$215,12,0)*$H327","v":130.89160029839437},{"$f":"VLOOKUP($A327,'8.Non-elective admissions - CCG'!$D$5:$Q$215,13,0)*$H327","v":134.81814113866199},{"$f":"VLOOKUP($A327,'8.Non-elective admissions - CCG'!$D$5:$Q$215,14,0)*$H327","v":146.18366169435413}]
["08D","NHS Haringey CCG","E09000007","Camden",{"$f":"COUNTIF($D$5:D328,D328)","v":5},"Camden5","NHS Haringey CCG",5.5704855128935419E-3,6.5214278408509763E-3,{"$f":"VLOOKUP($A328,'8.Non-elective admissions - CCG'!$D$5:$N$215,3,0)*$H328","v":32.815730156455857},{"$f":"VLOOKUP($A328,'8.Non-elective admissions - CCG'!$D$5:$N$215,4,0)*$H328","v":29.579278073464707},{"$f":"VLOOKUP($A328,'8.Non-elective admissions - CCG'!$D$5:$N$215,5,0)*$H328","v":23.095232936456625},{"$f":"VLOOKUP($A328,'8.Non-elective admissions - CCG'!$D$5:$N$215,6,0)*$H328","v":26.214704823677007},{"$f":"VLOOKUP($A328,'8.Non-elective admissions - CCG'!$D$5:$N$215,7,0)*$H328","v":244.47984585769456},{"$f":"VLOOKUP($A328,'8.Non-elective admissions - CCG'!$D$5:$N$215,8,0)*$H328","v":251.40432379210569},{"$f":"VLOOKUP($A328,'8.Non-elective admissions - CCG'!$D$5:$N$215,9,0)*$H328","v":232.9387744895532},{"$f":"VLOOKUP($A328,'8.Non-elective admissions - CCG'!$D$5:$N$215,10,0)*$H328","v":238.19298918708333},{"$f":"VLOOKUP($A328,'8.Non-elective admissions - CCG'!$D$5:$Q$215,11,0)*$H328","v":34.312492885800985},{"$f":"VLOOKUP($A328,'8.Non-elective admissions - CCG'!$D$5:$Q$215,12,0)*$H328","v":34.606271500355049},{"$f":"VLOOKUP($A328,'8.Non-elective admissions - CCG'!$D$5:$Q$215,13,0)*$H328","v":35.644404872288469},{"$f":"VLOOKUP($A328,'8.Non-elective admissions - CCG'!$D$5:$Q$215,14,0)*$H328","v":38.649321071620577}]
["08D","NHS Haringey CCG","E09000010","Enfield",{"$f":"COUNTIF($D$5:D329,D329)","v":5},"Enfield5","NHS Haringey CCG",7.9531436199768657E-2,6.9617407104903301E-2,{"$f":"VLOOKUP($A329,'8.Non-elective admissions - CCG'!$D$5:$N$215,3,0)*$H329","v":468.51969065283714},{"$f":"VLOOKUP($A329,'8.Non-elective admissions - CCG'!$D$5:$N$215,4,0)*$H329","v":422.31192622077157},{"$f":"VLOOKUP($A329,'8.Non-elective admissions - CCG'!$D$5:$N$215,5,0)*$H329","v":329.73733448424088},{"$f":"VLOOKUP($A329,'8.Non-elective admissions - CCG'!$D$5:$N$215,6,0)*$H329","v":374.27493875611128},{"$f":"VLOOKUP($A329,'8.Non-elective admissions - CCG'!$D$5:$N$215,7,0)*$H329","v":3490.5096185880889},{"$f":"VLOOKUP($A329,'8.Non-elective admissions - CCG'!$D$5:$N$215,8,0)*$H329","v":3589.3723970268143},{"$f":"VLOOKUP($A329,'8.Non-elective admissions - CCG'!$D$5:$N$215,9,0)*$H329","v":3325.7343976369207},{"$f":"VLOOKUP($A329,'8.Non-elective admissions - CCG'!$D$5:$N$215,10,0)*$H329","v":3400.7503437387973},{"$f":"VLOOKUP($A329,'8.Non-elective admissions - CCG'!$D$5:$Q$215,11,0)*$H329","v":489.88940595674967},{"$f":"VLOOKUP($A329,'8.Non-elective admissions - CCG'!$D$5:$Q$215,12,0)*$H329","v":494.08376838461754},{"$f":"VLOOKUP($A329,'8.Non-elective admissions - CCG'!$D$5:$Q$215,13,0)*$H329","v":508.90549942505714},{"$f":"VLOOKUP($A329,'8.Non-elective admissions - CCG'!$D$5:$Q$215,14,0)*$H329","v":551.80755893848254}]
["08D","NHS Haringey CCG","E09000012","Hackney",{"$f":"COUNTIF($D$5:D330,D330)","v":4},"Hackney4","NHS Haringey CCG",6.9543702450803949E-3,7.1998929061155665E-3,{"$f":"VLOOKUP($A330,'8.Non-elective admissions - CCG'!$D$5:$N$215,3,0)*$H330","v":40.968195113768608},{"$f":"VLOOKUP($A330,'8.Non-elective admissions - CCG'!$D$5:$N$215,4,0)*$H330","v":36.927706001376897},{"$f":"VLOOKUP($A330,'8.Non-elective admissions - CCG'!$D$5:$N$215,5,0)*$H330","v":28.832819036103317},{"$f":"VLOOKUP($A330,'8.Non-elective admissions - CCG'!$D$5:$N$215,6,0)*$H330","v":32.727266373348336},{"$f":"VLOOKUP($A330,'8.Non-elective admissions - CCG'!$D$5:$N$215,7,0)*$H330","v":305.21636967177682},{"$f":"VLOOKUP($A330,'8.Non-elective admissions - CCG'!$D$5:$N$215,8,0)*$H330","v":313.86110686718342},{"$f":"VLOOKUP($A330,'8.Non-elective admissions - CCG'!$D$5:$N$215,9,0)*$H330","v":290.8081312636204},{"$f":"VLOOKUP($A330,'8.Non-elective admissions - CCG'!$D$5:$N$215,10,0)*$H330","v":297.36765902277034},{"$f":"VLOOKUP($A330,'8.Non-elective admissions - CCG'!$D$5:$Q$215,11,0)*$H330","v":42.836801030579657},{"$f":"VLOOKUP($A330,'8.Non-elective admissions - CCG'!$D$5:$Q$215,12,0)*$H330","v":43.203563541848531},{"$f":"VLOOKUP($A330,'8.Non-elective admissions - CCG'!$D$5:$Q$215,13,0)*$H330","v":44.499602067662522},{"$f":"VLOOKUP($A330,'8.Non-elective admissions - CCG'!$D$5:$Q$215,14,0)*$H330","v":48.251034462060822}]
["08D","NHS Haringey CCG","E09000014","Haringey",{"$f":"COUNTIF($D$5:D331,D331)","v":5},"Haringey5","NHS Haringey CCG",0.87346890278209766,0.9163648095733915,{"$f":"VLOOKUP($A331,'8.Non-elective admissions - CCG'!$D$5:$N$215,3,0)*$H331","v":5145.605306289337},{"$f":"VLOOKUP($A331,'8.Non-elective admissions - CCG'!$D$5:$N$215,4,0)*$H331","v":4638.1198737729383},{"$f":"VLOOKUP($A331,'8.Non-elective admissions - CCG'!$D$5:$N$215,5,0)*$H331","v":3621.4020709345768},{"$f":"VLOOKUP($A331,'8.Non-elective admissions - CCG'!$D$5:$N$215,6,0)*$H331","v":4110.5446564925514},{"$f":"VLOOKUP($A331,'8.Non-elective admissions - CCG'!$D$5:$N$215,7,0)*$H331","v":38335.176030775168},{"$f":"VLOOKUP($A331,'8.Non-elective admissions - CCG'!$D$5:$N$215,8,0)*$H331","v":39420.955022518239},{"$f":"VLOOKUP($A331,'8.Non-elective admissions - CCG'!$D$5:$N$215,9,0)*$H331","v":36525.501286710722},{"$f":"VLOOKUP($A331,'8.Non-elective admissions - CCG'!$D$5:$N$215,10,0)*$H331","v":37349.377973259958},{"$f":"VLOOKUP($A331,'8.Non-elective admissions - CCG'!$D$5:$Q$215,11,0)*$H331","v":5380.3022094408052},{"$f":"VLOOKUP($A331,'8.Non-elective admissions - CCG'!$D$5:$Q$215,12,0)*$H331","v":5426.3675808561757},{"$f":"VLOOKUP($A331,'8.Non-elective admissions - CCG'!$D$5:$Q$215,13,0)*$H331","v":5589.1500196984134},{"$f":"VLOOKUP($A331,'8.Non-elective admissions - CCG'!$D$5:$Q$215,14,0)*$H331","v":6060.3299284348395}]
["08D","NHS Haringey CCG","E09000019","Islington",{"$f":"COUNTIF($D$5:D332,D332)","v":4},"Islington4","NHS Haringey CCG",1.340550967845648E-2,1.6534839112911915E-2,{"$f":"VLOOKUP($A332,'8.Non-elective admissions - CCG'!$D$5:$N$215,3,0)*$H332","v":78.971857515787121},{"$f":"VLOOKUP($A332,'8.Non-elective admissions - CCG'!$D$5:$N$215,4,0)*$H332","v":71.183256392603909},{"$f":"VLOOKUP($A332,'8.Non-elective admissions - CCG'!$D$5:$N$215,5,0)*$H332","v":55.579243126880563},{"$f":"VLOOKUP($A332,'8.Non-elective admissions - CCG'!$D$5:$N$215,6,0)*$H332","v":63.086328546816191},{"$f":"VLOOKUP($A332,'8.Non-elective admissions - CCG'!$D$5:$N$215,7,0)*$H332","v":588.34673068388736},{"$f":"VLOOKUP($A332,'8.Non-elective admissions - CCG'!$D$5:$N$215,8,0)*$H332","v":605.01065625252045},{"$f":"VLOOKUP($A332,'8.Non-elective admissions - CCG'!$D$5:$N$215,9,0)*$H332","v":560.57286006394361},{"$f":"VLOOKUP($A332,'8.Non-elective admissions - CCG'!$D$5:$N$215,10,0)*$H332","v":573.21725628710897},{"$f":"VLOOKUP($A332,'8.Non-elective admissions - CCG'!$D$5:$Q$215,11,0)*$H332","v":82.573853644876166},{"$f":"VLOOKUP($A332,'8.Non-elective admissions - CCG'!$D$5:$Q$215,12,0)*$H332","v":83.280839068608529},{"$f":"VLOOKUP($A332,'8.Non-elective admissions - CCG'!$D$5:$Q$215,13,0)*$H332","v":85.779132427916309},{"$f":"VLOOKUP($A332,'8.Non-elective admissions - CCG'!$D$5:$Q$215,14,0)*$H332","v":93.010536782143376}]
["03E","NHS Harrogate and Rural District CCG","E10000023","North Yorkshire",{"$f":"COUNTIF($D$5:D333,D333)","v":9},"North Yorkshire9","NHS Harrogate and Rural District CCG",0.99889957537286989,0.26342108024448463,{"$f":"VLOOKUP($A333,'8.Non-elective admissions - CCG'!$D$5:$N$215,3,0)*$H333","v":3409.2442507476048},{"$f":"VLOOKUP($A333,'8.Non-elective admissions - CCG'!$D$5:$N$215,4,0)*$H333","v":3354.3047741020969},{"$f":"VLOOKUP($A333,'8.Non-elective admissions - CCG'!$D$5:$N$215,5,0)*$H333","v":3613.0197641236705},{"$f":"VLOOKUP($A333,'8.Non-elective admissions - CCG'!$D$5:$N$215,6,0)*$H333","v":3665.9614416184327},{"$f":"VLOOKUP($A333,'8.Non-elective admissions - CCG'!$D$5:$N$215,7,0)*$H333","v":3275.7346367792561},{"$f":"VLOOKUP($A333,'8.Non-elective admissions - CCG'!$D$5:$N$215,8,0)*$H333","v":3330.1812882341774},{"$f":"VLOOKUP($A333,'8.Non-elective admissions - CCG'!$D$5:$N$215,9,0)*$H333","v":3549.2658791515869},{"$f":"VLOOKUP($A333,'8.Non-elective admissions - CCG'!$D$5:$N$215,10,0)*$H333","v":3331.7963480027483},{"$f":"VLOOKUP($A333,'8.Non-elective admissions - CCG'!$D$5:$Q$215,11,0)*$H333","v":3157.3869272895286},{"$f":"VLOOKUP($A333,'8.Non-elective admissions - CCG'!$D$5:$Q$215,12,0)*$H333","v":3204.0015846870683},{"$f":"VLOOKUP($A333,'8.Non-elective admissions - CCG'!$D$5:$Q$215,13,0)*$H333","v":3415.5945977890055},{"$f":"VLOOKUP($A333,'8.Non-elective admissions - CCG'!$D$5:$Q$215,14,0)*$H333","v":3209.7408033859979}]
["03E","NHS Harrogate and Rural District CCG","E06000014","York",{"$f":"COUNTIF($D$5:D334,D334)","v":1},"York1","NHS Harrogate and Rural District CCG",1.10042462713013E-3,0,{"$f":"VLOOKUP($A334,'8.Non-elective admissions - CCG'!$D$5:$N$215,3,0)*$H334","v":3.7557492523951335},{"$f":"VLOOKUP($A334,'8.Non-elective admissions - CCG'!$D$5:$N$215,4,0)*$H334","v":3.6952258979029766},{"$f":"VLOOKUP($A334,'8.Non-elective admissions - CCG'!$D$5:$N$215,5,0)*$H334","v":3.9802358763296799},{"$f":"VLOOKUP($A334,'8.Non-elective admissions - CCG'!$D$5:$N$215,6,0)*$H334","v":4.0385583815675767},{"$f":"VLOOKUP($A334,'8.Non-elective admissions - CCG'!$D$5:$N$215,7,0)*$H334","v":3.6086701357436257},{"$f":"VLOOKUP($A334,'8.Non-elective admissions - CCG'!$D$5:$N$215,8,0)*$H334","v":3.668650575822801},{"$f":"VLOOKUP($A334,'8.Non-elective admissions - CCG'!$D$5:$N$215,9,0)*$H334","v":3.9100022444129641},{"$f":"VLOOKUP($A334,'8.Non-elective admissions - CCG'!$D$5:$N$215,10,0)*$H334","v":3.6704297852522965},{"$f":"VLOOKUP($A334,'8.Non-elective admissions - CCG'!$D$5:$Q$215,11,0)*$H334","v":3.4782939324718156},{"$f":"VLOOKUP($A334,'8.Non-elective admissions - CCG'!$D$5:$Q$215,12,0)*$H334","v":3.5296463589320415},{"$f":"VLOOKUP($A334,'8.Non-elective admissions - CCG'!$D$5:$Q$215,13,0)*$H334","v":3.7627450289951705},{"$f":"VLOOKUP($A334,'8.Non-elective admissions - CCG'!$D$5:$Q$215,14,0)*$H334","v":3.5359688940021266}]
["08E","NHS Harrow CCG","E09000003","Barnet",{"$f":"COUNTIF($D$5:D335,D335)","v":7},"Barnet7","NHS Harrow CCG",1.208243363393878E-2,8.0246539302087101E-3,{"$f":"VLOOKUP($A335,'8.Non-elective admissions - CCG'!$D$5:$N$215,3,0)*$H335","v":62.961561666454983},{"$f":"VLOOKUP($A335,'8.Non-elective admissions - CCG'!$D$5:$N$215,4,0)*$H335","v":62.961561666454983},{"$f":"VLOOKUP($A335,'8.Non-elective admissions - CCG'!$D$5:$N$215,5,0)*$H335","v":63.746919852661001},{"$f":"VLOOKUP($A335,'8.Non-elective admissions - CCG'!$D$5:$N$215,6,0)*$H335","v":66.912517464752966},{"$f":"VLOOKUP($A335,'8.Non-elective admissions - CCG'!$D$5:$N$215,7,0)*$H335","v":63.432776578178597},{"$f":"VLOOKUP($A335,'8.Non-elective admissions - CCG'!$D$5:$N$215,8,0)*$H335","v":60.677981709640555},{"$f":"VLOOKUP($A335,'8.Non-elective admissions - CCG'!$D$5:$N$215,9,0)*$H335","v":61.257938524069615},{"$f":"VLOOKUP($A335,'8.Non-elective admissions - CCG'!$D$5:$N$215,10,0)*$H335","v":63.795249587196757},{"$f":"VLOOKUP($A335,'8.Non-elective admissions - CCG'!$D$5:$Q$215,11,0)*$H335","v":62.876984631017415},{"$f":"VLOOKUP($A335,'8.Non-elective admissions - CCG'!$D$5:$Q$215,12,0)*$H335","v":60.001365426139984},{"$f":"VLOOKUP($A335,'8.Non-elective admissions - CCG'!$D$5:$Q$215,13,0)*$H335","v":60.641734408738735},{"$f":"VLOOKUP($A335,'8.Non-elective admissions - CCG'!$D$5:$Q$215,14,0)*$H335","v":63.215292772767697}]
["08E","NHS Harrow CCG","E09000005","Brent",{"$f":"COUNTIF($D$5:D336,D336)","v":7},"Brent7","NHS Harrow CCG",5.5831639781531821E-2,3.8518307560443298E-2,{"$f":"VLOOKUP($A336,'8.Non-elective admissions - CCG'!$D$5:$N$215,3,0)*$H336","v":290.93867490156231},{"$f":"VLOOKUP($A336,'8.Non-elective admissions - CCG'!$D$5:$N$215,4,0)*$H336","v":290.93867490156231},{"$f":"VLOOKUP($A336,'8.Non-elective admissions - CCG'!$D$5:$N$215,5,0)*$H336","v":294.56773148736187},{"$f":"VLOOKUP($A336,'8.Non-elective admissions - CCG'!$D$5:$N$215,6,0)*$H336","v":309.19562111012323},{"$f":"VLOOKUP($A336,'8.Non-elective admissions - CCG'!$D$5:$N$215,7,0)*$H336","v":293.11610885304208},{"$f":"VLOOKUP($A336,'8.Non-elective admissions - CCG'!$D$5:$N$215,8,0)*$H336","v":280.38649498285281},{"$f":"VLOOKUP($A336,'8.Non-elective admissions - CCG'!$D$5:$N$215,9,0)*$H336","v":283.06641369236632},{"$f":"VLOOKUP($A336,'8.Non-elective admissions - CCG'!$D$5:$N$215,10,0)*$H336","v":294.79105804648799},{"$f":"VLOOKUP($A336,'8.Non-elective admissions - CCG'!$D$5:$Q$215,11,0)*$H336","v":290.54785342309157},{"$f":"VLOOKUP($A336,'8.Non-elective admissions - CCG'!$D$5:$Q$215,12,0)*$H336","v":277.25992315508699},{"$f":"VLOOKUP($A336,'8.Non-elective admissions - CCG'!$D$5:$Q$215,13,0)*$H336","v":280.21900006350819},{"$f":"VLOOKUP($A336,'8.Non-elective admissions - CCG'!$D$5:$Q$215,14,0)*$H336","v":292.11113933697447}]
["08E","NHS Harrow CCG","E09000009","Ealing",{"$f":"COUNTIF($D$5:D337,D337)","v":5},"Ealing5","NHS Harrow CCG",3.4254731360345487E-3,2.1919854104702229E-3,{"$f":"VLOOKUP($A337,'8.Non-elective admissions - CCG'!$D$5:$N$215,3,0)*$H337","v":17.850140511876035},{"$f":"VLOOKUP($A337,'8.Non-elective admissions - CCG'!$D$5:$N$215,4,0)*$H337","v":17.850140511876035},{"$f":"VLOOKUP($A337,'8.Non-elective admissions - CCG'!$D$5:$N$215,5,0)*$H337","v":18.072796265718278},{"$f":"VLOOKUP($A337,'8.Non-elective admissions - CCG'!$D$5:$N$215,6,0)*$H337","v":18.970270227359332},{"$f":"VLOOKUP($A337,'8.Non-elective admissions - CCG'!$D$5:$N$215,7,0)*$H337","v":17.983733964181379},{"$f":"VLOOKUP($A337,'8.Non-elective admissions - CCG'!$D$5:$N$215,8,0)*$H337","v":17.202726089165502},{"$f":"VLOOKUP($A337,'8.Non-elective admissions - CCG'!$D$5:$N$215,9,0)*$H337","v":17.367148799695162},{"$f":"VLOOKUP($A337,'8.Non-elective admissions - CCG'!$D$5:$N$215,10,0)*$H337","v":18.086498158262419},{"$f":"VLOOKUP($A337,'8.Non-elective admissions - CCG'!$D$5:$Q$215,11,0)*$H337","v":17.826162199923793},{"$f":"VLOOKUP($A337,'8.Non-elective admissions - CCG'!$D$5:$Q$215,12,0)*$H337","v":17.01089959354757},{"$f":"VLOOKUP($A337,'8.Non-elective admissions - CCG'!$D$5:$Q$215,13,0)*$H337","v":17.192449669757401},{"$f":"VLOOKUP($A337,'8.Non-elective admissions - CCG'!$D$5:$Q$215,14,0)*$H337","v":17.922075447732759}]
["08E","NHS Harrow CCG","E09000015","Harrow",{"$f":"COUNTIF($D$5:D338,D338)","v":4},"Harrow4","NHS Harrow CCG",0.89924425250857365,0.84406144400108796,{"$f":"VLOOKUP($A338,'8.Non-elective admissions - CCG'!$D$5:$N$215,3,0)*$H338","v":4685.9617998221775},{"$f":"VLOOKUP($A338,'8.Non-elective admissions - CCG'!$D$5:$N$215,4,0)*$H338","v":4685.9617998221775},{"$f":"VLOOKUP($A338,'8.Non-elective admissions - CCG'!$D$5:$N$215,5,0)*$H338","v":4744.4126762352344},{"$f":"VLOOKUP($A338,'8.Non-elective admissions - CCG'!$D$5:$N$215,6,0)*$H338","v":4980.0146703924811},{"$f":"VLOOKUP($A338,'8.Non-elective admissions - CCG'!$D$5:$N$215,7,0)*$H338","v":4721.0323256700112},{"$f":"VLOOKUP($A338,'8.Non-elective admissions - CCG'!$D$5:$N$215,8,0)*$H338","v":4516.0046360980568},{"$f":"VLOOKUP($A338,'8.Non-elective admissions - CCG'!$D$5:$N$215,9,0)*$H338","v":4559.1683602184685},{"$f":"VLOOKUP($A338,'8.Non-elective admissions - CCG'!$D$5:$N$215,10,0)*$H338","v":4748.009653245269},{"$f":"VLOOKUP($A338,'8.Non-elective admissions - CCG'!$D$5:$Q$215,11,0)*$H338","v":4679.6670900546169},{"$f":"VLOOKUP($A338,'8.Non-elective admissions - CCG'!$D$5:$Q$215,12,0)*$H338","v":4465.6469579575769},{"$f":"VLOOKUP($A338,'8.Non-elective admissions - CCG'!$D$5:$Q$215,13,0)*$H338","v":4513.3069033405309},{"$f":"VLOOKUP($A338,'8.Non-elective admissions - CCG'!$D$5:$Q$215,14,0)*$H338","v":4704.8459291248573}]
["08E","NHS Harrow CCG","E10000015","Hertfordshire",{"$f":"COUNTIF($D$5:D339,D339)","v":8},"Hertfordshire8","NHS Harrow CCG",5.3862885812269792E-3,1.1388670916087232E-3,{"$f":"VLOOKUP($A339,'8.Non-elective admissions - CCG'!$D$5:$N$215,3,0)*$H339","v":28.067949796773789},{"$f":"VLOOKUP($A339,'8.Non-elective admissions - CCG'!$D$5:$N$215,4,0)*$H339","v":28.067949796773789},{"$f":"VLOOKUP($A339,'8.Non-elective admissions - CCG'!$D$5:$N$215,5,0)*$H339","v":28.418058554553543},{"$f":"VLOOKUP($A339,'8.Non-elective admissions - CCG'!$D$5:$N$215,6,0)*$H339","v":29.829266162835012},{"$f":"VLOOKUP($A339,'8.Non-elective admissions - CCG'!$D$5:$N$215,7,0)*$H339","v":28.278015051441642},{"$f":"VLOOKUP($A339,'8.Non-elective admissions - CCG'!$D$5:$N$215,8,0)*$H339","v":27.04994125492189},{"$f":"VLOOKUP($A339,'8.Non-elective admissions - CCG'!$D$5:$N$215,9,0)*$H339","v":27.308483106820784},{"$f":"VLOOKUP($A339,'8.Non-elective admissions - CCG'!$D$5:$N$215,10,0)*$H339","v":28.439603708878451},{"$f":"VLOOKUP($A339,'8.Non-elective admissions - CCG'!$D$5:$Q$215,11,0)*$H339","v":28.0302457767052},{"$f":"VLOOKUP($A339,'8.Non-elective admissions - CCG'!$D$5:$Q$215,12,0)*$H339","v":26.74830909437318},{"$f":"VLOOKUP($A339,'8.Non-elective admissions - CCG'!$D$5:$Q$215,13,0)*$H339","v":27.03378238917821},{"$f":"VLOOKUP($A339,'8.Non-elective admissions - CCG'!$D$5:$Q$215,14,0)*$H339","v":28.181061856979554}]
["08E","NHS Harrow CCG","E09000017","Hillingdon",{"$f":"COUNTIF($D$5:D340,D340)","v":4},"Hillingdon4","NHS Harrow CCG",2.4029912358694273E-2,1.9596355220353797E-2,{"$f":"VLOOKUP($A340,'8.Non-elective admissions - CCG'!$D$5:$N$215,3,0)*$H340","v":125.21987330115586},{"$f":"VLOOKUP($A340,'8.Non-elective admissions - CCG'!$D$5:$N$215,4,0)*$H340","v":125.21987330115586},{"$f":"VLOOKUP($A340,'8.Non-elective admissions - CCG'!$D$5:$N$215,5,0)*$H340","v":126.78181760447099},{"$f":"VLOOKUP($A340,'8.Non-elective admissions - CCG'!$D$5:$N$215,6,0)*$H340","v":133.07765464244889},{"$f":"VLOOKUP($A340,'8.Non-elective admissions - CCG'!$D$5:$N$215,7,0)*$H340","v":126.15703988314493},{"$f":"VLOOKUP($A340,'8.Non-elective admissions - CCG'!$D$5:$N$215,8,0)*$H340","v":120.67821986536264},{"$f":"VLOOKUP($A340,'8.Non-elective admissions - CCG'!$D$5:$N$215,9,0)*$H340","v":121.83165565857996},{"$f":"VLOOKUP($A340,'8.Non-elective admissions - CCG'!$D$5:$N$215,10,0)*$H340","v":126.87793725390576},{"$f":"VLOOKUP($A340,'8.Non-elective admissions - CCG'!$D$5:$Q$215,11,0)*$H340","v":125.05166391464499},{"$f":"VLOOKUP($A340,'8.Non-elective admissions - CCG'!$D$5:$Q$215,12,0)*$H340","v":119.33254477327576},{"$f":"VLOOKUP($A340,'8.Non-elective admissions - CCG'!$D$5:$Q$215,13,0)*$H340","v":120.60613012828655},{"$f":"VLOOKUP($A340,'8.Non-elective admissions - CCG'!$D$5:$Q$215,14,0)*$H340","v":125.72450146068843}]
["00K","NHS Hartlepool and Stockton-On-Tees CCG","E06000047","County Durham",{"$f":"COUNTIF($D$5:D341,D341)","v":3},"County Durham3","NHS Hartlepool and Stockton-On-Tees CCG",1.0619126187733697E-3,0,{"$f":"VLOOKUP($A341,'8.Non-elective admissions - CCG'!$D$5:$N$215,3,0)*$H341","v":8.2839803390510571},{"$f":"VLOOKUP($A341,'8.Non-elective admissions - CCG'!$D$5:$N$215,4,0)*$H341","v":7.9335491748558447},{"$f":"VLOOKUP($A341,'8.Non-elective admissions - CCG'!$D$5:$N$215,5,0)*$H341","v":8.2064607178806011},{"$f":"VLOOKUP($A341,'8.Non-elective admissions - CCG'!$D$5:$N$215,6,0)*$H341","v":7.8581533789229354},{"$f":"VLOOKUP($A341,'8.Non-elective admissions - CCG'!$D$5:$N$215,7,0)*$H341","v":8.0354927862580894},{"$f":"VLOOKUP($A341,'8.Non-elective admissions - CCG'!$D$5:$N$215,8,0)*$H341","v":7.9367349127121649},{"$f":"VLOOKUP($A341,'8.Non-elective admissions - CCG'!$D$5:$N$215,9,0)*$H341","v":8.1830986402675876},{"$f":"VLOOKUP($A341,'8.Non-elective admissions - CCG'!$D$5:$N$215,10,0)*$H341","v":8.1002694560032644},{"$f":"VLOOKUP($A341,'8.Non-elective admissions - CCG'!$D$5:$Q$215,11,0)*$H341","v":7.6383374668368482},{"$f":"VLOOKUP($A341,'8.Non-elective admissions - CCG'!$D$5:$Q$215,12,0)*$H341","v":7.5448891563847917},{"$f":"VLOOKUP($A341,'8.Non-elective admissions - CCG'!$D$5:$Q$215,13,0)*$H341","v":7.7785099325149334},{"$f":"VLOOKUP($A341,'8.Non-elective admissions - CCG'!$D$5:$Q$215,14,0)*$H341","v":7.6999283987257039}]
["00K","NHS Hartlepool and Stockton-On-Tees CCG","E06000005","Darlington",{"$f":"COUNTIF($D$5:D342,D342)","v":3},"Darlington3","NHS Hartlepool and Stockton-On-Tees CCG",1.7260403803515032E-3,4.6052327995939274E-3,{"$f":"VLOOKUP($A342,'8.Non-elective admissions - CCG'!$D$5:$N$215,3,0)*$H342","v":13.464841007122077},{"$f":"VLOOKUP($A342,'8.Non-elective admissions - CCG'!$D$5:$N$215,4,0)*$H342","v":12.895247681606081},{"$f":"VLOOKUP($A342,'8.Non-elective admissions - CCG'!$D$5:$N$215,5,0)*$H342","v":13.338840059356416},{"$f":"VLOOKUP($A342,'8.Non-elective admissions - CCG'!$D$5:$N$215,6,0)*$H342","v":12.772698814601124},{"$f":"VLOOKUP($A342,'8.Non-elective admissions - CCG'!$D$5:$N$215,7,0)*$H342","v":13.060947558119825},{"$f":"VLOOKUP($A342,'8.Non-elective admissions - CCG'!$D$5:$N$215,8,0)*$H342","v":12.900425802747135},{"$f":"VLOOKUP($A342,'8.Non-elective admissions - CCG'!$D$5:$N$215,9,0)*$H342","v":13.300867170988683},{"$f":"VLOOKUP($A342,'8.Non-elective admissions - CCG'!$D$5:$N$215,10,0)*$H342","v":13.166236021321266},{"$f":"VLOOKUP($A342,'8.Non-elective admissions - CCG'!$D$5:$Q$215,11,0)*$H342","v":12.415408455868363},{"$f":"VLOOKUP($A342,'8.Non-elective admissions - CCG'!$D$5:$Q$215,12,0)*$H342","v":12.263516902397431},{"$f":"VLOOKUP($A342,'8.Non-elective admissions - CCG'!$D$5:$Q$215,13,0)*$H342","v":12.643245786074761},{"$f":"VLOOKUP($A342,'8.Non-elective admissions - CCG'!$D$5:$Q$215,14,0)*$H342","v":12.515518797928749}]
["00K","NHS Hartlepool and Stockton-On-Tees CCG","E06000001","Hartlepool",{"$f":"COUNTIF($D$5:D343,D343)","v":2},"Hartlepool2","NHS Hartlepool and Stockton-On-Tees CCG",0.31902345547057948,0.99648857436119076,{"$f":"VLOOKUP($A343,'8.Non-elective admissions - CCG'!$D$5:$N$215,3,0)*$H343","v":2488.7019761259903},{"$f":"VLOOKUP($A343,'8.Non-elective admissions - CCG'!$D$5:$N$215,4,0)*$H343","v":2383.4242358206993},{"$f":"VLOOKUP($A343,'8.Non-elective admissions - CCG'!$D$5:$N$215,5,0)*$H343","v":2465.4132638766382},{"$f":"VLOOKUP($A343,'8.Non-elective admissions - CCG'!$D$5:$N$215,6,0)*$H343","v":2360.7735704822881},{"$f":"VLOOKUP($A343,'8.Non-elective admissions - CCG'!$D$5:$N$215,7,0)*$H343","v":2414.0504875458751},{"$f":"VLOOKUP($A343,'8.Non-elective admissions - CCG'!$D$5:$N$215,8,0)*$H343","v":2384.381306187111},{"$f":"VLOOKUP($A343,'8.Non-elective admissions - CCG'!$D$5:$N$215,9,0)*$H343","v":2458.3947478562854},{"$f":"VLOOKUP($A343,'8.Non-elective admissions - CCG'!$D$5:$N$215,10,0)*$H343","v":2433.5109183295804},{"$f":"VLOOKUP($A343,'8.Non-elective admissions - CCG'!$D$5:$Q$215,11,0)*$H343","v":2294.7357151998781},{"$f":"VLOOKUP($A343,'8.Non-elective admissions - CCG'!$D$5:$Q$215,12,0)*$H343","v":2266.661651118467},{"$f":"VLOOKUP($A343,'8.Non-elective admissions - CCG'!$D$5:$Q$215,13,0)*$H343","v":2336.8468113219947},{"$f":"VLOOKUP($A343,'8.Non-elective admissions - CCG'!$D$5:$Q$215,14,0)*$H343","v":2313.2390756171717}]
["00K","NHS Hartlepool and Stockton-On-Tees CCG","E06000002","Middlesbrough",{"$f":"COUNTIF($D$5:D344,D344)","v":2},"Middlesbrough2","NHS Hartlepool and Stockton-On-Tees CCG",1.1241745964213196E-3,2.1454552656073617E-3,{"$f":"VLOOKUP($A344,'8.Non-elective admissions - CCG'!$D$5:$N$215,3,0)*$H344","v":8.7696860266827148},{"$f":"VLOOKUP($A344,'8.Non-elective admissions - CCG'!$D$5:$N$215,4,0)*$H344","v":8.3987084098636782},{"$f":"VLOOKUP($A344,'8.Non-elective admissions - CCG'!$D$5:$N$215,5,0)*$H344","v":8.6876212811439579},{"$f":"VLOOKUP($A344,'8.Non-elective admissions - CCG'!$D$5:$N$215,6,0)*$H344","v":8.3188920135177646},{"$f":"VLOOKUP($A344,'8.Non-elective admissions - CCG'!$D$5:$N$215,7,0)*$H344","v":8.5066291711201245},{"$f":"VLOOKUP($A344,'8.Non-elective admissions - CCG'!$D$5:$N$215,8,0)*$H344","v":8.4020809336529432},{"$f":"VLOOKUP($A344,'8.Non-elective admissions - CCG'!$D$5:$N$215,9,0)*$H344","v":8.6628894400226883},{"$f":"VLOOKUP($A344,'8.Non-elective admissions - CCG'!$D$5:$N$215,10,0)*$H344","v":8.5752038215018267},{"$f":"VLOOKUP($A344,'8.Non-elective admissions - CCG'!$D$5:$Q$215,11,0)*$H344","v":8.0861878720585523},{"$f":"VLOOKUP($A344,'8.Non-elective admissions - CCG'!$D$5:$Q$215,12,0)*$H344","v":7.9872605075734757},{"$f":"VLOOKUP($A344,'8.Non-elective admissions - CCG'!$D$5:$Q$215,13,0)*$H344","v":8.2345789187861662},{"$f":"VLOOKUP($A344,'8.Non-elective admissions - CCG'!$D$5:$Q$215,14,0)*$H344","v":8.1513899986509877}]
["00K","NHS Hartlepool and Stockton-On-Tees CCG","E10000023","North Yorkshire",{"$f":"COUNTIF($D$5:D345,D345)","v":10},"North Yorkshire10","NHS Hartlepool and Stockton-On-Tees CCG",1.5530904424405309E-3,0,{"$f":"VLOOKUP($A345,'8.Non-elective admissions - CCG'!$D$5:$N$215,3,0)*$H345","v":12.115658541478581},{"$f":"VLOOKUP($A345,'8.Non-elective admissions - CCG'!$D$5:$N$215,4,0)*$H345","v":11.603138695473206},{"$f":"VLOOKUP($A345,'8.Non-elective admissions - CCG'!$D$5:$N$215,5,0)*$H345","v":12.002282939180422},{"$f":"VLOOKUP($A345,'8.Non-elective admissions - CCG'!$D$5:$N$215,6,0)*$H345","v":11.492869274059929},{"$f":"VLOOKUP($A345,'8.Non-elective admissions - CCG'!$D$5:$N$215,7,0)*$H345","v":11.752235377947496},{"$f":"VLOOKUP($A345,'8.Non-elective admissions - CCG'!$D$5:$N$215,8,0)*$H345","v":11.607797966800527},{"$f":"VLOOKUP($A345,'8.Non-elective admissions - CCG'!$D$5:$N$215,9,0)*$H345","v":11.968114949446731},{"$f":"VLOOKUP($A345,'8.Non-elective admissions - CCG'!$D$5:$N$215,10,0)*$H345","v":11.846973894936369},{"$f":"VLOOKUP($A345,'8.Non-elective admissions - CCG'!$D$5:$Q$215,11,0)*$H345","v":11.171379552474738},{"$f":"VLOOKUP($A345,'8.Non-elective admissions - CCG'!$D$5:$Q$215,12,0)*$H345","v":11.034707593539972},{"$f":"VLOOKUP($A345,'8.Non-elective admissions - CCG'!$D$5:$Q$215,13,0)*$H345","v":11.376387490876889},{"$f":"VLOOKUP($A345,'8.Non-elective admissions - CCG'!$D$5:$Q$215,14,0)*$H345","v":11.261458798136289}]
["00K","NHS Hartlepool and Stockton-On-Tees CCG","E06000004","Stockton-on-Tees",{"$f":"COUNTIF($D$5:D346,D346)","v":4},"Stockton-on-Tees4","NHS Hartlepool and Stockton-On-Tees CCG",0.67551132649143375,0.98759507241686229,{"$f":"VLOOKUP($A346,'8.Non-elective admissions - CCG'!$D$5:$N$215,3,0)*$H346","v":5269.6638579596747},{"$f":"VLOOKUP($A346,'8.Non-elective admissions - CCG'!$D$5:$N$215,4,0)*$H346","v":5046.7451202175016},{"$f":"VLOOKUP($A346,'8.Non-elective admissions - CCG'!$D$5:$N$215,5,0)*$H346","v":5220.3515311257997},{"$f":"VLOOKUP($A346,'8.Non-elective admissions - CCG'!$D$5:$N$215,6,0)*$H346","v":4998.78381603661},{"$f":"VLOOKUP($A346,'8.Non-elective admissions - CCG'!$D$5:$N$215,7,0)*$H346","v":5111.594207560679},{"$f":"VLOOKUP($A346,'8.Non-elective admissions - CCG'!$D$5:$N$215,8,0)*$H346","v":5048.7716541969758},{"$f":"VLOOKUP($A346,'8.Non-elective admissions - CCG'!$D$5:$N$215,9,0)*$H346","v":5205.4902819429881},{"$f":"VLOOKUP($A346,'8.Non-elective admissions - CCG'!$D$5:$N$215,10,0)*$H346","v":5152.8003984766565},{"$f":"VLOOKUP($A346,'8.Non-elective admissions - CCG'!$D$5:$Q$215,11,0)*$H346","v":4858.9529714528826},{"$f":"VLOOKUP($A346,'8.Non-elective admissions - CCG'!$D$5:$Q$215,12,0)*$H346","v":4799.5079747216369},{"$f":"VLOOKUP($A346,'8.Non-elective admissions - CCG'!$D$5:$Q$215,13,0)*$H346","v":4948.1204665497526},{"$f":"VLOOKUP($A346,'8.Non-elective admissions - CCG'!$D$5:$Q$215,14,0)*$H346","v":4898.1326283893859}]
["09P","NHS Hastings and Rother CCG","E10000011","East Sussex",{"$f":"COUNTIF($D$5:D347,D347)","v":3},"East Sussex3","NHS Hastings and Rother CCG",0.9968622034184037,0.33334060714506525,{"$f":"VLOOKUP($A347,'8.Non-elective admissions - CCG'!$D$5:$N$215,3,0)*$H347","v":4586.5629979280757},{"$f":"VLOOKUP($A347,'8.Non-elective admissions - CCG'!$D$5:$N$215,4,0)*$H347","v":4702.1990135246106},{"$f":"VLOOKUP($A347,'8.Non-elective admissions - CCG'!$D$5:$N$215,5,0)*$H347","v":5270.4104694731004},{"$f":"VLOOKUP($A347,'8.Non-elective admissions - CCG'!$D$5:$N$215,6,0)*$H347","v":5233.5265679466193},{"$f":"VLOOKUP($A347,'8.Non-elective admissions - CCG'!$D$5:$N$215,7,0)*$H347","v":4088.1318962188734},{"$f":"VLOOKUP($A347,'8.Non-elective admissions - CCG'!$D$5:$N$215,8,0)*$H347","v":4132.9906953727013},{"$f":"VLOOKUP($A347,'8.Non-elective admissions - CCG'!$D$5:$N$215,9,0)*$H347","v":4132.9906953727013},{"$f":"VLOOKUP($A347,'8.Non-elective admissions - CCG'!$D$5:$N$215,10,0)*$H347","v":4046.2636836753009},{"$f":"VLOOKUP($A347,'8.Non-elective admissions - CCG'!$D$5:$Q$215,11,0)*$H347","v":4130.0001087624469},{"$f":"VLOOKUP($A347,'8.Non-elective admissions - CCG'!$D$5:$Q$215,12,0)*$H347","v":4174.8589079162748},{"$f":"VLOOKUP($A347,'8.Non-elective admissions - CCG'!$D$5:$Q$215,13,0)*$H347","v":4174.8589079162748},{"$f":"VLOOKUP($A347,'8.Non-elective admissions - CCG'!$D$5:$Q$215,14,0)*$H347","v":4087.1350340154554}]
["09P","NHS Hastings and Rother CCG","E10000016","Kent",{"$f":"COUNTIF($D$5:D348,D348)","v":8},"Kent8","NHS Hastings and Rother CCG",3.1377965815963063E-3,0,{"$f":"VLOOKUP($A348,'8.Non-elective admissions - CCG'!$D$5:$N$215,3,0)*$H348","v":14.437002071924605},{"$f":"VLOOKUP($A348,'8.Non-elective admissions - CCG'!$D$5:$N$215,4,0)*$H348","v":14.800986475389777},{"$f":"VLOOKUP($A348,'8.Non-elective admissions - CCG'!$D$5:$N$215,5,0)*$H348","v":16.589530526899672},{"$f":"VLOOKUP($A348,'8.Non-elective admissions - CCG'!$D$5:$N$215,6,0)*$H348","v":16.473432053380609},{"$f":"VLOOKUP($A348,'8.Non-elective admissions - CCG'!$D$5:$N$215,7,0)*$H348","v":12.868103781126452},{"$f":"VLOOKUP($A348,'8.Non-elective admissions - CCG'!$D$5:$N$215,8,0)*$H348","v":13.009304627298286},{"$f":"VLOOKUP($A348,'8.Non-elective admissions - CCG'!$D$5:$N$215,9,0)*$H348","v":13.009304627298286},{"$f":"VLOOKUP($A348,'8.Non-elective admissions - CCG'!$D$5:$N$215,10,0)*$H348","v":12.736316324699407},{"$f":"VLOOKUP($A348,'8.Non-elective admissions - CCG'!$D$5:$Q$215,11,0)*$H348","v":12.999891237553497},{"$f":"VLOOKUP($A348,'8.Non-elective admissions - CCG'!$D$5:$Q$215,12,0)*$H348","v":13.141092083725331},{"$f":"VLOOKUP($A348,'8.Non-elective admissions - CCG'!$D$5:$Q$215,13,0)*$H348","v":13.141092083725331},{"$f":"VLOOKUP($A348,'8.Non-elective admissions - CCG'!$D$5:$Q$215,14,0)*$H348","v":12.864965984544856}]
["08F","NHS Havering CCG","E09000002","Barking and Dagenham",{"$f":"COUNTIF($D$5:D349,D349)","v":2},"Barking and Dagenham2","NHS Havering CCG",6.1617840303006877E-2,7.662104231146312E-2,{"$f":"VLOOKUP($A349,'8.Non-elective admissions - CCG'!$D$5:$N$215,3,0)*$H349","v":400.26949060833266},{"$f":"VLOOKUP($A349,'8.Non-elective admissions - CCG'!$D$5:$N$215,4,0)*$H349","v":383.13973100409675},{"$f":"VLOOKUP($A349,'8.Non-elective admissions - CCG'!$D$5:$N$215,5,0)*$H349","v":380.5517817113705},{"$f":"VLOOKUP($A349,'8.Non-elective admissions - CCG'!$D$5:$N$215,6,0)*$H349","v":417.52248589317458},{"$f":"VLOOKUP($A349,'8.Non-elective admissions - CCG'!$D$5:$N$215,7,0)*$H349","v":373.08360087810155},{"$f":"VLOOKUP($A349,'8.Non-elective admissions - CCG'!$D$5:$N$215,8,0)*$H349","v":356.65713497951612},{"$f":"VLOOKUP($A349,'8.Non-elective admissions - CCG'!$D$5:$N$215,9,0)*$H349","v":354.52794899319781},{"$f":"VLOOKUP($A349,'8.Non-elective admissions - CCG'!$D$5:$N$215,10,0)*$H349","v":392.77740205302621},{"$f":"VLOOKUP($A349,'8.Non-elective admissions - CCG'!$D$5:$Q$215,11,0)*$H349","v":377.89637932203493},{"$f":"VLOOKUP($A349,'8.Non-elective admissions - CCG'!$D$5:$Q$215,12,0)*$H349","v":361.25801201643861},{"$f":"VLOOKUP($A349,'8.Non-elective admissions - CCG'!$D$5:$Q$215,13,0)*$H349","v":357.8923695500676},{"$f":"VLOOKUP($A349,'8.Non-elective admissions - CCG'!$D$5:$Q$215,14,0)*$H349","v":393.7231605781808}]
["08F","NHS Havering CCG","E10000012","Essex",{"$f":"COUNTIF($D$5:D350,D350)","v":5},"Essex5","NHS Havering CCG",1.3449795161165649E-3,0,{"$f":"VLOOKUP($A350,'8.Non-elective admissions - CCG'!$D$5:$N$215,3,0)*$H350","v":8.7369869366932065},{"$f":"VLOOKUP($A350,'8.Non-elective admissions - CCG'!$D$5:$N$215,4,0)*$H350","v":8.3630826312127997},{"$f":"VLOOKUP($A350,'8.Non-elective admissions - CCG'!$D$5:$N$215,5,0)*$H350","v":8.3065934915359048},{"$f":"VLOOKUP($A350,'8.Non-elective admissions - CCG'!$D$5:$N$215,6,0)*$H350","v":9.113581201205843},{"$f":"VLOOKUP($A350,'8.Non-elective admissions - CCG'!$D$5:$N$215,7,0)*$H350","v":8.1435798222153508},{"$f":"VLOOKUP($A350,'8.Non-elective admissions - CCG'!$D$5:$N$215,8,0)*$H350","v":7.7850268439359978},{"$f":"VLOOKUP($A350,'8.Non-elective admissions - CCG'!$D$5:$N$215,9,0)*$H350","v":7.7385514802504449},{"$f":"VLOOKUP($A350,'8.Non-elective admissions - CCG'!$D$5:$N$215,10,0)*$H350","v":8.5734514153204007},{"$f":"VLOOKUP($A350,'8.Non-elective admissions - CCG'!$D$5:$Q$215,11,0)*$H350","v":8.2486320017605319},{"$f":"VLOOKUP($A350,'8.Non-elective admissions - CCG'!$D$5:$Q$215,12,0)*$H350","v":7.8854536901286236},{"$f":"VLOOKUP($A350,'8.Non-elective admissions - CCG'!$D$5:$Q$215,13,0)*$H350","v":7.8119892494150109},{"$f":"VLOOKUP($A350,'8.Non-elective admissions - CCG'!$D$5:$Q$215,14,0)*$H350","v":8.5940952067494774}]
["08F","NHS Havering CCG","E09000016","Havering",{"$f":"COUNTIF($D$5:D351,D351)","v":2},"Havering2","NHS Havering CCG",0.92655948055963511,0.96325582703519319,{"$f":"VLOOKUP($A351,'8.Non-elective admissions - CCG'!$D$5:$N$215,3,0)*$H351","v":6018.93038571539},{"$f":"VLOOKUP($A351,'8.Non-elective admissions - CCG'!$D$5:$N$215,4,0)*$H351","v":5761.3468501198113},{"$f":"VLOOKUP($A351,'8.Non-elective admissions - CCG'!$D$5:$N$215,5,0)*$H351","v":5722.4313519363068},{"$f":"VLOOKUP($A351,'8.Non-elective admissions - CCG'!$D$5:$N$215,6,0)*$H351","v":6278.3670402720873},{"$f":"VLOOKUP($A351,'8.Non-elective admissions - CCG'!$D$5:$N$215,7,0)*$H351","v":5610.1308603973093},{"$f":"VLOOKUP($A351,'8.Non-elective admissions - CCG'!$D$5:$N$215,8,0)*$H351","v":5363.1228894009428},{"$f":"VLOOKUP($A351,'8.Non-elective admissions - CCG'!$D$5:$N$215,9,0)*$H351","v":5331.1059045180491},{"$f":"VLOOKUP($A351,'8.Non-elective admissions - CCG'!$D$5:$N$215,10,0)*$H351","v":5906.2703890979365},{"$f":"VLOOKUP($A351,'8.Non-elective admissions - CCG'!$D$5:$Q$215,11,0)*$H351","v":5682.5015483852485},{"$f":"VLOOKUP($A351,'8.Non-elective admissions - CCG'!$D$5:$Q$215,12,0)*$H351","v":5432.3071746093565},{"$f":"VLOOKUP($A351,'8.Non-elective admissions - CCG'!$D$5:$Q$215,13,0)*$H351","v":5381.6973525179765},{"$f":"VLOOKUP($A351,'8.Non-elective admissions - CCG'!$D$5:$Q$215,14,0)*$H351","v":5920.4919444704201}]
["08F","NHS Havering CCG","E09000026","Redbridge",{"$f":"COUNTIF($D$5:D352,D352)","v":2},"Redbridge2","NHS Havering CCG",9.4303161474839602E-3,7.95080925552402E-3,{"$f":"VLOOKUP($A352,'8.Non-elective admissions - CCG'!$D$5:$N$215,3,0)*$H352","v":61.259333694055805},{"$f":"VLOOKUP($A352,'8.Non-elective admissions - CCG'!$D$5:$N$215,4,0)*$H352","v":58.637705805055262},{"$f":"VLOOKUP($A352,'8.Non-elective admissions - CCG'!$D$5:$N$215,5,0)*$H352","v":58.24163252686094},{"$f":"VLOOKUP($A352,'8.Non-elective admissions - CCG'!$D$5:$N$215,6,0)*$H352","v":63.899822215351314},{"$f":"VLOOKUP($A352,'8.Non-elective admissions - CCG'!$D$5:$N$215,7,0)*$H352","v":57.09866312128004},{"$f":"VLOOKUP($A352,'8.Non-elective admissions - CCG'!$D$5:$N$215,8,0)*$H352","v":54.584670974723657},{"$f":"VLOOKUP($A352,'8.Non-elective admissions - CCG'!$D$5:$N$215,9,0)*$H352","v":54.258809229342198},{"$f":"VLOOKUP($A352,'8.Non-elective admissions - CCG'!$D$5:$N$215,10,0)*$H352","v":60.112705325809699},{"$f":"VLOOKUP($A352,'8.Non-elective admissions - CCG'!$D$5:$Q$215,11,0)*$H352","v":57.835235874412923},{"$f":"VLOOKUP($A352,'8.Non-elective admissions - CCG'!$D$5:$Q$215,12,0)*$H352","v":55.288813229637476},{"$f":"VLOOKUP($A352,'8.Non-elective admissions - CCG'!$D$5:$Q$215,13,0)*$H352","v":54.773717725783406},{"$f":"VLOOKUP($A352,'8.Non-elective admissions - CCG'!$D$5:$Q$215,14,0)*$H352","v":60.257449150772196}]
["08F","NHS Havering CCG","E06000034","Thurrock",{"$f":"COUNTIF($D$5:D353,D353)","v":3},"Thurrock3","NHS Havering CCG",1.0473834737574398E-3,1.6394136827522789E-3,{"$f":"VLOOKUP($A353,'8.Non-elective admissions - CCG'!$D$5:$N$215,3,0)*$H353","v":6.8038030455283289},{"$f":"VLOOKUP($A353,'8.Non-elective admissions - CCG'!$D$5:$N$215,4,0)*$H353","v":6.5126304398237602},{"$f":"VLOOKUP($A353,'8.Non-elective admissions - CCG'!$D$5:$N$215,5,0)*$H353","v":6.4686403339259479},{"$f":"VLOOKUP($A353,'8.Non-elective admissions - CCG'!$D$5:$N$215,6,0)*$H353","v":7.0970704181804116},{"$f":"VLOOKUP($A353,'8.Non-elective admissions - CCG'!$D$5:$N$215,7,0)*$H353","v":6.3416957810929881},{"$f":"VLOOKUP($A353,'8.Non-elective admissions - CCG'!$D$5:$N$215,8,0)*$H353","v":6.0624778008811928},{"$f":"VLOOKUP($A353,'8.Non-elective admissions - CCG'!$D$5:$N$215,9,0)*$H353","v":6.0262857791605464},{"$f":"VLOOKUP($A353,'8.Non-elective admissions - CCG'!$D$5:$N$215,10,0)*$H353","v":6.6764521079075516},{"$f":"VLOOKUP($A353,'8.Non-elective admissions - CCG'!$D$5:$Q$215,11,0)*$H353","v":6.4235036565434021},{"$f":"VLOOKUP($A353,'8.Non-elective admissions - CCG'!$D$5:$Q$215,12,0)*$H353","v":6.1406837644392436},{"$f":"VLOOKUP($A353,'8.Non-elective admissions - CCG'!$D$5:$Q$215,13,0)*$H353","v":6.0834743867570911},{"$f":"VLOOKUP($A353,'8.Non-elective admissions - CCG'!$D$5:$Q$215,14,0)*$H353","v":6.6925281638767471}]
["05F","NHS Herefordshire CCG","E10000013","Gloucestershire",{"$f":"COUNTIF($D$5:D354,D354)","v":2},"Gloucestershire2","NHS Herefordshire CCG",4.7438014696917627E-3,1.381253358333589E-3,{"$f":"VLOOKUP($A354,'8.Non-elective admissions - CCG'!$D$5:$N$215,3,0)*$H354","v":17.561553040798906},{"$f":"VLOOKUP($A354,'8.Non-elective admissions - CCG'!$D$5:$N$215,4,0)*$H354","v":17.571040643738289},{"$f":"VLOOKUP($A354,'8.Non-elective admissions - CCG'!$D$5:$N$215,5,0)*$H354","v":19.027387694933662},{"$f":"VLOOKUP($A354,'8.Non-elective admissions - CCG'!$D$5:$N$215,6,0)*$H354","v":20.640280194628858},{"$f":"VLOOKUP($A354,'8.Non-elective admissions - CCG'!$D$5:$N$215,7,0)*$H354","v":16.987553062966203},{"$f":"VLOOKUP($A354,'8.Non-elective admissions - CCG'!$D$5:$N$215,8,0)*$H354","v":15.654544849982816},{"$f":"VLOOKUP($A354,'8.Non-elective admissions - CCG'!$D$5:$N$215,9,0)*$H354","v":17.201024129102333},{"$f":"VLOOKUP($A354,'8.Non-elective admissions - CCG'!$D$5:$N$215,10,0)*$H354","v":16.883189430632985},{"$f":"VLOOKUP($A354,'8.Non-elective admissions - CCG'!$D$5:$Q$215,11,0)*$H354","v":16.100462188133843},{"$f":"VLOOKUP($A354,'8.Non-elective admissions - CCG'!$D$5:$Q$215,12,0)*$H354","v":14.952462232468436},{"$f":"VLOOKUP($A354,'8.Non-elective admissions - CCG'!$D$5:$Q$215,13,0)*$H354","v":16.740875386542232},{"$f":"VLOOKUP($A354,'8.Non-elective admissions - CCG'!$D$5:$Q$215,14,0)*$H354","v":16.712412577724081}]
["05F","NHS Herefordshire CCG","E06000019","Herefordshire, County of",{"$f":"COUNTIF($D$5:D355,D355)","v":2},"Herefordshire, County of2","NHS Herefordshire CCG",0.980814204803653,0.97323633084228289,{"$f":"VLOOKUP($A355,'8.Non-elective admissions - CCG'!$D$5:$N$215,3,0)*$H355","v":3630.9741861831235},{"$f":"VLOOKUP($A355,'8.Non-elective admissions - CCG'!$D$5:$N$215,4,0)*$H355","v":3632.9358145927308},{"$f":"VLOOKUP($A355,'8.Non-elective admissions - CCG'!$D$5:$N$215,5,0)*$H355","v":3934.0457754674521},{"$f":"VLOOKUP($A355,'8.Non-elective admissions - CCG'!$D$5:$N$215,6,0)*$H355","v":4267.5226051006939},{"$f":"VLOOKUP($A355,'8.Non-elective admissions - CCG'!$D$5:$N$215,7,0)*$H355","v":3512.2956674018815},{"$f":"VLOOKUP($A355,'8.Non-elective admissions - CCG'!$D$5:$N$215,8,0)*$H355","v":3236.686875852055},{"$f":"VLOOKUP($A355,'8.Non-elective admissions - CCG'!$D$5:$N$215,9,0)*$H355","v":3556.4323066180459},{"$f":"VLOOKUP($A355,'8.Non-elective admissions - CCG'!$D$5:$N$215,10,0)*$H355","v":3490.7177548962009},{"$f":"VLOOKUP($A355,'8.Non-elective admissions - CCG'!$D$5:$Q$215,11,0)*$H355","v":3328.8834111035981},{"$f":"VLOOKUP($A355,'8.Non-elective admissions - CCG'!$D$5:$Q$215,12,0)*$H355","v":3091.5263735411145},{"$f":"VLOOKUP($A355,'8.Non-elective admissions - CCG'!$D$5:$Q$215,13,0)*$H355","v":3461.2933287520914},{"$f":"VLOOKUP($A355,'8.Non-elective admissions - CCG'!$D$5:$Q$215,14,0)*$H355","v":3455.4084435232694}]
["05F","NHS Herefordshire CCG","E06000051","Shropshire",{"$f":"COUNTIF($D$5:D356,D356)","v":1},"Shropshire1","NHS Herefordshire CCG",4.5387539762588242E-3,2.7438840533097471E-3,{"$f":"VLOOKUP($A356,'8.Non-elective admissions - CCG'!$D$5:$N$215,3,0)*$H356","v":16.802467220110167},{"$f":"VLOOKUP($A356,'8.Non-elective admissions - CCG'!$D$5:$N$215,4,0)*$H356","v":16.811544728062685},{"$f":"VLOOKUP($A356,'8.Non-elective admissions - CCG'!$D$5:$N$215,5,0)*$H356","v":18.204942198774145},{"$f":"VLOOKUP($A356,'8.Non-elective admissions - CCG'!$D$5:$N$215,6,0)*$H356","v":19.748118550702145},{"$f":"VLOOKUP($A356,'8.Non-elective admissions - CCG'!$D$5:$N$215,7,0)*$H356","v":16.253277988982848},{"$f":"VLOOKUP($A356,'8.Non-elective admissions - CCG'!$D$5:$N$215,8,0)*$H356","v":14.97788812165412},{"$f":"VLOOKUP($A356,'8.Non-elective admissions - CCG'!$D$5:$N$215,9,0)*$H356","v":16.457521917914498},{"$f":"VLOOKUP($A356,'8.Non-elective admissions - CCG'!$D$5:$N$215,10,0)*$H356","v":16.153425401505157},{"$f":"VLOOKUP($A356,'8.Non-elective admissions - CCG'!$D$5:$Q$215,11,0)*$H356","v":15.40453099542245},{"$f":"VLOOKUP($A356,'8.Non-elective admissions - CCG'!$D$5:$Q$215,12,0)*$H356","v":14.306152533167813},{"$f":"VLOOKUP($A356,'8.Non-elective admissions - CCG'!$D$5:$Q$215,13,0)*$H356","v":16.01726278221739},{"$f":"VLOOKUP($A356,'8.Non-elective admissions - CCG'!$D$5:$Q$215,14,0)*$H356","v":15.990030258359837}]
["05F","NHS Herefordshire CCG","E10000034","Worcestershire",{"$f":"COUNTIF($D$5:D357,D357)","v":5},"Worcestershire5","NHS Herefordshire CCG",9.9032397503962394E-3,3.0307244567761367E-3,{"$f":"VLOOKUP($A357,'8.Non-elective admissions - CCG'!$D$5:$N$215,3,0)*$H357","v":36.661793555966881},{"$f":"VLOOKUP($A357,'8.Non-elective admissions - CCG'!$D$5:$N$215,4,0)*$H357","v":36.681600035467667},{"$f":"VLOOKUP($A357,'8.Non-elective admissions - CCG'!$D$5:$N$215,5,0)*$H357","v":39.721894638839316},{"$f":"VLOOKUP($A357,'8.Non-elective admissions - CCG'!$D$5:$N$215,6,0)*$H357","v":43.088996153974037},{"$f":"VLOOKUP($A357,'8.Non-elective admissions - CCG'!$D$5:$N$215,7,0)*$H357","v":35.463501546168935},{"$f":"VLOOKUP($A357,'8.Non-elective admissions - CCG'!$D$5:$N$215,8,0)*$H357","v":32.68069117630759},{"$f":"VLOOKUP($A357,'8.Non-elective admissions - CCG'!$D$5:$N$215,9,0)*$H357","v":35.909147334936762},{"$f":"VLOOKUP($A357,'8.Non-elective admissions - CCG'!$D$5:$N$215,10,0)*$H357","v":35.245630271660218},{"$f":"VLOOKUP($A357,'8.Non-elective admissions - CCG'!$D$5:$Q$215,11,0)*$H357","v":33.611595712844839},{"$f":"VLOOKUP($A357,'8.Non-elective admissions - CCG'!$D$5:$Q$215,12,0)*$H357","v":31.215011693248947},{"$f":"VLOOKUP($A357,'8.Non-elective admissions - CCG'!$D$5:$Q$215,13,0)*$H357","v":34.948533079148326},{"$f":"VLOOKUP($A357,'8.Non-elective admissions - CCG'!$D$5:$Q$215,14,0)*$H357","v":34.889113640645952}]
["06N","NHS Herts Valleys CCG","E10000002","Buckinghamshire",{"$f":"COUNTIF($D$5:D358,D358)","v":4},"Buckinghamshire4","NHS Herts Valleys CCG",1.2053984701086515E-2,1.3944024754307489E-2,{"$f":"VLOOKUP($A358,'8.Non-elective admissions - CCG'!$D$5:$N$215,3,0)*$H358","v":150.86767251879883},{"$f":"VLOOKUP($A358,'8.Non-elective admissions - CCG'!$D$5:$N$215,4,0)*$H358","v":153.19409156610851},{"$f":"VLOOKUP($A358,'8.Non-elective admissions - CCG'!$D$5:$N$215,5,0)*$H358","v":165.62174979292871},{"$f":"VLOOKUP($A358,'8.Non-elective admissions - CCG'!$D$5:$N$215,6,0)*$H358","v":168.76783979991231},{"$f":"VLOOKUP($A358,'8.Non-elective admissions - CCG'!$D$5:$N$215,7,0)*$H358","v":151.97663911129879},{"$f":"VLOOKUP($A358,'8.Non-elective admissions - CCG'!$D$5:$N$215,8,0)*$H358","v":153.90527666347262},{"$f":"VLOOKUP($A358,'8.Non-elective admissions - CCG'!$D$5:$N$215,9,0)*$H358","v":158.34114303347246},{"$f":"VLOOKUP($A358,'8.Non-elective admissions - CCG'!$D$5:$N$215,10,0)*$H358","v":155.31559287349975},{"$f":"VLOOKUP($A358,'8.Non-elective admissions - CCG'!$D$5:$Q$215,11,0)*$H358","v":129.77319929189741},{"$f":"VLOOKUP($A358,'8.Non-elective admissions - CCG'!$D$5:$Q$215,12,0)*$H358","v":131.4004872265441},{"$f":"VLOOKUP($A358,'8.Non-elective admissions - CCG'!$D$5:$Q$215,13,0)*$H358","v":144.44289867311971},{"$f":"VLOOKUP($A358,'8.Non-elective admissions - CCG'!$D$5:$Q$215,14,0)*$H358","v":145.05765189287513}]
["06N","NHS Herts Valleys CCG","E06000056","Central Bedfordshire",{"$f":"COUNTIF($D$5:D359,D359)","v":4},"Central Bedfordshire4","NHS Herts Valleys CCG",3.618469134198431E-3,8.2185211826112624E-3,{"$f":"VLOOKUP($A359,'8.Non-elective admissions - CCG'!$D$5:$N$215,3,0)*$H359","v":45.288759683627561},{"$f":"VLOOKUP($A359,'8.Non-elective admissions - CCG'!$D$5:$N$215,4,0)*$H359","v":45.987124226527861},{"$f":"VLOOKUP($A359,'8.Non-elective admissions - CCG'!$D$5:$N$215,5,0)*$H359","v":49.717765903886445},{"$f":"VLOOKUP($A359,'8.Non-elective admissions - CCG'!$D$5:$N$215,6,0)*$H359","v":50.662186347912233},{"$f":"VLOOKUP($A359,'8.Non-elective admissions - CCG'!$D$5:$N$215,7,0)*$H359","v":45.621658843973819},{"$f":"VLOOKUP($A359,'8.Non-elective admissions - CCG'!$D$5:$N$215,8,0)*$H359","v":46.200613905445564},{"$f":"VLOOKUP($A359,'8.Non-elective admissions - CCG'!$D$5:$N$215,9,0)*$H359","v":47.532210546830591},{"$f":"VLOOKUP($A359,'8.Non-elective admissions - CCG'!$D$5:$N$215,10,0)*$H359","v":46.623974794146783},{"$f":"VLOOKUP($A359,'8.Non-elective admissions - CCG'!$D$5:$Q$215,11,0)*$H359","v":38.95643869878031},{"$f":"VLOOKUP($A359,'8.Non-elective admissions - CCG'!$D$5:$Q$215,12,0)*$H359","v":39.444932031897096},{"$f":"VLOOKUP($A359,'8.Non-elective admissions - CCG'!$D$5:$Q$215,13,0)*$H359","v":43.360115635099802},{"$f":"VLOOKUP($A359,'8.Non-elective admissions - CCG'!$D$5:$Q$215,14,0)*$H359","v":43.544657560943918}]
["06N","NHS Herts Valleys CCG","E09000010","Enfield",{"$f":"COUNTIF($D$5:D360,D360)","v":6},"Enfield6","NHS Herts Valleys CCG",1.1855845906484986E-3,2.2330919758581339E-3,{"$f":"VLOOKUP($A360,'8.Non-elective admissions - CCG'!$D$5:$N$215,3,0)*$H360","v":14.838776736556609},{"$f":"VLOOKUP($A360,'8.Non-elective admissions - CCG'!$D$5:$N$215,4,0)*$H360","v":15.067594562551768},{"$f":"VLOOKUP($A360,'8.Non-elective admissions - CCG'!$D$5:$N$215,5,0)*$H360","v":16.28993227551037},{"$f":"VLOOKUP($A360,'8.Non-elective admissions - CCG'!$D$5:$N$215,6,0)*$H360","v":16.599369853669629},{"$f":"VLOOKUP($A360,'8.Non-elective admissions - CCG'!$D$5:$N$215,7,0)*$H360","v":14.947850518896271},{"$f":"VLOOKUP($A360,'8.Non-elective admissions - CCG'!$D$5:$N$215,8,0)*$H360","v":15.137544053400029},{"$f":"VLOOKUP($A360,'8.Non-elective admissions - CCG'!$D$5:$N$215,9,0)*$H360","v":15.573839182758677},{"$f":"VLOOKUP($A360,'8.Non-elective admissions - CCG'!$D$5:$N$215,10,0)*$H360","v":15.276257450505904},{"$f":"VLOOKUP($A360,'8.Non-elective admissions - CCG'!$D$5:$Q$215,11,0)*$H360","v":12.764003702921736},{"$f":"VLOOKUP($A360,'8.Non-elective admissions - CCG'!$D$5:$Q$215,12,0)*$H360","v":12.924057622659284},{"$f":"VLOOKUP($A360,'8.Non-elective admissions - CCG'!$D$5:$Q$215,13,0)*$H360","v":14.206860149740958},{"$f":"VLOOKUP($A360,'8.Non-elective admissions - CCG'!$D$5:$Q$215,14,0)*$H360","v":14.267324963864032}]
["06N","NHS Herts Valleys CCG","E09000015","Harrow",{"$f":"COUNTIF($D$5:D361,D361)","v":5},"Harrow5","NHS Herts Valleys CCG",1.8823185487145341E-3,4.3180692008777709E-3,{"$f":"VLOOKUP($A361,'8.Non-elective admissions - CCG'!$D$5:$N$215,3,0)*$H361","v":23.559098955711107},{"$f":"VLOOKUP($A361,'8.Non-elective admissions - CCG'!$D$5:$N$215,4,0)*$H361","v":23.922386435613014},{"$f":"VLOOKUP($A361,'8.Non-elective admissions - CCG'!$D$5:$N$215,5,0)*$H361","v":25.8630568593377},{"$f":"VLOOKUP($A361,'8.Non-elective admissions - CCG'!$D$5:$N$215,6,0)*$H361","v":26.354342000552194},{"$f":"VLOOKUP($A361,'8.Non-elective admissions - CCG'!$D$5:$N$215,7,0)*$H361","v":23.732272262192847},{"$f":"VLOOKUP($A361,'8.Non-elective admissions - CCG'!$D$5:$N$215,8,0)*$H361","v":24.033443229987171},{"$f":"VLOOKUP($A361,'8.Non-elective admissions - CCG'!$D$5:$N$215,9,0)*$H361","v":24.726136455914119},{"$f":"VLOOKUP($A361,'8.Non-elective admissions - CCG'!$D$5:$N$215,10,0)*$H361","v":24.253674500186772},{"$f":"VLOOKUP($A361,'8.Non-elective admissions - CCG'!$D$5:$Q$215,11,0)*$H361","v":20.265041495460675},{"$f":"VLOOKUP($A361,'8.Non-elective admissions - CCG'!$D$5:$Q$215,12,0)*$H361","v":20.519154499537137},{"$f":"VLOOKUP($A361,'8.Non-elective admissions - CCG'!$D$5:$Q$215,13,0)*$H361","v":22.555823169246263},{"$f":"VLOOKUP($A361,'8.Non-elective admissions - CCG'!$D$5:$Q$215,14,0)*$H361","v":22.651821415230703}]
["06N","NHS Herts Valleys CCG","E10000015","Hertfordshire",{"$f":"COUNTIF($D$5:D362,D362)","v":9},"Hertfordshire9","NHS Herts Valleys CCG",0.98125964302535207,0.50706945242900969,{"$f":"VLOOKUP($A362,'8.Non-elective admissions - CCG'!$D$5:$N$215,3,0)*$H362","v":12281.445692105306},{"$f":"VLOOKUP($A362,'8.Non-elective admissions - CCG'!$D$5:$N$215,4,0)*$H362","v":12470.828803209199},{"$f":"VLOOKUP($A362,'8.Non-elective admissions - CCG'!$D$5:$N$215,5,0)*$H362","v":13482.507495168338},{"$f":"VLOOKUP($A362,'8.Non-elective admissions - CCG'!$D$5:$N$215,6,0)*$H362","v":13738.616261997955},{"$f":"VLOOKUP($A362,'8.Non-elective admissions - CCG'!$D$5:$N$215,7,0)*$H362","v":12371.721579263638},{"$f":"VLOOKUP($A362,'8.Non-elective admissions - CCG'!$D$5:$N$215,8,0)*$H362","v":12528.723122147696},{"$f":"VLOOKUP($A362,'8.Non-elective admissions - CCG'!$D$5:$N$215,9,0)*$H362","v":12889.826670781025},{"$f":"VLOOKUP($A362,'8.Non-elective admissions - CCG'!$D$5:$N$215,10,0)*$H362","v":12643.530500381661},{"$f":"VLOOKUP($A362,'8.Non-elective admissions - CCG'!$D$5:$Q$215,11,0)*$H362","v":10564.24131681094},{"$f":"VLOOKUP($A362,'8.Non-elective admissions - CCG'!$D$5:$Q$215,12,0)*$H362","v":10696.711368619362},{"$f":"VLOOKUP($A362,'8.Non-elective admissions - CCG'!$D$5:$Q$215,13,0)*$H362","v":11758.434302372794},{"$f":"VLOOKUP($A362,'8.Non-elective admissions - CCG'!$D$5:$Q$215,14,0)*$H362","v":11808.478544167087}]
["01D","NHS Heywood, Middleton and Rochdale CCG","E08000002","Bury",{"$f":"COUNTIF($D$5:D363,D363)","v":4},"Bury4","NHS Heywood, Middleton and Rochdale CCG",3.9215162602711674E-3,4.4552552795533622E-3,{"$f":"VLOOKUP($A363,'8.Non-elective admissions - CCG'!$D$5:$N$215,3,0)*$H363","v":25.466326594200961},{"$f":"VLOOKUP($A363,'8.Non-elective admissions - CCG'!$D$5:$N$215,4,0)*$H363","v":24.791825797434321},{"$f":"VLOOKUP($A363,'8.Non-elective admissions - CCG'!$D$5:$N$215,5,0)*$H363","v":25.964359159255398},{"$f":"VLOOKUP($A363,'8.Non-elective admissions - CCG'!$D$5:$N$215,6,0)*$H363","v":26.685918151145295},{"$f":"VLOOKUP($A363,'8.Non-elective admissions - CCG'!$D$5:$N$215,7,0)*$H363","v":24.553436823972437},{"$f":"VLOOKUP($A363,'8.Non-elective admissions - CCG'!$D$5:$N$215,8,0)*$H363","v":24.05265135450329},{"$f":"VLOOKUP($A363,'8.Non-elective admissions - CCG'!$D$5:$N$215,9,0)*$H363","v":25.170075648318775},{"$f":"VLOOKUP($A363,'8.Non-elective admissions - CCG'!$D$5:$N$215,10,0)*$H363","v":22.990254642743224},{"$f":"VLOOKUP($A363,'8.Non-elective admissions - CCG'!$D$5:$Q$215,11,0)*$H363","v":23.307712282669655},{"$f":"VLOOKUP($A363,'8.Non-elective admissions - CCG'!$D$5:$Q$215,12,0)*$H363","v":23.052750981491865},{"$f":"VLOOKUP($A363,'8.Non-elective admissions - CCG'!$D$5:$Q$215,13,0)*$H363","v":23.955738923163207},{"$f":"VLOOKUP($A363,'8.Non-elective admissions - CCG'!$D$5:$Q$215,14,0)*$H363","v":21.901989434744948}]
["01D","NHS Heywood, Middleton and Rochdale CCG","E08000033","Calderdale",{"$f":"COUNTIF($D$5:D364,D364)","v":4},"Calderdale4","NHS Heywood, Middleton and Rochdale CCG",1.2329852486891186E-3,1.2830727043652264E-3,{"$f":"VLOOKUP($A364,'8.Non-elective admissions - CCG'!$D$5:$N$215,3,0)*$H364","v":8.0070062049871353},{"$f":"VLOOKUP($A364,'8.Non-elective admissions - CCG'!$D$5:$N$215,4,0)*$H364","v":7.794932742212608},{"$f":"VLOOKUP($A364,'8.Non-elective admissions - CCG'!$D$5:$N$215,5,0)*$H364","v":8.1635953315706544},{"$f":"VLOOKUP($A364,'8.Non-elective admissions - CCG'!$D$5:$N$215,6,0)*$H364","v":8.3904646173294513},{"$f":"VLOOKUP($A364,'8.Non-elective admissions - CCG'!$D$5:$N$215,7,0)*$H364","v":7.7199795689447965},{"$f":"VLOOKUP($A364,'8.Non-elective admissions - CCG'!$D$5:$N$215,8,0)*$H364","v":7.562524886716699},{"$f":"VLOOKUP($A364,'8.Non-elective admissions - CCG'!$D$5:$N$215,9,0)*$H364","v":7.9138603343749168},{"$f":"VLOOKUP($A364,'8.Non-elective admissions - CCG'!$D$5:$N$215,10,0)*$H364","v":7.2284909603176768},{"$f":"VLOOKUP($A364,'8.Non-elective admissions - CCG'!$D$5:$Q$215,11,0)*$H364","v":7.328304542905216},{"$f":"VLOOKUP($A364,'8.Non-elective admissions - CCG'!$D$5:$Q$215,12,0)*$H364","v":7.2481407739764441},{"$f":"VLOOKUP($A364,'8.Non-elective admissions - CCG'!$D$5:$Q$215,13,0)*$H364","v":7.5320541222658441},{"$f":"VLOOKUP($A364,'8.Non-elective admissions - CCG'!$D$5:$Q$215,14,0)*$H364","v":6.8863235793692974}]
["01D","NHS Heywood, Middleton and Rochdale CCG","E10000017","Lancashire",{"$f":"COUNTIF($D$5:D365,D365)","v":11},"Lancashire11","NHS Heywood, Middleton and Rochdale CCG",9.4988827462186964E-3,1.7401018456984667E-3,{"$f":"VLOOKUP($A365,'8.Non-elective admissions - CCG'!$D$5:$N$215,3,0)*$H365","v":61.685744553944211},{"$f":"VLOOKUP($A365,'8.Non-elective admissions - CCG'!$D$5:$N$215,4,0)*$H365","v":60.0519367215946},{"$f":"VLOOKUP($A365,'8.Non-elective admissions - CCG'!$D$5:$N$215,5,0)*$H365","v":62.892102662713988},{"$f":"VLOOKUP($A365,'8.Non-elective admissions - CCG'!$D$5:$N$215,6,0)*$H365","v":64.63989708801823},{"$f":"VLOOKUP($A365,'8.Non-elective admissions - CCG'!$D$5:$N$215,7,0)*$H365","v":59.474499639451963},{"$f":"VLOOKUP($A365,'8.Non-elective admissions - CCG'!$D$5:$N$215,8,0)*$H365","v":58.261473314994348},{"$f":"VLOOKUP($A365,'8.Non-elective admissions - CCG'!$D$5:$N$215,9,0)*$H365","v":60.968151456881124},{"$f":"VLOOKUP($A365,'8.Non-elective admissions - CCG'!$D$5:$N$215,10,0)*$H365","v":55.688085593205493},{"$f":"VLOOKUP($A365,'8.Non-elective admissions - CCG'!$D$5:$Q$215,11,0)*$H365","v":56.457046550757148},{"$f":"VLOOKUP($A365,'8.Non-elective admissions - CCG'!$D$5:$Q$215,12,0)*$H365","v":55.839467190128993},{"$f":"VLOOKUP($A365,'8.Non-elective admissions - CCG'!$D$5:$Q$215,13,0)*$H365","v":58.026727425687042},{"$f":"VLOOKUP($A365,'8.Non-elective admissions - CCG'!$D$5:$Q$215,14,0)*$H365","v":53.052037972469606}]
["01D","NHS Heywood, Middleton and Rochdale CCG","E08000003","Manchester",{"$f":"COUNTIF($D$5:D366,D366)","v":3},"Manchester3","NHS Heywood, Middleton and Rochdale CCG",5.0654773032787611E-3,2.0565162470204909E-3,{"$f":"VLOOKUP($A366,'8.Non-elective admissions - CCG'!$D$5:$N$215,3,0)*$H366","v":32.895209607492276},{"$f":"VLOOKUP($A366,'8.Non-elective admissions - CCG'!$D$5:$N$215,4,0)*$H366","v":32.023947511328331},{"$f":"VLOOKUP($A366,'8.Non-elective admissions - CCG'!$D$5:$N$215,5,0)*$H366","v":33.538525225008677},{"$f":"VLOOKUP($A366,'8.Non-elective admissions - CCG'!$D$5:$N$215,6,0)*$H366","v":34.470573048811971},{"$f":"VLOOKUP($A366,'8.Non-elective admissions - CCG'!$D$5:$N$215,7,0)*$H366","v":31.716017146062011},{"$f":"VLOOKUP($A366,'8.Non-elective admissions - CCG'!$D$5:$N$215,8,0)*$H366","v":31.06914556347871},{"$f":"VLOOKUP($A366,'8.Non-elective admissions - CCG'!$D$5:$N$215,9,0)*$H366","v":32.512538124616079},{"$f":"VLOOKUP($A366,'8.Non-elective admissions - CCG'!$D$5:$N$215,10,0)*$H366","v":29.696832898344823},{"$f":"VLOOKUP($A366,'8.Non-elective admissions - CCG'!$D$5:$Q$215,11,0)*$H366","v":30.106897363993269},{"$f":"VLOOKUP($A366,'8.Non-elective admissions - CCG'!$D$5:$Q$215,12,0)*$H366","v":29.777560291643294},{"$f":"VLOOKUP($A366,'8.Non-elective admissions - CCG'!$D$5:$Q$215,13,0)*$H366","v":30.94396242288278},{"$f":"VLOOKUP($A366,'8.Non-elective admissions - CCG'!$D$5:$Q$215,14,0)*$H366","v":28.291105535459423}]
["01D","NHS Heywood, Middleton and Rochdale CCG","E08000004","Oldham",{"$f":"COUNTIF($D$5:D367,D367)","v":1},"Oldham1","NHS Heywood, Middleton and Rochdale CCG",1.4074726918249071E-2,1.3196554372141164E-2,{"$f":"VLOOKUP($A367,'8.Non-elective admissions - CCG'!$D$5:$N$215,3,0)*$H367","v":91.401276607109466},{"$f":"VLOOKUP($A367,'8.Non-elective admissions - CCG'!$D$5:$N$215,4,0)*$H367","v":88.980423577170626},{"$f":"VLOOKUP($A367,'8.Non-elective admissions - CCG'!$D$5:$N$215,5,0)*$H367","v":93.188766925727109},{"$f":"VLOOKUP($A367,'8.Non-elective admissions - CCG'!$D$5:$N$215,6,0)*$H367","v":95.778516678684937},{"$f":"VLOOKUP($A367,'8.Non-elective admissions - CCG'!$D$5:$N$215,7,0)*$H367","v":88.124820927810276},{"$f":"VLOOKUP($A367,'8.Non-elective admissions - CCG'!$D$5:$N$215,8,0)*$H367","v":86.327450150896041},{"$f":"VLOOKUP($A367,'8.Non-elective admissions - CCG'!$D$5:$N$215,9,0)*$H367","v":90.338001362070344},{"$f":"VLOOKUP($A367,'8.Non-elective admissions - CCG'!$D$5:$N$215,10,0)*$H367","v":82.514398615611896},{"$f":"VLOOKUP($A367,'8.Non-elective admissions - CCG'!$D$5:$Q$215,11,0)*$H367","v":83.653786876051598},{"$f":"VLOOKUP($A367,'8.Non-elective admissions - CCG'!$D$5:$Q$215,12,0)*$H367","v":82.738704430734714},{"$f":"VLOOKUP($A367,'8.Non-elective admissions - CCG'!$D$5:$Q$215,13,0)*$H367","v":85.979621424565337},{"$f":"VLOOKUP($A367,'8.Non-elective admissions - CCG'!$D$5:$Q$215,14,0)*$H367","v":78.608502375327504}]
["01D","NHS Heywood, Middleton and Rochdale CCG","E08000005","Rochdale",{"$f":"COUNTIF($D$5:D368,D368)","v":3},"Rochdale3","NHS Heywood, Middleton and Rochdale CCG",0.96620641152329312,0.96580660375259741,{"$f":"VLOOKUP($A368,'8.Non-elective admissions - CCG'!$D$5:$N$215,3,0)*$H368","v":6274.5444364322657},{"$f":"VLOOKUP($A368,'8.Non-elective admissions - CCG'!$D$5:$N$215,4,0)*$H368","v":6108.3569336502587},{"$f":"VLOOKUP($A368,'8.Non-elective admissions - CCG'!$D$5:$N$215,5,0)*$H368","v":6397.2526506957238},{"$f":"VLOOKUP($A368,'8.Non-elective admissions - CCG'!$D$5:$N$215,6,0)*$H368","v":6575.0346304160093},{"$f":"VLOOKUP($A368,'8.Non-elective admissions - CCG'!$D$5:$N$215,7,0)*$H368","v":6049.621245893758},{"$f":"VLOOKUP($A368,'8.Non-elective admissions - CCG'!$D$5:$N$215,8,0)*$H368","v":5926.2347547294112},{"$f":"VLOOKUP($A368,'8.Non-elective admissions - CCG'!$D$5:$N$215,9,0)*$H368","v":6201.5523730737386},{"$f":"VLOOKUP($A368,'8.Non-elective admissions - CCG'!$D$5:$N$215,10,0)*$H368","v":5664.4751580950069},{"$f":"VLOOKUP($A368,'8.Non-elective admissions - CCG'!$D$5:$Q$215,11,0)*$H368","v":5742.6922523836229},{"$f":"VLOOKUP($A368,'8.Non-elective admissions - CCG'!$D$5:$Q$215,12,0)*$H368","v":5679.8733763320242},{"$f":"VLOOKUP($A368,'8.Non-elective admissions - CCG'!$D$5:$Q$215,13,0)*$H368","v":5902.3568956814352},{"$f":"VLOOKUP($A368,'8.Non-elective admissions - CCG'!$D$5:$Q$215,14,0)*$H368","v":5396.3419280843891}]
["99K","NHS High Weald Lewes Havens CCG","E06000043","Brighton and Hove",{"$f":"COUNTIF($D$5:D369,D369)","v":3},"Brighton and Hove3","NHS High Weald Lewes Havens CCG",3.3340702544767957E-3,1.8634598237394096E-3,{"$f":"VLOOKUP($A369,'8.Non-elective admissions - CCG'!$D$5:$N$215,3,0)*$H369","v":10.739040289669759},{"$f":"VLOOKUP($A369,'8.Non-elective admissions - CCG'!$D$5:$N$215,4,0)*$H369","v":11.319168513948721},{"$f":"VLOOKUP($A369,'8.Non-elective admissions - CCG'!$D$5:$N$215,5,0)*$H369","v":11.122458368934591},{"$f":"VLOOKUP($A369,'8.Non-elective admissions - CCG'!$D$5:$N$215,6,0)*$H369","v":11.205810125296511},{"$f":"VLOOKUP($A369,'8.Non-elective admissions - CCG'!$D$5:$N$215,7,0)*$H369","v":12.119240193051047},{"$f":"VLOOKUP($A369,'8.Non-elective admissions - CCG'!$D$5:$N$215,8,0)*$H369","v":12.175808336427709},{"$f":"VLOOKUP($A369,'8.Non-elective admissions - CCG'!$D$5:$N$215,9,0)*$H369","v":12.175808336427709},{"$f":"VLOOKUP($A369,'8.Non-elective admissions - CCG'!$D$5:$N$215,10,0)*$H369","v":12.066006158749342},{"$f":"VLOOKUP($A369,'8.Non-elective admissions - CCG'!$D$5:$Q$215,11,0)*$H369","v":12.004683349277286},{"$f":"VLOOKUP($A369,'8.Non-elective admissions - CCG'!$D$5:$Q$215,12,0)*$H369","v":12.057134851169659},{"$f":"VLOOKUP($A369,'8.Non-elective admissions - CCG'!$D$5:$Q$215,13,0)*$H369","v":12.057134851169659},{"$f":"VLOOKUP($A369,'8.Non-elective admissions - CCG'!$D$5:$Q$215,14,0)*$H369","v":11.975570376848218}]
["99K","NHS High Weald Lewes Havens CCG","E10000011","East Sussex",{"$f":"COUNTIF($D$5:D370,D370)","v":4},"East Sussex4","NHS High Weald Lewes Havens CCG",0.98122046091430004,0.29862634065442484,{"$f":"VLOOKUP($A370,'8.Non-elective admissions - CCG'!$D$5:$N$215,3,0)*$H370","v":3160.5111046049606},{"$f":"VLOOKUP($A370,'8.Non-elective admissions - CCG'!$D$5:$N$215,4,0)*$H370","v":3331.2434648040485},{"$f":"VLOOKUP($A370,'8.Non-elective admissions - CCG'!$D$5:$N$215,5,0)*$H370","v":3273.3514576101047},{"$f":"VLOOKUP($A370,'8.Non-elective admissions - CCG'!$D$5:$N$215,6,0)*$H370","v":3297.8819691329622},{"$f":"VLOOKUP($A370,'8.Non-elective admissions - CCG'!$D$5:$N$215,7,0)*$H370","v":3566.7054202559912},{"$f":"VLOOKUP($A370,'8.Non-elective admissions - CCG'!$D$5:$N$215,8,0)*$H370","v":3583.3534856777032},{"$f":"VLOOKUP($A370,'8.Non-elective admissions - CCG'!$D$5:$N$215,9,0)*$H370","v":3583.3534856777032},{"$f":"VLOOKUP($A370,'8.Non-elective admissions - CCG'!$D$5:$N$215,10,0)*$H370","v":3551.0385867201026},{"$f":"VLOOKUP($A370,'8.Non-elective admissions - CCG'!$D$5:$Q$215,11,0)*$H370","v":3532.9912179539715},{"$f":"VLOOKUP($A370,'8.Non-elective admissions - CCG'!$D$5:$Q$215,12,0)*$H370","v":3548.4277513603606},{"$f":"VLOOKUP($A370,'8.Non-elective admissions - CCG'!$D$5:$Q$215,13,0)*$H370","v":3548.4277513603606},{"$f":"VLOOKUP($A370,'8.Non-elective admissions - CCG'!$D$5:$Q$215,14,0)*$H370","v":3524.4232388638252}]
["99K","NHS High Weald Lewes Havens CCG","E10000016","Kent",{"$f":"COUNTIF($D$5:D371,D371)","v":9},"Kent9","NHS High Weald Lewes Havens CCG",6.0049114798372393E-3,0,{"$f":"VLOOKUP($A371,'8.Non-elective admissions - CCG'!$D$5:$N$215,3,0)*$H371","v":19.341819876555746},{"$f":"VLOOKUP($A371,'8.Non-elective admissions - CCG'!$D$5:$N$215,4,0)*$H371","v":20.386674474047428},{"$f":"VLOOKUP($A371,'8.Non-elective admissions - CCG'!$D$5:$N$215,5,0)*$H371","v":20.032384696737029},{"$f":"VLOOKUP($A371,'8.Non-elective admissions - CCG'!$D$5:$N$215,6,0)*$H371","v":20.182507483732962},{"$f":"VLOOKUP($A371,'8.Non-elective admissions - CCG'!$D$5:$N$215,7,0)*$H371","v":21.827663788559679},{"$f":"VLOOKUP($A371,'8.Non-elective admissions - CCG'!$D$5:$N$215,8,0)*$H371","v":21.929547272598292},{"$f":"VLOOKUP($A371,'8.Non-elective admissions - CCG'!$D$5:$N$215,9,0)*$H371","v":21.929547272598292},{"$f":"VLOOKUP($A371,'8.Non-elective admissions - CCG'!$D$5:$N$215,10,0)*$H371","v":21.731785285919514},{"$f":"VLOOKUP($A371,'8.Non-elective admissions - CCG'!$D$5:$Q$215,11,0)*$H371","v":21.621338290365006},{"$f":"VLOOKUP($A371,'8.Non-elective admissions - CCG'!$D$5:$Q$215,12,0)*$H371","v":21.715807393235675},{"$f":"VLOOKUP($A371,'8.Non-elective admissions - CCG'!$D$5:$Q$215,13,0)*$H371","v":21.715807393235675},{"$f":"VLOOKUP($A371,'8.Non-elective admissions - CCG'!$D$5:$Q$215,14,0)*$H371","v":21.568903635721252}]
["99K","NHS High Weald Lewes Havens CCG","E10000032","West Sussex",{"$f":"COUNTIF($D$5:D372,D372)","v":6},"West Sussex6","NHS High Weald Lewes Havens CCG",9.4405573513859087E-3,1.8454128059968906E-3,{"$f":"VLOOKUP($A372,'8.Non-elective admissions - CCG'!$D$5:$N$215,3,0)*$H372","v":30.408035228814011},{"$f":"VLOOKUP($A372,'8.Non-elective admissions - CCG'!$D$5:$N$215,4,0)*$H372","v":32.050692207955159},{"$f":"VLOOKUP($A372,'8.Non-elective admissions - CCG'!$D$5:$N$215,5,0)*$H372","v":31.493699324223392},{"$f":"VLOOKUP($A372,'8.Non-elective admissions - CCG'!$D$5:$N$215,6,0)*$H372","v":31.72971325800804},{"$f":"VLOOKUP($A372,'8.Non-elective admissions - CCG'!$D$5:$N$215,7,0)*$H372","v":34.316128145198299},{"$f":"VLOOKUP($A372,'8.Non-elective admissions - CCG'!$D$5:$N$215,8,0)*$H372","v":34.476303174831145},{"$f":"VLOOKUP($A372,'8.Non-elective admissions - CCG'!$D$5:$N$215,9,0)*$H372","v":34.476303174831145},{"$f":"VLOOKUP($A372,'8.Non-elective admissions - CCG'!$D$5:$N$215,10,0)*$H372","v":34.165393782838642},{"$f":"VLOOKUP($A372,'8.Non-elective admissions - CCG'!$D$5:$Q$215,11,0)*$H372","v":33.991755720175831},{"$f":"VLOOKUP($A372,'8.Non-elective admissions - CCG'!$D$5:$Q$215,12,0)*$H372","v":34.140274309763548},{"$f":"VLOOKUP($A372,'8.Non-elective admissions - CCG'!$D$5:$Q$215,13,0)*$H372","v":34.140274309763548},{"$f":"VLOOKUP($A372,'8.Non-elective admissions - CCG'!$D$5:$Q$215,14,0)*$H372","v":33.909321138745845}]
["08G","NHS Hillingdon CCG","E10000002","Buckinghamshire",{"$f":"COUNTIF($D$5:D373,D373)","v":5},"Buckinghamshire5","NHS Hillingdon CCG",8.7319949249944021E-3,4.8358824734017073E-3,{"$f":"VLOOKUP($A373,'8.Non-elective admissions - CCG'!$D$5:$N$215,3,0)*$H373","v":56.417419210388829},{"$f":"VLOOKUP($A373,'8.Non-elective admissions - CCG'!$D$5:$N$215,4,0)*$H373","v":54.644824240614966},{"$f":"VLOOKUP($A373,'8.Non-elective admissions - CCG'!$D$5:$N$215,5,0)*$H373","v":59.211657586387041},{"$f":"VLOOKUP($A373,'8.Non-elective admissions - CCG'!$D$5:$N$215,6,0)*$H373","v":61.342264348085678},{"$f":"VLOOKUP($A373,'8.Non-elective admissions - CCG'!$D$5:$N$215,7,0)*$H373","v":50.130382864392864},{"$f":"VLOOKUP($A373,'8.Non-elective admissions - CCG'!$D$5:$N$215,8,0)*$H373","v":48.279199940294049},{"$f":"VLOOKUP($A373,'8.Non-elective admissions - CCG'!$D$5:$N$215,9,0)*$H373","v":53.046869169340994},{"$f":"VLOOKUP($A373,'8.Non-elective admissions - CCG'!$D$5:$N$215,10,0)*$H373","v":54.967908052839761},{"$f":"VLOOKUP($A373,'8.Non-elective admissions - CCG'!$D$5:$Q$215,11,0)*$H373","v":48.401447869243974},{"$f":"VLOOKUP($A373,'8.Non-elective admissions - CCG'!$D$5:$Q$215,12,0)*$H373","v":46.436749011120227},{"$f":"VLOOKUP($A373,'8.Non-elective admissions - CCG'!$D$5:$Q$215,13,0)*$H373","v":51.457646092992015},{"$f":"VLOOKUP($A373,'8.Non-elective admissions - CCG'!$D$5:$Q$215,14,0)*$H373","v":53.448540935890733}]
["08G","NHS Hillingdon CCG","E09000009","Ealing",{"$f":"COUNTIF($D$5:D374,D374)","v":6},"Ealing6","NHS Hillingdon CCG",6.374288447577499E-3,4.7725846886136139E-3,{"$f":"VLOOKUP($A374,'8.Non-elective admissions - CCG'!$D$5:$N$215,3,0)*$H374","v":41.184277659798219},{"$f":"VLOOKUP($A374,'8.Non-elective admissions - CCG'!$D$5:$N$215,4,0)*$H374","v":39.890297104939989},{"$f":"VLOOKUP($A374,'8.Non-elective admissions - CCG'!$D$5:$N$215,5,0)*$H374","v":43.22404996302302},{"$f":"VLOOKUP($A374,'8.Non-elective admissions - CCG'!$D$5:$N$215,6,0)*$H374","v":44.779376344231927},{"$f":"VLOOKUP($A374,'8.Non-elective admissions - CCG'!$D$5:$N$215,7,0)*$H374","v":36.594789977542419},{"$f":"VLOOKUP($A374,'8.Non-elective admissions - CCG'!$D$5:$N$215,8,0)*$H374","v":35.243440826655991},{"$f":"VLOOKUP($A374,'8.Non-elective admissions - CCG'!$D$5:$N$215,9,0)*$H374","v":38.723802319033304},{"$f":"VLOOKUP($A374,'8.Non-elective admissions - CCG'!$D$5:$N$215,10,0)*$H374","v":40.126145777500355},{"$f":"VLOOKUP($A374,'8.Non-elective admissions - CCG'!$D$5:$Q$215,11,0)*$H374","v":35.332680864922075},{"$f":"VLOOKUP($A374,'8.Non-elective admissions - CCG'!$D$5:$Q$215,12,0)*$H374","v":33.898465964217138},{"$f":"VLOOKUP($A374,'8.Non-elective admissions - CCG'!$D$5:$Q$215,13,0)*$H374","v":37.5636818215742},{"$f":"VLOOKUP($A374,'8.Non-elective admissions - CCG'!$D$5:$Q$215,14,0)*$H374","v":39.017019587621874}]
["08G","NHS Hillingdon CCG","E09000015","Harrow",{"$f":"COUNTIF($D$5:D375,D375)","v":6},"Harrow6","NHS Hillingdon CCG",1.7419888865519137E-2,1.9131393741593925E-2,{"$f":"VLOOKUP($A375,'8.Non-elective admissions - CCG'!$D$5:$N$215,3,0)*$H375","v":112.54990196011914},{"$f":"VLOOKUP($A375,'8.Non-elective admissions - CCG'!$D$5:$N$215,4,0)*$H375","v":109.01366452041876},{"$f":"VLOOKUP($A375,'8.Non-elective admissions - CCG'!$D$5:$N$215,5,0)*$H375","v":118.12426639708526},{"$f":"VLOOKUP($A375,'8.Non-elective admissions - CCG'!$D$5:$N$215,6,0)*$H375","v":122.37471928027193},{"$f":"VLOOKUP($A375,'8.Non-elective admissions - CCG'!$D$5:$N$215,7,0)*$H375","v":100.00758197694536},{"$f":"VLOOKUP($A375,'8.Non-elective admissions - CCG'!$D$5:$N$215,8,0)*$H375","v":96.314565537455309},{"$f":"VLOOKUP($A375,'8.Non-elective admissions - CCG'!$D$5:$N$215,9,0)*$H375","v":105.82582485802875},{"$f":"VLOOKUP($A375,'8.Non-elective admissions - CCG'!$D$5:$N$215,10,0)*$H375","v":109.65820040844297},{"$f":"VLOOKUP($A375,'8.Non-elective admissions - CCG'!$D$5:$Q$215,11,0)*$H375","v":96.55844398157258},{"$f":"VLOOKUP($A375,'8.Non-elective admissions - CCG'!$D$5:$Q$215,12,0)*$H375","v":92.638968986830776},{"$f":"VLOOKUP($A375,'8.Non-elective admissions - CCG'!$D$5:$Q$215,13,0)*$H375","v":102.65540508450428},{"$f":"VLOOKUP($A375,'8.Non-elective admissions - CCG'!$D$5:$Q$215,14,0)*$H375","v":106.62713974584264}]
["08G","NHS Hillingdon CCG","E10000015","Hertfordshire",{"$f":"COUNTIF($D$5:D376,D376)","v":10},"Hertfordshire10","NHS Hillingdon CCG",2.3512609489174902E-2,5.8168664789536185E-3,{"$f":"VLOOKUP($A376,'8.Non-elective admissions - CCG'!$D$5:$N$215,3,0)*$H376","v":151.91496990955903},{"$f":"VLOOKUP($A376,'8.Non-elective admissions - CCG'!$D$5:$N$215,4,0)*$H376","v":147.14191018325653},{"$f":"VLOOKUP($A376,'8.Non-elective admissions - CCG'!$D$5:$N$215,5,0)*$H376","v":159.43900494609503},{"$f":"VLOOKUP($A376,'8.Non-elective admissions - CCG'!$D$5:$N$215,6,0)*$H376","v":165.17608166145368},{"$f":"VLOOKUP($A376,'8.Non-elective admissions - CCG'!$D$5:$N$215,7,0)*$H376","v":134.9858910773531},{"$f":"VLOOKUP($A376,'8.Non-elective admissions - CCG'!$D$5:$N$215,8,0)*$H376","v":130.00121786564804},{"$f":"VLOOKUP($A376,'8.Non-elective admissions - CCG'!$D$5:$N$215,9,0)*$H376","v":142.83910264673753},{"$f":"VLOOKUP($A376,'8.Non-elective admissions - CCG'!$D$5:$N$215,10,0)*$H376","v":148.01187673435601},{"$f":"VLOOKUP($A376,'8.Non-elective admissions - CCG'!$D$5:$Q$215,11,0)*$H376","v":130.33039439849648},{"$f":"VLOOKUP($A376,'8.Non-elective admissions - CCG'!$D$5:$Q$215,12,0)*$H376","v":125.04005726343213},{"$f":"VLOOKUP($A376,'8.Non-elective admissions - CCG'!$D$5:$Q$215,13,0)*$H376","v":138.55980771970769},{"$f":"VLOOKUP($A376,'8.Non-elective admissions - CCG'!$D$5:$Q$215,14,0)*$H376","v":143.92068268323959}]
["08G","NHS Hillingdon CCG","E09000017","Hillingdon",{"$f":"COUNTIF($D$5:D377,D377)","v":5},"Hillingdon5","NHS Hillingdon CCG",0.94228877324630744,0.89910822664961876,{"$f":"VLOOKUP($A377,'8.Non-elective admissions - CCG'!$D$5:$N$215,3,0)*$H377","v":6088.1277639443924},{"$f":"VLOOKUP($A377,'8.Non-elective admissions - CCG'!$D$5:$N$215,4,0)*$H377","v":5896.8431429753919},{"$f":"VLOOKUP($A377,'8.Non-elective admissions - CCG'!$D$5:$N$215,5,0)*$H377","v":6389.6601713832106},{"$f":"VLOOKUP($A377,'8.Non-elective admissions - CCG'!$D$5:$N$215,6,0)*$H377","v":6619.5786320553098},{"$f":"VLOOKUP($A377,'8.Non-elective admissions - CCG'!$D$5:$N$215,7,0)*$H377","v":5409.6798472070514},{"$f":"VLOOKUP($A377,'8.Non-elective admissions - CCG'!$D$5:$N$215,8,0)*$H377","v":5209.9146272788339},{"$f":"VLOOKUP($A377,'8.Non-elective admissions - CCG'!$D$5:$N$215,9,0)*$H377","v":5724.4042974713175},{"$f":"VLOOKUP($A377,'8.Non-elective admissions - CCG'!$D$5:$N$215,10,0)*$H377","v":5931.7078275855056},{"$f":"VLOOKUP($A377,'8.Non-elective admissions - CCG'!$D$5:$Q$215,11,0)*$H377","v":5223.1066701042819},{"$f":"VLOOKUP($A377,'8.Non-elective admissions - CCG'!$D$5:$Q$215,12,0)*$H377","v":5011.0916961238627},{"$f":"VLOOKUP($A377,'8.Non-elective admissions - CCG'!$D$5:$Q$215,13,0)*$H377","v":5552.9077407404893},{"$f":"VLOOKUP($A377,'8.Non-elective admissions - CCG'!$D$5:$Q$215,14,0)*$H377","v":5767.7495810406481}]
["08G","NHS Hillingdon CCG","E09000018","Hounslow",{"$f":"COUNTIF($D$5:D378,D378)","v":3},"Hounslow3","NHS Hillingdon CCG",1.6724450264266669E-3,1.6550788764263726E-3,{"$f":"VLOOKUP($A378,'8.Non-elective admissions - CCG'!$D$5:$N$215,3,0)*$H378","v":10.805667315742696},{"$f":"VLOOKUP($A378,'8.Non-elective admissions - CCG'!$D$5:$N$215,4,0)*$H378","v":10.466160975378081},{"$f":"VLOOKUP($A378,'8.Non-elective admissions - CCG'!$D$5:$N$215,5,0)*$H378","v":11.340849724199229},{"$f":"VLOOKUP($A378,'8.Non-elective admissions - CCG'!$D$5:$N$215,6,0)*$H378","v":11.748926310647335},{"$f":"VLOOKUP($A378,'8.Non-elective admissions - CCG'!$D$5:$N$215,7,0)*$H378","v":9.6015068967154953},{"$f":"VLOOKUP($A378,'8.Non-elective admissions - CCG'!$D$5:$N$215,8,0)*$H378","v":9.2469485511130411},{"$f":"VLOOKUP($A378,'8.Non-elective admissions - CCG'!$D$5:$N$215,9,0)*$H378","v":10.160103535542001},{"$f":"VLOOKUP($A378,'8.Non-elective admissions - CCG'!$D$5:$N$215,10,0)*$H378","v":10.528041441355867},{"$f":"VLOOKUP($A378,'8.Non-elective admissions - CCG'!$D$5:$Q$215,11,0)*$H378","v":9.2703627814830138},{"$f":"VLOOKUP($A378,'8.Non-elective admissions - CCG'!$D$5:$Q$215,12,0)*$H378","v":8.8940626505370144},{"$f":"VLOOKUP($A378,'8.Non-elective admissions - CCG'!$D$5:$Q$215,13,0)*$H378","v":9.8557185407323473},{"$f":"VLOOKUP($A378,'8.Non-elective admissions - CCG'!$D$5:$Q$215,14,0)*$H378","v":10.237036006757629}]
["09X","NHS Horsham and Mid Sussex CCG","E10000011","East Sussex",{"$f":"COUNTIF($D$5:D379,D379)","v":5},"East Sussex5","NHS Horsham and Mid Sussex CCG",2.9331906117014337E-2,1.2258191221236621E-2,{"$f":"VLOOKUP($A379,'8.Non-elective admissions - CCG'!$D$5:$N$215,3,0)*$H379","v":127.03648539278909},{"$f":"VLOOKUP($A379,'8.Non-elective admissions - CCG'!$D$5:$N$215,4,0)*$H379","v":140.70515364331777},{"$f":"VLOOKUP($A379,'8.Non-elective admissions - CCG'!$D$5:$N$215,5,0)*$H379","v":143.08103803879592},{"$f":"VLOOKUP($A379,'8.Non-elective admissions - CCG'!$D$5:$N$215,6,0)*$H379","v":145.39825862204006},{"$f":"VLOOKUP($A379,'8.Non-elective admissions - CCG'!$D$5:$N$215,7,0)*$H379","v":122.02072944677964},{"$f":"VLOOKUP($A379,'8.Non-elective admissions - CCG'!$D$5:$N$215,8,0)*$H379","v":123.19400569146022},{"$f":"VLOOKUP($A379,'8.Non-elective admissions - CCG'!$D$5:$N$215,9,0)*$H379","v":124.45527765449184},{"$f":"VLOOKUP($A379,'8.Non-elective admissions - CCG'!$D$5:$N$215,10,0)*$H379","v":118.20758165156778},{"$f":"VLOOKUP($A379,'8.Non-elective admissions - CCG'!$D$5:$Q$215,11,0)*$H379","v":114.54109338694099},{"$f":"VLOOKUP($A379,'8.Non-elective admissions - CCG'!$D$5:$Q$215,12,0)*$H379","v":115.39171866433441},{"$f":"VLOOKUP($A379,'8.Non-elective admissions - CCG'!$D$5:$Q$215,13,0)*$H379","v":116.53566300289796},{"$f":"VLOOKUP($A379,'8.Non-elective admissions - CCG'!$D$5:$Q$215,14,0)*$H379","v":112.60518758321804}]
["09X","NHS Horsham and Mid Sussex CCG","E10000030","Surrey",{"$f":"COUNTIF($D$5:D380,D380)","v":8},"Surrey8","NHS Horsham and Mid Sussex CCG",1.6051832319487598E-2,3.0420477128979854E-3,{"$f":"VLOOKUP($A380,'8.Non-elective admissions - CCG'!$D$5:$N$215,3,0)*$H380","v":69.520485775700791},{"$f":"VLOOKUP($A380,'8.Non-elective admissions - CCG'!$D$5:$N$215,4,0)*$H380","v":77.000639636582008},{"$f":"VLOOKUP($A380,'8.Non-elective admissions - CCG'!$D$5:$N$215,5,0)*$H380","v":78.300838054460499},{"$f":"VLOOKUP($A380,'8.Non-elective admissions - CCG'!$D$5:$N$215,6,0)*$H380","v":79.568932807700023},{"$f":"VLOOKUP($A380,'8.Non-elective admissions - CCG'!$D$5:$N$215,7,0)*$H380","v":66.775622449068408},{"$f":"VLOOKUP($A380,'8.Non-elective admissions - CCG'!$D$5:$N$215,8,0)*$H380","v":67.417695741847908},{"$f":"VLOOKUP($A380,'8.Non-elective admissions - CCG'!$D$5:$N$215,9,0)*$H380","v":68.10792453158588},{"$f":"VLOOKUP($A380,'8.Non-elective admissions - CCG'!$D$5:$N$215,10,0)*$H380","v":64.688884247535015},{"$f":"VLOOKUP($A380,'8.Non-elective admissions - CCG'!$D$5:$Q$215,11,0)*$H380","v":62.682405207599068},{"$f":"VLOOKUP($A380,'8.Non-elective admissions - CCG'!$D$5:$Q$215,12,0)*$H380","v":63.147908344864213},{"$f":"VLOOKUP($A380,'8.Non-elective admissions - CCG'!$D$5:$Q$215,13,0)*$H380","v":63.773929805324229},{"$f":"VLOOKUP($A380,'8.Non-elective admissions - CCG'!$D$5:$Q$215,14,0)*$H380","v":61.622984274512888}]
["09X","NHS Horsham and Mid Sussex CCG","E10000032","West Sussex",{"$f":"COUNTIF($D$5:D381,D381)","v":7},"West Sussex7","NHS Horsham and Mid Sussex CCG",0.9546162615634981,0.25624140802661127,{"$f":"VLOOKUP($A381,'8.Non-elective admissions - CCG'!$D$5:$N$215,3,0)*$H381","v":4134.4430288315107},{"$f":"VLOOKUP($A381,'8.Non-elective admissions - CCG'!$D$5:$N$215,4,0)*$H381","v":4579.2942067201002},{"$f":"VLOOKUP($A381,'8.Non-elective admissions - CCG'!$D$5:$N$215,5,0)*$H381","v":4656.6181239067437},{"$f":"VLOOKUP($A381,'8.Non-elective admissions - CCG'!$D$5:$N$215,6,0)*$H381","v":4732.0328085702604},{"$f":"VLOOKUP($A381,'8.Non-elective admissions - CCG'!$D$5:$N$215,7,0)*$H381","v":3971.2036481041523},{"$f":"VLOOKUP($A381,'8.Non-elective admissions - CCG'!$D$5:$N$215,8,0)*$H381","v":4009.3882985666919},{"$f":"VLOOKUP($A381,'8.Non-elective admissions - CCG'!$D$5:$N$215,9,0)*$H381","v":4050.4367978139226},{"$f":"VLOOKUP($A381,'8.Non-elective admissions - CCG'!$D$5:$N$215,10,0)*$H381","v":3847.1035341008974},{"$f":"VLOOKUP($A381,'8.Non-elective admissions - CCG'!$D$5:$Q$215,11,0)*$H381","v":3727.7765014054603},{"$f":"VLOOKUP($A381,'8.Non-elective admissions - CCG'!$D$5:$Q$215,12,0)*$H381","v":3755.4603729908017},{"$f":"VLOOKUP($A381,'8.Non-elective admissions - CCG'!$D$5:$Q$215,13,0)*$H381","v":3792.6904071917779},{"$f":"VLOOKUP($A381,'8.Non-elective admissions - CCG'!$D$5:$Q$215,14,0)*$H381","v":3664.7718281422694}]
["07Y","NHS Hounslow CCG","E09000009","Ealing",{"$f":"COUNTIF($D$5:D382,D382)","v":7},"Ealing7","NHS Hounslow CCG",5.0997895249761428E-2,3.8279735945766773E-2,{"$f":"VLOOKUP($A382,'8.Non-elective admissions - CCG'!$D$5:$N$215,3,0)*$H382","v":289.10706817089755},{"$f":"VLOOKUP($A382,'8.Non-elective admissions - CCG'!$D$5:$N$215,4,0)*$H382","v":288.03611237065257},{"$f":"VLOOKUP($A382,'8.Non-elective admissions - CCG'!$D$5:$N$215,5,0)*$H382","v":310.32219259479831},{"$f":"VLOOKUP($A382,'8.Non-elective admissions - CCG'!$D$5:$N$215,6,0)*$H382","v":307.82329572755998},{"$f":"VLOOKUP($A382,'8.Non-elective admissions - CCG'!$D$5:$N$215,7,0)*$H382","v":357.16118899700734},{"$f":"VLOOKUP($A382,'8.Non-elective admissions - CCG'!$D$5:$N$215,8,0)*$H382","v":359.51139147649872},{"$f":"VLOOKUP($A382,'8.Non-elective admissions - CCG'!$D$5:$N$215,9,0)*$H382","v":359.74657743272485},{"$f":"VLOOKUP($A382,'8.Non-elective admissions - CCG'!$D$5:$N$215,10,0)*$H382","v":352.80482247675559},{"$f":"VLOOKUP($A382,'8.Non-elective admissions - CCG'!$D$5:$Q$215,11,0)*$H382","v":353.94723285291627},{"$f":"VLOOKUP($A382,'8.Non-elective admissions - CCG'!$D$5:$Q$215,12,0)*$H382","v":356.50355592712941},{"$f":"VLOOKUP($A382,'8.Non-elective admissions - CCG'!$D$5:$Q$215,13,0)*$H382","v":356.69025129707586},{"$f":"VLOOKUP($A382,'8.Non-elective admissions - CCG'!$D$5:$Q$215,14,0)*$H382","v":349.81006892430509}]
["07Y","NHS Hounslow CCG","E09000013","Hammersmith and Fulham",{"$f":"COUNTIF($D$5:D383,D383)","v":6},"Hammersmith and Fulham6","NHS Hounslow CCG",5.4141485236293731E-3,7.6708073045262566E-3,{"$f":"VLOOKUP($A383,'8.Non-elective admissions - CCG'!$D$5:$N$215,3,0)*$H383","v":30.692807980454916},{"$f":"VLOOKUP($A383,'8.Non-elective admissions - CCG'!$D$5:$N$215,4,0)*$H383","v":30.579110861458698},{"$f":"VLOOKUP($A383,'8.Non-elective admissions - CCG'!$D$5:$N$215,5,0)*$H383","v":32.945093766284735},{"$f":"VLOOKUP($A383,'8.Non-elective admissions - CCG'!$D$5:$N$215,6,0)*$H383","v":32.679800488626896},{"$f":"VLOOKUP($A383,'8.Non-elective admissions - CCG'!$D$5:$N$215,7,0)*$H383","v":37.917716302515544},{"$f":"VLOOKUP($A383,'8.Non-elective admissions - CCG'!$D$5:$N$215,8,0)*$H383","v":38.167223565947708},{"$f":"VLOOKUP($A383,'8.Non-elective admissions - CCG'!$D$5:$N$215,9,0)*$H383","v":38.192191884570349},{"$f":"VLOOKUP($A383,'8.Non-elective admissions - CCG'!$D$5:$N$215,10,0)*$H383","v":37.45522632624305},{"$f":"VLOOKUP($A383,'8.Non-elective admissions - CCG'!$D$5:$Q$215,11,0)*$H383","v":37.57650936000703},{"$f":"VLOOKUP($A383,'8.Non-elective admissions - CCG'!$D$5:$Q$215,12,0)*$H383","v":37.8478992424794},{"$f":"VLOOKUP($A383,'8.Non-elective admissions - CCG'!$D$5:$Q$215,13,0)*$H383","v":37.867719598919869},{"$f":"VLOOKUP($A383,'8.Non-elective admissions - CCG'!$D$5:$Q$215,14,0)*$H383","v":37.13729084194069}]
["07Y","NHS Hounslow CCG","E09000017","Hillingdon",{"$f":"COUNTIF($D$5:D384,D384)","v":6},"Hillingdon6","NHS Hounslow CCG",9.0856179912155426E-3,8.6911486234968523E-3,{"$f":"VLOOKUP($A384,'8.Non-elective admissions - CCG'!$D$5:$N$215,3,0)*$H384","v":51.506368392200912},{"$f":"VLOOKUP($A384,'8.Non-elective admissions - CCG'!$D$5:$N$215,4,0)*$H384","v":51.315570414385384},{"$f":"VLOOKUP($A384,'8.Non-elective admissions - CCG'!$D$5:$N$215,5,0)*$H384","v":55.285985476546578},{"$f":"VLOOKUP($A384,'8.Non-elective admissions - CCG'!$D$5:$N$215,6,0)*$H384","v":54.840790194977018},{"$f":"VLOOKUP($A384,'8.Non-elective admissions - CCG'!$D$5:$N$215,7,0)*$H384","v":63.6306676701589},{"$f":"VLOOKUP($A384,'8.Non-elective admissions - CCG'!$D$5:$N$215,8,0)*$H384","v":64.04937204660601},{"$f":"VLOOKUP($A384,'8.Non-elective admissions - CCG'!$D$5:$N$215,9,0)*$H384","v":64.091272006294616},{"$f":"VLOOKUP($A384,'8.Non-elective admissions - CCG'!$D$5:$N$215,10,0)*$H384","v":62.854551678726622},{"$f":"VLOOKUP($A384,'8.Non-elective admissions - CCG'!$D$5:$Q$215,11,0)*$H384","v":63.058079769761804},{"$f":"VLOOKUP($A384,'8.Non-elective admissions - CCG'!$D$5:$Q$215,12,0)*$H384","v":63.513505916285752},{"$f":"VLOOKUP($A384,'8.Non-elective admissions - CCG'!$D$5:$Q$215,13,0)*$H384","v":63.546766951937414},{"$f":"VLOOKUP($A384,'8.Non-elective admissions - CCG'!$D$5:$Q$215,14,0)*$H384","v":62.32101619413173}]
["07Y","NHS Hounslow CCG","E09000018","Hounslow",{"$f":"COUNTIF($D$5:D385,D385)","v":4},"Hounslow4","NHS Hounslow CCG",0.87847266870148399,0.87154506480993454,{"$f":"VLOOKUP($A385,'8.Non-elective admissions - CCG'!$D$5:$N$215,3,0)*$H385","v":4980.0615588687124},{"$f":"VLOOKUP($A385,'8.Non-elective admissions - CCG'!$D$5:$N$215,4,0)*$H385","v":4961.6136328259818},{"$f":"VLOOKUP($A385,'8.Non-elective admissions - CCG'!$D$5:$N$215,5,0)*$H385","v":5345.5061890485304},{"$f":"VLOOKUP($A385,'8.Non-elective admissions - CCG'!$D$5:$N$215,6,0)*$H385","v":5302.4610282821577},{"$f":"VLOOKUP($A385,'8.Non-elective admissions - CCG'!$D$5:$N$215,7,0)*$H385","v":6152.3390586646601},{"$f":"VLOOKUP($A385,'8.Non-elective admissions - CCG'!$D$5:$N$215,8,0)*$H385","v":6192.8228596928457},{"$f":"VLOOKUP($A385,'8.Non-elective admissions - CCG'!$D$5:$N$215,9,0)*$H385","v":6196.8740942309623},{"$f":"VLOOKUP($A385,'8.Non-elective admissions - CCG'!$D$5:$N$215,10,0)*$H385","v":6077.2977475645657},{"$f":"VLOOKUP($A385,'8.Non-elective admissions - CCG'!$D$5:$Q$215,11,0)*$H385","v":6096.9765262079418},{"$f":"VLOOKUP($A385,'8.Non-elective admissions - CCG'!$D$5:$Q$215,12,0)*$H385","v":6141.0108915884957},{"$f":"VLOOKUP($A385,'8.Non-elective admissions - CCG'!$D$5:$Q$215,13,0)*$H385","v":6144.2268435227434},{"$f":"VLOOKUP($A385,'8.Non-elective admissions - CCG'!$D$5:$Q$215,14,0)*$H385","v":6025.7111255590871}]
["07Y","NHS Hounslow CCG","E09000027","Richmond upon Thames",{"$f":"COUNTIF($D$5:D386,D386)","v":2},"Richmond upon Thames2","NHS Hounslow CCG",5.0791480837298064E-2,7.1424152879092873E-2,{"$f":"VLOOKUP($A386,'8.Non-elective admissions - CCG'!$D$5:$N$215,3,0)*$H386","v":287.93690486664275},{"$f":"VLOOKUP($A386,'8.Non-elective admissions - CCG'!$D$5:$N$215,4,0)*$H386","v":286.87028376905948},{"$f":"VLOOKUP($A386,'8.Non-elective admissions - CCG'!$D$5:$N$215,5,0)*$H386","v":309.06616089495873},{"$f":"VLOOKUP($A386,'8.Non-elective admissions - CCG'!$D$5:$N$215,6,0)*$H386","v":306.57737833393111},{"$f":"VLOOKUP($A386,'8.Non-elective admissions - CCG'!$D$5:$N$215,7,0)*$H386","v":355.71557606297398},{"$f":"VLOOKUP($A386,'8.Non-elective admissions - CCG'!$D$5:$N$215,8,0)*$H386","v":358.05626607804697},{"$f":"VLOOKUP($A386,'8.Non-elective admissions - CCG'!$D$5:$N$215,9,0)*$H386","v":358.29050011712565},{"$f":"VLOOKUP($A386,'8.Non-elective admissions - CCG'!$D$5:$N$215,10,0)*$H386","v":351.37684197306766},{"$f":"VLOOKUP($A386,'8.Non-elective admissions - CCG'!$D$5:$Q$215,11,0)*$H386","v":352.51462843356603},{"$f":"VLOOKUP($A386,'8.Non-elective admissions - CCG'!$D$5:$Q$215,12,0)*$H386","v":355.06060476850996},{"$f":"VLOOKUP($A386,'8.Non-elective admissions - CCG'!$D$5:$Q$215,13,0)*$H386","v":355.24654448736709},{"$f":"VLOOKUP($A386,'8.Non-elective admissions - CCG'!$D$5:$Q$215,14,0)*$H386","v":348.39420971095615}]
["07Y","NHS Hounslow CCG","E10000030","Surrey",{"$f":"COUNTIF($D$5:D387,D387)","v":9},"Surrey9","NHS Hounslow CCG",5.2381886966114191E-3,1.2765220546397619E-3,{"$f":"VLOOKUP($A387,'8.Non-elective admissions - CCG'!$D$5:$N$215,3,0)*$H387","v":29.695291721090136},{"$f":"VLOOKUP($A387,'8.Non-elective admissions - CCG'!$D$5:$N$215,4,0)*$H387","v":29.585289758461297},{"$f":"VLOOKUP($A387,'8.Non-elective admissions - CCG'!$D$5:$N$215,5,0)*$H387","v":31.874378218880484},{"$f":"VLOOKUP($A387,'8.Non-elective admissions - CCG'!$D$5:$N$215,6,0)*$H387","v":31.617706972746525},{"$f":"VLOOKUP($A387,'8.Non-elective admissions - CCG'!$D$5:$N$215,7,0)*$H387","v":36.68539052268379},{"$f":"VLOOKUP($A387,'8.Non-elective admissions - CCG'!$D$5:$N$215,8,0)*$H387","v":36.92678880005441},{"$f":"VLOOKUP($A387,'8.Non-elective admissions - CCG'!$D$5:$N$215,9,0)*$H387","v":36.95094564832182},{"$f":"VLOOKUP($A387,'8.Non-elective admissions - CCG'!$D$5:$N$215,10,0)*$H387","v":36.237931470640156},{"$f":"VLOOKUP($A387,'8.Non-elective admissions - CCG'!$D$5:$Q$215,11,0)*$H387","v":36.355272805806806},{"$f":"VLOOKUP($A387,'8.Non-elective admissions - CCG'!$D$5:$Q$215,12,0)*$H387","v":36.617842517098822},{"$f":"VLOOKUP($A387,'8.Non-elective admissions - CCG'!$D$5:$Q$215,13,0)*$H387","v":36.63701871195498},{"$f":"VLOOKUP($A387,'8.Non-elective admissions - CCG'!$D$5:$Q$215,14,0)*$H387","v":35.930328889577623}]
["03F","NHS Hull CCG","E06000011","East Riding of Yorkshire",{"$f":"COUNTIF($D$5:D388,D388)","v":2},"East Riding of Yorkshire2","NHS Hull CCG",9.3952083571460732E-2,7.9025876786640345E-2,{"$f":"VLOOKUP($A388,'8.Non-elective admissions - CCG'!$D$5:$N$215,3,0)*$H388","v":750.48924356882833},{"$f":"VLOOKUP($A388,'8.Non-elective admissions - CCG'!$D$5:$N$215,4,0)*$H388","v":735.83271853168048},{"$f":"VLOOKUP($A388,'8.Non-elective admissions - CCG'!$D$5:$N$215,5,0)*$H388","v":760.73002067811751},{"$f":"VLOOKUP($A388,'8.Non-elective admissions - CCG'!$D$5:$N$215,6,0)*$H388","v":786.84869991098367},{"$f":"VLOOKUP($A388,'8.Non-elective admissions - CCG'!$D$5:$N$215,7,0)*$H388","v":768.76797471511213},{"$f":"VLOOKUP($A388,'8.Non-elective admissions - CCG'!$D$5:$N$215,8,0)*$H388","v":777.75372552781369},{"$f":"VLOOKUP($A388,'8.Non-elective admissions - CCG'!$D$5:$N$215,9,0)*$H388","v":777.52180443962811},{"$f":"VLOOKUP($A388,'8.Non-elective admissions - CCG'!$D$5:$N$215,10,0)*$H388","v":760.70990824575733},{"$f":"VLOOKUP($A388,'8.Non-elective admissions - CCG'!$D$5:$Q$215,11,0)*$H388","v":774.29887945462883},{"$f":"VLOOKUP($A388,'8.Non-elective admissions - CCG'!$D$5:$Q$215,12,0)*$H388","v":783.34798241762394},{"$f":"VLOOKUP($A388,'8.Non-elective admissions - CCG'!$D$5:$Q$215,13,0)*$H388","v":783.11495165912447},{"$f":"VLOOKUP($A388,'8.Non-elective admissions - CCG'!$D$5:$Q$215,14,0)*$H388","v":774.53191021312841}]
["03F","NHS Hull CCG","E06000010","Kingston upon Hull, City of",{"$f":"COUNTIF($D$5:D389,D389)","v":2},{"$f":"D389&E389","v":"Kingston upon Hull, City of2"},{"$f":"B389","v":"NHS Hull CCG"},0.90604791642853921,0.9851021683952067,{"$f":"VLOOKUP($A389,'8.Non-elective admissions - CCG'!$D$5:$N$215,3,0)*$H389","v":7237.5107564311711},{"$f":"VLOOKUP($A389,'8.Non-elective admissions - CCG'!$D$5:$N$215,4,0)*$H389","v":7096.1672814683188},{"$f":"VLOOKUP($A389,'8.Non-elective admissions - CCG'!$D$5:$N$215,5,0)*$H389","v":7336.2699793218817},{"$f":"VLOOKUP($A389,'8.Non-elective admissions - CCG'!$D$5:$N$215,6,0)*$H389","v":7588.1513000890163},{"$f":"VLOOKUP($A389,'8.Non-elective admissions - CCG'!$D$5:$N$215,7,0)*$H389","v":7413.785785578888},{"$f":"VLOOKUP($A389,'8.Non-elective admissions - CCG'!$D$5:$N$215,8,0)*$H389","v":7500.4418818771856},{"$f":"VLOOKUP($A389,'8.Non-elective admissions - CCG'!$D$5:$N$215,9,0)*$H389","v":7498.205299028371},{"$f":"VLOOKUP($A389,'8.Non-elective admissions - CCG'!$D$5:$N$215,10,0)*$H389","v":7336.0760205852412},{"$f":"VLOOKUP($A389,'8.Non-elective admissions - CCG'!$D$5:$Q$215,11,0)*$H389","v":7467.12430160437},{"$f":"VLOOKUP($A389,'8.Non-elective admissions - CCG'!$D$5:$Q$215,12,0)*$H389","v":7554.3913485233752},{"$f":"VLOOKUP($A389,'8.Non-elective admissions - CCG'!$D$5:$Q$215,13,0)*$H389","v":7552.1440643208753},{"$f":"VLOOKUP($A389,'8.Non-elective admissions - CCG'!$D$5:$Q$215,14,0)*$H389","v":7469.3715858068717}]
["06L","NHS Ipswich and East Suffolk CCG","E10000012","Essex",{"$f":"COUNTIF($D$5:D390,D390)","v":6},"Essex6","NHS Ipswich and East Suffolk CCG",2.5701342800205614E-3,0,{"$f":"VLOOKUP($A390,'8.Non-elective admissions - CCG'!$D$5:$N$215,3,0)*$H390","v":20.974865859247803},{"$f":"VLOOKUP($A390,'8.Non-elective admissions - CCG'!$D$5:$N$215,4,0)*$H390","v":20.823227936726589},{"$f":"VLOOKUP($A390,'8.Non-elective admissions - CCG'!$D$5:$N$215,5,0)*$H390","v":23.444764902347561},{"$f":"VLOOKUP($A390,'8.Non-elective admissions - CCG'!$D$5:$N$215,6,0)*$H390","v":23.460185708027684},{"$f":"VLOOKUP($A390,'8.Non-elective admissions - CCG'!$D$5:$N$215,7,0)*$H390","v":20.386305109123093},{"$f":"VLOOKUP($A390,'8.Non-elective admissions - CCG'!$D$5:$N$215,8,0)*$H390","v":20.609906791484882},{"$f":"VLOOKUP($A390,'8.Non-elective admissions - CCG'!$D$5:$N$215,9,0)*$H390","v":20.609906791484882},{"$f":"VLOOKUP($A390,'8.Non-elective admissions - CCG'!$D$5:$N$215,10,0)*$H390","v":20.162703426761304},{"$f":"VLOOKUP($A390,'8.Non-elective admissions - CCG'!$D$5:$Q$215,11,0)*$H390","v":18.779971184110241},{"$f":"VLOOKUP($A390,'8.Non-elective admissions - CCG'!$D$5:$Q$215,12,0)*$H390","v":18.985581926511887},{"$f":"VLOOKUP($A390,'8.Non-elective admissions - CCG'!$D$5:$Q$215,13,0)*$H390","v":18.985581926511887},{"$f":"VLOOKUP($A390,'8.Non-elective admissions - CCG'!$D$5:$Q$215,14,0)*$H390","v":18.571790307428575}]
["06L","NHS Ipswich and East Suffolk CCG","E10000020","Norfolk",{"$f":"COUNTIF($D$5:D391,D391)","v":3},"Norfolk3","NHS Ipswich and East Suffolk CCG",1.3344441040106757E-3,0,{"$f":"VLOOKUP($A391,'8.Non-elective admissions - CCG'!$D$5:$N$215,3,0)*$H391","v":10.890398332831124},{"$f":"VLOOKUP($A391,'8.Non-elective admissions - CCG'!$D$5:$N$215,4,0)*$H391","v":10.811666130694494},{"$f":"VLOOKUP($A391,'8.Non-elective admissions - CCG'!$D$5:$N$215,5,0)*$H391","v":12.172799116785383},{"$f":"VLOOKUP($A391,'8.Non-elective admissions - CCG'!$D$5:$N$215,6,0)*$H391","v":12.180805781409447},{"$f":"VLOOKUP($A391,'8.Non-elective admissions - CCG'!$D$5:$N$215,7,0)*$H391","v":10.58481063301268},{"$f":"VLOOKUP($A391,'8.Non-elective admissions - CCG'!$D$5:$N$215,8,0)*$H391","v":10.700907270061608},{"$f":"VLOOKUP($A391,'8.Non-elective admissions - CCG'!$D$5:$N$215,9,0)*$H391","v":10.700907270061608},{"$f":"VLOOKUP($A391,'8.Non-elective admissions - CCG'!$D$5:$N$215,10,0)*$H391","v":10.46871399596375},{"$f":"VLOOKUP($A391,'8.Non-elective admissions - CCG'!$D$5:$Q$215,11,0)*$H391","v":9.7507830680060064},{"$f":"VLOOKUP($A391,'8.Non-elective admissions - CCG'!$D$5:$Q$215,12,0)*$H391","v":9.8575385963268616},{"$f":"VLOOKUP($A391,'8.Non-elective admissions - CCG'!$D$5:$Q$215,13,0)*$H391","v":9.8575385963268616},{"$f":"VLOOKUP($A391,'8.Non-elective admissions - CCG'!$D$5:$Q$215,14,0)*$H391","v":9.6426930955811425}]
["06L","NHS Ipswich and East Suffolk CCG","E10000029","Suffolk",{"$f":"COUNTIF($D$5:D392,D392)","v":3},"Suffolk3","NHS Ipswich and East Suffolk CCG",0.99609542161596887,0.52764871259717883,{"$f":"VLOOKUP($A392,'8.Non-elective admissions - CCG'!$D$5:$N$215,3,0)*$H392","v":8129.134735807922},{"$f":"VLOOKUP($A392,'8.Non-elective admissions - CCG'!$D$5:$N$215,4,0)*$H392","v":8070.3651059325794},{"$f":"VLOOKUP($A392,'8.Non-elective admissions - CCG'!$D$5:$N$215,5,0)*$H392","v":9086.3824359808677},{"$f":"VLOOKUP($A392,'8.Non-elective admissions - CCG'!$D$5:$N$215,6,0)*$H392","v":9092.3590085105643},{"$f":"VLOOKUP($A392,'8.Non-elective admissions - CCG'!$D$5:$N$215,7,0)*$H392","v":7901.0288842578648},{"$f":"VLOOKUP($A392,'8.Non-elective admissions - CCG'!$D$5:$N$215,8,0)*$H392","v":7987.6891859384541},{"$f":"VLOOKUP($A392,'8.Non-elective admissions - CCG'!$D$5:$N$215,9,0)*$H392","v":7987.6891859384541},{"$f":"VLOOKUP($A392,'8.Non-elective admissions - CCG'!$D$5:$N$215,10,0)*$H392","v":7814.3685825772754},{"$f":"VLOOKUP($A392,'8.Non-elective admissions - CCG'!$D$5:$Q$215,11,0)*$H392","v":7278.4692457478841},{"$f":"VLOOKUP($A392,'8.Non-elective admissions - CCG'!$D$5:$Q$215,12,0)*$H392","v":7358.156879477162},{"$f":"VLOOKUP($A392,'8.Non-elective admissions - CCG'!$D$5:$Q$215,13,0)*$H392","v":7358.156879477162},{"$f":"VLOOKUP($A392,'8.Non-elective admissions - CCG'!$D$5:$Q$215,14,0)*$H392","v":7197.7855165969913}]
["10L","NHS Isle of Wight CCG","E06000046","Isle of Wight",{"$f":"COUNTIF($D$5:D393,D393)","v":1},"Isle of Wight1","NHS Isle of Wight CCG",1,0.99999999999999989,{"$f":"VLOOKUP($A393,'8.Non-elective admissions - CCG'!$D$5:$N$215,3,0)*$H393","v":3003},{"$f":"VLOOKUP($A393,'8.Non-elective admissions - CCG'!$D$5:$N$215,4,0)*$H393","v":2869},{"$f":"VLOOKUP($A393,'8.Non-elective admissions - CCG'!$D$5:$N$215,5,0)*$H393","v":3165},{"$f":"VLOOKUP($A393,'8.Non-elective admissions - CCG'!$D$5:$N$215,6,0)*$H393","v":2819},{"$f":"VLOOKUP($A393,'8.Non-elective admissions - CCG'!$D$5:$N$215,7,0)*$H393","v":3090},{"$f":"VLOOKUP($A393,'8.Non-elective admissions - CCG'!$D$5:$N$215,8,0)*$H393","v":3081},{"$f":"VLOOKUP($A393,'8.Non-elective admissions - CCG'!$D$5:$N$215,9,0)*$H393","v":3073},{"$f":"VLOOKUP($A393,'8.Non-elective admissions - CCG'!$D$5:$N$215,10,0)*$H393","v":3063},{"$f":"VLOOKUP($A393,'8.Non-elective admissions - CCG'!$D$5:$Q$215,11,0)*$H393","v":3139},{"$f":"VLOOKUP($A393,'8.Non-elective admissions - CCG'!$D$5:$Q$215,12,0)*$H393","v":3128},{"$f":"VLOOKUP($A393,'8.Non-elective admissions - CCG'!$D$5:$Q$215,13,0)*$H393","v":3119},{"$f":"VLOOKUP($A393,'8.Non-elective admissions - CCG'!$D$5:$Q$215,14,0)*$H393","v":3112}]
["08H","NHS Islington CCG","E09000003","Barnet",{"$f":"COUNTIF($D$5:D394,D394)","v":8},"Barnet8","NHS Islington CCG",1.4492121000480162E-3,0,{"$f":"VLOOKUP($A394,'8.Non-elective admissions - CCG'!$D$5:$N$215,3,0)*$H394","v":7.119979047535903},{"$f":"VLOOKUP($A394,'8.Non-elective admissions - CCG'!$D$5:$N$215,4,0)*$H394","v":6.2026277882055094},{"$f":"VLOOKUP($A394,'8.Non-elective admissions - CCG'!$D$5:$N$215,5,0)*$H394","v":4.0751844253350216},{"$f":"VLOOKUP($A394,'8.Non-elective admissions - CCG'!$D$5:$N$215,6,0)*$H394","v":4.1635863634379504},{"$f":"VLOOKUP($A394,'8.Non-elective admissions - CCG'!$D$5:$N$215,7,0)*$H394","v":7.0632402200008739},{"$f":"VLOOKUP($A394,'8.Non-elective admissions - CCG'!$D$5:$N$215,8,0)*$H394","v":7.3140331930657823},{"$f":"VLOOKUP($A394,'8.Non-elective admissions - CCG'!$D$5:$N$215,9,0)*$H394","v":7.5630867038313339},{"$f":"VLOOKUP($A394,'8.Non-elective admissions - CCG'!$D$5:$N$215,10,0)*$H394","v":7.6938473101465803},{"$f":"VLOOKUP($A394,'8.Non-elective admissions - CCG'!$D$5:$Q$215,11,0)*$H394","v":6.9574895439303335},{"$f":"VLOOKUP($A394,'8.Non-elective admissions - CCG'!$D$5:$Q$215,12,0)*$H394","v":7.2029684765915585},{"$f":"VLOOKUP($A394,'8.Non-elective admissions - CCG'!$D$5:$Q$215,13,0)*$H394","v":7.4481616579585328},{"$f":"VLOOKUP($A394,'8.Non-elective admissions - CCG'!$D$5:$Q$215,14,0)*$H394","v":7.5768730120918422}]
["08H","NHS Islington CCG","E09000007","Camden",{"$f":"COUNTIF($D$5:D395,D395)","v":6},"Camden6","NHS Islington CCG",3.2345366449866866E-2,3.0316047867443997E-2,{"$f":"VLOOKUP($A395,'8.Non-elective admissions - CCG'!$D$5:$N$215,3,0)*$H395","v":158.91278536819593},{"$f":"VLOOKUP($A395,'8.Non-elective admissions - CCG'!$D$5:$N$215,4,0)*$H395","v":138.43816840543019},{"$f":"VLOOKUP($A395,'8.Non-elective admissions - CCG'!$D$5:$N$215,5,0)*$H395","v":90.955170457025631},{"$f":"VLOOKUP($A395,'8.Non-elective admissions - CCG'!$D$5:$N$215,6,0)*$H395","v":92.928237810467508},{"$f":"VLOOKUP($A395,'8.Non-elective admissions - CCG'!$D$5:$N$215,7,0)*$H395","v":157.64641575363396},{"$f":"VLOOKUP($A395,'8.Non-elective admissions - CCG'!$D$5:$N$215,8,0)*$H395","v":163.24393361631761},{"$f":"VLOOKUP($A395,'8.Non-elective admissions - CCG'!$D$5:$N$215,9,0)*$H395","v":168.80262793792224},{"$f":"VLOOKUP($A395,'8.Non-elective admissions - CCG'!$D$5:$N$215,10,0)*$H395","v":171.72111014513905},{"$f":"VLOOKUP($A395,'8.Non-elective admissions - CCG'!$D$5:$Q$215,11,0)*$H395","v":155.28613711001137},{"$f":"VLOOKUP($A395,'8.Non-elective admissions - CCG'!$D$5:$Q$215,12,0)*$H395","v":160.76504943235977},{"$f":"VLOOKUP($A395,'8.Non-elective admissions - CCG'!$D$5:$Q$215,13,0)*$H395","v":166.23758399238773},{"$f":"VLOOKUP($A395,'8.Non-elective admissions - CCG'!$D$5:$Q$215,14,0)*$H395","v":169.11032837229081}]
["08H","NHS Islington CCG","E09000001","City of London",{"$f":"COUNTIF($D$5:D396,D396)","v":4},"City of London4","NHS Islington CCG",9.1230520756034757E-4,2.8807718814610615E-2,{"$f":"VLOOKUP($A396,'8.Non-elective admissions - CCG'!$D$5:$N$215,3,0)*$H396","v":4.4821554847439877},{"$f":"VLOOKUP($A396,'8.Non-elective admissions - CCG'!$D$5:$N$215,4,0)*$H396","v":3.9046662883582877},{"$f":"VLOOKUP($A396,'8.Non-elective admissions - CCG'!$D$5:$N$215,5,0)*$H396","v":2.5654022436596975},{"$f":"VLOOKUP($A396,'8.Non-elective admissions - CCG'!$D$5:$N$215,6,0)*$H396","v":2.6210528613208788},{"$f":"VLOOKUP($A396,'8.Non-elective admissions - CCG'!$D$5:$N$215,7,0)*$H396","v":4.4464373674101889},{"$f":"VLOOKUP($A396,'8.Non-elective admissions - CCG'!$D$5:$N$215,8,0)*$H396","v":4.6043160763576765},{"$f":"VLOOKUP($A396,'8.Non-elective admissions - CCG'!$D$5:$N$215,9,0)*$H396","v":4.7610997623516527},{"$f":"VLOOKUP($A396,'8.Non-elective admissions - CCG'!$D$5:$N$215,10,0)*$H396","v":4.8434159271705886},{"$f":"VLOOKUP($A396,'8.Non-elective admissions - CCG'!$D$5:$Q$215,11,0)*$H396","v":4.3798654056669877},{"$f":"VLOOKUP($A396,'8.Non-elective admissions - CCG'!$D$5:$Q$215,12,0)*$H396","v":4.5343988301434814},{"$f":"VLOOKUP($A396,'8.Non-elective admissions - CCG'!$D$5:$Q$215,13,0)*$H396","v":4.688752369016064},{"$f":"VLOOKUP($A396,'8.Non-elective admissions - CCG'!$D$5:$Q$215,14,0)*$H396","v":4.7697784925517928}]
["08H","NHS Islington CCG","E09000010","Enfield",{"$f":"COUNTIF($D$5:D397,D397)","v":7},"Enfield7","NHS Islington CCG",1.6936575145139467E-3,1.1869036803191179E-3,{"$f":"VLOOKUP($A397,'8.Non-elective admissions - CCG'!$D$5:$N$215,3,0)*$H397","v":8.3209393688070197},{"$f":"VLOOKUP($A397,'8.Non-elective admissions - CCG'!$D$5:$N$215,4,0)*$H397","v":7.2488541621196925},{"$f":"VLOOKUP($A397,'8.Non-elective admissions - CCG'!$D$5:$N$215,5,0)*$H397","v":4.7625649308132179},{"$f":"VLOOKUP($A397,'8.Non-elective admissions - CCG'!$D$5:$N$215,6,0)*$H397","v":4.8658780391985692},{"$f":"VLOOKUP($A397,'8.Non-elective admissions - CCG'!$D$5:$N$215,7,0)*$H397","v":8.2546301366275276},{"$f":"VLOOKUP($A397,'8.Non-elective admissions - CCG'!$D$5:$N$215,8,0)*$H397","v":8.5477255388841069},{"$f":"VLOOKUP($A397,'8.Non-elective admissions - CCG'!$D$5:$N$215,9,0)*$H397","v":8.8387880755619204},{"$f":"VLOOKUP($A397,'8.Non-elective admissions - CCG'!$D$5:$N$215,10,0)*$H397","v":8.9916046877616669},{"$f":"VLOOKUP($A397,'8.Non-elective admissions - CCG'!$D$5:$Q$215,11,0)*$H397","v":8.1310419971234023},{"$f":"VLOOKUP($A397,'8.Non-elective admissions - CCG'!$D$5:$Q$215,12,0)*$H397","v":8.4179270148118217},{"$f":"VLOOKUP($A397,'8.Non-elective admissions - CCG'!$D$5:$Q$215,13,0)*$H397","v":8.7044780821925016},{"$f":"VLOOKUP($A397,'8.Non-elective admissions - CCG'!$D$5:$Q$215,14,0)*$H397","v":8.8548997852157676}]
["08H","NHS Islington CCG","E09000012","Hackney",{"$f":"COUNTIF($D$5:D398,D398)","v":5},"Hackney5","NHS Islington CCG",3.9333886245580346E-2,3.2602128129149435E-2,{"$f":"VLOOKUP($A398,'8.Non-elective admissions - CCG'!$D$5:$N$215,3,0)*$H398","v":193.24738312453624},{"$f":"VLOOKUP($A398,'8.Non-elective admissions - CCG'!$D$5:$N$215,4,0)*$H398","v":168.34903313108387},{"$f":"VLOOKUP($A398,'8.Non-elective admissions - CCG'!$D$5:$N$215,5,0)*$H398","v":110.60688812257193},{"$f":"VLOOKUP($A398,'8.Non-elective admissions - CCG'!$D$5:$N$215,6,0)*$H398","v":113.00625518355234},{"$f":"VLOOKUP($A398,'8.Non-elective admissions - CCG'!$D$5:$N$215,7,0)*$H398","v":191.7074024771924},{"$f":"VLOOKUP($A398,'8.Non-elective admissions - CCG'!$D$5:$N$215,8,0)*$H398","v":198.51431657444508},{"$f":"VLOOKUP($A398,'8.Non-elective admissions - CCG'!$D$5:$N$215,9,0)*$H398","v":205.27401894043419},{"$f":"VLOOKUP($A398,'8.Non-elective admissions - CCG'!$D$5:$N$215,10,0)*$H398","v":208.82306660159892},{"$f":"VLOOKUP($A398,'8.Non-elective admissions - CCG'!$D$5:$Q$215,11,0)*$H398","v":188.83716349504891},{"$f":"VLOOKUP($A398,'8.Non-elective admissions - CCG'!$D$5:$Q$215,12,0)*$H398","v":195.49984621254981},{"$f":"VLOOKUP($A398,'8.Non-elective admissions - CCG'!$D$5:$Q$215,13,0)*$H398","v":202.15477319236248},{"$f":"VLOOKUP($A398,'8.Non-elective admissions - CCG'!$D$5:$Q$215,14,0)*$H398","v":205.64820093963735}]
["08H","NHS Islington CCG","E09000014","Haringey",{"$f":"COUNTIF($D$5:D399,D399)","v":6},"Haringey6","NHS Islington CCG",2.2964773669736788E-2,1.9288301632228073E-2,{"$f":"VLOOKUP($A399,'8.Non-elective admissions - CCG'!$D$5:$N$215,3,0)*$H399","v":112.82593303941684},{"$f":"VLOOKUP($A399,'8.Non-elective admissions - CCG'!$D$5:$N$215,4,0)*$H399","v":98.289231306473454},{"$f":"VLOOKUP($A399,'8.Non-elective admissions - CCG'!$D$5:$N$215,5,0)*$H399","v":64.576943559299849},{"$f":"VLOOKUP($A399,'8.Non-elective admissions - CCG'!$D$5:$N$215,6,0)*$H399","v":65.977794753153788},{"$f":"VLOOKUP($A399,'8.Non-elective admissions - CCG'!$D$5:$N$215,7,0)*$H399","v":111.92682770308613},{"$f":"VLOOKUP($A399,'8.Non-elective admissions - CCG'!$D$5:$N$215,8,0)*$H399","v":115.9009898455394},{"$f":"VLOOKUP($A399,'8.Non-elective admissions - CCG'!$D$5:$N$215,9,0)*$H399","v":119.84758779776099},{"$f":"VLOOKUP($A399,'8.Non-elective admissions - CCG'!$D$5:$N$215,10,0)*$H399","v":121.91967077916013},{"$f":"VLOOKUP($A399,'8.Non-elective admissions - CCG'!$D$5:$Q$215,11,0)*$H399","v":110.25106171872737},{"$f":"VLOOKUP($A399,'8.Non-elective admissions - CCG'!$D$5:$Q$215,12,0)*$H399","v":114.14101552815721},{"$f":"VLOOKUP($A399,'8.Non-elective admissions - CCG'!$D$5:$Q$215,13,0)*$H399","v":118.02644121240917},{"$f":"VLOOKUP($A399,'8.Non-elective admissions - CCG'!$D$5:$Q$215,14,0)*$H399","v":120.06605095366019}]
["08H","NHS Islington CCG","E09000019","Islington",{"$f":"COUNTIF($D$5:D400,D400)","v":5},"Islington5","NHS Islington CCG",0.90130079881269376,0.89001487101015098,{"$f":"VLOOKUP($A400,'8.Non-elective admissions - CCG'!$D$5:$N$215,3,0)*$H400","v":4428.0908245667642},{"$f":"VLOOKUP($A400,'8.Non-elective admissions - CCG'!$D$5:$N$215,4,0)*$H400","v":3857.5674189183292},{"$f":"VLOOKUP($A400,'8.Non-elective admissions - CCG'!$D$5:$N$215,5,0)*$H400","v":2534.4578462612949},{"$f":"VLOOKUP($A400,'8.Non-elective admissions - CCG'!$D$5:$N$215,6,0)*$H400","v":2589.4371949888691},{"$f":"VLOOKUP($A400,'8.Non-elective admissions - CCG'!$D$5:$N$215,7,0)*$H400","v":4392.8035463420492},{"$f":"VLOOKUP($A400,'8.Non-elective admissions - CCG'!$D$5:$N$215,8,0)*$H400","v":4548.7778905753903},{"$f":"VLOOKUP($A400,'8.Non-elective admissions - CCG'!$D$5:$N$215,9,0)*$H400","v":4703.6704202421388},{"$f":"VLOOKUP($A400,'8.Non-elective admissions - CCG'!$D$5:$N$215,10,0)*$H400","v":4784.9936709390231},{"$f":"VLOOKUP($A400,'8.Non-elective admissions - CCG'!$D$5:$Q$215,11,0)*$H400","v":4327.0345889794917},{"$f":"VLOOKUP($A400,'8.Non-elective admissions - CCG'!$D$5:$Q$215,12,0)*$H400","v":4479.704000235387},{"$f":"VLOOKUP($A400,'8.Non-elective admissions - CCG'!$D$5:$Q$215,13,0)*$H400","v":4632.1956957036746},{"$f":"VLOOKUP($A400,'8.Non-elective admissions - CCG'!$D$5:$Q$215,14,0)*$H400","v":4712.2444658545528}]
["11N","NHS Kernow CCG","E06000052","Cornwall",{"$f":"COUNTIF($D$5:D401,D401)","v":1},"Cornwall1","NHS Kernow CCG",0.99310224488633125,0.99458092678812482,{"$f":"VLOOKUP($A401,'8.Non-elective admissions - CCG'!$D$5:$N$215,3,0)*$H401","v":12997.722181072304},{"$f":"VLOOKUP($A401,'8.Non-elective admissions - CCG'!$D$5:$N$215,4,0)*$H401","v":12732.563881687653},{"$f":"VLOOKUP($A401,'8.Non-elective admissions - CCG'!$D$5:$N$215,5,0)*$H401","v":13714.742001880235},{"$f":"VLOOKUP($A401,'8.Non-elective admissions - CCG'!$D$5:$N$215,6,0)*$H401","v":13552.866335963763},{"$f":"VLOOKUP($A401,'8.Non-elective admissions - CCG'!$D$5:$N$215,7,0)*$H401","v":11410.744793743947},{"$f":"VLOOKUP($A401,'8.Non-elective admissions - CCG'!$D$5:$N$215,8,0)*$H401","v":11355.131068030312},{"$f":"VLOOKUP($A401,'8.Non-elective admissions - CCG'!$D$5:$N$215,9,0)*$H401","v":11893.392484758702},{"$f":"VLOOKUP($A401,'8.Non-elective admissions - CCG'!$D$5:$N$215,10,0)*$H401","v":11789.116749045639},{"$f":"VLOOKUP($A401,'8.Non-elective admissions - CCG'!$D$5:$Q$215,11,0)*$H401","v":10118.718773146829},{"$f":"VLOOKUP($A401,'8.Non-elective admissions - CCG'!$D$5:$Q$215,12,0)*$H401","v":10078.994683351375},{"$f":"VLOOKUP($A401,'8.Non-elective admissions - CCG'!$D$5:$Q$215,13,0)*$H401","v":10572.566499059883},{"$f":"VLOOKUP($A401,'8.Non-elective admissions - CCG'!$D$5:$Q$215,14,0)*$H401","v":10446.442513959319}]
["11N","NHS Kernow CCG","E10000008","Devon",{"$f":"COUNTIF($D$5:D402,D402)","v":2},"Devon2","NHS Kernow CCG",2.7348869010312801E-3,1.9530331138290257E-3,{"$f":"VLOOKUP($A402,'8.Non-elective admissions - CCG'!$D$5:$N$215,3,0)*$H402","v":35.794199760697396},{"$f":"VLOOKUP($A402,'8.Non-elective admissions - CCG'!$D$5:$N$215,4,0)*$H402","v":35.063984958122042},{"$f":"VLOOKUP($A402,'8.Non-elective admissions - CCG'!$D$5:$N$215,5,0)*$H402","v":37.768788103241981},{"$f":"VLOOKUP($A402,'8.Non-elective admissions - CCG'!$D$5:$N$215,6,0)*$H402","v":37.32300153837388},{"$f":"VLOOKUP($A402,'8.Non-elective admissions - CCG'!$D$5:$N$215,7,0)*$H402","v":31.423850492849407},{"$f":"VLOOKUP($A402,'8.Non-elective admissions - CCG'!$D$5:$N$215,8,0)*$H402","v":31.270696826391656},{"$f":"VLOOKUP($A402,'8.Non-elective admissions - CCG'!$D$5:$N$215,9,0)*$H402","v":32.753005526750613},{"$f":"VLOOKUP($A402,'8.Non-elective admissions - CCG'!$D$5:$N$215,10,0)*$H402","v":32.465842402142329},{"$f":"VLOOKUP($A402,'8.Non-elective admissions - CCG'!$D$5:$Q$215,11,0)*$H402","v":27.865762634607712},{"$f":"VLOOKUP($A402,'8.Non-elective admissions - CCG'!$D$5:$Q$215,12,0)*$H402","v":27.756367158566462},{"$f":"VLOOKUP($A402,'8.Non-elective admissions - CCG'!$D$5:$Q$215,13,0)*$H402","v":29.11560594837901},{"$f":"VLOOKUP($A402,'8.Non-elective admissions - CCG'!$D$5:$Q$215,14,0)*$H402","v":28.768275311948035}]
["11N","NHS Kernow CCG","E06000053","Isles of Scilly",{"$f":"COUNTIF($D$5:D403,D403)","v":1},"Isles of Scilly1","NHS Kernow CCG",4.1628682126374564E-3,1,{"$f":"VLOOKUP($A403,'8.Non-elective admissions - CCG'!$D$5:$N$215,3,0)*$H403","v":54.483619166999027},{"$f":"VLOOKUP($A403,'8.Non-elective admissions - CCG'!$D$5:$N$215,4,0)*$H403","v":53.372133354224829},{"$f":"VLOOKUP($A403,'8.Non-elective admissions - CCG'!$D$5:$N$215,5,0)*$H403","v":57.489210016523273},{"$f":"VLOOKUP($A403,'8.Non-elective admissions - CCG'!$D$5:$N$215,6,0)*$H403","v":56.810662497863369},{"$f":"VLOOKUP($A403,'8.Non-elective admissions - CCG'!$D$5:$N$215,7,0)*$H403","v":47.831355763204371},{"$f":"VLOOKUP($A403,'8.Non-elective admissions - CCG'!$D$5:$N$215,8,0)*$H403","v":47.598235143296677},{"$f":"VLOOKUP($A403,'8.Non-elective admissions - CCG'!$D$5:$N$215,9,0)*$H403","v":49.854509714546175},{"$f":"VLOOKUP($A403,'8.Non-elective admissions - CCG'!$D$5:$N$215,10,0)*$H403","v":49.417408552219243},{"$f":"VLOOKUP($A403,'8.Non-elective admissions - CCG'!$D$5:$Q$215,11,0)*$H403","v":42.415464218563045},{"$f":"VLOOKUP($A403,'8.Non-elective admissions - CCG'!$D$5:$Q$215,12,0)*$H403","v":42.248949490057548},{"$f":"VLOOKUP($A403,'8.Non-elective admissions - CCG'!$D$5:$Q$215,13,0)*$H403","v":44.317894991738363},{"$f":"VLOOKUP($A403,'8.Non-elective admissions - CCG'!$D$5:$Q$215,14,0)*$H403","v":43.789210728733401}]
["08J","NHS Kingston CCG","E09000021","Kingston upon Thames",{"$f":"COUNTIF($D$5:D404,D404)","v":1},"Kingston upon Thames1","NHS Kingston CCG",0.87295670365280886,0.95869066992516361,{"$f":"VLOOKUP($A404,'8.Non-elective admissions - CCG'!$D$5:$N$215,3,0)*$H404","v":2749.8136165063479},{"$f":"VLOOKUP($A404,'8.Non-elective admissions - CCG'!$D$5:$N$215,4,0)*$H404","v":2770.7645773940153},{"$f":"VLOOKUP($A404,'8.Non-elective admissions - CCG'!$D$5:$N$215,5,0)*$H404","v":2708.7846514346661},{"$f":"VLOOKUP($A404,'8.Non-elective admissions - CCG'!$D$5:$N$215,6,0)*$H404","v":2813.5394558730031},{"$f":"VLOOKUP($A404,'8.Non-elective admissions - CCG'!$D$5:$N$215,7,0)*$H404","v":2756.7972701355702},{"$f":"VLOOKUP($A404,'8.Non-elective admissions - CCG'!$D$5:$N$215,8,0)*$H404","v":2776.002317615932},{"$f":"VLOOKUP($A404,'8.Non-elective admissions - CCG'!$D$5:$N$215,9,0)*$H404","v":2711.4035215456242},{"$f":"VLOOKUP($A404,'8.Non-elective admissions - CCG'!$D$5:$N$215,10,0)*$H404","v":2834.4904167606705},{"$f":"VLOOKUP($A404,'8.Non-elective admissions - CCG'!$D$5:$Q$215,11,0)*$H404","v":2689.5796039543043},{"$f":"VLOOKUP($A404,'8.Non-elective admissions - CCG'!$D$5:$Q$215,12,0)*$H404","v":2707.9116947310131},{"$f":"VLOOKUP($A404,'8.Non-elective admissions - CCG'!$D$5:$Q$215,13,0)*$H404","v":2644.1858553643578},{"$f":"VLOOKUP($A404,'8.Non-elective admissions - CCG'!$D$5:$Q$215,14,0)*$H404","v":2765.5268371720986}]
["08J","NHS Kingston CCG","E09000024","Merton",{"$f":"COUNTIF($D$5:D405,D405)","v":2},"Merton2","NHS Kingston CCG",3.5948684291486357E-2,3.0496398371437517E-2,{"$f":"VLOOKUP($A405,'8.Non-elective admissions - CCG'!$D$5:$N$215,3,0)*$H405","v":113.23835551818203},{"$f":"VLOOKUP($A405,'8.Non-elective admissions - CCG'!$D$5:$N$215,4,0)*$H405","v":114.1011239411777},{"$f":"VLOOKUP($A405,'8.Non-elective admissions - CCG'!$D$5:$N$215,5,0)*$H405","v":111.54876735648217},{"$f":"VLOOKUP($A405,'8.Non-elective admissions - CCG'!$D$5:$N$215,6,0)*$H405","v":115.86260947146053},{"$f":"VLOOKUP($A405,'8.Non-elective admissions - CCG'!$D$5:$N$215,7,0)*$H405","v":113.52594499251391},{"$f":"VLOOKUP($A405,'8.Non-elective admissions - CCG'!$D$5:$N$215,8,0)*$H405","v":114.31681604692662},{"$f":"VLOOKUP($A405,'8.Non-elective admissions - CCG'!$D$5:$N$215,9,0)*$H405","v":111.65661340935662},{"$f":"VLOOKUP($A405,'8.Non-elective admissions - CCG'!$D$5:$N$215,10,0)*$H405","v":116.7253778944562},{"$f":"VLOOKUP($A405,'8.Non-elective admissions - CCG'!$D$5:$Q$215,11,0)*$H405","v":110.75789630206947},{"$f":"VLOOKUP($A405,'8.Non-elective admissions - CCG'!$D$5:$Q$215,12,0)*$H405","v":111.51281867219068},{"$f":"VLOOKUP($A405,'8.Non-elective admissions - CCG'!$D$5:$Q$215,13,0)*$H405","v":108.88856471891218},{"$f":"VLOOKUP($A405,'8.Non-elective admissions - CCG'!$D$5:$Q$215,14,0)*$H405","v":113.88543183542878}]
["08J","NHS Kingston CCG","E09000027","Richmond upon Thames",{"$f":"COUNTIF($D$5:D406,D406)","v":3},"Richmond upon Thames3","NHS Kingston CCG",1.4280000820395022E-2,1.325224955151723E-2,{"$f":"VLOOKUP($A406,'8.Non-elective admissions - CCG'!$D$5:$N$215,3,0)*$H406","v":44.98200258424432},{"$f":"VLOOKUP($A406,'8.Non-elective admissions - CCG'!$D$5:$N$215,4,0)*$H406","v":45.3247226039338},{"$f":"VLOOKUP($A406,'8.Non-elective admissions - CCG'!$D$5:$N$215,5,0)*$H406","v":44.310842545685752},{"$f":"VLOOKUP($A406,'8.Non-elective admissions - CCG'!$D$5:$N$215,6,0)*$H406","v":46.024442644133153},{"$f":"VLOOKUP($A406,'8.Non-elective admissions - CCG'!$D$5:$N$215,7,0)*$H406","v":45.096242590807478},{"$f":"VLOOKUP($A406,'8.Non-elective admissions - CCG'!$D$5:$N$215,8,0)*$H406","v":45.410402608856167},{"$f":"VLOOKUP($A406,'8.Non-elective admissions - CCG'!$D$5:$N$215,9,0)*$H406","v":44.353682548146935},{"$f":"VLOOKUP($A406,'8.Non-elective admissions - CCG'!$D$5:$N$215,10,0)*$H406","v":46.36716266382264},{"$f":"VLOOKUP($A406,'8.Non-elective admissions - CCG'!$D$5:$Q$215,11,0)*$H406","v":43.996682527637063},{"$f":"VLOOKUP($A406,'8.Non-elective admissions - CCG'!$D$5:$Q$215,12,0)*$H406","v":44.29656254486536},{"$f":"VLOOKUP($A406,'8.Non-elective admissions - CCG'!$D$5:$Q$215,13,0)*$H406","v":43.25412248497652},{"$f":"VLOOKUP($A406,'8.Non-elective admissions - CCG'!$D$5:$Q$215,14,0)*$H406","v":45.239042599011427}]
["08J","NHS Kingston CCG","E10000030","Surrey",{"$f":"COUNTIF($D$5:D407,D407)","v":10},"Surrey10","NHS Kingston CCG",4.3491191008470584E-2,6.9944832477095995E-3,{"$f":"VLOOKUP($A407,'8.Non-elective admissions - CCG'!$D$5:$N$215,3,0)*$H407","v":136.99725167668234},{"$f":"VLOOKUP($A407,'8.Non-elective admissions - CCG'!$D$5:$N$215,4,0)*$H407","v":138.04104026088564},{"$f":"VLOOKUP($A407,'8.Non-elective admissions - CCG'!$D$5:$N$215,5,0)*$H407","v":134.95316569928423},{"$f":"VLOOKUP($A407,'8.Non-elective admissions - CCG'!$D$5:$N$215,6,0)*$H407","v":140.17210862030069},{"$f":"VLOOKUP($A407,'8.Non-elective admissions - CCG'!$D$5:$N$215,7,0)*$H407","v":137.34518120475011},{"$f":"VLOOKUP($A407,'8.Non-elective admissions - CCG'!$D$5:$N$215,8,0)*$H407","v":138.30198740693646},{"$f":"VLOOKUP($A407,'8.Non-elective admissions - CCG'!$D$5:$N$215,9,0)*$H407","v":135.08363927230963},{"$f":"VLOOKUP($A407,'8.Non-elective admissions - CCG'!$D$5:$N$215,10,0)*$H407","v":141.21589720450399},{"$f":"VLOOKUP($A407,'8.Non-elective admissions - CCG'!$D$5:$Q$215,11,0)*$H407","v":133.99635949709787},{"$f":"VLOOKUP($A407,'8.Non-elective admissions - CCG'!$D$5:$Q$215,12,0)*$H407","v":134.90967450827574},{"$f":"VLOOKUP($A407,'8.Non-elective admissions - CCG'!$D$5:$Q$215,13,0)*$H407","v":131.73481756465739},{"$f":"VLOOKUP($A407,'8.Non-elective admissions - CCG'!$D$5:$Q$215,14,0)*$H407","v":137.78009311483481}]
["08J","NHS Kingston CCG","E09000029","Sutton",{"$f":"COUNTIF($D$5:D408,D408)","v":2},"Sutton2","NHS Kingston CCG",3.3323420226839227E-2,3.1693781210986267E-2,{"$f":"VLOOKUP($A408,'8.Non-elective admissions - CCG'!$D$5:$N$215,3,0)*$H408","v":104.96877371454357},{"$f":"VLOOKUP($A408,'8.Non-elective admissions - CCG'!$D$5:$N$215,4,0)*$H408","v":105.7685357999877},{"$f":"VLOOKUP($A408,'8.Non-elective admissions - CCG'!$D$5:$N$215,5,0)*$H408","v":103.40257296388212},{"$f":"VLOOKUP($A408,'8.Non-elective admissions - CCG'!$D$5:$N$215,6,0)*$H408","v":107.40138339110283},{"$f":"VLOOKUP($A408,'8.Non-elective admissions - CCG'!$D$5:$N$215,7,0)*$H408","v":105.23536107635827},{"$f":"VLOOKUP($A408,'8.Non-elective admissions - CCG'!$D$5:$N$215,8,0)*$H408","v":105.96847632134875},{"$f":"VLOOKUP($A408,'8.Non-elective admissions - CCG'!$D$5:$N$215,9,0)*$H408","v":103.50254322456264},{"$f":"VLOOKUP($A408,'8.Non-elective admissions - CCG'!$D$5:$N$215,10,0)*$H408","v":108.20114547654697},{"$f":"VLOOKUP($A408,'8.Non-elective admissions - CCG'!$D$5:$Q$215,11,0)*$H408","v":102.66945771889166},{"$f":"VLOOKUP($A408,'8.Non-elective admissions - CCG'!$D$5:$Q$215,12,0)*$H408","v":103.36924954365529},{"$f":"VLOOKUP($A408,'8.Non-elective admissions - CCG'!$D$5:$Q$215,13,0)*$H408","v":100.93663986709602},{"$f":"VLOOKUP($A408,'8.Non-elective admissions - CCG'!$D$5:$Q$215,14,0)*$H408","v":105.56859527862667}]
["01J","NHS Knowsley CCG","E06000006","Halton",{"$f":"COUNTIF($D$5:D409,D409)","v":2},"Halton2","NHS Knowsley CCG",1.2060851346898684E-3,1.4774986100850702E-3,{"$f":"VLOOKUP($A409,'8.Non-elective admissions - CCG'!$D$5:$N$215,3,0)*$H409","v":6.6358804110636562},{"$f":"VLOOKUP($A409,'8.Non-elective admissions - CCG'!$D$5:$N$215,4,0)*$H409","v":6.2957644030811126},{"$f":"VLOOKUP($A409,'8.Non-elective admissions - CCG'!$D$5:$N$215,5,0)*$H409","v":6.2101323585181323},{"$f":"VLOOKUP($A409,'8.Non-elective admissions - CCG'!$D$5:$N$215,6,0)*$H409","v":6.2402844868853791},{"$f":"VLOOKUP($A409,'8.Non-elective admissions - CCG'!$D$5:$N$215,7,0)*$H409","v":6.3729538517012649},{"$f":"VLOOKUP($A409,'8.Non-elective admissions - CCG'!$D$5:$N$215,8,0)*$H409","v":6.2607879341751067},{"$f":"VLOOKUP($A409,'8.Non-elective admissions - CCG'!$D$5:$N$215,9,0)*$H409","v":6.333153042256499},{"$f":"VLOOKUP($A409,'8.Non-elective admissions - CCG'!$D$5:$N$215,10,0)*$H409","v":6.6105526232351686},{"$f":"VLOOKUP($A409,'8.Non-elective admissions - CCG'!$D$5:$Q$215,11,0)*$H409","v":6.2330479760772395},{"$f":"VLOOKUP($A409,'8.Non-elective admissions - CCG'!$D$5:$Q$215,12,0)*$H409","v":6.1269124842245315},{"$f":"VLOOKUP($A409,'8.Non-elective admissions - CCG'!$D$5:$Q$215,13,0)*$H409","v":6.1944532517671638},{"$f":"VLOOKUP($A409,'8.Non-elective admissions - CCG'!$D$5:$Q$215,14,0)*$H409","v":6.4670284922070742}]
["01J","NHS Knowsley CCG","E08000011","Knowsley",{"$f":"COUNTIF($D$5:D410,D410)","v":2},"Knowsley2","NHS Knowsley CCG",0.86987957799454163,0.88059335154253782,{"$f":"VLOOKUP($A410,'8.Non-elective admissions - CCG'!$D$5:$N$215,3,0)*$H410","v":4786.077438125968},{"$f":"VLOOKUP($A410,'8.Non-elective admissions - CCG'!$D$5:$N$215,4,0)*$H410","v":4540.771397131507},{"$f":"VLOOKUP($A410,'8.Non-elective admissions - CCG'!$D$5:$N$215,5,0)*$H410","v":4479.0099470938949},{"$f":"VLOOKUP($A410,'8.Non-elective admissions - CCG'!$D$5:$N$215,6,0)*$H410","v":4500.7569365437585},{"$f":"VLOOKUP($A410,'8.Non-elective admissions - CCG'!$D$5:$N$215,7,0)*$H410","v":4596.4436901231584},{"$f":"VLOOKUP($A410,'8.Non-elective admissions - CCG'!$D$5:$N$215,8,0)*$H410","v":4515.5448893696657},{"$f":"VLOOKUP($A410,'8.Non-elective admissions - CCG'!$D$5:$N$215,9,0)*$H410","v":4567.7376640493385},{"$f":"VLOOKUP($A410,'8.Non-elective admissions - CCG'!$D$5:$N$215,10,0)*$H410","v":4767.809966988083},{"$f":"VLOOKUP($A410,'8.Non-elective admissions - CCG'!$D$5:$Q$215,11,0)*$H410","v":4495.5376590757915},{"$f":"VLOOKUP($A410,'8.Non-elective admissions - CCG'!$D$5:$Q$215,12,0)*$H410","v":4418.9882562122712},{"$f":"VLOOKUP($A410,'8.Non-elective admissions - CCG'!$D$5:$Q$215,13,0)*$H410","v":4467.7015125799662},{"$f":"VLOOKUP($A410,'8.Non-elective admissions - CCG'!$D$5:$Q$215,14,0)*$H410","v":4664.2942972067322}]
["01J","NHS Knowsley CCG","E08000012","Liverpool",{"$f":"COUNTIF($D$5:D411,D411)","v":1},"Liverpool1","NHS Knowsley CCG",8.5128472934579216E-2,2.8031050534909334E-2,{"$f":"VLOOKUP($A411,'8.Non-elective admissions - CCG'!$D$5:$N$215,3,0)*$H411","v":468.37685808605482},{"$f":"VLOOKUP($A411,'8.Non-elective admissions - CCG'!$D$5:$N$215,4,0)*$H411","v":444.3706287185035},{"$f":"VLOOKUP($A411,'8.Non-elective admissions - CCG'!$D$5:$N$215,5,0)*$H411","v":438.32650714014841},{"$f":"VLOOKUP($A411,'8.Non-elective admissions - CCG'!$D$5:$N$215,6,0)*$H411","v":440.45471896351285},{"$f":"VLOOKUP($A411,'8.Non-elective admissions - CCG'!$D$5:$N$215,7,0)*$H411","v":449.81885098631659},{"$f":"VLOOKUP($A411,'8.Non-elective admissions - CCG'!$D$5:$N$215,8,0)*$H411","v":441.90190300340072},{"$f":"VLOOKUP($A411,'8.Non-elective admissions - CCG'!$D$5:$N$215,9,0)*$H411","v":447.00961137947547},{"$f":"VLOOKUP($A411,'8.Non-elective admissions - CCG'!$D$5:$N$215,10,0)*$H411","v":466.58916015442867},{"$f":"VLOOKUP($A411,'8.Non-elective admissions - CCG'!$D$5:$Q$215,11,0)*$H411","v":439.94394812590537},{"$f":"VLOOKUP($A411,'8.Non-elective admissions - CCG'!$D$5:$Q$215,12,0)*$H411","v":432.4526425076624},{"$f":"VLOOKUP($A411,'8.Non-elective admissions - CCG'!$D$5:$Q$215,13,0)*$H411","v":437.21983699199887},{"$f":"VLOOKUP($A411,'8.Non-elective admissions - CCG'!$D$5:$Q$215,14,0)*$H411","v":456.45887187521373}]
["01J","NHS Knowsley CCG","E08000014","Sefton",{"$f":"COUNTIF($D$5:D412,D412)","v":1},"Sefton1","NHS Knowsley CCG",1.7537969922474837E-2,9.8881839531704575E-3,{"$f":"VLOOKUP($A412,'8.Non-elective admissions - CCG'!$D$5:$N$215,3,0)*$H412","v":96.493910513456555},{"$f":"VLOOKUP($A412,'8.Non-elective admissions - CCG'!$D$5:$N$215,4,0)*$H412","v":91.548202995318647},{"$f":"VLOOKUP($A412,'8.Non-elective admissions - CCG'!$D$5:$N$215,5,0)*$H412","v":90.303007130822934},{"$f":"VLOOKUP($A412,'8.Non-elective admissions - CCG'!$D$5:$N$215,6,0)*$H412","v":90.741456378884806},{"$f":"VLOOKUP($A412,'8.Non-elective admissions - CCG'!$D$5:$N$215,7,0)*$H412","v":92.670633070357042},{"$f":"VLOOKUP($A412,'8.Non-elective admissions - CCG'!$D$5:$N$215,8,0)*$H412","v":91.039601867566873},{"$f":"VLOOKUP($A412,'8.Non-elective admissions - CCG'!$D$5:$N$215,9,0)*$H412","v":92.091880062915365},{"$f":"VLOOKUP($A412,'8.Non-elective admissions - CCG'!$D$5:$N$215,10,0)*$H412","v":96.125613145084586},{"$f":"VLOOKUP($A412,'8.Non-elective admissions - CCG'!$D$5:$Q$215,11,0)*$H412","v":90.636228559349959},{"$f":"VLOOKUP($A412,'8.Non-elective admissions - CCG'!$D$5:$Q$215,12,0)*$H412","v":89.092887206172165},{"$f":"VLOOKUP($A412,'8.Non-elective admissions - CCG'!$D$5:$Q$215,13,0)*$H412","v":90.075013521830755},{"$f":"VLOOKUP($A412,'8.Non-elective admissions - CCG'!$D$5:$Q$215,14,0)*$H412","v":94.038594724310073}]
["01J","NHS Knowsley CCG","E08000013","St. Helens",{"$f":"COUNTIF($D$5:D413,D413)","v":2},"St. Helens2","NHS Knowsley CCG",2.6247894013714558E-2,2.3030640243070895E-2,{"$f":"VLOOKUP($A413,'8.Non-elective admissions - CCG'!$D$5:$N$215,3,0)*$H413","v":144.41591286345749},{"$f":"VLOOKUP($A413,'8.Non-elective admissions - CCG'!$D$5:$N$215,4,0)*$H413","v":137.01400675158999},{"$f":"VLOOKUP($A413,'8.Non-elective admissions - CCG'!$D$5:$N$215,5,0)*$H413","v":135.15040627661625},{"$f":"VLOOKUP($A413,'8.Non-elective admissions - CCG'!$D$5:$N$215,6,0)*$H413","v":135.80660362695912},{"$f":"VLOOKUP($A413,'8.Non-elective admissions - CCG'!$D$5:$N$215,7,0)*$H413","v":138.69387196846773},{"$f":"VLOOKUP($A413,'8.Non-elective admissions - CCG'!$D$5:$N$215,8,0)*$H413","v":136.25281782519227},{"$f":"VLOOKUP($A413,'8.Non-elective admissions - CCG'!$D$5:$N$215,9,0)*$H413","v":137.82769146601515},{"$f":"VLOOKUP($A413,'8.Non-elective admissions - CCG'!$D$5:$N$215,10,0)*$H413","v":143.86470708916949},{"$f":"VLOOKUP($A413,'8.Non-elective admissions - CCG'!$D$5:$Q$215,11,0)*$H413","v":135.64911626287684},{"$f":"VLOOKUP($A413,'8.Non-elective admissions - CCG'!$D$5:$Q$215,12,0)*$H413","v":133.33930158966996},{"$f":"VLOOKUP($A413,'8.Non-elective admissions - CCG'!$D$5:$Q$215,13,0)*$H413","v":134.80918365443796},{"$f":"VLOOKUP($A413,'8.Non-elective admissions - CCG'!$D$5:$Q$215,14,0)*$H413","v":140.74120770153746}]
["08K","NHS Lambeth CCG","E09000008","Croydon",{"$f":"COUNTIF($D$5:D414,D414)","v":4},"Croydon4","NHS Lambeth CCG",2.5828112337345895E-2,2.418986764034687E-2,{"$f":"VLOOKUP($A414,'8.Non-elective admissions - CCG'!$D$5:$N$215,3,0)*$H414","v":180.69347391207188},{"$f":"VLOOKUP($A414,'8.Non-elective admissions - CCG'!$D$5:$N$215,4,0)*$H414","v":192.72937426127507},{"$f":"VLOOKUP($A414,'8.Non-elective admissions - CCG'!$D$5:$N$215,5,0)*$H414","v":190.9988907346729},{"$f":"VLOOKUP($A414,'8.Non-elective admissions - CCG'!$D$5:$N$215,6,0)*$H414","v":185.47167469448087},{"$f":"VLOOKUP($A414,'8.Non-elective admissions - CCG'!$D$5:$N$215,7,0)*$H414","v":180.02194299130088},{"$f":"VLOOKUP($A414,'8.Non-elective admissions - CCG'!$D$5:$N$215,8,0)*$H414","v":191.95453089115469},{"$f":"VLOOKUP($A414,'8.Non-elective admissions - CCG'!$D$5:$N$215,9,0)*$H414","v":184.10278474060155},{"$f":"VLOOKUP($A414,'8.Non-elective admissions - CCG'!$D$5:$N$215,10,0)*$H414","v":175.76030445563882},{"$f":"VLOOKUP($A414,'8.Non-elective admissions - CCG'!$D$5:$Q$215,11,0)*$H414","v":179.27292773351786},{"$f":"VLOOKUP($A414,'8.Non-elective admissions - CCG'!$D$5:$Q$215,12,0)*$H414","v":191.20551563337165},{"$f":"VLOOKUP($A414,'8.Non-elective admissions - CCG'!$D$5:$Q$215,13,0)*$H414","v":183.40542570749321},{"$f":"VLOOKUP($A414,'8.Non-elective admissions - CCG'!$D$5:$Q$215,14,0)*$H414","v":175.08877353486781}]
["08K","NHS Lambeth CCG","E09000022","Lambeth",{"$f":"COUNTIF($D$5:D415,D415)","v":3},"Lambeth3","NHS Lambeth CCG",0.87185023841127363,0.92860665986074653,{"$f":"VLOOKUP($A415,'8.Non-elective admissions - CCG'!$D$5:$N$215,3,0)*$H415","v":6099.4642679252702},{"$f":"VLOOKUP($A415,'8.Non-elective admissions - CCG'!$D$5:$N$215,4,0)*$H415","v":6505.7464790249242},{"$f":"VLOOKUP($A415,'8.Non-elective admissions - CCG'!$D$5:$N$215,5,0)*$H415","v":6447.3325130513686},{"$f":"VLOOKUP($A415,'8.Non-elective admissions - CCG'!$D$5:$N$215,6,0)*$H415","v":6260.7565620313562},{"$f":"VLOOKUP($A415,'8.Non-elective admissions - CCG'!$D$5:$N$215,7,0)*$H415","v":6076.7961617265773},{"$f":"VLOOKUP($A415,'8.Non-elective admissions - CCG'!$D$5:$N$215,8,0)*$H415","v":6479.5909718725852},{"$f":"VLOOKUP($A415,'8.Non-elective admissions - CCG'!$D$5:$N$215,9,0)*$H415","v":6214.5484993955588},{"$f":"VLOOKUP($A415,'8.Non-elective admissions - CCG'!$D$5:$N$215,10,0)*$H415","v":5932.9408723887173},{"$f":"VLOOKUP($A415,'8.Non-elective admissions - CCG'!$D$5:$Q$215,11,0)*$H415","v":6051.5125048126501},{"$f":"VLOOKUP($A415,'8.Non-elective admissions - CCG'!$D$5:$Q$215,12,0)*$H415","v":6454.3073149586589},{"$f":"VLOOKUP($A415,'8.Non-elective admissions - CCG'!$D$5:$Q$215,13,0)*$H415","v":6191.0085429584542},{"$f":"VLOOKUP($A415,'8.Non-elective admissions - CCG'!$D$5:$Q$215,14,0)*$H415","v":5910.2727661900235}]
["08K","NHS Lambeth CCG","E09000023","Lewisham",{"$f":"COUNTIF($D$5:D416,D416)","v":4},"Lewisham4","NHS Lambeth CCG",2.0112165032833713E-3,2.460806630671468E-3,{"$f":"VLOOKUP($A416,'8.Non-elective admissions - CCG'!$D$5:$N$215,3,0)*$H416","v":14.070470656970466},{"$f":"VLOOKUP($A416,'8.Non-elective admissions - CCG'!$D$5:$N$215,4,0)*$H416","v":15.007697547500516},{"$f":"VLOOKUP($A416,'8.Non-elective admissions - CCG'!$D$5:$N$215,5,0)*$H416","v":14.87294604178053},{"$f":"VLOOKUP($A416,'8.Non-elective admissions - CCG'!$D$5:$N$215,6,0)*$H416","v":14.442545710077889},{"$f":"VLOOKUP($A416,'8.Non-elective admissions - CCG'!$D$5:$N$215,7,0)*$H416","v":14.018179027885099},{"$f":"VLOOKUP($A416,'8.Non-elective admissions - CCG'!$D$5:$N$215,8,0)*$H416","v":14.947361052402016},{"$f":"VLOOKUP($A416,'8.Non-elective admissions - CCG'!$D$5:$N$215,9,0)*$H416","v":14.33595123540387},{"$f":"VLOOKUP($A416,'8.Non-elective admissions - CCG'!$D$5:$N$215,10,0)*$H416","v":13.686328304843341},{"$f":"VLOOKUP($A416,'8.Non-elective admissions - CCG'!$D$5:$Q$215,11,0)*$H416","v":13.959853749289881},{"$f":"VLOOKUP($A416,'8.Non-elective admissions - CCG'!$D$5:$Q$215,12,0)*$H416","v":14.889035773806798},{"$f":"VLOOKUP($A416,'8.Non-elective admissions - CCG'!$D$5:$Q$215,13,0)*$H416","v":14.281648389815219},{"$f":"VLOOKUP($A416,'8.Non-elective admissions - CCG'!$D$5:$Q$215,14,0)*$H416","v":13.634036675757974}]
["08K","NHS Lambeth CCG","E09000024","Merton",{"$f":"COUNTIF($D$5:D417,D417)","v":3},"Merton3","NHS Lambeth CCG",8.0529431878454683E-3,1.3010230713018059E-2,{"$f":"VLOOKUP($A417,'8.Non-elective admissions - CCG'!$D$5:$N$215,3,0)*$H417","v":56.338390542166898},{"$f":"VLOOKUP($A417,'8.Non-elective admissions - CCG'!$D$5:$N$215,4,0)*$H417","v":60.091062067702886},{"$f":"VLOOKUP($A417,'8.Non-elective admissions - CCG'!$D$5:$N$215,5,0)*$H417","v":59.551514874117238},{"$f":"VLOOKUP($A417,'8.Non-elective admissions - CCG'!$D$5:$N$215,6,0)*$H417","v":57.828185031918309},{"$f":"VLOOKUP($A417,'8.Non-elective admissions - CCG'!$D$5:$N$215,7,0)*$H417","v":56.129014019282913},{"$f":"VLOOKUP($A417,'8.Non-elective admissions - CCG'!$D$5:$N$215,8,0)*$H417","v":59.849473772067519},{"$f":"VLOOKUP($A417,'8.Non-elective admissions - CCG'!$D$5:$N$215,9,0)*$H417","v":57.401379042962496},{"$f":"VLOOKUP($A417,'8.Non-elective admissions - CCG'!$D$5:$N$215,10,0)*$H417","v":54.800278393288409},{"$f":"VLOOKUP($A417,'8.Non-elective admissions - CCG'!$D$5:$Q$215,11,0)*$H417","v":55.895478666835395},{"$f":"VLOOKUP($A417,'8.Non-elective admissions - CCG'!$D$5:$Q$215,12,0)*$H417","v":59.615938419620001},{"$f":"VLOOKUP($A417,'8.Non-elective admissions - CCG'!$D$5:$Q$215,13,0)*$H417","v":57.183949576890669},{"$f":"VLOOKUP($A417,'8.Non-elective admissions - CCG'!$D$5:$Q$215,14,0)*$H417","v":54.59090187040443}]
["08K","NHS Lambeth CCG","E09000028","Southwark",{"$f":"COUNTIF($D$5:D418,D418)","v":3},"Southwark3","NHS Lambeth CCG",6.6238217421388898E-2,7.6110865334937924E-2,{"$f":"VLOOKUP($A418,'8.Non-elective admissions - CCG'!$D$5:$N$215,3,0)*$H418","v":463.40256908003676},{"$f":"VLOOKUP($A418,'8.Non-elective admissions - CCG'!$D$5:$N$215,4,0)*$H418","v":494.26957839840395},{"$f":"VLOOKUP($A418,'8.Non-elective admissions - CCG'!$D$5:$N$215,5,0)*$H418","v":489.83161783117089},{"$f":"VLOOKUP($A418,'8.Non-elective admissions - CCG'!$D$5:$N$215,6,0)*$H418","v":475.65663930299365},{"$f":"VLOOKUP($A418,'8.Non-elective admissions - CCG'!$D$5:$N$215,7,0)*$H418","v":461.68037542708061},{"$f":"VLOOKUP($A418,'8.Non-elective admissions - CCG'!$D$5:$N$215,8,0)*$H418","v":492.28243187576231},{"$f":"VLOOKUP($A418,'8.Non-elective admissions - CCG'!$D$5:$N$215,9,0)*$H418","v":472.14601377966005},{"$f":"VLOOKUP($A418,'8.Non-elective admissions - CCG'!$D$5:$N$215,10,0)*$H418","v":450.75106955255143},{"$f":"VLOOKUP($A418,'8.Non-elective admissions - CCG'!$D$5:$Q$215,11,0)*$H418","v":459.75946712186033},{"$f":"VLOOKUP($A418,'8.Non-elective admissions - CCG'!$D$5:$Q$215,12,0)*$H418","v":490.36152357054203},{"$f":"VLOOKUP($A418,'8.Non-elective admissions - CCG'!$D$5:$Q$215,13,0)*$H418","v":470.35758190928254},{"$f":"VLOOKUP($A418,'8.Non-elective admissions - CCG'!$D$5:$Q$215,14,0)*$H418","v":449.02887589959533}]
["08K","NHS Lambeth CCG","E09000029","Sutton",{"$f":"COUNTIF($D$5:D419,D419)","v":3},"Sutton3","NHS Lambeth CCG",0,1.4971519975031211E-3,{"$f":"VLOOKUP($A419,'8.Non-elective admissions - CCG'!$D$5:$N$215,3,0)*$H419","v":0},{"$f":"VLOOKUP($A419,'8.Non-elective admissions - CCG'!$D$5:$N$215,4,0)*$H419","v":0},{"$f":"VLOOKUP($A419,'8.Non-elective admissions - CCG'!$D$5:$N$215,5,0)*$H419","v":0},{"$f":"VLOOKUP($A419,'8.Non-elective admissions - CCG'!$D$5:$N$215,6,0)*$H419","v":0},{"$f":"VLOOKUP($A419,'8.Non-elective admissions - CCG'!$D$5:$N$215,7,0)*$H419","v":0},{"$f":"VLOOKUP($A419,'8.Non-elective admissions - CCG'!$D$5:$N$215,8,0)*$H419","v":0},{"$f":"VLOOKUP($A419,'8.Non-elective admissions - CCG'!$D$5:$N$215,9,0)*$H419","v":0},{"$f":"VLOOKUP($A419,'8.Non-elective admissions - CCG'!$D$5:$N$215,10,0)*$H419","v":0},{"$f":"VLOOKUP($A419,'8.Non-elective admissions - CCG'!$D$5:$Q$215,11,0)*$H419","v":0},{"$f":"VLOOKUP($A419,'8.Non-elective admissions - CCG'!$D$5:$Q$215,12,0)*$H419","v":0},{"$f":"VLOOKUP($A419,'8.Non-elective admissions - CCG'!$D$5:$Q$215,13,0)*$H419","v":0},{"$f":"VLOOKUP($A419,'8.Non-elective admissions - CCG'!$D$5:$Q$215,14,0)*$H419","v":0}]
["08K","NHS Lambeth CCG","E09000032","Wandsworth",{"$f":"COUNTIF($D$5:D420,D420)","v":3},"Wandsworth3","NHS Lambeth CCG",2.6019272138862789E-2,2.7624846353943348E-2,{"$f":"VLOOKUP($A420,'8.Non-elective admissions - CCG'!$D$5:$N$215,3,0)*$H420","v":182.03082788348408},{"$f":"VLOOKUP($A420,'8.Non-elective admissions - CCG'!$D$5:$N$215,4,0)*$H420","v":194.15580870019414},{"$f":"VLOOKUP($A420,'8.Non-elective admissions - CCG'!$D$5:$N$215,5,0)*$H420","v":192.41251746689034},{"$f":"VLOOKUP($A420,'8.Non-elective admissions - CCG'!$D$5:$N$215,6,0)*$H420","v":186.84439322917368},{"$f":"VLOOKUP($A420,'8.Non-elective admissions - CCG'!$D$5:$N$215,7,0)*$H420","v":181.35432680787363},{"$f":"VLOOKUP($A420,'8.Non-elective admissions - CCG'!$D$5:$N$215,8,0)*$H420","v":193.37523053602825},{"$f":"VLOOKUP($A420,'8.Non-elective admissions - CCG'!$D$5:$N$215,9,0)*$H420","v":185.46537180581396},{"$f":"VLOOKUP($A420,'8.Non-elective admissions - CCG'!$D$5:$N$215,10,0)*$H420","v":177.06114690496128},{"$f":"VLOOKUP($A420,'8.Non-elective admissions - CCG'!$D$5:$Q$215,11,0)*$H420","v":180.59976791584663},{"$f":"VLOOKUP($A420,'8.Non-elective admissions - CCG'!$D$5:$Q$215,12,0)*$H420","v":192.62067164400122},{"$f":"VLOOKUP($A420,'8.Non-elective admissions - CCG'!$D$5:$Q$215,13,0)*$H420","v":184.76285145806466},{"$f":"VLOOKUP($A420,'8.Non-elective admissions - CCG'!$D$5:$Q$215,14,0)*$H420","v":176.38464582935086}]
["01K","NHS Lancashire North CCG","E10000006","Cumbria",{"$f":"COUNTIF($D$5:D421,D421)","v":2},"Cumbria2","NHS Lancashire North CCG",2.0679283118185238E-3,0,{"$f":"VLOOKUP($A421,'8.Non-elective admissions - CCG'!$D$5:$N$215,3,0)*$H421","v":8.956197518486027},{"$f":"VLOOKUP($A421,'8.Non-elective admissions - CCG'!$D$5:$N$215,4,0)*$H421","v":8.7266574758741697},{"$f":"VLOOKUP($A421,'8.Non-elective admissions - CCG'!$D$5:$N$215,5,0)*$H421","v":9.320152901366086},{"$f":"VLOOKUP($A421,'8.Non-elective admissions - CCG'!$D$5:$N$215,6,0)*$H421","v":9.4132096753979209},{"$f":"VLOOKUP($A421,'8.Non-elective admissions - CCG'!$D$5:$N$215,7,0)*$H421","v":9.3387642561724533},{"$f":"VLOOKUP($A421,'8.Non-elective admissions - CCG'!$D$5:$N$215,8,0)*$H421","v":9.0575260057651334},{"$f":"VLOOKUP($A421,'8.Non-elective admissions - CCG'!$D$5:$N$215,9,0)*$H421","v":9.9322596816643696},{"$f":"VLOOKUP($A421,'8.Non-elective admissions - CCG'!$D$5:$N$215,10,0)*$H421","v":9.6882441408697844},{"$f":"VLOOKUP($A421,'8.Non-elective admissions - CCG'!$D$5:$Q$215,11,0)*$H421","v":9.2167564857751607},{"$f":"VLOOKUP($A421,'8.Non-elective admissions - CCG'!$D$5:$Q$215,12,0)*$H421","v":8.9355182353678408},{"$f":"VLOOKUP($A421,'8.Non-elective admissions - CCG'!$D$5:$Q$215,13,0)*$H421","v":9.8040481263316206},{"$f":"VLOOKUP($A421,'8.Non-elective admissions - CCG'!$D$5:$Q$215,14,0)*$H421","v":9.5621005138488542}]
["01K","NHS Lancashire North CCG","E10000017","Lancashire",{"$f":"COUNTIF($D$5:D422,D422)","v":12},"Lancashire12","NHS Lancashire North CCG",0.99793207168818143,0.12985530408972859,{"$f":"VLOOKUP($A422,'8.Non-elective admissions - CCG'!$D$5:$N$215,3,0)*$H422","v":4322.0438024815139},{"$f":"VLOOKUP($A422,'8.Non-elective admissions - CCG'!$D$5:$N$215,4,0)*$H422","v":4211.2733425241258},{"$f":"VLOOKUP($A422,'8.Non-elective admissions - CCG'!$D$5:$N$215,5,0)*$H422","v":4497.6798470986341},{"$f":"VLOOKUP($A422,'8.Non-elective admissions - CCG'!$D$5:$N$215,6,0)*$H422","v":4542.5867903246017},{"$f":"VLOOKUP($A422,'8.Non-elective admissions - CCG'!$D$5:$N$215,7,0)*$H422","v":4506.6612357438271},{"$f":"VLOOKUP($A422,'8.Non-elective admissions - CCG'!$D$5:$N$215,8,0)*$H422","v":4370.9424739942351},{"$f":"VLOOKUP($A422,'8.Non-elective admissions - CCG'!$D$5:$N$215,9,0)*$H422","v":4793.0677403183354},{"$f":"VLOOKUP($A422,'8.Non-elective admissions - CCG'!$D$5:$N$215,10,0)*$H422","v":4675.3117558591302},{"$f":"VLOOKUP($A422,'8.Non-elective admissions - CCG'!$D$5:$Q$215,11,0)*$H422","v":4447.7832435142245},{"$f":"VLOOKUP($A422,'8.Non-elective admissions - CCG'!$D$5:$Q$215,12,0)*$H422","v":4312.0644817646316},{"$f":"VLOOKUP($A422,'8.Non-elective admissions - CCG'!$D$5:$Q$215,13,0)*$H422","v":4731.1959518736685},{"$f":"VLOOKUP($A422,'8.Non-elective admissions - CCG'!$D$5:$Q$215,14,0)*$H422","v":4614.4378994861509}]
["02V","NHS Leeds North CCG","E08000032","Bradford",{"$f":"COUNTIF($D$5:D423,D423)","v":5},"Bradford5","NHS Leeds North CCG",6.1133260843300712E-3,2.2521279493529361E-3,{"$f":"VLOOKUP($A423,'8.Non-elective admissions - CCG'!$D$5:$N$215,3,0)*$H423","v":25.510909749909388},{"$f":"VLOOKUP($A423,'8.Non-elective admissions - CCG'!$D$5:$N$215,4,0)*$H423","v":25.498683097740727},{"$f":"VLOOKUP($A423,'8.Non-elective admissions - CCG'!$D$5:$N$215,5,0)*$H423","v":24.031484837501509},{"$f":"VLOOKUP($A423,'8.Non-elective admissions - CCG'!$D$5:$N$215,6,0)*$H423","v":25.089090250090614},{"$f":"VLOOKUP($A423,'8.Non-elective admissions - CCG'!$D$5:$N$215,7,0)*$H423","v":23.297269769091407},{"$f":"VLOOKUP($A423,'8.Non-elective admissions - CCG'!$D$5:$N$215,8,0)*$H423","v":23.553283722878653},{"$f":"VLOOKUP($A423,'8.Non-elective admissions - CCG'!$D$5:$N$215,9,0)*$H423","v":23.55328372287865},{"$f":"VLOOKUP($A423,'8.Non-elective admissions - CCG'!$D$5:$N$215,10,0)*$H423","v":23.041255815927727},{"$f":"VLOOKUP($A423,'8.Non-elective admissions - CCG'!$D$5:$Q$215,11,0)*$H423","v":22.879087055085318},{"$f":"VLOOKUP($A423,'8.Non-elective admissions - CCG'!$D$5:$Q$215,12,0)*$H423","v":23.130505593937151},{"$f":"VLOOKUP($A423,'8.Non-elective admissions - CCG'!$D$5:$Q$215,13,0)*$H423","v":23.130505593937151},{"$f":"VLOOKUP($A423,'8.Non-elective admissions - CCG'!$D$5:$Q$215,14,0)*$H423","v":22.627668515805556}]
["02V","NHS Leeds North CCG","E08000035","Leeds",{"$f":"COUNTIF($D$5:D424,D424)","v":3},"Leeds3","NHS Leeds North CCG",0.96407877250211427,0.24112165347192843,{"$f":"VLOOKUP($A424,'8.Non-elective admissions - CCG'!$D$5:$N$215,3,0)*$H424","v":4023.1007176513226},{"$f":"VLOOKUP($A424,'8.Non-elective admissions - CCG'!$D$5:$N$215,4,0)*$H424","v":4021.1725601063185},{"$f":"VLOOKUP($A424,'8.Non-elective admissions - CCG'!$D$5:$N$215,5,0)*$H424","v":3789.7936547058112},{"$f":"VLOOKUP($A424,'8.Non-elective admissions - CCG'!$D$5:$N$215,6,0)*$H424","v":3956.5792823486768},{"$f":"VLOOKUP($A424,'8.Non-elective admissions - CCG'!$D$5:$N$215,7,0)*$H424","v":3674.007067806785},{"$f":"VLOOKUP($A424,'8.Non-elective admissions - CCG'!$D$5:$N$215,8,0)*$H424","v":3714.3807718928915},{"$f":"VLOOKUP($A424,'8.Non-elective admissions - CCG'!$D$5:$N$215,9,0)*$H424","v":3714.3807718928911},{"$f":"VLOOKUP($A424,'8.Non-elective admissions - CCG'!$D$5:$N$215,10,0)*$H424","v":3633.6333638190149},{"$f":"VLOOKUP($A424,'8.Non-elective admissions - CCG'!$D$5:$Q$215,11,0)*$H424","v":3608.0591579391939},{"$f":"VLOOKUP($A424,'8.Non-elective admissions - CCG'!$D$5:$Q$215,12,0)*$H424","v":3647.7081596408771},{"$f":"VLOOKUP($A424,'8.Non-elective admissions - CCG'!$D$5:$Q$215,13,0)*$H424","v":3647.7081596408771},{"$f":"VLOOKUP($A424,'8.Non-elective admissions - CCG'!$D$5:$Q$215,14,0)*$H424","v":3568.4101561700254}]
["02V","NHS Leeds North CCG","E10000023","North Yorkshire",{"$f":"COUNTIF($D$5:D425,D425)","v":11},"North Yorkshire11","NHS Leeds North CCG",2.9807901413555635E-2,1.0112536397261351E-2,{"$f":"VLOOKUP($A425,'8.Non-elective admissions - CCG'!$D$5:$N$215,3,0)*$H425","v":124.38837259876766},{"$f":"VLOOKUP($A425,'8.Non-elective admissions - CCG'!$D$5:$N$215,4,0)*$H425","v":124.32875679594055},{"$f":"VLOOKUP($A425,'8.Non-elective admissions - CCG'!$D$5:$N$215,5,0)*$H425","v":117.1748604566872},{"$f":"VLOOKUP($A425,'8.Non-elective admissions - CCG'!$D$5:$N$215,6,0)*$H425","v":122.33162740123232},{"$f":"VLOOKUP($A425,'8.Non-elective admissions - CCG'!$D$5:$N$215,7,0)*$H425","v":113.59490904012317},{"$f":"VLOOKUP($A425,'8.Non-elective admissions - CCG'!$D$5:$N$215,8,0)*$H425","v":114.84320474522967},{"$f":"VLOOKUP($A425,'8.Non-elective admissions - CCG'!$D$5:$N$215,9,0)*$H425","v":114.84320474522966},{"$f":"VLOOKUP($A425,'8.Non-elective admissions - CCG'!$D$5:$N$215,10,0)*$H425","v":112.34661333805708},{"$f":"VLOOKUP($A425,'8.Non-elective admissions - CCG'!$D$5:$Q$215,11,0)*$H425","v":111.55589640772034},{"$f":"VLOOKUP($A425,'8.Non-elective admissions - CCG'!$D$5:$Q$215,12,0)*$H425","v":112.78178537818525},{"$f":"VLOOKUP($A425,'8.Non-elective admissions - CCG'!$D$5:$Q$215,13,0)*$H425","v":112.78178537818525},{"$f":"VLOOKUP($A425,'8.Non-elective admissions - CCG'!$D$5:$Q$215,14,0)*$H425","v":110.33000743516891}]
["03G","NHS Leeds South and East CCG","E08000035","Leeds",{"$f":"COUNTIF($D$5:D426,D426)","v":4},"Leeds4","NHS Leeds South and East CCG",0.98497270308494322,0.31903305735178578,{"$f":"VLOOKUP($A426,'8.Non-elective admissions - CCG'!$D$5:$N$215,3,0)*$H426","v":6724.4086439609073},{"$f":"VLOOKUP($A426,'8.Non-elective admissions - CCG'!$D$5:$N$215,4,0)*$H426","v":6577.6477112012508},{"$f":"VLOOKUP($A426,'8.Non-elective admissions - CCG'!$D$5:$N$215,5,0)*$H426","v":6489.9851406266907},{"$f":"VLOOKUP($A426,'8.Non-elective admissions - CCG'!$D$5:$N$215,6,0)*$H426","v":6332.3895081331002},{"$f":"VLOOKUP($A426,'8.Non-elective admissions - CCG'!$D$5:$N$215,7,0)*$H426","v":5925.4865306109114},{"$f":"VLOOKUP($A426,'8.Non-elective admissions - CCG'!$D$5:$N$215,8,0)*$H426","v":5990.6017672293783},{"$f":"VLOOKUP($A426,'8.Non-elective admissions - CCG'!$D$5:$N$215,9,0)*$H426","v":5990.6017672293783},{"$f":"VLOOKUP($A426,'8.Non-elective admissions - CCG'!$D$5:$N$215,10,0)*$H426","v":5860.3712940988207},{"$f":"VLOOKUP($A426,'8.Non-elective admissions - CCG'!$D$5:$Q$215,11,0)*$H426","v":5817.5468865195662},{"$f":"VLOOKUP($A426,'8.Non-elective admissions - CCG'!$D$5:$Q$215,12,0)*$H426","v":5881.4759731919858},{"$f":"VLOOKUP($A426,'8.Non-elective admissions - CCG'!$D$5:$Q$215,13,0)*$H426","v":5881.4759731919858},{"$f":"VLOOKUP($A426,'8.Non-elective admissions - CCG'!$D$5:$Q$215,14,0)*$H426","v":5753.6177998372932}]
["03G","NHS Leeds South and East CCG","E10000023","North Yorkshire",{"$f":"COUNTIF($D$5:D427,D427)","v":12},"North Yorkshire12","NHS Leeds South and East CCG",5.1981685132043935E-3,2.2838461740248154E-3,{"$f":"VLOOKUP($A427,'8.Non-elective admissions - CCG'!$D$5:$N$215,3,0)*$H427","v":35.487896439646391},{"$f":"VLOOKUP($A427,'8.Non-elective admissions - CCG'!$D$5:$N$215,4,0)*$H427","v":34.713369331178939},{"$f":"VLOOKUP($A427,'8.Non-elective admissions - CCG'!$D$5:$N$215,5,0)*$H427","v":34.250732333503748},{"$f":"VLOOKUP($A427,'8.Non-elective admissions - CCG'!$D$5:$N$215,6,0)*$H427","v":33.419025371391044},{"$f":"VLOOKUP($A427,'8.Non-elective admissions - CCG'!$D$5:$N$215,7,0)*$H427","v":31.271605205268386},{"$f":"VLOOKUP($A427,'8.Non-elective admissions - CCG'!$D$5:$N$215,8,0)*$H427","v":31.615249218609915},{"$f":"VLOOKUP($A427,'8.Non-elective admissions - CCG'!$D$5:$N$215,9,0)*$H427","v":31.615249218609915},{"$f":"VLOOKUP($A427,'8.Non-elective admissions - CCG'!$D$5:$N$215,10,0)*$H427","v":30.927961192488251},{"$f":"VLOOKUP($A427,'8.Non-elective admissions - CCG'!$D$5:$Q$215,11,0)*$H427","v":30.701956465273067},{"$f":"VLOOKUP($A427,'8.Non-elective admissions - CCG'!$D$5:$Q$215,12,0)*$H427","v":31.039340602292985},{"$f":"VLOOKUP($A427,'8.Non-elective admissions - CCG'!$D$5:$Q$215,13,0)*$H427","v":31.039340602292985},{"$f":"VLOOKUP($A427,'8.Non-elective admissions - CCG'!$D$5:$Q$215,14,0)*$H427","v":30.364572328201152}]
["03G","NHS Leeds South and East CCG","E08000036","Wakefield",{"$f":"COUNTIF($D$5:D428,D428)","v":2},"Wakefield2","NHS Leeds South and East CCG",9.8291284018523842E-3,7.6053312390279952E-3,{"$f":"VLOOKUP($A428,'8.Non-elective admissions - CCG'!$D$5:$N$215,3,0)*$H428","v":67.103459599446225},{"$f":"VLOOKUP($A428,'8.Non-elective admissions - CCG'!$D$5:$N$215,4,0)*$H428","v":65.638919467570219},{"$f":"VLOOKUP($A428,'8.Non-elective admissions - CCG'!$D$5:$N$215,5,0)*$H428","v":64.764127039805359},{"$f":"VLOOKUP($A428,'8.Non-elective admissions - CCG'!$D$5:$N$215,6,0)*$H428","v":63.191466495508976},{"$f":"VLOOKUP($A428,'8.Non-elective admissions - CCG'!$D$5:$N$215,7,0)*$H428","v":59.130946238820471},{"$f":"VLOOKUP($A428,'8.Non-elective admissions - CCG'!$D$5:$N$215,8,0)*$H428","v":59.78073685701257},{"$f":"VLOOKUP($A428,'8.Non-elective admissions - CCG'!$D$5:$N$215,9,0)*$H428","v":59.78073685701257},{"$f":"VLOOKUP($A428,'8.Non-elective admissions - CCG'!$D$5:$N$215,10,0)*$H428","v":58.481155621689908},{"$f":"VLOOKUP($A428,'8.Non-elective admissions - CCG'!$D$5:$Q$215,11,0)*$H428","v":58.053807128161701},{"$f":"VLOOKUP($A428,'8.Non-elective admissions - CCG'!$D$5:$Q$215,12,0)*$H428","v":58.691761052720537},{"$f":"VLOOKUP($A428,'8.Non-elective admissions - CCG'!$D$5:$Q$215,13,0)*$H428","v":58.691761052720537},{"$f":"VLOOKUP($A428,'8.Non-elective admissions - CCG'!$D$5:$Q$215,14,0)*$H428","v":57.415853203504547}]
["03C","NHS Leeds West CCG","E08000032","Bradford",{"$f":"COUNTIF($D$5:D429,D429)","v":6},"Bradford6","NHS Leeds West CCG",1.6586215958285504E-2,1.0674908446102929E-2,{"$f":"VLOOKUP($A429,'8.Non-elective admissions - CCG'!$D$5:$N$215,3,0)*$H429","v":120.93010055185961},{"$f":"VLOOKUP($A429,'8.Non-elective admissions - CCG'!$D$5:$N$215,4,0)*$H429","v":122.50579106789674},{"$f":"VLOOKUP($A429,'8.Non-elective admissions - CCG'!$D$5:$N$215,5,0)*$H429","v":119.37099625178078},{"$f":"VLOOKUP($A429,'8.Non-elective admissions - CCG'!$D$5:$N$215,6,0)*$H429","v":119.96810002627906},{"$f":"VLOOKUP($A429,'8.Non-elective admissions - CCG'!$D$5:$N$215,7,0)*$H429","v":110.42253904689667},{"$f":"VLOOKUP($A429,'8.Non-elective admissions - CCG'!$D$5:$N$215,8,0)*$H429","v":111.63597354142595},{"$f":"VLOOKUP($A429,'8.Non-elective admissions - CCG'!$D$5:$N$215,9,0)*$H429","v":111.63597354142595},{"$f":"VLOOKUP($A429,'8.Non-elective admissions - CCG'!$D$5:$N$215,10,0)*$H429","v":109.20910455205227},{"$f":"VLOOKUP($A429,'8.Non-elective admissions - CCG'!$D$5:$Q$215,11,0)*$H429","v":108.38102318716072},{"$f":"VLOOKUP($A429,'8.Non-elective admissions - CCG'!$D$5:$Q$215,12,0)*$H429","v":109.57202344138234},{"$f":"VLOOKUP($A429,'8.Non-elective admissions - CCG'!$D$5:$Q$215,13,0)*$H429","v":109.57202344138234},{"$f":"VLOOKUP($A429,'8.Non-elective admissions - CCG'!$D$5:$Q$215,14,0)*$H429","v":107.19002293159561}]
["03C","NHS Leeds West CCG","E08000034","Kirklees",{"$f":"COUNTIF($D$5:D430,D430)","v":5},"Kirklees5","NHS Leeds West CCG",2.5117218295735884E-3,2.0689639457967899E-3,{"$f":"VLOOKUP($A430,'8.Non-elective admissions - CCG'!$D$5:$N$215,3,0)*$H430","v":18.312963859421032},{"$f":"VLOOKUP($A430,'8.Non-elective admissions - CCG'!$D$5:$N$215,4,0)*$H430","v":18.551577433230523},{"$f":"VLOOKUP($A430,'8.Non-elective admissions - CCG'!$D$5:$N$215,5,0)*$H430","v":18.076862007441115},{"$f":"VLOOKUP($A430,'8.Non-elective admissions - CCG'!$D$5:$N$215,6,0)*$H430","v":18.167283993305766},{"$f":"VLOOKUP($A430,'8.Non-elective admissions - CCG'!$D$5:$N$215,7,0)*$H430","v":16.721758748262534},{"$f":"VLOOKUP($A430,'8.Non-elective admissions - CCG'!$D$5:$N$215,8,0)*$H430","v":16.905514338828343},{"$f":"VLOOKUP($A430,'8.Non-elective admissions - CCG'!$D$5:$N$215,9,0)*$H430","v":16.905514338828343},{"$f":"VLOOKUP($A430,'8.Non-elective admissions - CCG'!$D$5:$N$215,10,0)*$H430","v":16.538003157649005},{"$f":"VLOOKUP($A430,'8.Non-elective admissions - CCG'!$D$5:$Q$215,11,0)*$H430","v":16.412603244486643},{"$f":"VLOOKUP($A430,'8.Non-elective admissions - CCG'!$D$5:$Q$215,12,0)*$H430","v":16.592961521810398},{"$f":"VLOOKUP($A430,'8.Non-elective admissions - CCG'!$D$5:$Q$215,13,0)*$H430","v":16.592961521810398},{"$f":"VLOOKUP($A430,'8.Non-elective admissions - CCG'!$D$5:$Q$215,14,0)*$H430","v":16.232244966959438}]
["03C","NHS Leeds West CCG","E08000035","Leeds",{"$f":"COUNTIF($D$5:D431,D431)","v":5},"Leeds5","NHS Leeds West CCG",0.97935851509660998,0.42792409500211515,{"$f":"VLOOKUP($A431,'8.Non-elective admissions - CCG'!$D$5:$N$215,3,0)*$H431","v":7140.5029335693835},{"$f":"VLOOKUP($A431,'8.Non-elective admissions - CCG'!$D$5:$N$215,4,0)*$H431","v":7233.5419925035612},{"$f":"VLOOKUP($A431,'8.Non-elective admissions - CCG'!$D$5:$N$215,5,0)*$H431","v":7048.4432331503021},{"$f":"VLOOKUP($A431,'8.Non-elective admissions - CCG'!$D$5:$N$215,6,0)*$H431","v":7083.7001396937803},{"$f":"VLOOKUP($A431,'8.Non-elective admissions - CCG'!$D$5:$N$215,7,0)*$H431","v":6520.0678772148813},{"$f":"VLOOKUP($A431,'8.Non-elective admissions - CCG'!$D$5:$N$215,8,0)*$H431","v":6591.7169747376684},{"$f":"VLOOKUP($A431,'8.Non-elective admissions - CCG'!$D$5:$N$215,9,0)*$H431","v":6591.7169747376684},{"$f":"VLOOKUP($A431,'8.Non-elective admissions - CCG'!$D$5:$N$215,10,0)*$H431","v":6448.4187796734877},{"$f":"VLOOKUP($A431,'8.Non-elective admissions - CCG'!$D$5:$Q$215,11,0)*$H431","v":6399.5234476737714},{"$f":"VLOOKUP($A431,'8.Non-elective admissions - CCG'!$D$5:$Q$215,12,0)*$H431","v":6469.8478811303066},{"$f":"VLOOKUP($A431,'8.Non-elective admissions - CCG'!$D$5:$Q$215,13,0)*$H431","v":6469.8478811303066},{"$f":"VLOOKUP($A431,'8.Non-elective admissions - CCG'!$D$5:$Q$215,14,0)*$H431","v":6329.1990141379083}]
["03C","NHS Leeds West CCG","E08000036","Wakefield",{"$f":"COUNTIF($D$5:D432,D432)","v":3},"Wakefield3","NHS Leeds West CCG",1.5435471155309055E-3,1.6111521759216484E-3,{"$f":"VLOOKUP($A432,'8.Non-elective admissions - CCG'!$D$5:$N$215,3,0)*$H432","v":11.254002019335832},{"$f":"VLOOKUP($A432,'8.Non-elective admissions - CCG'!$D$5:$N$215,4,0)*$H432","v":11.400638995311269},{"$f":"VLOOKUP($A432,'8.Non-elective admissions - CCG'!$D$5:$N$215,5,0)*$H432","v":11.108908590475927},{"$f":"VLOOKUP($A432,'8.Non-elective admissions - CCG'!$D$5:$N$215,6,0)*$H432","v":11.16447628663504},{"$f":"VLOOKUP($A432,'8.Non-elective admissions - CCG'!$D$5:$N$215,7,0)*$H432","v":10.276146895958695},{"$f":"VLOOKUP($A432,'8.Non-elective admissions - CCG'!$D$5:$N$215,8,0)*$H432","v":10.389071587077328},{"$f":"VLOOKUP($A432,'8.Non-elective admissions - CCG'!$D$5:$N$215,9,0)*$H432","v":10.389071587077328},{"$f":"VLOOKUP($A432,'8.Non-elective admissions - CCG'!$D$5:$N$215,10,0)*$H432","v":10.163222204810731},{"$f":"VLOOKUP($A432,'8.Non-elective admissions - CCG'!$D$5:$Q$215,11,0)*$H432","v":10.086159262580999},{"$f":"VLOOKUP($A432,'8.Non-elective admissions - CCG'!$D$5:$Q$215,12,0)*$H432","v":10.196996177500223},{"$f":"VLOOKUP($A432,'8.Non-elective admissions - CCG'!$D$5:$Q$215,13,0)*$H432","v":10.196996177500223},{"$f":"VLOOKUP($A432,'8.Non-elective admissions - CCG'!$D$5:$Q$215,14,0)*$H432","v":9.9753223475367481}]
["04C","NHS Leicester City CCG","E06000016","Leicester",{"$f":"COUNTIF($D$5:D433,D433)","v":2},"Leicester2","NHS Leicester City CCG",0.92504314406411792,0.95012900016040047,{"$f":"VLOOKUP($A433,'8.Non-elective admissions - CCG'!$D$5:$N$215,3,0)*$H433","v":6828.6684894813188},{"$f":"VLOOKUP($A433,'8.Non-elective admissions - CCG'!$D$5:$N$215,4,0)*$H433","v":6761.1403399646379},{"$f":"VLOOKUP($A433,'8.Non-elective admissions - CCG'!$D$5:$N$215,5,0)*$H433","v":7171.8594959291058},{"$f":"VLOOKUP($A433,'8.Non-elective admissions - CCG'!$D$5:$N$215,6,0)*$H433","v":7876.7423717059637},{"$f":"VLOOKUP($A433,'8.Non-elective admissions - CCG'!$D$5:$N$215,7,0)*$H433","v":6286.5932070597455},{"$f":"VLOOKUP($A433,'8.Non-elective admissions - CCG'!$D$5:$N$215,8,0)*$H433","v":6687.1368884395088},{"$f":"VLOOKUP($A433,'8.Non-elective admissions - CCG'!$D$5:$N$215,9,0)*$H433","v":6615.9085663465712},{"$f":"VLOOKUP($A433,'8.Non-elective admissions - CCG'!$D$5:$N$215,10,0)*$H433","v":6503.0533027707488},{"$f":"VLOOKUP($A433,'8.Non-elective admissions - CCG'!$D$5:$Q$215,11,0)*$H433","v":5997.0547029676763},{"$f":"VLOOKUP($A433,'8.Non-elective admissions - CCG'!$D$5:$Q$215,12,0)*$H433","v":6379.0975214661576},{"$f":"VLOOKUP($A433,'8.Non-elective admissions - CCG'!$D$5:$Q$215,13,0)*$H433","v":6309.7192856613483},{"$f":"VLOOKUP($A433,'8.Non-elective admissions - CCG'!$D$5:$Q$215,14,0)*$H433","v":6299.5438110766427}]
["04C","NHS Leicester City CCG","E10000018","Leicestershire",{"$f":"COUNTIF($D$5:D434,D434)","v":3},"Leicestershire3","NHS Leicester City CCG",7.4956855935882097E-2,4.1578939640869776E-2,{"$f":"VLOOKUP($A434,'8.Non-elective admissions - CCG'!$D$5:$N$215,3,0)*$H434","v":553.33151051868163},{"$f":"VLOOKUP($A434,'8.Non-elective admissions - CCG'!$D$5:$N$215,4,0)*$H434","v":547.85966003536225},{"$f":"VLOOKUP($A434,'8.Non-elective admissions - CCG'!$D$5:$N$215,5,0)*$H434","v":581.14050407089394},{"$f":"VLOOKUP($A434,'8.Non-elective admissions - CCG'!$D$5:$N$215,6,0)*$H434","v":638.25762829403607},{"$f":"VLOOKUP($A434,'8.Non-elective admissions - CCG'!$D$5:$N$215,7,0)*$H434","v":509.40679294025472},{"$f":"VLOOKUP($A434,'8.Non-elective admissions - CCG'!$D$5:$N$215,8,0)*$H434","v":541.86311156049169},{"$f":"VLOOKUP($A434,'8.Non-elective admissions - CCG'!$D$5:$N$215,9,0)*$H434","v":536.09143365342879},{"$f":"VLOOKUP($A434,'8.Non-elective admissions - CCG'!$D$5:$N$215,10,0)*$H434","v":526.94669722925119},{"$f":"VLOOKUP($A434,'8.Non-elective admissions - CCG'!$D$5:$Q$215,11,0)*$H434","v":485.94529703232365},{"$f":"VLOOKUP($A434,'8.Non-elective admissions - CCG'!$D$5:$Q$215,12,0)*$H434","v":516.9024785338429},{"$f":"VLOOKUP($A434,'8.Non-elective admissions - CCG'!$D$5:$Q$215,13,0)*$H434","v":511.28071433865176},{"$f":"VLOOKUP($A434,'8.Non-elective admissions - CCG'!$D$5:$Q$215,14,0)*$H434","v":510.4561889233571}]
["08L","NHS Lewisham CCG","E09000006","Bromley",{"$f":"COUNTIF($D$5:D435,D435)","v":5},"Bromley5","NHS Lewisham CCG",1.9310987636898293E-2,1.811024349105414E-2,{"$f":"VLOOKUP($A435,'8.Non-elective admissions - CCG'!$D$5:$N$215,3,0)*$H435","v":117.06320705487745},{"$f":"VLOOKUP($A435,'8.Non-elective admissions - CCG'!$D$5:$N$215,4,0)*$H435","v":122.95305828413143},{"$f":"VLOOKUP($A435,'8.Non-elective admissions - CCG'!$D$5:$N$215,5,0)*$H435","v":117.81633557271648},{"$f":"VLOOKUP($A435,'8.Non-elective admissions - CCG'!$D$5:$N$215,6,0)*$H435","v":113.87689409478924},{"$f":"VLOOKUP($A435,'8.Non-elective admissions - CCG'!$D$5:$N$215,7,0)*$H435","v":122.02004659558315},{"$f":"VLOOKUP($A435,'8.Non-elective admissions - CCG'!$D$5:$N$215,8,0)*$H435","v":124.99896483966168},{"$f":"VLOOKUP($A435,'8.Non-elective admissions - CCG'!$D$5:$N$215,9,0)*$H435","v":123.70512866798951},{"$f":"VLOOKUP($A435,'8.Non-elective admissions - CCG'!$D$5:$N$215,10,0)*$H435","v":121.01084909046823},{"$f":"VLOOKUP($A435,'8.Non-elective admissions - CCG'!$D$5:$Q$215,11,0)*$H435","v":122.10791158933102},{"$f":"VLOOKUP($A435,'8.Non-elective admissions - CCG'!$D$5:$Q$215,12,0)*$H435","v":125.08779538279141},{"$f":"VLOOKUP($A435,'8.Non-elective admissions - CCG'!$D$5:$Q$215,13,0)*$H435","v":123.79395921111922},{"$f":"VLOOKUP($A435,'8.Non-elective admissions - CCG'!$D$5:$Q$215,14,0)*$H435","v":121.09774853483427}]
["08L","NHS Lewisham CCG","E09000011","Greenwich",{"$f":"COUNTIF($D$5:D436,D436)","v":4},"Greenwich4","NHS Lewisham CCG",3.6803775554075033E-2,4.4271265130160831E-2,{"$f":"VLOOKUP($A436,'8.Non-elective admissions - CCG'!$D$5:$N$215,3,0)*$H436","v":223.10448740880284},{"$f":"VLOOKUP($A436,'8.Non-elective admissions - CCG'!$D$5:$N$215,4,0)*$H436","v":234.32963895279573},{"$f":"VLOOKUP($A436,'8.Non-elective admissions - CCG'!$D$5:$N$215,5,0)*$H436","v":224.53983465541177},{"$f":"VLOOKUP($A436,'8.Non-elective admissions - CCG'!$D$5:$N$215,6,0)*$H436","v":217.03186444238048},{"$f":"VLOOKUP($A436,'8.Non-elective admissions - CCG'!$D$5:$N$215,7,0)*$H436","v":232.55146201952238},{"$f":"VLOOKUP($A436,'8.Non-elective admissions - CCG'!$D$5:$N$215,8,0)*$H436","v":238.22882252072847},{"$f":"VLOOKUP($A436,'8.Non-elective admissions - CCG'!$D$5:$N$215,9,0)*$H436","v":235.76296955860548},{"$f":"VLOOKUP($A436,'8.Non-elective admissions - CCG'!$D$5:$N$215,10,0)*$H436","v":230.62808662483189},{"$f":"VLOOKUP($A436,'8.Non-elective admissions - CCG'!$D$5:$Q$215,11,0)*$H436","v":232.71891919829338},{"$f":"VLOOKUP($A436,'8.Non-elective admissions - CCG'!$D$5:$Q$215,12,0)*$H436","v":238.39811988827722},{"$f":"VLOOKUP($A436,'8.Non-elective admissions - CCG'!$D$5:$Q$215,13,0)*$H436","v":235.93226692615417},{"$f":"VLOOKUP($A436,'8.Non-elective admissions - CCG'!$D$5:$Q$215,14,0)*$H436","v":230.79370361482523}]
["08L","NHS Lewisham CCG","E09000023","Lewisham",{"$f":"COUNTIF($D$5:D437,D437)","v":5},"Lewisham5","NHS Lewisham CCG",0.9239473969221883,0.92741114577396822,{"$f":"VLOOKUP($A437,'8.Non-elective admissions - CCG'!$D$5:$N$215,3,0)*$H437","v":5600.9691201423057},{"$f":"VLOOKUP($A437,'8.Non-elective admissions - CCG'!$D$5:$N$215,4,0)*$H437","v":5882.7730762035726},{"$f":"VLOOKUP($A437,'8.Non-elective admissions - CCG'!$D$5:$N$215,5,0)*$H437","v":5637.0030686222708},{"$f":"VLOOKUP($A437,'8.Non-elective admissions - CCG'!$D$5:$N$215,6,0)*$H437","v":5448.5177996501443},{"$f":"VLOOKUP($A437,'8.Non-elective admissions - CCG'!$D$5:$N$215,7,0)*$H437","v":5838.1324945232764},{"$f":"VLOOKUP($A437,'8.Non-elective admissions - CCG'!$D$5:$N$215,8,0)*$H437","v":5980.6608731340793},{"$f":"VLOOKUP($A437,'8.Non-elective admissions - CCG'!$D$5:$N$215,9,0)*$H437","v":5918.7563975402936},{"$f":"VLOOKUP($A437,'8.Non-elective admissions - CCG'!$D$5:$N$215,10,0)*$H437","v":5789.8467503985357},{"$f":"VLOOKUP($A437,'8.Non-elective admissions - CCG'!$D$5:$Q$215,11,0)*$H437","v":5842.3364551792711},{"$f":"VLOOKUP($A437,'8.Non-elective admissions - CCG'!$D$5:$Q$215,12,0)*$H437","v":5984.9110311599215},{"$f":"VLOOKUP($A437,'8.Non-elective admissions - CCG'!$D$5:$Q$215,13,0)*$H437","v":5923.006555566134},{"$f":"VLOOKUP($A437,'8.Non-elective admissions - CCG'!$D$5:$Q$215,14,0)*$H437","v":5794.0045136846857}]
["08L","NHS Lewisham CCG","E09000028","Southwark",{"$f":"COUNTIF($D$5:D438,D438)","v":4},"Southwark4","NHS Lewisham CCG",1.99378398868384E-2,1.8794143033482966E-2,{"$f":"VLOOKUP($A438,'8.Non-elective admissions - CCG'!$D$5:$N$215,3,0)*$H438","v":120.86318539401438},{"$f":"VLOOKUP($A438,'8.Non-elective admissions - CCG'!$D$5:$N$215,4,0)*$H438","v":126.94422655950009},{"$f":"VLOOKUP($A438,'8.Non-elective admissions - CCG'!$D$5:$N$215,5,0)*$H438","v":121.64076114960108},{"$f":"VLOOKUP($A438,'8.Non-elective admissions - CCG'!$D$5:$N$215,6,0)*$H438","v":117.57344181268604},{"$f":"VLOOKUP($A438,'8.Non-elective admissions - CCG'!$D$5:$N$215,7,0)*$H438","v":125.98092846161926},{"$f":"VLOOKUP($A438,'8.Non-elective admissions - CCG'!$D$5:$N$215,8,0)*$H438","v":129.05654510553106},{"$f":"VLOOKUP($A438,'8.Non-elective admissions - CCG'!$D$5:$N$215,9,0)*$H438","v":127.72070983311292},{"$f":"VLOOKUP($A438,'8.Non-elective admissions - CCG'!$D$5:$N$215,10,0)*$H438","v":124.93897148616496},{"$f":"VLOOKUP($A438,'8.Non-elective admissions - CCG'!$D$5:$Q$215,11,0)*$H438","v":126.07164563310437},{"$f":"VLOOKUP($A438,'8.Non-elective admissions - CCG'!$D$5:$Q$215,12,0)*$H438","v":129.14825916901054},{"$f":"VLOOKUP($A438,'8.Non-elective admissions - CCG'!$D$5:$Q$215,13,0)*$H438","v":127.81242389659234},{"$f":"VLOOKUP($A438,'8.Non-elective admissions - CCG'!$D$5:$Q$215,14,0)*$H438","v":125.02869176565572}]
["03T","NHS Lincolnshire East CCG","E10000019","Lincolnshire",{"$f":"COUNTIF($D$5:D439,D439)","v":3},"Lincolnshire3","NHS Lincolnshire East CCG",0.99194057765345711,0.32264773685390136,{"$f":"VLOOKUP($A439,'8.Non-elective admissions - CCG'!$D$5:$N$215,3,0)*$H439","v":6447.6137547474709},{"$f":"VLOOKUP($A439,'8.Non-elective admissions - CCG'!$D$5:$N$215,4,0)*$H439","v":6330.5647665843635},{"$f":"VLOOKUP($A439,'8.Non-elective admissions - CCG'!$D$5:$N$215,5,0)*$H439","v":6561.6869211776184},{"$f":"VLOOKUP($A439,'8.Non-elective admissions - CCG'!$D$5:$N$215,6,0)*$H439","v":6546.8078125128168},{"$f":"VLOOKUP($A439,'8.Non-elective admissions - CCG'!$D$5:$N$215,7,0)*$H439","v":6239.8171445364405},{"$f":"VLOOKUP($A439,'8.Non-elective admissions - CCG'!$D$5:$N$215,8,0)*$H439","v":6178.8316994762772},{"$f":"VLOOKUP($A439,'8.Non-elective admissions - CCG'!$D$5:$N$215,9,0)*$H439","v":6483.3929722860903},{"$f":"VLOOKUP($A439,'8.Non-elective admissions - CCG'!$D$5:$N$215,10,0)*$H439","v":6399.786708356296},{"$f":"VLOOKUP($A439,'8.Non-elective admissions - CCG'!$D$5:$Q$215,11,0)*$H439","v":5654.8700697975091},{"$f":"VLOOKUP($A439,'8.Non-elective admissions - CCG'!$D$5:$Q$215,12,0)*$H439","v":5602.3827011589865},{"$f":"VLOOKUP($A439,'8.Non-elective admissions - CCG'!$D$5:$Q$215,13,0)*$H439","v":5869.6094875511108},{"$f":"VLOOKUP($A439,'8.Non-elective admissions - CCG'!$D$5:$Q$215,14,0)*$H439","v":5788.3259492278576}]
["03T","NHS Lincolnshire East CCG","E06000012","North East Lincolnshire",{"$f":"COUNTIF($D$5:D440,D440)","v":1},"North East Lincolnshire1","NHS Lincolnshire East CCG",8.059422346542857E-3,1.1991871159092159E-2,{"$f":"VLOOKUP($A440,'8.Non-elective admissions - CCG'!$D$5:$N$215,3,0)*$H440","v":52.386245252528568},{"$f":"VLOOKUP($A440,'8.Non-elective admissions - CCG'!$D$5:$N$215,4,0)*$H440","v":51.43523341563651},{"$f":"VLOOKUP($A440,'8.Non-elective admissions - CCG'!$D$5:$N$215,5,0)*$H440","v":53.313078822381001},{"$f":"VLOOKUP($A440,'8.Non-elective admissions - CCG'!$D$5:$N$215,6,0)*$H440","v":53.192187487182856},{"$f":"VLOOKUP($A440,'8.Non-elective admissions - CCG'!$D$5:$N$215,7,0)*$H440","v":50.69791766355911},{"$f":"VLOOKUP($A440,'8.Non-elective admissions - CCG'!$D$5:$N$215,8,0)*$H440","v":50.202416753721891},{"$f":"VLOOKUP($A440,'8.Non-elective admissions - CCG'!$D$5:$N$215,9,0)*$H440","v":52.676947973910039},{"$f":"VLOOKUP($A440,'8.Non-elective admissions - CCG'!$D$5:$N$215,10,0)*$H440","v":51.99765507370352},{"$f":"VLOOKUP($A440,'8.Non-elective admissions - CCG'!$D$5:$Q$215,11,0)*$H440","v":45.94527861249005},{"$f":"VLOOKUP($A440,'8.Non-elective admissions - CCG'!$D$5:$Q$215,12,0)*$H440","v":45.518823761013728},{"$f":"VLOOKUP($A440,'8.Non-elective admissions - CCG'!$D$5:$Q$215,13,0)*$H440","v":47.690015848888905},{"$f":"VLOOKUP($A440,'8.Non-elective admissions - CCG'!$D$5:$Q$215,14,0)*$H440","v":47.02959487214229}]
["04D","NHS Lincolnshire West CCG","E10000019","Lincolnshire",{"$f":"COUNTIF($D$5:D441,D441)","v":4},"Lincolnshire4","NHS Lincolnshire West CCG",0.98540327217604928,0.3017986168180411,{"$f":"VLOOKUP($A441,'8.Non-elective admissions - CCG'!$D$5:$N$215,3,0)*$H441","v":5760.6675291411839},{"$f":"VLOOKUP($A441,'8.Non-elective admissions - CCG'!$D$5:$N$215,4,0)*$H441","v":5389.1704955308132},{"$f":"VLOOKUP($A441,'8.Non-elective admissions - CCG'!$D$5:$N$215,5,0)*$H441","v":5402.9661413412787},{"$f":"VLOOKUP($A441,'8.Non-elective admissions - CCG'!$D$5:$N$215,6,0)*$H441","v":5366.5062202707641},{"$f":"VLOOKUP($A441,'8.Non-elective admissions - CCG'!$D$5:$N$215,7,0)*$H441","v":5348.2630000180179},{"$f":"VLOOKUP($A441,'8.Non-elective admissions - CCG'!$D$5:$N$215,8,0)*$H441","v":5303.8680810430178},{"$f":"VLOOKUP($A441,'8.Non-elective admissions - CCG'!$D$5:$N$215,9,0)*$H441","v":5503.6775273234307},{"$f":"VLOOKUP($A441,'8.Non-elective admissions - CCG'!$D$5:$N$215,10,0)*$H441","v":5384.6664027872139},{"$f":"VLOOKUP($A441,'8.Non-elective admissions - CCG'!$D$5:$Q$215,11,0)*$H441","v":5384.8797788417287},{"$f":"VLOOKUP($A441,'8.Non-elective admissions - CCG'!$D$5:$Q$215,12,0)*$H441","v":5094.8603215978819},{"$f":"VLOOKUP($A441,'8.Non-elective admissions - CCG'!$D$5:$Q$215,13,0)*$H441","v":5162.4855861091391},{"$f":"VLOOKUP($A441,'8.Non-elective admissions - CCG'!$D$5:$Q$215,14,0)*$H441","v":5208.9054989514716}]
["04D","NHS Lincolnshire West CCG","E06000013","North Lincolnshire",{"$f":"COUNTIF($D$5:D442,D442)","v":4},"North Lincolnshire4","NHS Lincolnshire West CCG",1.0232084052062098E-2,1.376235477464071E-2,{"$f":"VLOOKUP($A442,'8.Non-elective admissions - CCG'!$D$5:$N$215,3,0)*$H442","v":59.816763368355026},{"$f":"VLOOKUP($A442,'8.Non-elective admissions - CCG'!$D$5:$N$215,4,0)*$H442","v":55.959267680727613},{"$f":"VLOOKUP($A442,'8.Non-elective admissions - CCG'!$D$5:$N$215,5,0)*$H442","v":56.102516857456486},{"$f":"VLOOKUP($A442,'8.Non-elective admissions - CCG'!$D$5:$N$215,6,0)*$H442","v":55.723929747530185},{"$f":"VLOOKUP($A442,'8.Non-elective admissions - CCG'!$D$5:$N$215,7,0)*$H442","v":55.534498508283164},{"$f":"VLOOKUP($A442,'8.Non-elective admissions - CCG'!$D$5:$N$215,8,0)*$H442","v":55.07351714637479},{"$f":"VLOOKUP($A442,'8.Non-elective admissions - CCG'!$D$5:$N$215,9,0)*$H442","v":57.148268780010433},{"$f":"VLOOKUP($A442,'8.Non-elective admissions - CCG'!$D$5:$N$215,10,0)*$H442","v":55.912498751871695},{"$f":"VLOOKUP($A442,'8.Non-elective admissions - CCG'!$D$5:$Q$215,11,0)*$H442","v":55.914714374435711},{"$f":"VLOOKUP($A442,'8.Non-elective admissions - CCG'!$D$5:$Q$215,12,0)*$H442","v":52.903253435505221},{"$f":"VLOOKUP($A442,'8.Non-elective admissions - CCG'!$D$5:$Q$215,13,0)*$H442","v":53.60545060701866},{"$f":"VLOOKUP($A442,'8.Non-elective admissions - CCG'!$D$5:$Q$215,14,0)*$H442","v":54.087458799302489}]
["04D","NHS Lincolnshire West CCG","E10000024","Nottinghamshire",{"$f":"COUNTIF($D$5:D443,D443)","v":6},"Nottinghamshire6","NHS Lincolnshire West CCG",4.3646437718885571E-3,1.2241741406040969E-3,{"$f":"VLOOKUP($A443,'8.Non-elective admissions - CCG'!$D$5:$N$215,3,0)*$H443","v":25.515707490460503},{"$f":"VLOOKUP($A443,'8.Non-elective admissions - CCG'!$D$5:$N$215,4,0)*$H443","v":23.87023678845852},{"$f":"VLOOKUP($A443,'8.Non-elective admissions - CCG'!$D$5:$N$215,5,0)*$H443","v":23.93134180126496},{"$f":"VLOOKUP($A443,'8.Non-elective admissions - CCG'!$D$5:$N$215,6,0)*$H443","v":23.769849981705082},{"$f":"VLOOKUP($A443,'8.Non-elective admissions - CCG'!$D$5:$N$215,7,0)*$H443","v":23.689045340698048},{"$f":"VLOOKUP($A443,'8.Non-elective admissions - CCG'!$D$5:$N$215,8,0)*$H443","v":23.492407058606865},{"$f":"VLOOKUP($A443,'8.Non-elective admissions - CCG'!$D$5:$N$215,9,0)*$H443","v":24.377422442558725},{"$f":"VLOOKUP($A443,'8.Non-elective admissions - CCG'!$D$5:$N$215,10,0)*$H443","v":23.850286823914612},{"$f":"VLOOKUP($A443,'8.Non-elective admissions - CCG'!$D$5:$Q$215,11,0)*$H443","v":23.851231929835919},{"$f":"VLOOKUP($A443,'8.Non-elective admissions - CCG'!$D$5:$Q$215,12,0)*$H443","v":22.566649613612693},{"$f":"VLOOKUP($A443,'8.Non-elective admissions - CCG'!$D$5:$Q$215,13,0)*$H443","v":22.866181995841927},{"$f":"VLOOKUP($A443,'8.Non-elective admissions - CCG'!$D$5:$Q$215,14,0)*$H443","v":23.071789577224813}]
["99A","NHS Liverpool CCG","E06000006","Halton",{"$f":"COUNTIF($D$5:D444,D444)","v":3},"Halton3","NHS Liverpool CCG",2.7423367035788798E-3,1.0411034020547893E-2,{"$f":"VLOOKUP($A444,'8.Non-elective admissions - CCG'!$D$5:$N$215,3,0)*$H444","v":35.433732546942707},{"$f":"VLOOKUP($A444,'8.Non-elective admissions - CCG'!$D$5:$N$215,4,0)*$H444","v":35.422763200128394},{"$f":"VLOOKUP($A444,'8.Non-elective admissions - CCG'!$D$5:$N$215,5,0)*$H444","v":36.83780893917509},{"$f":"VLOOKUP($A444,'8.Non-elective admissions - CCG'!$D$5:$N$215,6,0)*$H444","v":38.173326913818009},{"$f":"VLOOKUP($A444,'8.Non-elective admissions - CCG'!$D$5:$N$215,7,0)*$H444","v":34.967535307334295},{"$f":"VLOOKUP($A444,'8.Non-elective admissions - CCG'!$D$5:$N$215,8,0)*$H444","v":35.376143476167549},{"$f":"VLOOKUP($A444,'8.Non-elective admissions - CCG'!$D$5:$N$215,9,0)*$H444","v":35.381628149574709},{"$f":"VLOOKUP($A444,'8.Non-elective admissions - CCG'!$D$5:$N$215,10,0)*$H444","v":34.622000882683359},{"$f":"VLOOKUP($A444,'8.Non-elective admissions - CCG'!$D$5:$Q$215,11,0)*$H444","v":34.089987562189052},{"$f":"VLOOKUP($A444,'8.Non-elective admissions - CCG'!$D$5:$Q$215,12,0)*$H444","v":34.471172363986518},{"$f":"VLOOKUP($A444,'8.Non-elective admissions - CCG'!$D$5:$Q$215,13,0)*$H444","v":34.476657037393679},{"$f":"VLOOKUP($A444,'8.Non-elective admissions - CCG'!$D$5:$Q$215,14,0)*$H444","v":34.117410929224846}]
["99A","NHS Liverpool CCG","E08000011","Knowsley",{"$f":"COUNTIF($D$5:D445,D445)","v":3},"Knowsley3","NHS Liverpool CCG",2.5595811266249401E-2,8.0298815562576301E-2,{"$f":"VLOOKUP($A445,'8.Non-elective admissions - CCG'!$D$5:$N$215,3,0)*$H445","v":330.7234773712085},{"$f":"VLOOKUP($A445,'8.Non-elective admissions - CCG'!$D$5:$N$215,4,0)*$H445","v":330.62109412614353},{"$f":"VLOOKUP($A445,'8.Non-elective admissions - CCG'!$D$5:$N$215,5,0)*$H445","v":343.82853273952821},{"$f":"VLOOKUP($A445,'8.Non-elective admissions - CCG'!$D$5:$N$215,6,0)*$H445","v":356.29369282619166},{"$f":"VLOOKUP($A445,'8.Non-elective admissions - CCG'!$D$5:$N$215,7,0)*$H445","v":326.37218945594611},{"$f":"VLOOKUP($A445,'8.Non-elective admissions - CCG'!$D$5:$N$215,8,0)*$H445","v":330.18596533461726},{"$f":"VLOOKUP($A445,'8.Non-elective admissions - CCG'!$D$5:$N$215,9,0)*$H445","v":330.23715695714975},{"$f":"VLOOKUP($A445,'8.Non-elective admissions - CCG'!$D$5:$N$215,10,0)*$H445","v":323.14711723639869},{"$f":"VLOOKUP($A445,'8.Non-elective admissions - CCG'!$D$5:$Q$215,11,0)*$H445","v":318.1815298507463},{"$f":"VLOOKUP($A445,'8.Non-elective admissions - CCG'!$D$5:$Q$215,12,0)*$H445","v":321.73934761675497},{"$f":"VLOOKUP($A445,'8.Non-elective admissions - CCG'!$D$5:$Q$215,13,0)*$H445","v":321.79053923928745},{"$f":"VLOOKUP($A445,'8.Non-elective admissions - CCG'!$D$5:$Q$215,14,0)*$H445","v":318.43748796340878}]
["99A","NHS Liverpool CCG","E08000012","Liverpool",{"$f":"COUNTIF($D$5:D446,D446)","v":2},"Liverpool2","NHS Liverpool CCG",0.94242497191462049,0.9616904199437456,{"$f":"VLOOKUP($A446,'8.Non-elective admissions - CCG'!$D$5:$N$215,3,0)*$H446","v":12177.073062108811},{"$f":"VLOOKUP($A446,'8.Non-elective admissions - CCG'!$D$5:$N$215,4,0)*$H446","v":12173.303362221153},{"$f":"VLOOKUP($A446,'8.Non-elective admissions - CCG'!$D$5:$N$215,5,0)*$H446","v":12659.594647729096},{"$f":"VLOOKUP($A446,'8.Non-elective admissions - CCG'!$D$5:$N$215,6,0)*$H446","v":13118.555609051517},{"$f":"VLOOKUP($A446,'8.Non-elective admissions - CCG'!$D$5:$N$215,7,0)*$H446","v":12016.860816883325},{"$f":"VLOOKUP($A446,'8.Non-elective admissions - CCG'!$D$5:$N$215,8,0)*$H446","v":12157.282137698605},{"$f":"VLOOKUP($A446,'8.Non-elective admissions - CCG'!$D$5:$N$215,9,0)*$H446","v":12159.166987642433},{"$f":"VLOOKUP($A446,'8.Non-elective admissions - CCG'!$D$5:$N$215,10,0)*$H446","v":11898.115270422084},{"$f":"VLOOKUP($A446,'8.Non-elective admissions - CCG'!$D$5:$Q$215,11,0)*$H446","v":11715.284825870647},{"$f":"VLOOKUP($A446,'8.Non-elective admissions - CCG'!$D$5:$Q$215,12,0)*$H446","v":11846.281896966779},{"$f":"VLOOKUP($A446,'8.Non-elective admissions - CCG'!$D$5:$Q$215,13,0)*$H446","v":11848.166746910609},{"$f":"VLOOKUP($A446,'8.Non-elective admissions - CCG'!$D$5:$Q$215,14,0)*$H446","v":11724.709075589793}]
["99A","NHS Liverpool CCG","E08000014","Sefton",{"$f":"COUNTIF($D$5:D447,D447)","v":2},"Sefton2","NHS Liverpool CCG",2.9236880115551277E-2,5.1084861018612635E-2,{"$f":"VLOOKUP($A447,'8.Non-elective admissions - CCG'!$D$5:$N$215,3,0)*$H447","v":377.76972797303807},{"$f":"VLOOKUP($A447,'8.Non-elective admissions - CCG'!$D$5:$N$215,4,0)*$H447","v":377.65278045257583},{"$f":"VLOOKUP($A447,'8.Non-elective admissions - CCG'!$D$5:$N$215,5,0)*$H447","v":392.73901059220032},{"$f":"VLOOKUP($A447,'8.Non-elective admissions - CCG'!$D$5:$N$215,6,0)*$H447","v":406.97737120847376},{"$f":"VLOOKUP($A447,'8.Non-elective admissions - CCG'!$D$5:$N$215,7,0)*$H447","v":372.79945835339436},{"$f":"VLOOKUP($A447,'8.Non-elective admissions - CCG'!$D$5:$N$215,8,0)*$H447","v":377.15575349061146},{"$f":"VLOOKUP($A447,'8.Non-elective admissions - CCG'!$D$5:$N$215,9,0)*$H447","v":377.21422725084255},{"$f":"VLOOKUP($A447,'8.Non-elective admissions - CCG'!$D$5:$N$215,10,0)*$H447","v":369.11561145883485},{"$f":"VLOOKUP($A447,'8.Non-elective admissions - CCG'!$D$5:$Q$215,11,0)*$H447","v":363.44365671641793},{"$f":"VLOOKUP($A447,'8.Non-elective admissions - CCG'!$D$5:$Q$215,12,0)*$H447","v":367.50758305247956},{"$f":"VLOOKUP($A447,'8.Non-elective admissions - CCG'!$D$5:$Q$215,13,0)*$H447","v":367.56605681271066},{"$f":"VLOOKUP($A447,'8.Non-elective admissions - CCG'!$D$5:$Q$215,14,0)*$H447","v":363.73602551757341}]
["06P","NHS Luton CCG","E06000056","Central Bedfordshire",{"$f":"COUNTIF($D$5:D448,D448)","v":5},"Central Bedfordshire5","NHS Luton CCG",2.4469090366539017E-2,1.9963481436396834E-2,{"$f":"VLOOKUP($A448,'8.Non-elective admissions - CCG'!$D$5:$N$215,3,0)*$H448","v":130.00427711742179},{"$f":"VLOOKUP($A448,'8.Non-elective admissions - CCG'!$D$5:$N$215,4,0)*$H448","v":130.37131347291989},{"$f":"VLOOKUP($A448,'8.Non-elective admissions - CCG'!$D$5:$N$215,5,0)*$H448","v":147.2549858258318},{"$f":"VLOOKUP($A448,'8.Non-elective admissions - CCG'!$D$5:$N$215,6,0)*$H448","v":146.4964440244691},{"$f":"VLOOKUP($A448,'8.Non-elective admissions - CCG'!$D$5:$N$215,7,0)*$H448","v":138.00566966728005},{"$f":"VLOOKUP($A448,'8.Non-elective admissions - CCG'!$D$5:$N$215,8,0)*$H448","v":137.27159695628387},{"$f":"VLOOKUP($A448,'8.Non-elective admissions - CCG'!$D$5:$N$215,9,0)*$H448","v":134.16402247973343},{"$f":"VLOOKUP($A448,'8.Non-elective admissions - CCG'!$D$5:$N$215,10,0)*$H448","v":129.66170985229024},{"$f":"VLOOKUP($A448,'8.Non-elective admissions - CCG'!$D$5:$Q$215,11,0)*$H448","v":126.9945790023375},{"$f":"VLOOKUP($A448,'8.Non-elective admissions - CCG'!$D$5:$Q$215,12,0)*$H448","v":127.53289899040135},{"$f":"VLOOKUP($A448,'8.Non-elective admissions - CCG'!$D$5:$Q$215,13,0)*$H448","v":127.53289899040135},{"$f":"VLOOKUP($A448,'8.Non-elective admissions - CCG'!$D$5:$Q$215,14,0)*$H448","v":124.47426269458398}]
["06P","NHS Luton CCG","E10000015","Hertfordshire",{"$f":"COUNTIF($D$5:D449,D449)","v":11},"Hertfordshire11","NHS Luton CCG",3.9425437545495233E-3,0,{"$f":"VLOOKUP($A449,'8.Non-elective admissions - CCG'!$D$5:$N$215,3,0)*$H449","v":20.946734967921618},{"$f":"VLOOKUP($A449,'8.Non-elective admissions - CCG'!$D$5:$N$215,4,0)*$H449","v":21.005873124239859},{"$f":"VLOOKUP($A449,'8.Non-elective admissions - CCG'!$D$5:$N$215,5,0)*$H449","v":23.72622831487903},{"$f":"VLOOKUP($A449,'8.Non-elective admissions - CCG'!$D$5:$N$215,6,0)*$H449","v":23.604009458487997},{"$f":"VLOOKUP($A449,'8.Non-elective admissions - CCG'!$D$5:$N$215,7,0)*$H449","v":22.235946775659311},{"$f":"VLOOKUP($A449,'8.Non-elective admissions - CCG'!$D$5:$N$215,8,0)*$H449","v":22.117670463022826},{"$f":"VLOOKUP($A449,'8.Non-elective admissions - CCG'!$D$5:$N$215,9,0)*$H449","v":21.616967406195037},{"$f":"VLOOKUP($A449,'8.Non-elective admissions - CCG'!$D$5:$N$215,10,0)*$H449","v":20.891539355357924},{"$f":"VLOOKUP($A449,'8.Non-elective admissions - CCG'!$D$5:$Q$215,11,0)*$H449","v":20.461802086112026},{"$f":"VLOOKUP($A449,'8.Non-elective admissions - CCG'!$D$5:$Q$215,12,0)*$H449","v":20.548538048712114},{"$f":"VLOOKUP($A449,'8.Non-elective admissions - CCG'!$D$5:$Q$215,13,0)*$H449","v":20.548538048712114},{"$f":"VLOOKUP($A449,'8.Non-elective admissions - CCG'!$D$5:$Q$215,14,0)*$H449","v":20.055720079393424}]
["06P","NHS Luton CCG","E06000032","Luton",{"$f":"COUNTIF($D$5:D450,D450)","v":2},"Luton2","NHS Luton CCG",0.9715883658789114,0.95454121451447405,{"$f":"VLOOKUP($A450,'8.Non-elective admissions - CCG'!$D$5:$N$215,3,0)*$H450","v":5162.0489879146562},{"$f":"VLOOKUP($A450,'8.Non-elective admissions - CCG'!$D$5:$N$215,4,0)*$H450","v":5176.6228134028397},{"$f":"VLOOKUP($A450,'8.Non-elective admissions - CCG'!$D$5:$N$215,5,0)*$H450","v":5847.018785859289},{"$f":"VLOOKUP($A450,'8.Non-elective admissions - CCG'!$D$5:$N$215,6,0)*$H450","v":5816.8995465170428},{"$f":"VLOOKUP($A450,'8.Non-elective admissions - CCG'!$D$5:$N$215,7,0)*$H450","v":5479.7583835570604},{"$f":"VLOOKUP($A450,'8.Non-elective admissions - CCG'!$D$5:$N$215,8,0)*$H450","v":5450.6107325806934},{"$f":"VLOOKUP($A450,'8.Non-elective admissions - CCG'!$D$5:$N$215,9,0)*$H450","v":5327.2190101140714},{"$f":"VLOOKUP($A450,'8.Non-elective admissions - CCG'!$D$5:$N$215,10,0)*$H450","v":5148.4467507923518},{"$f":"VLOOKUP($A450,'8.Non-elective admissions - CCG'!$D$5:$Q$215,11,0)*$H450","v":5042.5436189115499},{"$f":"VLOOKUP($A450,'8.Non-elective admissions - CCG'!$D$5:$Q$215,12,0)*$H450","v":5063.9185629608864},{"$f":"VLOOKUP($A450,'8.Non-elective admissions - CCG'!$D$5:$Q$215,13,0)*$H450","v":5063.9185629608864},{"$f":"VLOOKUP($A450,'8.Non-elective admissions - CCG'!$D$5:$Q$215,14,0)*$H450","v":4942.4700172260227}]
["04E","NHS Mansfield and Ashfield CCG","E10000007","Derbyshire",{"$f":"COUNTIF($D$5:D451,D451)","v":6},"Derbyshire6","NHS Mansfield and Ashfield CCG",1.874923104080967E-2,4.4409811971010084E-3,{"$f":"VLOOKUP($A451,'8.Non-elective admissions - CCG'!$D$5:$N$215,3,0)*$H451","v":114.07032165228603},{"$f":"VLOOKUP($A451,'8.Non-elective admissions - CCG'!$D$5:$N$215,4,0)*$H451","v":110.47046929245057},{"$f":"VLOOKUP($A451,'8.Non-elective admissions - CCG'!$D$5:$N$215,5,0)*$H451","v":113.18910779336798},{"$f":"VLOOKUP($A451,'8.Non-elective admissions - CCG'!$D$5:$N$215,6,0)*$H451","v":107.52684001904346},{"$f":"VLOOKUP($A451,'8.Non-elective admissions - CCG'!$D$5:$N$215,7,0)*$H451","v":110.87020289824065},{"$f":"VLOOKUP($A451,'8.Non-elective admissions - CCG'!$D$5:$N$215,8,0)*$H451","v":108.31618264586155},{"$f":"VLOOKUP($A451,'8.Non-elective admissions - CCG'!$D$5:$N$215,9,0)*$H451","v":110.9988226231806},{"$f":"VLOOKUP($A451,'8.Non-elective admissions - CCG'!$D$5:$N$215,10,0)*$H451","v":108.07731744240164},{"$f":"VLOOKUP($A451,'8.Non-elective admissions - CCG'!$D$5:$Q$215,11,0)*$H451","v":97.56818595171741},{"$f":"VLOOKUP($A451,'8.Non-elective admissions - CCG'!$D$5:$Q$215,12,0)*$H451","v":95.314903365232894},{"$f":"VLOOKUP($A451,'8.Non-elective admissions - CCG'!$D$5:$Q$215,13,0)*$H451","v":97.616746460113106},{"$f":"VLOOKUP($A451,'8.Non-elective admissions - CCG'!$D$5:$Q$215,14,0)*$H451","v":95.086912715776648}]
["04E","NHS Mansfield and Ashfield CCG","E10000024","Nottinghamshire",{"$f":"COUNTIF($D$5:D452,D452)","v":7},"Nottinghamshire7","NHS Mansfield and Ashfield CCG",0.98125076895919039,0.22410938887809692,{"$f":"VLOOKUP($A452,'8.Non-elective admissions - CCG'!$D$5:$N$215,3,0)*$H452","v":5969.9296783477139},{"$f":"VLOOKUP($A452,'8.Non-elective admissions - CCG'!$D$5:$N$215,4,0)*$H452","v":5781.5295307075494},{"$f":"VLOOKUP($A452,'8.Non-elective admissions - CCG'!$D$5:$N$215,5,0)*$H452","v":5923.8108922066322},{"$f":"VLOOKUP($A452,'8.Non-elective admissions - CCG'!$D$5:$N$215,6,0)*$H452","v":5627.4731599809566},{"$f":"VLOOKUP($A452,'8.Non-elective admissions - CCG'!$D$5:$N$215,7,0)*$H452","v":5802.4497971017599},{"$f":"VLOOKUP($A452,'8.Non-elective admissions - CCG'!$D$5:$N$215,8,0)*$H452","v":5668.7838173541395},{"$f":"VLOOKUP($A452,'8.Non-elective admissions - CCG'!$D$5:$N$215,9,0)*$H452","v":5809.1811773768204},{"$f":"VLOOKUP($A452,'8.Non-elective admissions - CCG'!$D$5:$N$215,10,0)*$H452","v":5656.2826825575994},{"$f":"VLOOKUP($A452,'8.Non-elective admissions - CCG'!$D$5:$Q$215,11,0)*$H452","v":5106.2818140482832},{"$f":"VLOOKUP($A452,'8.Non-elective admissions - CCG'!$D$5:$Q$215,12,0)*$H452","v":4988.3550966347675},{"$f":"VLOOKUP($A452,'8.Non-elective admissions - CCG'!$D$5:$Q$215,13,0)*$H452","v":5108.8232535398874},{"$f":"VLOOKUP($A452,'8.Non-elective admissions - CCG'!$D$5:$Q$215,14,0)*$H452","v":4976.4230872842236}]
["09W","NHS Medway CCG","E10000016","Kent",{"$f":"COUNTIF($D$5:D453,D453)","v":10},{"$f":"D453&E453","v":"Kent10"},{"$f":"B453","v":"NHS Medway CCG"},5.9151743766891841E-2,1.1285550102118843E-2,{"$f":"VLOOKUP($A453,'8.Non-elective admissions - CCG'!$D$5:$N$215,3,0)*$H453","v":366.85911484226318},{"$f":"VLOOKUP($A453,'8.Non-elective admissions - CCG'!$D$5:$N$215,4,0)*$H453","v":362.71849277858075},{"$f":"VLOOKUP($A453,'8.Non-elective admissions - CCG'!$D$5:$N$215,5,0)*$H453","v":393.00418558722941},{"$f":"VLOOKUP($A453,'8.Non-elective admissions - CCG'!$D$5:$N$215,6,0)*$H453","v":388.15374259834425},{"$f":"VLOOKUP($A453,'8.Non-elective admissions - CCG'!$D$5:$N$215,7,0)*$H453","v":346.27430801138485},{"$f":"VLOOKUP($A453,'8.Non-elective admissions - CCG'!$D$5:$N$215,8,0)*$H453","v":350.06001961246591},{"$f":"VLOOKUP($A453,'8.Non-elective admissions - CCG'!$D$5:$N$215,9,0)*$H453","v":350.06001961246591},{"$f":"VLOOKUP($A453,'8.Non-elective admissions - CCG'!$D$5:$N$215,10,0)*$H453","v":342.8435068729051},{"$f":"VLOOKUP($A453,'8.Non-elective admissions - CCG'!$D$5:$Q$215,11,0)*$H453","v":320.66160296032069},{"$f":"VLOOKUP($A453,'8.Non-elective admissions - CCG'!$D$5:$Q$215,12,0)*$H453","v":318.82789890354701},{"$f":"VLOOKUP($A453,'8.Non-elective admissions - CCG'!$D$5:$Q$215,13,0)*$H453","v":324.86137676776997},{"$f":"VLOOKUP($A453,'8.Non-elective admissions - CCG'!$D$5:$Q$215,14,0)*$H453","v":323.97410061126664}]
["09W","NHS Medway CCG","E06000035","Medway",{"$f":"COUNTIF($D$5:D454,D454)","v":2},"Medway2","NHS Medway CCG",0.9408482562331083,0.99537303127903143,{"$f":"VLOOKUP($A454,'8.Non-elective admissions - CCG'!$D$5:$N$215,3,0)*$H454","v":5835.140885157738},{"$f":"VLOOKUP($A454,'8.Non-elective admissions - CCG'!$D$5:$N$215,4,0)*$H454","v":5769.2815072214198},{"$f":"VLOOKUP($A454,'8.Non-elective admissions - CCG'!$D$5:$N$215,5,0)*$H454","v":6250.9958144127713},{"$f":"VLOOKUP($A454,'8.Non-elective admissions - CCG'!$D$5:$N$215,6,0)*$H454","v":6173.8462574016567},{"$f":"VLOOKUP($A454,'8.Non-elective admissions - CCG'!$D$5:$N$215,7,0)*$H454","v":5507.7256919886158},{"$f":"VLOOKUP($A454,'8.Non-elective admissions - CCG'!$D$5:$N$215,8,0)*$H454","v":5567.9399803875349},{"$f":"VLOOKUP($A454,'8.Non-elective admissions - CCG'!$D$5:$N$215,9,0)*$H454","v":5567.9399803875349},{"$f":"VLOOKUP($A454,'8.Non-elective admissions - CCG'!$D$5:$N$215,10,0)*$H454","v":5453.1564931270959},{"$f":"VLOOKUP($A454,'8.Non-elective admissions - CCG'!$D$5:$Q$215,11,0)*$H454","v":5100.3383970396799},{"$f":"VLOOKUP($A454,'8.Non-elective admissions - CCG'!$D$5:$Q$215,12,0)*$H454","v":5071.1721010964538},{"$f":"VLOOKUP($A454,'8.Non-elective admissions - CCG'!$D$5:$Q$215,13,0)*$H454","v":5167.1386232322311},{"$f":"VLOOKUP($A454,'8.Non-elective admissions - CCG'!$D$5:$Q$215,14,0)*$H454","v":5153.0258993887346}]
["08R","NHS Merton CCG","E09000008","Croydon",{"$f":"COUNTIF($D$5:D455,D455)","v":5},"Croydon5","NHS Merton CCG",6.9910215176381329E-3,3.7874680700303348E-3,{"$f":"VLOOKUP($A455,'8.Non-elective admissions - CCG'!$D$5:$N$215,3,0)*$H455","v":27.118172466918317},{"$f":"VLOOKUP($A455,'8.Non-elective admissions - CCG'!$D$5:$N$215,4,0)*$H455","v":26.62180993916601},{"$f":"VLOOKUP($A455,'8.Non-elective admissions - CCG'!$D$5:$N$215,5,0)*$H455","v":29.299371180421414},{"$f":"VLOOKUP($A455,'8.Non-elective admissions - CCG'!$D$5:$N$215,6,0)*$H455","v":27.698427252882283},{"$f":"VLOOKUP($A455,'8.Non-elective admissions - CCG'!$D$5:$N$215,7,0)*$H455","v":27.719400317435198},{"$f":"VLOOKUP($A455,'8.Non-elective admissions - CCG'!$D$5:$N$215,8,0)*$H455","v":27.509669671906053},{"$f":"VLOOKUP($A455,'8.Non-elective admissions - CCG'!$D$5:$N$215,9,0)*$H455","v":29.152559728551015},{"$f":"VLOOKUP($A455,'8.Non-elective admissions - CCG'!$D$5:$N$215,10,0)*$H455","v":28.320628167952076},{"$f":"VLOOKUP($A455,'8.Non-elective admissions - CCG'!$D$5:$Q$215,11,0)*$H455","v":28.390538383128458},{"$f":"VLOOKUP($A455,'8.Non-elective admissions - CCG'!$D$5:$Q$215,12,0)*$H455","v":28.173816716081674},{"$f":"VLOOKUP($A455,'8.Non-elective admissions - CCG'!$D$5:$Q$215,13,0)*$H455","v":29.865643923350103},{"$f":"VLOOKUP($A455,'8.Non-elective admissions - CCG'!$D$5:$Q$215,14,0)*$H455","v":29.005748276680613}]
["08R","NHS Merton CCG","E09000021","Kingston upon Thames",{"$f":"COUNTIF($D$5:D456,D456)","v":2},"Kingston upon Thames2","NHS Merton CCG",8.8481570606059184E-3,1.070461238716798E-2,{"$f":"VLOOKUP($A456,'8.Non-elective admissions - CCG'!$D$5:$N$215,3,0)*$H456","v":34.322001238090358},{"$f":"VLOOKUP($A456,'8.Non-elective admissions - CCG'!$D$5:$N$215,4,0)*$H456","v":33.693782086787337},{"$f":"VLOOKUP($A456,'8.Non-elective admissions - CCG'!$D$5:$N$215,5,0)*$H456","v":37.082626240999403},{"$f":"VLOOKUP($A456,'8.Non-elective admissions - CCG'!$D$5:$N$215,6,0)*$H456","v":35.056398274120646},{"$f":"VLOOKUP($A456,'8.Non-elective admissions - CCG'!$D$5:$N$215,7,0)*$H456","v":35.082942745302468},{"$f":"VLOOKUP($A456,'8.Non-elective admissions - CCG'!$D$5:$N$215,8,0)*$H456","v":34.817498033484291},{"$f":"VLOOKUP($A456,'8.Non-elective admissions - CCG'!$D$5:$N$215,9,0)*$H456","v":36.896814942726678},{"$f":"VLOOKUP($A456,'8.Non-elective admissions - CCG'!$D$5:$N$215,10,0)*$H456","v":35.843884252514577},{"$f":"VLOOKUP($A456,'8.Non-elective admissions - CCG'!$D$5:$Q$215,11,0)*$H456","v":35.932365823120634},{"$f":"VLOOKUP($A456,'8.Non-elective admissions - CCG'!$D$5:$Q$215,12,0)*$H456","v":35.658072954241852},{"$f":"VLOOKUP($A456,'8.Non-elective admissions - CCG'!$D$5:$Q$215,13,0)*$H456","v":37.799326962908481},{"$f":"VLOOKUP($A456,'8.Non-elective admissions - CCG'!$D$5:$Q$215,14,0)*$H456","v":36.711003644453953}]
["08R","NHS Merton CCG","E09000022","Lambeth",{"$f":"COUNTIF($D$5:D457,D457)","v":4},"Lambeth4","NHS Merton CCG",1.2771879523567934E-2,7.8688675024948685E-3,{"$f":"VLOOKUP($A457,'8.Non-elective admissions - CCG'!$D$5:$N$215,3,0)*$H457","v":49.542120671920017},{"$f":"VLOOKUP($A457,'8.Non-elective admissions - CCG'!$D$5:$N$215,4,0)*$H457","v":48.635317225746689},{"$f":"VLOOKUP($A457,'8.Non-elective admissions - CCG'!$D$5:$N$215,5,0)*$H457","v":53.526947083273207},{"$f":"VLOOKUP($A457,'8.Non-elective admissions - CCG'!$D$5:$N$215,6,0)*$H457","v":50.602186672376156},{"$f":"VLOOKUP($A457,'8.Non-elective admissions - CCG'!$D$5:$N$215,7,0)*$H457","v":50.640502310946857},{"$f":"VLOOKUP($A457,'8.Non-elective admissions - CCG'!$D$5:$N$215,8,0)*$H457","v":50.257345925239818},{"$f":"VLOOKUP($A457,'8.Non-elective admissions - CCG'!$D$5:$N$215,9,0)*$H457","v":53.258737613278285},{"$f":"VLOOKUP($A457,'8.Non-elective admissions - CCG'!$D$5:$N$215,10,0)*$H457","v":51.738883949973697},{"$f":"VLOOKUP($A457,'8.Non-elective admissions - CCG'!$D$5:$Q$215,11,0)*$H457","v":51.866602745209377},{"$f":"VLOOKUP($A457,'8.Non-elective admissions - CCG'!$D$5:$Q$215,12,0)*$H457","v":51.470674479978776},{"$f":"VLOOKUP($A457,'8.Non-elective admissions - CCG'!$D$5:$Q$215,13,0)*$H457","v":54.561469324682214},{"$f":"VLOOKUP($A457,'8.Non-elective admissions - CCG'!$D$5:$Q$215,14,0)*$H457","v":52.990528143283356}]
["08R","NHS Merton CCG","E09000024","Merton",{"$f":"COUNTIF($D$5:D458,D458)","v":4},"Merton4","NHS Merton CCG",0.87767108686646778,0.82021870758951865,{"$f":"VLOOKUP($A458,'8.Non-elective admissions - CCG'!$D$5:$N$215,3,0)*$H458","v":3404.4861459550284},{"$f":"VLOOKUP($A458,'8.Non-elective admissions - CCG'!$D$5:$N$215,4,0)*$H458","v":3342.1714987875093},{"$f":"VLOOKUP($A458,'8.Non-elective admissions - CCG'!$D$5:$N$215,5,0)*$H458","v":3678.3195250573663},{"$f":"VLOOKUP($A458,'8.Non-elective admissions - CCG'!$D$5:$N$215,6,0)*$H458","v":3477.3328461649453},{"$f":"VLOOKUP($A458,'8.Non-elective admissions - CCG'!$D$5:$N$215,7,0)*$H458","v":3479.9658594255447},{"$f":"VLOOKUP($A458,'8.Non-elective admissions - CCG'!$D$5:$N$215,8,0)*$H458","v":3453.6357268195507},{"$f":"VLOOKUP($A458,'8.Non-elective admissions - CCG'!$D$5:$N$215,9,0)*$H458","v":3659.8884322331705},{"$f":"VLOOKUP($A458,'8.Non-elective admissions - CCG'!$D$5:$N$215,10,0)*$H458","v":3555.4455728960611},{"$f":"VLOOKUP($A458,'8.Non-elective admissions - CCG'!$D$5:$Q$215,11,0)*$H458","v":3564.2222837647255},{"$f":"VLOOKUP($A458,'8.Non-elective admissions - CCG'!$D$5:$Q$215,12,0)*$H458","v":3537.0144800718649},{"$f":"VLOOKUP($A458,'8.Non-elective admissions - CCG'!$D$5:$Q$215,13,0)*$H458","v":3749.4108830935502},{"$f":"VLOOKUP($A458,'8.Non-elective admissions - CCG'!$D$5:$Q$215,14,0)*$H458","v":3641.4573394089748}]
["08R","NHS Merton CCG","E10000030","Surrey",{"$f":"COUNTIF($D$5:D459,D459)","v":11},"Surrey11","NHS Merton CCG",2.2062211713451897E-3,0,{"$f":"VLOOKUP($A459,'8.Non-elective admissions - CCG'!$D$5:$N$215,3,0)*$H459","v":8.5579319236479918},{"$f":"VLOOKUP($A459,'8.Non-elective admissions - CCG'!$D$5:$N$215,4,0)*$H459","v":8.4012902204824833},{"$f":"VLOOKUP($A459,'8.Non-elective admissions - CCG'!$D$5:$N$215,5,0)*$H459","v":9.2462729291076897},{"$f":"VLOOKUP($A459,'8.Non-elective admissions - CCG'!$D$5:$N$215,6,0)*$H459","v":8.7410482808696415},{"$f":"VLOOKUP($A459,'8.Non-elective admissions - CCG'!$D$5:$N$215,7,0)*$H459","v":8.7476669443836776},{"$f":"VLOOKUP($A459,'8.Non-elective admissions - CCG'!$D$5:$N$215,8,0)*$H459","v":8.6814803092433213},{"$f":"VLOOKUP($A459,'8.Non-elective admissions - CCG'!$D$5:$N$215,9,0)*$H459","v":9.1999422845094418},{"$f":"VLOOKUP($A459,'8.Non-elective admissions - CCG'!$D$5:$N$215,10,0)*$H459","v":8.9374019651193635},{"$f":"VLOOKUP($A459,'8.Non-elective admissions - CCG'!$D$5:$Q$215,11,0)*$H459","v":8.9594641768328156},{"$f":"VLOOKUP($A459,'8.Non-elective admissions - CCG'!$D$5:$Q$215,12,0)*$H459","v":8.8910713205211138},{"$f":"VLOOKUP($A459,'8.Non-elective admissions - CCG'!$D$5:$Q$215,13,0)*$H459","v":9.4249768439866504},{"$f":"VLOOKUP($A459,'8.Non-elective admissions - CCG'!$D$5:$Q$215,14,0)*$H459","v":9.1536116399111922}]
["08R","NHS Merton CCG","E09000029","Sutton",{"$f":"COUNTIF($D$5:D460,D460)","v":4},"Sutton4","NHS Merton CCG",6.0959659664784706E-2,6.387035736579276E-2,{"$f":"VLOOKUP($A460,'8.Non-elective admissions - CCG'!$D$5:$N$215,3,0)*$H460","v":236.46251983969987},{"$f":"VLOOKUP($A460,'8.Non-elective admissions - CCG'!$D$5:$N$215,4,0)*$H460","v":232.13438400350017},{"$f":"VLOOKUP($A460,'8.Non-elective admissions - CCG'!$D$5:$N$215,5,0)*$H460","v":255.4819336551127},{"$f":"VLOOKUP($A460,'8.Non-elective admissions - CCG'!$D$5:$N$215,6,0)*$H460","v":241.522171591877},{"$f":"VLOOKUP($A460,'8.Non-elective admissions - CCG'!$D$5:$N$215,7,0)*$H460","v":241.70505057087135},{"$f":"VLOOKUP($A460,'8.Non-elective admissions - CCG'!$D$5:$N$215,8,0)*$H460","v":239.87626078092782},{"$f":"VLOOKUP($A460,'8.Non-elective admissions - CCG'!$D$5:$N$215,9,0)*$H460","v":254.20178080215223},{"$f":"VLOOKUP($A460,'8.Non-elective admissions - CCG'!$D$5:$N$215,10,0)*$H460","v":246.94758130204283},{"$f":"VLOOKUP($A460,'8.Non-elective admissions - CCG'!$D$5:$Q$215,11,0)*$H460","v":247.5571778986907},{"$f":"VLOOKUP($A460,'8.Non-elective admissions - CCG'!$D$5:$Q$215,12,0)*$H460","v":245.66742844908237},{"$f":"VLOOKUP($A460,'8.Non-elective admissions - CCG'!$D$5:$Q$215,13,0)*$H460","v":260.41966608796025},{"$f":"VLOOKUP($A460,'8.Non-elective admissions - CCG'!$D$5:$Q$215,14,0)*$H460","v":252.92162794919173}]
["08R","NHS Merton CCG","E09000032","Wandsworth",{"$f":"COUNTIF($D$5:D461,D461)","v":4},"Wandsworth4","NHS Merton CCG",3.0551974195590349E-2,1.8763399365406056E-2,{"$f":"VLOOKUP($A461,'8.Non-elective admissions - CCG'!$D$5:$N$215,3,0)*$H461","v":118.51110790469497},{"$f":"VLOOKUP($A461,'8.Non-elective admissions - CCG'!$D$5:$N$215,4,0)*$H461","v":116.34191773680804},{"$f":"VLOOKUP($A461,'8.Non-elective admissions - CCG'!$D$5:$N$215,5,0)*$H461","v":128.04332385371916},{"$f":"VLOOKUP($A461,'8.Non-elective admissions - CCG'!$D$5:$N$215,6,0)*$H461","v":121.04692176292896},{"$f":"VLOOKUP($A461,'8.Non-elective admissions - CCG'!$D$5:$N$215,7,0)*$H461","v":121.13857768551573},{"$f":"VLOOKUP($A461,'8.Non-elective admissions - CCG'!$D$5:$N$215,8,0)*$H461","v":120.22201845964803},{"$f":"VLOOKUP($A461,'8.Non-elective admissions - CCG'!$D$5:$N$215,9,0)*$H461","v":127.40173239561176},{"$f":"VLOOKUP($A461,'8.Non-elective admissions - CCG'!$D$5:$N$215,10,0)*$H461","v":123.7660474663365},{"$f":"VLOOKUP($A461,'8.Non-elective admissions - CCG'!$D$5:$Q$215,11,0)*$H461","v":124.07156720829241},{"$f":"VLOOKUP($A461,'8.Non-elective admissions - CCG'!$D$5:$Q$215,12,0)*$H461","v":123.1244560082291},{"$f":"VLOOKUP($A461,'8.Non-elective admissions - CCG'!$D$5:$Q$215,13,0)*$H461","v":130.51803376356196},{"$f":"VLOOKUP($A461,'8.Non-elective admissions - CCG'!$D$5:$Q$215,14,0)*$H461","v":126.76014093750436}]
["06Q","NHS Mid Essex CCG","E10000012","Essex",{"$f":"COUNTIF($D$5:D462,D462)","v":7},"Essex7","NHS Mid Essex CCG",1,0.25696644262482132,{"$f":"VLOOKUP($A462,'8.Non-elective admissions - CCG'!$D$5:$N$215,3,0)*$H462","v":7672},{"$f":"VLOOKUP($A462,'8.Non-elective admissions - CCG'!$D$5:$N$215,4,0)*$H462","v":7775},{"$f":"VLOOKUP($A462,'8.Non-elective admissions - CCG'!$D$5:$N$215,5,0)*$H462","v":8473},{"$f":"VLOOKUP($A462,'8.Non-elective admissions - CCG'!$D$5:$N$215,6,0)*$H462","v":8417},{"$f":"VLOOKUP($A462,'8.Non-elective admissions - CCG'!$D$5:$N$215,7,0)*$H462","v":8211},{"$f":"VLOOKUP($A462,'8.Non-elective admissions - CCG'!$D$5:$N$215,8,0)*$H462","v":8301},{"$f":"VLOOKUP($A462,'8.Non-elective admissions - CCG'!$D$5:$N$215,9,0)*$H462","v":8301},{"$f":"VLOOKUP($A462,'8.Non-elective admissions - CCG'!$D$5:$N$215,10,0)*$H462","v":8120},{"$f":"VLOOKUP($A462,'8.Non-elective admissions - CCG'!$D$5:$Q$215,11,0)*$H462","v":8175},{"$f":"VLOOKUP($A462,'8.Non-elective admissions - CCG'!$D$5:$Q$215,12,0)*$H462","v":8265},{"$f":"VLOOKUP($A462,'8.Non-elective admissions - CCG'!$D$5:$Q$215,13,0)*$H462","v":8265},{"$f":"VLOOKUP($A462,'8.Non-elective admissions - CCG'!$D$5:$Q$215,14,0)*$H462","v":8173}]
["04F","NHS Milton Keynes CCG","E10000002","Buckinghamshire",{"$f":"COUNTIF($D$5:D463,D463)","v":6},"Buckinghamshire6","NHS Milton Keynes CCG",1.2196092331508019E-2,6.3351187646894166E-3,{"$f":"VLOOKUP($A463,'8.Non-elective admissions - CCG'!$D$5:$N$215,3,0)*$H463","v":89.799827836893542},{"$f":"VLOOKUP($A463,'8.Non-elective admissions - CCG'!$D$5:$N$215,4,0)*$H463","v":88.909513096693459},{"$f":"VLOOKUP($A463,'8.Non-elective admissions - CCG'!$D$5:$N$215,5,0)*$H463","v":90.592573838441567},{"$f":"VLOOKUP($A463,'8.Non-elective admissions - CCG'!$D$5:$N$215,6,0)*$H463","v":81.604053790120162},{"$f":"VLOOKUP($A463,'8.Non-elective admissions - CCG'!$D$5:$N$215,7,0)*$H463","v":89.873004390882599},{"$f":"VLOOKUP($A463,'8.Non-elective admissions - CCG'!$D$5:$N$215,8,0)*$H463","v":88.104571002813927},{"$f":"VLOOKUP($A463,'8.Non-elective admissions - CCG'!$D$5:$N$215,9,0)*$H463","v":88.263120203123535},{"$f":"VLOOKUP($A463,'8.Non-elective admissions - CCG'!$D$5:$N$215,10,0)*$H463","v":76.054831779284015},{"$f":"VLOOKUP($A463,'8.Non-elective admissions - CCG'!$D$5:$Q$215,11,0)*$H463","v":77.567147228391008},{"$f":"VLOOKUP($A463,'8.Non-elective admissions - CCG'!$D$5:$Q$215,12,0)*$H463","v":76.87196996549504},{"$f":"VLOOKUP($A463,'8.Non-elective admissions - CCG'!$D$5:$Q$215,13,0)*$H463","v":78.262324491286961},{"$f":"VLOOKUP($A463,'8.Non-elective admissions - CCG'!$D$5:$Q$215,14,0)*$H463","v":70.456825399121826}]
["04F","NHS Milton Keynes CCG","E06000056","Central Bedfordshire",{"$f":"COUNTIF($D$5:D464,D464)","v":6},"Central Bedfordshire6","NHS Milton Keynes CCG",9.0421799610824582E-4,9.2218594957487225E-4,{"$f":"VLOOKUP($A464,'8.Non-elective admissions - CCG'!$D$5:$N$215,3,0)*$H464","v":6.6577571053450137},{"$f":"VLOOKUP($A464,'8.Non-elective admissions - CCG'!$D$5:$N$215,4,0)*$H464","v":6.5917491916291118},{"$f":"VLOOKUP($A464,'8.Non-elective admissions - CCG'!$D$5:$N$215,5,0)*$H464","v":6.7165312750920503},{"$f":"VLOOKUP($A464,'8.Non-elective admissions - CCG'!$D$5:$N$215,6,0)*$H464","v":6.0501226119602727},{"$f":"VLOOKUP($A464,'8.Non-elective admissions - CCG'!$D$5:$N$215,7,0)*$H464","v":6.6631824133216631},{"$f":"VLOOKUP($A464,'8.Non-elective admissions - CCG'!$D$5:$N$215,8,0)*$H464","v":6.5320708038859676},{"$f":"VLOOKUP($A464,'8.Non-elective admissions - CCG'!$D$5:$N$215,9,0)*$H464","v":6.5438256378353747},{"$f":"VLOOKUP($A464,'8.Non-elective admissions - CCG'!$D$5:$N$215,10,0)*$H464","v":5.6387034237310205},{"$f":"VLOOKUP($A464,'8.Non-elective admissions - CCG'!$D$5:$Q$215,11,0)*$H464","v":5.7508264552484434},{"$f":"VLOOKUP($A464,'8.Non-elective admissions - CCG'!$D$5:$Q$215,12,0)*$H464","v":5.6992860294702732},{"$f":"VLOOKUP($A464,'8.Non-elective admissions - CCG'!$D$5:$Q$215,13,0)*$H464","v":5.8023668810266136},{"$f":"VLOOKUP($A464,'8.Non-elective admissions - CCG'!$D$5:$Q$215,14,0)*$H464","v":5.2236673635173361}]
["04F","NHS Milton Keynes CCG","E06000042","Milton Keynes",{"$f":"COUNTIF($D$5:D465,D465)","v":2},"Milton Keynes2","NHS Milton Keynes CCG",0.95429358873272041,0.96152374427393295,{"$f":"VLOOKUP($A465,'8.Non-elective admissions - CCG'!$D$5:$N$215,3,0)*$H465","v":7026.4636938390204},{"$f":"VLOOKUP($A465,'8.Non-elective admissions - CCG'!$D$5:$N$215,4,0)*$H465","v":6956.8002618615319},{"$f":"VLOOKUP($A465,'8.Non-elective admissions - CCG'!$D$5:$N$215,5,0)*$H465","v":7088.4927771066468},{"$f":"VLOOKUP($A465,'8.Non-elective admissions - CCG'!$D$5:$N$215,6,0)*$H465","v":6385.1784022106322},{"$f":"VLOOKUP($A465,'8.Non-elective admissions - CCG'!$D$5:$N$215,7,0)*$H465","v":7032.1894553714164},{"$f":"VLOOKUP($A465,'8.Non-elective admissions - CCG'!$D$5:$N$215,8,0)*$H465","v":6893.8168850051725},{"$f":"VLOOKUP($A465,'8.Non-elective admissions - CCG'!$D$5:$N$215,9,0)*$H465","v":6906.2227016586976},{"$f":"VLOOKUP($A465,'8.Non-elective admissions - CCG'!$D$5:$N$215,10,0)*$H465","v":5950.9748193372443},{"$f":"VLOOKUP($A465,'8.Non-elective admissions - CCG'!$D$5:$Q$215,11,0)*$H465","v":6069.307224340102},{"$f":"VLOOKUP($A465,'8.Non-elective admissions - CCG'!$D$5:$Q$215,12,0)*$H465","v":6014.9124897823367},{"$f":"VLOOKUP($A465,'8.Non-elective admissions - CCG'!$D$5:$Q$215,13,0)*$H465","v":6123.7019588978665},{"$f":"VLOOKUP($A465,'8.Non-elective admissions - CCG'!$D$5:$Q$215,14,0)*$H465","v":5512.9540621089254}]
["04F","NHS Milton Keynes CCG","E10000021","Northamptonshire",{"$f":"COUNTIF($D$5:D466,D466)","v":7},"Northamptonshire7","NHS Milton Keynes CCG",3.2606100939663346E-2,1.1990519309856834E-2,{"$f":"VLOOKUP($A466,'8.Non-elective admissions - CCG'!$D$5:$N$215,3,0)*$H466","v":240.07872121874121},{"$f":"VLOOKUP($A466,'8.Non-elective admissions - CCG'!$D$5:$N$215,4,0)*$H466","v":237.6984758501458},{"$f":"VLOOKUP($A466,'8.Non-elective admissions - CCG'!$D$5:$N$215,5,0)*$H466","v":242.19811777981934},{"$f":"VLOOKUP($A466,'8.Non-elective admissions - CCG'!$D$5:$N$215,6,0)*$H466","v":218.16742138728745},{"$f":"VLOOKUP($A466,'8.Non-elective admissions - CCG'!$D$5:$N$215,7,0)*$H466","v":240.27435782437919},{"$f":"VLOOKUP($A466,'8.Non-elective admissions - CCG'!$D$5:$N$215,8,0)*$H466","v":235.546473188128},{"$f":"VLOOKUP($A466,'8.Non-elective admissions - CCG'!$D$5:$N$215,9,0)*$H466","v":235.97035250034364},{"$f":"VLOOKUP($A466,'8.Non-elective admissions - CCG'!$D$5:$N$215,10,0)*$H466","v":203.33164545974063},{"$f":"VLOOKUP($A466,'8.Non-elective admissions - CCG'!$D$5:$Q$215,11,0)*$H466","v":207.37480197625888},{"$f":"VLOOKUP($A466,'8.Non-elective admissions - CCG'!$D$5:$Q$215,12,0)*$H466","v":205.51625422269808},{"$f":"VLOOKUP($A466,'8.Non-elective admissions - CCG'!$D$5:$Q$215,13,0)*$H466","v":209.23334972981968},{"$f":"VLOOKUP($A466,'8.Non-elective admissions - CCG'!$D$5:$Q$215,14,0)*$H466","v":188.36544512843514}]
["04G","NHS Nene CCG","E06000055","Bedford",{"$f":"COUNTIF($D$5:D467,D467)","v":3},"Bedford3","NHS Nene CCG",1.8517602542383364E-3,6.9094390550563474E-3,{"$f":"VLOOKUP($A467,'8.Non-elective admissions - CCG'!$D$5:$N$215,3,0)*$H467","v":25.080240883404027},{"$f":"VLOOKUP($A467,'8.Non-elective admissions - CCG'!$D$5:$N$215,4,0)*$H467","v":25.769095697980688},{"$f":"VLOOKUP($A467,'8.Non-elective admissions - CCG'!$D$5:$N$215,5,0)*$H467","v":27.720851005947896},{"$f":"VLOOKUP($A467,'8.Non-elective admissions - CCG'!$D$5:$N$215,6,0)*$H467","v":27.750479170015709},{"$f":"VLOOKUP($A467,'8.Non-elective admissions - CCG'!$D$5:$N$215,7,0)*$H467","v":24.08769738713228},{"$f":"VLOOKUP($A467,'8.Non-elective admissions - CCG'!$D$5:$N$215,8,0)*$H467","v":24.67655714798007},{"$f":"VLOOKUP($A467,'8.Non-elective admissions - CCG'!$D$5:$N$215,9,0)*$H467","v":26.052415016879156},{"$f":"VLOOKUP($A467,'8.Non-elective admissions - CCG'!$D$5:$N$215,10,0)*$H467","v":25.026539836031116},{"$f":"VLOOKUP($A467,'8.Non-elective admissions - CCG'!$D$5:$Q$215,11,0)*$H467","v":24.47841880077657},{"$f":"VLOOKUP($A467,'8.Non-elective admissions - CCG'!$D$5:$Q$215,12,0)*$H467","v":25.072833842387073},{"$f":"VLOOKUP($A467,'8.Non-elective admissions - CCG'!$D$5:$Q$215,13,0)*$H467","v":26.45795051255735},{"$f":"VLOOKUP($A467,'8.Non-elective admissions - CCG'!$D$5:$Q$215,14,0)*$H467","v":25.430223571455073}]
["04G","NHS Nene CCG","E10000002","Buckinghamshire",{"$f":"COUNTIF($D$5:D468,D468)","v":7},"Buckinghamshire7","NHS Nene CCG",1.2396592019191532E-3,1.5067512601663439E-3,{"$f":"VLOOKUP($A468,'8.Non-elective admissions - CCG'!$D$5:$N$215,3,0)*$H468","v":16.789944230793012},{"$f":"VLOOKUP($A468,'8.Non-elective admissions - CCG'!$D$5:$N$215,4,0)*$H468","v":17.251097453906937},{"$f":"VLOOKUP($A468,'8.Non-elective admissions - CCG'!$D$5:$N$215,5,0)*$H468","v":18.557698252729725},{"$f":"VLOOKUP($A468,'8.Non-elective admissions - CCG'!$D$5:$N$215,6,0)*$H468","v":18.57753279996043},{"$f":"VLOOKUP($A468,'8.Non-elective admissions - CCG'!$D$5:$N$215,7,0)*$H468","v":16.125486898564343},{"$f":"VLOOKUP($A468,'8.Non-elective admissions - CCG'!$D$5:$N$215,8,0)*$H468","v":16.519698524774636},{"$f":"VLOOKUP($A468,'8.Non-elective admissions - CCG'!$D$5:$N$215,9,0)*$H468","v":17.440765311800568},{"$f":"VLOOKUP($A468,'8.Non-elective admissions - CCG'!$D$5:$N$215,10,0)*$H468","v":16.753994113937356},{"$f":"VLOOKUP($A468,'8.Non-elective admissions - CCG'!$D$5:$Q$215,11,0)*$H468","v":16.387054990169286},{"$f":"VLOOKUP($A468,'8.Non-elective admissions - CCG'!$D$5:$Q$215,12,0)*$H468","v":16.784985593985336},{"$f":"VLOOKUP($A468,'8.Non-elective admissions - CCG'!$D$5:$Q$215,13,0)*$H468","v":17.712250677020862},{"$f":"VLOOKUP($A468,'8.Non-elective admissions - CCG'!$D$5:$Q$215,14,0)*$H468","v":17.024239819955731}]
["04G","NHS Nene CCG","E06000042","Milton Keynes",{"$f":"COUNTIF($D$5:D469,D469)","v":3},"Milton Keynes3","NHS Nene CCG",5.8458741915938129E-3,1.37826481488905E-2,{"$f":"VLOOKUP($A469,'8.Non-elective admissions - CCG'!$D$5:$N$215,3,0)*$H469","v":79.176520050946607},{"$f":"VLOOKUP($A469,'8.Non-elective admissions - CCG'!$D$5:$N$215,4,0)*$H469","v":81.351185250219501},{"$f":"VLOOKUP($A469,'8.Non-elective admissions - CCG'!$D$5:$N$215,5,0)*$H469","v":87.512736648159375},{"$f":"VLOOKUP($A469,'8.Non-elective admissions - CCG'!$D$5:$N$215,6,0)*$H469","v":87.606270635224874},{"$f":"VLOOKUP($A469,'8.Non-elective admissions - CCG'!$D$5:$N$215,7,0)*$H469","v":76.043131484252314},{"$f":"VLOOKUP($A469,'8.Non-elective admissions - CCG'!$D$5:$N$215,8,0)*$H469","v":77.902119477179156},{"$f":"VLOOKUP($A469,'8.Non-elective admissions - CCG'!$D$5:$N$215,9,0)*$H469","v":82.245604001533351},{"$f":"VLOOKUP($A469,'8.Non-elective admissions - CCG'!$D$5:$N$215,10,0)*$H469","v":79.006989699390388},{"$f":"VLOOKUP($A469,'8.Non-elective admissions - CCG'!$D$5:$Q$215,11,0)*$H469","v":77.276610938678616},{"$f":"VLOOKUP($A469,'8.Non-elective admissions - CCG'!$D$5:$Q$215,12,0)*$H469","v":79.153136554180222},{"$f":"VLOOKUP($A469,'8.Non-elective admissions - CCG'!$D$5:$Q$215,13,0)*$H469","v":83.525850449492395},{"$f":"VLOOKUP($A469,'8.Non-elective admissions - CCG'!$D$5:$Q$215,14,0)*$H469","v":80.281390273157839}]
["04G","NHS Nene CCG","E10000021","Northamptonshire",{"$f":"COUNTIF($D$5:D470,D470)","v":8},"Northamptonshire8","NHS Nene CCG",0.98800683821983715,0.85016705593181574,{"$f":"VLOOKUP($A470,'8.Non-elective admissions - CCG'!$D$5:$N$215,3,0)*$H470","v":13381.564616849475},{"$f":"VLOOKUP($A470,'8.Non-elective admissions - CCG'!$D$5:$N$215,4,0)*$H470","v":13749.103160667253},{"$f":"VLOOKUP($A470,'8.Non-elective admissions - CCG'!$D$5:$N$215,5,0)*$H470","v":14790.462368150962},{"$f":"VLOOKUP($A470,'8.Non-elective admissions - CCG'!$D$5:$N$215,6,0)*$H470","v":14806.270477562479},{"$f":"VLOOKUP($A470,'8.Non-elective admissions - CCG'!$D$5:$N$215,7,0)*$H470","v":12851.992951563641},{"$f":"VLOOKUP($A470,'8.Non-elective admissions - CCG'!$D$5:$N$215,8,0)*$H470","v":13166.179126117549},{"$f":"VLOOKUP($A470,'8.Non-elective admissions - CCG'!$D$5:$N$215,9,0)*$H470","v":13900.268206914889},{"$f":"VLOOKUP($A470,'8.Non-elective admissions - CCG'!$D$5:$N$215,10,0)*$H470","v":13352.912418541098},{"$f":"VLOOKUP($A470,'8.Non-elective admissions - CCG'!$D$5:$Q$215,11,0)*$H470","v":13060.462394428027},{"$f":"VLOOKUP($A470,'8.Non-elective admissions - CCG'!$D$5:$Q$215,12,0)*$H470","v":13377.612589496595},{"$f":"VLOOKUP($A470,'8.Non-elective admissions - CCG'!$D$5:$Q$215,13,0)*$H470","v":14116.641704485033},{"$f":"VLOOKUP($A470,'8.Non-elective admissions - CCG'!$D$5:$Q$215,14,0)*$H470","v":13568.297909273024}]
["04G","NHS Nene CCG","E10000025","Oxfordshire",{"$f":"COUNTIF($D$5:D471,D471)","v":3},"Oxfordshire3","NHS Nene CCG",9.9698277461079043E-4,9.1164273781154856E-4,{"$f":"VLOOKUP($A471,'8.Non-elective admissions - CCG'!$D$5:$N$215,3,0)*$H471","v":13.503134699328546},{"$f":"VLOOKUP($A471,'8.Non-elective admissions - CCG'!$D$5:$N$215,4,0)*$H471","v":13.87401229148376},{"$f":"VLOOKUP($A471,'8.Non-elective admissions - CCG'!$D$5:$N$215,5,0)*$H471","v":14.924832135923532},{"$f":"VLOOKUP($A471,'8.Non-elective admissions - CCG'!$D$5:$N$215,6,0)*$H471","v":14.940783860317305},{"$f":"VLOOKUP($A471,'8.Non-elective admissions - CCG'!$D$5:$N$215,7,0)*$H471","v":12.968751932137161},{"$f":"VLOOKUP($A471,'8.Non-elective admissions - CCG'!$D$5:$N$215,8,0)*$H471","v":13.285792454463394},{"$f":"VLOOKUP($A471,'8.Non-elective admissions - CCG'!$D$5:$N$215,9,0)*$H471","v":14.026550655999211},{"$f":"VLOOKUP($A471,'8.Non-elective admissions - CCG'!$D$5:$N$215,10,0)*$H471","v":13.474222198864833},{"$f":"VLOOKUP($A471,'8.Non-elective admissions - CCG'!$D$5:$Q$215,11,0)*$H471","v":13.179115297580038},{"$f":"VLOOKUP($A471,'8.Non-elective admissions - CCG'!$D$5:$Q$215,12,0)*$H471","v":13.499146768230103},{"$f":"VLOOKUP($A471,'8.Non-elective admissions - CCG'!$D$5:$Q$215,13,0)*$H471","v":14.244889883638974},{"$f":"VLOOKUP($A471,'8.Non-elective admissions - CCG'!$D$5:$Q$215,14,0)*$H471","v":13.691564443729986}]
["04G","NHS Nene CCG","E10000031","Warwickshire",{"$f":"COUNTIF($D$5:D472,D472)","v":4},"Warwickshire4","NHS Nene CCG",2.0588853578008878E-3,2.3183441592347378E-3,{"$f":"VLOOKUP($A472,'8.Non-elective admissions - CCG'!$D$5:$N$215,3,0)*$H472","v":27.885543286055224},{"$f":"VLOOKUP($A472,'8.Non-elective admissions - CCG'!$D$5:$N$215,4,0)*$H472","v":28.651448639157152},{"$f":"VLOOKUP($A472,'8.Non-elective admissions - CCG'!$D$5:$N$215,5,0)*$H472","v":30.821513806279288},{"$f":"VLOOKUP($A472,'8.Non-elective admissions - CCG'!$D$5:$N$215,6,0)*$H472","v":30.854455972004104},{"$f":"VLOOKUP($A472,'8.Non-elective admissions - CCG'!$D$5:$N$215,7,0)*$H472","v":26.781980734273947},{"$f":"VLOOKUP($A472,'8.Non-elective admissions - CCG'!$D$5:$N$215,8,0)*$H472","v":27.436706278054629},{"$f":"VLOOKUP($A472,'8.Non-elective admissions - CCG'!$D$5:$N$215,9,0)*$H472","v":28.966458098900691},{"$f":"VLOOKUP($A472,'8.Non-elective admissions - CCG'!$D$5:$N$215,10,0)*$H472","v":27.825835610678997},{"$f":"VLOOKUP($A472,'8.Non-elective admissions - CCG'!$D$5:$Q$215,11,0)*$H472","v":27.216405544769934},{"$f":"VLOOKUP($A472,'8.Non-elective admissions - CCG'!$D$5:$Q$215,12,0)*$H472","v":27.877307744624019},{"$f":"VLOOKUP($A472,'8.Non-elective admissions - CCG'!$D$5:$Q$215,13,0)*$H472","v":29.417353992259084},{"$f":"VLOOKUP($A472,'8.Non-elective admissions - CCG'!$D$5:$Q$215,14,0)*$H472","v":28.274672618679592}]
["04H","NHS Newark & Sherwood CCG","E10000019","Lincolnshire",{"$f":"COUNTIF($D$5:D473,D473)","v":5},"Lincolnshire5","NHS Newark & Sherwood CCG",2.4054241466985128E-2,4.1650212920370973E-3,{"$f":"VLOOKUP($A473,'8.Non-elective admissions - CCG'!$D$5:$N$215,3,0)*$H473","v":77.286277833423213},{"$f":"VLOOKUP($A473,'8.Non-elective admissions - CCG'!$D$5:$N$215,4,0)*$H473","v":74.977070652592644},{"$f":"VLOOKUP($A473,'8.Non-elective admissions - CCG'!$D$5:$N$215,5,0)*$H473","v":77.791416904229905},{"$f":"VLOOKUP($A473,'8.Non-elective admissions - CCG'!$D$5:$N$215,6,0)*$H473","v":75.193558825795506},{"$f":"VLOOKUP($A473,'8.Non-elective admissions - CCG'!$D$5:$N$215,7,0)*$H473","v":75.056930734263048},{"$f":"VLOOKUP($A473,'8.Non-elective admissions - CCG'!$D$5:$N$215,8,0)*$H473","v":73.524675552816078},{"$f":"VLOOKUP($A473,'8.Non-elective admissions - CCG'!$D$5:$N$215,9,0)*$H473","v":76.306308036058255},{"$f":"VLOOKUP($A473,'8.Non-elective admissions - CCG'!$D$5:$N$215,10,0)*$H473","v":73.571821866091369},{"$f":"VLOOKUP($A473,'8.Non-elective admissions - CCG'!$D$5:$Q$215,11,0)*$H473","v":65.731582402342241},{"$f":"VLOOKUP($A473,'8.Non-elective admissions - CCG'!$D$5:$Q$215,12,0)*$H473","v":64.393204407119185},{"$f":"VLOOKUP($A473,'8.Non-elective admissions - CCG'!$D$5:$Q$215,13,0)*$H473","v":66.867183141998609},{"$f":"VLOOKUP($A473,'8.Non-elective admissions - CCG'!$D$5:$Q$215,14,0)*$H473","v":64.445402111102553}]
["04H","NHS Newark & Sherwood CCG","E10000024","Nottinghamshire",{"$f":"COUNTIF($D$5:D474,D474)","v":8},"Nottinghamshire8","NHS Newark & Sherwood CCG",0.9759457585330148,0.15475418167868238,{"$f":"VLOOKUP($A474,'8.Non-elective admissions - CCG'!$D$5:$N$215,3,0)*$H474","v":3135.7137221665766},{"$f":"VLOOKUP($A474,'8.Non-elective admissions - CCG'!$D$5:$N$215,4,0)*$H474","v":3042.0229293474072},{"$f":"VLOOKUP($A474,'8.Non-elective admissions - CCG'!$D$5:$N$215,5,0)*$H474","v":3156.2085830957699},{"$f":"VLOOKUP($A474,'8.Non-elective admissions - CCG'!$D$5:$N$215,6,0)*$H474","v":3050.8064411742043},{"$f":"VLOOKUP($A474,'8.Non-elective admissions - CCG'!$D$5:$N$215,7,0)*$H474","v":3045.2630692657372},{"$f":"VLOOKUP($A474,'8.Non-elective admissions - CCG'!$D$5:$N$215,8,0)*$H474","v":2983.0953244471834},{"$f":"VLOOKUP($A474,'8.Non-elective admissions - CCG'!$D$5:$N$215,9,0)*$H474","v":3095.9536919639418},{"$f":"VLOOKUP($A474,'8.Non-elective admissions - CCG'!$D$5:$N$215,10,0)*$H474","v":2985.0081781339081},{"$f":"VLOOKUP($A474,'8.Non-elective admissions - CCG'!$D$5:$Q$215,11,0)*$H474","v":2666.9084175976573},{"$f":"VLOOKUP($A474,'8.Non-elective admissions - CCG'!$D$5:$Q$215,12,0)*$H474","v":2612.6067955928806},{"$f":"VLOOKUP($A474,'8.Non-elective admissions - CCG'!$D$5:$Q$215,13,0)*$H474","v":2712.9828168580011},{"$f":"VLOOKUP($A474,'8.Non-elective admissions - CCG'!$D$5:$Q$215,14,0)*$H474","v":2614.7245978888973}]
["10M","NHS Newbury and District CCG","E10000014","Hampshire",{"$f":"COUNTIF($D$5:D475,D475)","v":6},"Hampshire6","NHS Newbury and District CCG",6.0032221657433826E-2,5.13209170299566E-3,{"$f":"VLOOKUP($A475,'8.Non-elective admissions - CCG'!$D$5:$N$215,3,0)*$H475","v":111.47983561785462},{"$f":"VLOOKUP($A475,'8.Non-elective admissions - CCG'!$D$5:$N$215,4,0)*$H475","v":111.29973895288231},{"$f":"VLOOKUP($A475,'8.Non-elective admissions - CCG'!$D$5:$N$215,5,0)*$H475","v":114.78160780901348},{"$f":"VLOOKUP($A475,'8.Non-elective admissions - CCG'!$D$5:$N$215,6,0)*$H475","v":107.39764454514912},{"$f":"VLOOKUP($A475,'8.Non-elective admissions - CCG'!$D$5:$N$215,7,0)*$H475","v":113.5809633758648},{"$f":"VLOOKUP($A475,'8.Non-elective admissions - CCG'!$D$5:$N$215,8,0)*$H475","v":111.11964228791001},{"$f":"VLOOKUP($A475,'8.Non-elective admissions - CCG'!$D$5:$N$215,9,0)*$H475","v":116.22238112879188},{"$f":"VLOOKUP($A475,'8.Non-elective admissions - CCG'!$D$5:$N$215,10,0)*$H475","v":109.43874008150186},{"$f":"VLOOKUP($A475,'8.Non-elective admissions - CCG'!$D$5:$Q$215,11,0)*$H475","v":111.47983561785462},{"$f":"VLOOKUP($A475,'8.Non-elective admissions - CCG'!$D$5:$Q$215,12,0)*$H475","v":110.57935229299311},{"$f":"VLOOKUP($A475,'8.Non-elective admissions - CCG'!$D$5:$Q$215,13,0)*$H475","v":115.50199446890268},{"$f":"VLOOKUP($A475,'8.Non-elective admissions - CCG'!$D$5:$Q$215,14,0)*$H475","v":110.09909451973364}]
["10M","NHS Newbury and District CCG","E10000025","Oxfordshire",{"$f":"COUNTIF($D$5:D476,D476)","v":4},"Oxfordshire4","NHS Newbury and District CCG",1.1975428832352614E-3,0,{"$f":"VLOOKUP($A476,'8.Non-elective admissions - CCG'!$D$5:$N$215,3,0)*$H476","v":2.2238371341678804},{"$f":"VLOOKUP($A476,'8.Non-elective admissions - CCG'!$D$5:$N$215,4,0)*$H476","v":2.2202445055181745},{"$f":"VLOOKUP($A476,'8.Non-elective admissions - CCG'!$D$5:$N$215,5,0)*$H476","v":2.2897019927458198},{"$f":"VLOOKUP($A476,'8.Non-elective admissions - CCG'!$D$5:$N$215,6,0)*$H476","v":2.1424042181078828},{"$f":"VLOOKUP($A476,'8.Non-elective admissions - CCG'!$D$5:$N$215,7,0)*$H476","v":2.2657511350811146},{"$f":"VLOOKUP($A476,'8.Non-elective admissions - CCG'!$D$5:$N$215,8,0)*$H476","v":2.2166518768684687},{"$f":"VLOOKUP($A476,'8.Non-elective admissions - CCG'!$D$5:$N$215,9,0)*$H476","v":2.318443021943466},{"$f":"VLOOKUP($A476,'8.Non-elective admissions - CCG'!$D$5:$N$215,10,0)*$H476","v":2.1831206761378814},{"$f":"VLOOKUP($A476,'8.Non-elective admissions - CCG'!$D$5:$Q$215,11,0)*$H476","v":2.2238371341678804},{"$f":"VLOOKUP($A476,'8.Non-elective admissions - CCG'!$D$5:$Q$215,12,0)*$H476","v":2.2058739909193514},{"$f":"VLOOKUP($A476,'8.Non-elective admissions - CCG'!$D$5:$Q$215,13,0)*$H476","v":2.3040725073446429},{"$f":"VLOOKUP($A476,'8.Non-elective admissions - CCG'!$D$5:$Q$215,14,0)*$H476","v":2.1962936478534694}]
["10M","NHS Newbury and District CCG","E06000037","West Berkshire",{"$f":"COUNTIF($D$5:D477,D477)","v":1},"West Berkshire1","NHS Newbury and District CCG",0.92974127904472281,0.66090173070563307,{"$f":"VLOOKUP($A477,'8.Non-elective admissions - CCG'!$D$5:$N$215,3,0)*$H477","v":1726.5295551860502},{"$f":"VLOOKUP($A477,'8.Non-elective admissions - CCG'!$D$5:$N$215,4,0)*$H477","v":1723.740331348916},{"$f":"VLOOKUP($A477,'8.Non-elective admissions - CCG'!$D$5:$N$215,5,0)*$H477","v":1777.66532553351},{"$f":"VLOOKUP($A477,'8.Non-elective admissions - CCG'!$D$5:$N$215,6,0)*$H477","v":1663.307148211009},{"$f":"VLOOKUP($A477,'8.Non-elective admissions - CCG'!$D$5:$N$215,7,0)*$H477","v":1759.0704999526156},{"$f":"VLOOKUP($A477,'8.Non-elective admissions - CCG'!$D$5:$N$215,8,0)*$H477","v":1720.9511075117819},{"$f":"VLOOKUP($A477,'8.Non-elective admissions - CCG'!$D$5:$N$215,9,0)*$H477","v":1799.9791162305833},{"$f":"VLOOKUP($A477,'8.Non-elective admissions - CCG'!$D$5:$N$215,10,0)*$H477","v":1694.9183516985297},{"$f":"VLOOKUP($A477,'8.Non-elective admissions - CCG'!$D$5:$Q$215,11,0)*$H477","v":1726.5295551860502},{"$f":"VLOOKUP($A477,'8.Non-elective admissions - CCG'!$D$5:$Q$215,12,0)*$H477","v":1712.5834360003794},{"$f":"VLOOKUP($A477,'8.Non-elective admissions - CCG'!$D$5:$Q$215,13,0)*$H477","v":1788.8222208820466},{"$f":"VLOOKUP($A477,'8.Non-elective admissions - CCG'!$D$5:$Q$215,14,0)*$H477","v":1705.1455057680216}]
["10M","NHS Newbury and District CCG","E06000054","Wiltshire",{"$f":"COUNTIF($D$5:D478,D478)","v":4},"Wiltshire4","NHS Newbury and District CCG",9.028956414608302E-3,2.1910018397725372E-3,{"$f":"VLOOKUP($A478,'8.Non-elective admissions - CCG'!$D$5:$N$215,3,0)*$H478","v":16.766772061927618},{"$f":"VLOOKUP($A478,'8.Non-elective admissions - CCG'!$D$5:$N$215,4,0)*$H478","v":16.73968519268379},{"$f":"VLOOKUP($A478,'8.Non-elective admissions - CCG'!$D$5:$N$215,5,0)*$H478","v":17.263364664731075},{"$f":"VLOOKUP($A478,'8.Non-elective admissions - CCG'!$D$5:$N$215,6,0)*$H478","v":16.152803025734251},{"$f":"VLOOKUP($A478,'8.Non-elective admissions - CCG'!$D$5:$N$215,7,0)*$H478","v":17.082785536438909},{"$f":"VLOOKUP($A478,'8.Non-elective admissions - CCG'!$D$5:$N$215,8,0)*$H478","v":16.712598323439966},{"$f":"VLOOKUP($A478,'8.Non-elective admissions - CCG'!$D$5:$N$215,9,0)*$H478","v":17.480059618681672},{"$f":"VLOOKUP($A478,'8.Non-elective admissions - CCG'!$D$5:$N$215,10,0)*$H478","v":16.459787543830934},{"$f":"VLOOKUP($A478,'8.Non-elective admissions - CCG'!$D$5:$Q$215,11,0)*$H478","v":16.766772061927618},{"$f":"VLOOKUP($A478,'8.Non-elective admissions - CCG'!$D$5:$Q$215,12,0)*$H478","v":16.631337715708494},{"$f":"VLOOKUP($A478,'8.Non-elective admissions - CCG'!$D$5:$Q$215,13,0)*$H478","v":17.371712141706372},{"$f":"VLOOKUP($A478,'8.Non-elective admissions - CCG'!$D$5:$Q$215,14,0)*$H478","v":16.559106064391624}]
["00G","NHS Newcastle North and East CCG","E08000021","Newcastle upon Tyne",{"$f":"COUNTIF($D$5:D479,D479)","v":1},"Newcastle upon Tyne1","NHS Newcastle North and East CCG",0.97607736151776392,0.51307706443694778,{"$f":"VLOOKUP($A479,'8.Non-elective admissions - CCG'!$D$5:$N$215,3,0)*$H479","v":3753.0174550358024},{"$f":"VLOOKUP($A479,'8.Non-elective admissions - CCG'!$D$5:$N$215,4,0)*$H479","v":3624.1752433154575},{"$f":"VLOOKUP($A479,'8.Non-elective admissions - CCG'!$D$5:$N$215,5,0)*$H479","v":3822.3189477035635},{"$f":"VLOOKUP($A479,'8.Non-elective admissions - CCG'!$D$5:$N$215,6,0)*$H479","v":3785.2280079658885},{"$f":"VLOOKUP($A479,'8.Non-elective admissions - CCG'!$D$5:$N$215,7,0)*$H479","v":3535.3522034173411},{"$f":"VLOOKUP($A479,'8.Non-elective admissions - CCG'!$D$5:$N$215,8,0)*$H479","v":3491.4287221490417},{"$f":"VLOOKUP($A479,'8.Non-elective admissions - CCG'!$D$5:$N$215,9,0)*$H479","v":3622.2230885924218},{"$f":"VLOOKUP($A479,'8.Non-elective admissions - CCG'!$D$5:$N$215,10,0)*$H479","v":3867.2185063333804},{"$f":"VLOOKUP($A479,'8.Non-elective admissions - CCG'!$D$5:$Q$215,11,0)*$H479","v":3463.1224786650264},{"$f":"VLOOKUP($A479,'8.Non-elective admissions - CCG'!$D$5:$Q$215,12,0)*$H479","v":3420.1750747582446},{"$f":"VLOOKUP($A479,'8.Non-elective admissions - CCG'!$D$5:$Q$215,13,0)*$H479","v":3547.0651317555539},{"$f":"VLOOKUP($A479,'8.Non-elective admissions - CCG'!$D$5:$Q$215,14,0)*$H479","v":3790.1083947734774}]
["00G","NHS Newcastle North and East CCG","E08000022","North Tyneside",{"$f":"COUNTIF($D$5:D480,D480)","v":1},"North Tyneside1","NHS Newcastle North and East CCG",2.3922638482235938E-2,1.8395660313955162E-2,{"$f":"VLOOKUP($A480,'8.Non-elective admissions - CCG'!$D$5:$N$215,3,0)*$H480","v":91.982544964197189},{"$f":"VLOOKUP($A480,'8.Non-elective admissions - CCG'!$D$5:$N$215,4,0)*$H480","v":88.824756684542038},{"$f":"VLOOKUP($A480,'8.Non-elective admissions - CCG'!$D$5:$N$215,5,0)*$H480","v":93.681052296435936},{"$f":"VLOOKUP($A480,'8.Non-elective admissions - CCG'!$D$5:$N$215,6,0)*$H480","v":92.771992034110966},{"$f":"VLOOKUP($A480,'8.Non-elective admissions - CCG'!$D$5:$N$215,7,0)*$H480","v":86.647796582658572},{"$f":"VLOOKUP($A480,'8.Non-elective admissions - CCG'!$D$5:$N$215,8,0)*$H480","v":85.571277850957955},{"$f":"VLOOKUP($A480,'8.Non-elective admissions - CCG'!$D$5:$N$215,9,0)*$H480","v":88.776911407577572},{"$f":"VLOOKUP($A480,'8.Non-elective admissions - CCG'!$D$5:$N$215,10,0)*$H480","v":94.781493666618786},{"$f":"VLOOKUP($A480,'8.Non-elective admissions - CCG'!$D$5:$Q$215,11,0)*$H480","v":84.87752133497311},{"$f":"VLOOKUP($A480,'8.Non-elective admissions - CCG'!$D$5:$Q$215,12,0)*$H480","v":83.824925241754727},{"$f":"VLOOKUP($A480,'8.Non-elective admissions - CCG'!$D$5:$Q$215,13,0)*$H480","v":86.934868244445397},{"$f":"VLOOKUP($A480,'8.Non-elective admissions - CCG'!$D$5:$Q$215,14,0)*$H480","v":92.891605226522145}]
["00H","NHS Newcastle West CCG","E08000021","Newcastle upon Tyne",{"$f":"COUNTIF($D$5:D481,D481)","v":2},"Newcastle upon Tyne2","NHS Newcastle West CCG",0.98458742814759859,0.43561883884856195,{"$f":"VLOOKUP($A481,'8.Non-elective admissions - CCG'!$D$5:$N$215,3,0)*$H481","v":4327.2617467086957},{"$f":"VLOOKUP($A481,'8.Non-elective admissions - CCG'!$D$5:$N$215,4,0)*$H481","v":4433.5971889486364},{"$f":"VLOOKUP($A481,'8.Non-elective admissions - CCG'!$D$5:$N$215,5,0)*$H481","v":4686.6361579825689},{"$f":"VLOOKUP($A481,'8.Non-elective admissions - CCG'!$D$5:$N$215,6,0)*$H481","v":4618.6996254403848},{"$f":"VLOOKUP($A481,'8.Non-elective admissions - CCG'!$D$5:$N$215,7,0)*$H481","v":4243.5718153161497},{"$f":"VLOOKUP($A481,'8.Non-elective admissions - CCG'!$D$5:$N$215,8,0)*$H481","v":4190.4040941961794},{"$f":"VLOOKUP($A481,'8.Non-elective admissions - CCG'!$D$5:$N$215,9,0)*$H481","v":4346.9534952716476},{"$f":"VLOOKUP($A481,'8.Non-elective admissions - CCG'!$D$5:$N$215,10,0)*$H481","v":4636.4221991470422},{"$f":"VLOOKUP($A481,'8.Non-elective admissions - CCG'!$D$5:$Q$215,11,0)*$H481","v":4157.9127090673092},{"$f":"VLOOKUP($A481,'8.Non-elective admissions - CCG'!$D$5:$Q$215,12,0)*$H481","v":4105.7295753754861},{"$f":"VLOOKUP($A481,'8.Non-elective admissions - CCG'!$D$5:$Q$215,13,0)*$H481","v":4257.3560393102161},{"$f":"VLOOKUP($A481,'8.Non-elective admissions - CCG'!$D$5:$Q$215,14,0)*$H481","v":4541.9018060448725}]
["00H","NHS Newcastle West CCG","E08000022","North Tyneside",{"$f":"COUNTIF($D$5:D482,D482)","v":2},"North Tyneside2","NHS Newcastle West CCG",7.7878731689226769E-3,5.0405645432288412E-3,{"$f":"VLOOKUP($A482,'8.Non-elective admissions - CCG'!$D$5:$N$215,3,0)*$H482","v":34.227702577415165},{"$f":"VLOOKUP($A482,'8.Non-elective admissions - CCG'!$D$5:$N$215,4,0)*$H482","v":35.068792879658815},{"$f":"VLOOKUP($A482,'8.Non-elective admissions - CCG'!$D$5:$N$215,5,0)*$H482","v":37.070276284071944},{"$f":"VLOOKUP($A482,'8.Non-elective admissions - CCG'!$D$5:$N$215,6,0)*$H482","v":36.532913035416279},{"$f":"VLOOKUP($A482,'8.Non-elective admissions - CCG'!$D$5:$N$215,7,0)*$H482","v":33.56573335805674},{"$f":"VLOOKUP($A482,'8.Non-elective admissions - CCG'!$D$5:$N$215,8,0)*$H482","v":33.145188206934911},{"$f":"VLOOKUP($A482,'8.Non-elective admissions - CCG'!$D$5:$N$215,9,0)*$H482","v":34.383460040793615},{"$f":"VLOOKUP($A482,'8.Non-elective admissions - CCG'!$D$5:$N$215,10,0)*$H482","v":36.673094752456883},{"$f":"VLOOKUP($A482,'8.Non-elective admissions - CCG'!$D$5:$Q$215,11,0)*$H482","v":32.888188392360462},{"$f":"VLOOKUP($A482,'8.Non-elective admissions - CCG'!$D$5:$Q$215,12,0)*$H482","v":32.475431114407563},{"$f":"VLOOKUP($A482,'8.Non-elective admissions - CCG'!$D$5:$Q$215,13,0)*$H482","v":33.674763582421654},{"$f":"VLOOKUP($A482,'8.Non-elective admissions - CCG'!$D$5:$Q$215,14,0)*$H482","v":35.92545892824031}]
["00H","NHS Newcastle West CCG","E06000048","Northumberland",{"$f":"COUNTIF($D$5:D483,D483)","v":2},"Northumberland2","NHS Newcastle West CCG",7.6246986834785828E-3,3.2260291597888645E-3,{"$f":"VLOOKUP($A483,'8.Non-elective admissions - CCG'!$D$5:$N$215,3,0)*$H483","v":33.510550713888371},{"$f":"VLOOKUP($A483,'8.Non-elective admissions - CCG'!$D$5:$N$215,4,0)*$H483","v":34.334018171704059},{"$f":"VLOOKUP($A483,'8.Non-elective admissions - CCG'!$D$5:$N$215,5,0)*$H483","v":36.293565733358051},{"$f":"VLOOKUP($A483,'8.Non-elective admissions - CCG'!$D$5:$N$215,6,0)*$H483","v":35.767461524198033},{"$f":"VLOOKUP($A483,'8.Non-elective admissions - CCG'!$D$5:$N$215,7,0)*$H483","v":32.862451325792691},{"$f":"VLOOKUP($A483,'8.Non-elective admissions - CCG'!$D$5:$N$215,8,0)*$H483","v":32.45071759688485},{"$f":"VLOOKUP($A483,'8.Non-elective admissions - CCG'!$D$5:$N$215,9,0)*$H483","v":33.663044687557942},{"$f":"VLOOKUP($A483,'8.Non-elective admissions - CCG'!$D$5:$N$215,10,0)*$H483","v":35.904706100500647},{"$f":"VLOOKUP($A483,'8.Non-elective admissions - CCG'!$D$5:$Q$215,11,0)*$H483","v":32.199102540330053},{"$f":"VLOOKUP($A483,'8.Non-elective admissions - CCG'!$D$5:$Q$215,12,0)*$H483","v":31.794993510105691},{"$f":"VLOOKUP($A483,'8.Non-elective admissions - CCG'!$D$5:$Q$215,13,0)*$H483","v":32.969197107361396},{"$f":"VLOOKUP($A483,'8.Non-elective admissions - CCG'!$D$5:$Q$215,14,0)*$H483","v":35.172735026886706}]
["08M","NHS Newham CCG","E09000002","Barking and Dagenham",{"$f":"COUNTIF($D$5:D484,D484)","v":3},"Barking and Dagenham3","NHS Newham CCG",1.655447928637881E-3,2.9075914569676466E-3,{"$f":"VLOOKUP($A484,'8.Non-elective admissions - CCG'!$D$5:$N$215,3,0)*$H484","v":12.318188036994473},{"$f":"VLOOKUP($A484,'8.Non-elective admissions - CCG'!$D$5:$N$215,4,0)*$H484","v":12.624445903792481},{"$f":"VLOOKUP($A484,'8.Non-elective admissions - CCG'!$D$5:$N$215,5,0)*$H484","v":13.394229190609096},{"$f":"VLOOKUP($A484,'8.Non-elective admissions - CCG'!$D$5:$N$215,6,0)*$H484","v":12.986989000164176},{"$f":"VLOOKUP($A484,'8.Non-elective admissions - CCG'!$D$5:$N$215,7,0)*$H484","v":12.290045422207628},{"$f":"VLOOKUP($A484,'8.Non-elective admissions - CCG'!$D$5:$N$215,8,0)*$H484","v":12.51518634050238},{"$f":"VLOOKUP($A484,'8.Non-elective admissions - CCG'!$D$5:$N$215,9,0)*$H484","v":13.190609095386636},{"$f":"VLOOKUP($A484,'8.Non-elective admissions - CCG'!$D$5:$N$215,10,0)*$H484","v":12.692319268866633},{"$f":"VLOOKUP($A484,'8.Non-elective admissions - CCG'!$D$5:$Q$215,11,0)*$H484","v":12.165886827559788},{"$f":"VLOOKUP($A484,'8.Non-elective admissions - CCG'!$D$5:$Q$215,12,0)*$H484","v":12.389372297925901},{"$f":"VLOOKUP($A484,'8.Non-elective admissions - CCG'!$D$5:$Q$215,13,0)*$H484","v":13.066450500738794},{"$f":"VLOOKUP($A484,'8.Non-elective admissions - CCG'!$D$5:$Q$215,14,0)*$H484","v":12.564849778361516}]
["08M","NHS Newham CCG","E09000025","Newham",{"$f":"COUNTIF($D$5:D485,D485)","v":2},"Newham2","NHS Newham CCG",0.97076834674109347,0.97980336380457878,{"$f":"VLOOKUP($A485,'8.Non-elective admissions - CCG'!$D$5:$N$215,3,0)*$H485","v":7223.4872681004763},{"$f":"VLOOKUP($A485,'8.Non-elective admissions - CCG'!$D$5:$N$215,4,0)*$H485","v":7403.0794122475791},{"$f":"VLOOKUP($A485,'8.Non-elective admissions - CCG'!$D$5:$N$215,5,0)*$H485","v":7854.4866934821875},{"$f":"VLOOKUP($A485,'8.Non-elective admissions - CCG'!$D$5:$N$215,6,0)*$H485","v":7615.6776801838787},{"$f":"VLOOKUP($A485,'8.Non-elective admissions - CCG'!$D$5:$N$215,7,0)*$H485","v":7206.9842062058779},{"$f":"VLOOKUP($A485,'8.Non-elective admissions - CCG'!$D$5:$N$215,8,0)*$H485","v":7339.0087013626662},{"$f":"VLOOKUP($A485,'8.Non-elective admissions - CCG'!$D$5:$N$215,9,0)*$H485","v":7735.0821868330331},{"$f":"VLOOKUP($A485,'8.Non-elective admissions - CCG'!$D$5:$N$215,10,0)*$H485","v":7442.8809144639636},{"$f":"VLOOKUP($A485,'8.Non-elective admissions - CCG'!$D$5:$Q$215,11,0)*$H485","v":7134.1765802002956},{"$f":"VLOOKUP($A485,'8.Non-elective admissions - CCG'!$D$5:$Q$215,12,0)*$H485","v":7265.2303070103435},{"$f":"VLOOKUP($A485,'8.Non-elective admissions - CCG'!$D$5:$Q$215,13,0)*$H485","v":7662.2745608274508},{"$f":"VLOOKUP($A485,'8.Non-elective admissions - CCG'!$D$5:$Q$215,14,0)*$H485","v":7368.1317517648995}]
["08M","NHS Newham CCG","E09000026","Redbridge",{"$f":"COUNTIF($D$5:D486,D486)","v":3},"Redbridge3","NHS Newham CCG",1.5728123460843867E-2,1.8730021147849208E-2,{"$f":"VLOOKUP($A486,'8.Non-elective admissions - CCG'!$D$5:$N$215,3,0)*$H486","v":117.03296667213921},{"$f":"VLOOKUP($A486,'8.Non-elective admissions - CCG'!$D$5:$N$215,4,0)*$H486","v":119.94266951239533},{"$f":"VLOOKUP($A486,'8.Non-elective admissions - CCG'!$D$5:$N$215,5,0)*$H486","v":127.25624692168772},{"$f":"VLOOKUP($A486,'8.Non-elective admissions - CCG'!$D$5:$N$215,6,0)*$H486","v":123.38712855032013},{"$f":"VLOOKUP($A486,'8.Non-elective admissions - CCG'!$D$5:$N$215,7,0)*$H486","v":116.76558857330487},{"$f":"VLOOKUP($A486,'8.Non-elective admissions - CCG'!$D$5:$N$215,8,0)*$H486","v":118.90461336397964},{"$f":"VLOOKUP($A486,'8.Non-elective admissions - CCG'!$D$5:$N$215,9,0)*$H486","v":125.32168773600392},{"$f":"VLOOKUP($A486,'8.Non-elective admissions - CCG'!$D$5:$N$215,10,0)*$H486","v":120.58752257428992},{"$f":"VLOOKUP($A486,'8.Non-elective admissions - CCG'!$D$5:$Q$215,11,0)*$H486","v":115.58597931374157},{"$f":"VLOOKUP($A486,'8.Non-elective admissions - CCG'!$D$5:$Q$215,12,0)*$H486","v":117.7092759809555},{"$f":"VLOOKUP($A486,'8.Non-elective admissions - CCG'!$D$5:$Q$215,13,0)*$H486","v":124.14207847644064},{"$f":"VLOOKUP($A486,'8.Non-elective admissions - CCG'!$D$5:$Q$215,14,0)*$H486","v":119.37645706780495}]
["08M","NHS Newham CCG","E09000030","Tower Hamlets",{"$f":"COUNTIF($D$5:D487,D487)","v":4},"Tower Hamlets4","NHS Newham CCG",2.1096700049252999E-3,2.6578416670975744E-3,{"$f":"VLOOKUP($A487,'8.Non-elective admissions - CCG'!$D$5:$N$215,3,0)*$H487","v":15.698054506649155},{"$f":"VLOOKUP($A487,'8.Non-elective admissions - CCG'!$D$5:$N$215,4,0)*$H487","v":16.088343457560338},{"$f":"VLOOKUP($A487,'8.Non-elective admissions - CCG'!$D$5:$N$215,5,0)*$H487","v":17.069340009850603},{"$f":"VLOOKUP($A487,'8.Non-elective admissions - CCG'!$D$5:$N$215,6,0)*$H487","v":16.550361188638977},{"$f":"VLOOKUP($A487,'8.Non-elective admissions - CCG'!$D$5:$N$215,7,0)*$H487","v":15.662190116565426},{"$f":"VLOOKUP($A487,'8.Non-elective admissions - CCG'!$D$5:$N$215,8,0)*$H487","v":15.949105237235267},{"$f":"VLOOKUP($A487,'8.Non-elective admissions - CCG'!$D$5:$N$215,9,0)*$H487","v":16.80985059924479},{"$f":"VLOOKUP($A487,'8.Non-elective admissions - CCG'!$D$5:$N$215,10,0)*$H487","v":16.174839927762275},{"$f":"VLOOKUP($A487,'8.Non-elective admissions - CCG'!$D$5:$Q$215,11,0)*$H487","v":15.503964866196029},{"$f":"VLOOKUP($A487,'8.Non-elective admissions - CCG'!$D$5:$Q$215,12,0)*$H487","v":15.788770316860944},{"$f":"VLOOKUP($A487,'8.Non-elective admissions - CCG'!$D$5:$Q$215,13,0)*$H487","v":16.651625348875392},{"$f":"VLOOKUP($A487,'8.Non-elective admissions - CCG'!$D$5:$Q$215,14,0)*$H487","v":16.012395337383026}]
["08M","NHS Newham CCG","E09000031","Waltham Forest",{"$f":"COUNTIF($D$5:D488,D488)","v":2},"Waltham Forest2","NHS Newham CCG",9.7384118644995368E-3,1.2365066515650027E-2,{"$f":"VLOOKUP($A488,'8.Non-elective admissions - CCG'!$D$5:$N$215,3,0)*$H488","v":72.463522683741047},{"$f":"VLOOKUP($A488,'8.Non-elective admissions - CCG'!$D$5:$N$215,4,0)*$H488","v":74.265128878673465},{"$f":"VLOOKUP($A488,'8.Non-elective admissions - CCG'!$D$5:$N$215,5,0)*$H488","v":78.793490395665756},{"$f":"VLOOKUP($A488,'8.Non-elective admissions - CCG'!$D$5:$N$215,6,0)*$H488","v":76.397841076998873},{"$f":"VLOOKUP($A488,'8.Non-elective admissions - CCG'!$D$5:$N$215,7,0)*$H488","v":72.297969682044567},{"$f":"VLOOKUP($A488,'8.Non-elective admissions - CCG'!$D$5:$N$215,8,0)*$H488","v":73.622393695616495},{"$f":"VLOOKUP($A488,'8.Non-elective admissions - CCG'!$D$5:$N$215,9,0)*$H488","v":77.595665736332307},{"$f":"VLOOKUP($A488,'8.Non-elective admissions - CCG'!$D$5:$N$215,10,0)*$H488","v":74.664403765117953},{"$f":"VLOOKUP($A488,'8.Non-elective admissions - CCG'!$D$5:$Q$215,11,0)*$H488","v":71.56758879220709},{"$f":"VLOOKUP($A488,'8.Non-elective admissions - CCG'!$D$5:$Q$215,12,0)*$H488","v":72.882274393914528},{"$f":"VLOOKUP($A488,'8.Non-elective admissions - CCG'!$D$5:$Q$215,13,0)*$H488","v":76.865284846494845},{"$f":"VLOOKUP($A488,'8.Non-elective admissions - CCG'!$D$5:$Q$215,14,0)*$H488","v":73.914546051551483}]
["10N","NHS North & West Reading CCG","E10000014","Hampshire",{"$f":"COUNTIF($D$5:D489,D489)","v":7},"Hampshire7","NHS North & West Reading CCG",9.7018826053864686E-3,0,{"$f":"VLOOKUP($A489,'8.Non-elective admissions - CCG'!$D$5:$N$215,3,0)*$H489","v":17.075313385480186},{"$f":"VLOOKUP($A489,'8.Non-elective admissions - CCG'!$D$5:$N$215,4,0)*$H489","v":17.201437859350207},{"$f":"VLOOKUP($A489,'8.Non-elective admissions - CCG'!$D$5:$N$215,5,0)*$H489","v":17.618618811381825},{"$f":"VLOOKUP($A489,'8.Non-elective admissions - CCG'!$D$5:$N$215,6,0)*$H489","v":16.823064437740136},{"$f":"VLOOKUP($A489,'8.Non-elective admissions - CCG'!$D$5:$N$215,7,0)*$H489","v":17.41487927666871},{"$f":"VLOOKUP($A489,'8.Non-elective admissions - CCG'!$D$5:$N$215,8,0)*$H489","v":16.871573850767067},{"$f":"VLOOKUP($A489,'8.Non-elective admissions - CCG'!$D$5:$N$215,9,0)*$H489","v":17.66712822440876},{"$f":"VLOOKUP($A489,'8.Non-elective admissions - CCG'!$D$5:$N$215,10,0)*$H489","v":16.473796663946224},{"$f":"VLOOKUP($A489,'8.Non-elective admissions - CCG'!$D$5:$Q$215,11,0)*$H489","v":17.143226563717889},{"$f":"VLOOKUP($A489,'8.Non-elective admissions - CCG'!$D$5:$Q$215,12,0)*$H489","v":16.949188911610161},{"$f":"VLOOKUP($A489,'8.Non-elective admissions - CCG'!$D$5:$Q$215,13,0)*$H489","v":17.735041402646466},{"$f":"VLOOKUP($A489,'8.Non-elective admissions - CCG'!$D$5:$Q$215,14,0)*$H489","v":16.910381381188614}]
["10N","NHS North & West Reading CCG","E10000025","Oxfordshire",{"$f":"COUNTIF($D$5:D490,D490)","v":5},"Oxfordshire5","NHS North & West Reading CCG",2.0119026877332621E-2,3.1009987081527714E-3,{"$f":"VLOOKUP($A490,'8.Non-elective admissions - CCG'!$D$5:$N$215,3,0)*$H490","v":35.409487304105411},{"$f":"VLOOKUP($A490,'8.Non-elective admissions - CCG'!$D$5:$N$215,4,0)*$H490","v":35.671034653510738},{"$f":"VLOOKUP($A490,'8.Non-elective admissions - CCG'!$D$5:$N$215,5,0)*$H490","v":36.536152809236043},{"$f":"VLOOKUP($A490,'8.Non-elective admissions - CCG'!$D$5:$N$215,6,0)*$H490","v":34.886392605294766},{"$f":"VLOOKUP($A490,'8.Non-elective admissions - CCG'!$D$5:$N$215,7,0)*$H490","v":36.113653244812056},{"$f":"VLOOKUP($A490,'8.Non-elective admissions - CCG'!$D$5:$N$215,8,0)*$H490","v":34.986987739681432},{"$f":"VLOOKUP($A490,'8.Non-elective admissions - CCG'!$D$5:$N$215,9,0)*$H490","v":36.636747943622701},{"$f":"VLOOKUP($A490,'8.Non-elective admissions - CCG'!$D$5:$N$215,10,0)*$H490","v":34.16210763771079},{"$f":"VLOOKUP($A490,'8.Non-elective admissions - CCG'!$D$5:$Q$215,11,0)*$H490","v":35.55032049224674},{"$f":"VLOOKUP($A490,'8.Non-elective admissions - CCG'!$D$5:$Q$215,12,0)*$H490","v":35.147939954700092},{"$f":"VLOOKUP($A490,'8.Non-elective admissions - CCG'!$D$5:$Q$215,13,0)*$H490","v":36.77758113176403},{"$f":"VLOOKUP($A490,'8.Non-elective admissions - CCG'!$D$5:$Q$215,14,0)*$H490","v":35.067463847190758}]
["10N","NHS North & West Reading CCG","E06000038","Reading",{"$f":"COUNTIF($D$5:D491,D491)","v":1},"Reading1","NHS North & West Reading CCG",0.61342857928858963,0.37279039700407923,{"$f":"VLOOKUP($A491,'8.Non-elective admissions - CCG'!$D$5:$N$215,3,0)*$H491","v":1079.6342995479176},{"$f":"VLOOKUP($A491,'8.Non-elective admissions - CCG'!$D$5:$N$215,4,0)*$H491","v":1087.6088710786694},{"$f":"VLOOKUP($A491,'8.Non-elective admissions - CCG'!$D$5:$N$215,5,0)*$H491","v":1113.9862999880788},{"$f":"VLOOKUP($A491,'8.Non-elective admissions - CCG'!$D$5:$N$215,6,0)*$H491","v":1063.6851564864144},{"$f":"VLOOKUP($A491,'8.Non-elective admissions - CCG'!$D$5:$N$215,7,0)*$H491","v":1101.1042998230184},{"$f":"VLOOKUP($A491,'8.Non-elective admissions - CCG'!$D$5:$N$215,8,0)*$H491","v":1066.7522993828575},{"$f":"VLOOKUP($A491,'8.Non-elective admissions - CCG'!$D$5:$N$215,9,0)*$H491","v":1117.0534428845217},{"$f":"VLOOKUP($A491,'8.Non-elective admissions - CCG'!$D$5:$N$215,10,0)*$H491","v":1041.6017276320251},{"$f":"VLOOKUP($A491,'8.Non-elective admissions - CCG'!$D$5:$Q$215,11,0)*$H491","v":1083.9282996029378},{"$f":"VLOOKUP($A491,'8.Non-elective admissions - CCG'!$D$5:$Q$215,12,0)*$H491","v":1071.6597280171661},{"$f":"VLOOKUP($A491,'8.Non-elective admissions - CCG'!$D$5:$Q$215,13,0)*$H491","v":1121.3474429395419},{"$f":"VLOOKUP($A491,'8.Non-elective admissions - CCG'!$D$5:$Q$215,14,0)*$H491","v":1069.2060137000117}]
["10N","NHS North & West Reading CCG","E06000037","West Berkshire",{"$f":"COUNTIF($D$5:D492,D492)","v":2},"West Berkshire2","NHS North & West Reading CCG",0.35532915791693792,0.23730754626851047,{"$f":"VLOOKUP($A492,'8.Non-elective admissions - CCG'!$D$5:$N$215,3,0)*$H492","v":625.37931793381074},{"$f":"VLOOKUP($A492,'8.Non-elective admissions - CCG'!$D$5:$N$215,4,0)*$H492","v":629.99859698673094},{"$f":"VLOOKUP($A492,'8.Non-elective admissions - CCG'!$D$5:$N$215,5,0)*$H492","v":645.27775077715921},{"$f":"VLOOKUP($A492,'8.Non-elective admissions - CCG'!$D$5:$N$215,6,0)*$H492","v":616.14075982797033},{"$f":"VLOOKUP($A492,'8.Non-elective admissions - CCG'!$D$5:$N$215,7,0)*$H492","v":637.81583846090359},{"$f":"VLOOKUP($A492,'8.Non-elective admissions - CCG'!$D$5:$N$215,8,0)*$H492","v":617.917405617555},{"$f":"VLOOKUP($A492,'8.Non-elective admissions - CCG'!$D$5:$N$215,9,0)*$H492","v":647.054396566744},{"$f":"VLOOKUP($A492,'8.Non-elective admissions - CCG'!$D$5:$N$215,10,0)*$H492","v":603.34891014296056},{"$f":"VLOOKUP($A492,'8.Non-elective admissions - CCG'!$D$5:$Q$215,11,0)*$H492","v":627.86662203922936},{"$f":"VLOOKUP($A492,'8.Non-elective admissions - CCG'!$D$5:$Q$215,12,0)*$H492","v":620.76003888089053},{"$f":"VLOOKUP($A492,'8.Non-elective admissions - CCG'!$D$5:$Q$215,13,0)*$H492","v":649.54170067216251},{"$f":"VLOOKUP($A492,'8.Non-elective admissions - CCG'!$D$5:$Q$215,14,0)*$H492","v":619.33872224922277}]
["10N","NHS North & West Reading CCG","E06000041","Wokingham",{"$f":"COUNTIF($D$5:D493,D493)","v":2},"Wokingham2","NHS North & West Reading CCG",1.4213533117532163E-3,9.2841612209570469E-4,{"$f":"VLOOKUP($A493,'8.Non-elective admissions - CCG'!$D$5:$N$215,3,0)*$H493","v":2.5015818286856608},{"$f":"VLOOKUP($A493,'8.Non-elective admissions - CCG'!$D$5:$N$215,4,0)*$H493","v":2.5200594217384524},{"$f":"VLOOKUP($A493,'8.Non-elective admissions - CCG'!$D$5:$N$215,5,0)*$H493","v":2.5811776141438409},{"$f":"VLOOKUP($A493,'8.Non-elective admissions - CCG'!$D$5:$N$215,6,0)*$H493","v":2.4646266425800771},{"$f":"VLOOKUP($A493,'8.Non-elective admissions - CCG'!$D$5:$N$215,7,0)*$H493","v":2.5513291945970233},{"$f":"VLOOKUP($A493,'8.Non-elective admissions - CCG'!$D$5:$N$215,8,0)*$H493","v":2.4717334091388432},{"$f":"VLOOKUP($A493,'8.Non-elective admissions - CCG'!$D$5:$N$215,9,0)*$H493","v":2.588284380702607},{"$f":"VLOOKUP($A493,'8.Non-elective admissions - CCG'!$D$5:$N$215,10,0)*$H493","v":2.4134579233569613},{"$f":"VLOOKUP($A493,'8.Non-elective admissions - CCG'!$D$5:$Q$215,11,0)*$H493","v":2.5115313018679331},{"$f":"VLOOKUP($A493,'8.Non-elective admissions - CCG'!$D$5:$Q$215,12,0)*$H493","v":2.4831042356328688},{"$f":"VLOOKUP($A493,'8.Non-elective admissions - CCG'!$D$5:$Q$215,13,0)*$H493","v":2.5982338538848793},{"$f":"VLOOKUP($A493,'8.Non-elective admissions - CCG'!$D$5:$Q$215,14,0)*$H493","v":2.477418822385856}]
["04J","NHS North Derbyshire CCG","E06000049","Cheshire East",{"$f":"COUNTIF($D$5:D494,D494)","v":2},"Cheshire East2","NHS North Derbyshire CCG",3.5571717896610852E-3,2.6537488385022672E-3,{"$f":"VLOOKUP($A494,'8.Non-elective admissions - CCG'!$D$5:$N$215,3,0)*$H494","v":32.807795416044186},{"$f":"VLOOKUP($A494,'8.Non-elective admissions - CCG'!$D$5:$N$215,4,0)*$H494","v":32.124818432429258},{"$f":"VLOOKUP($A494,'8.Non-elective admissions - CCG'!$D$5:$N$215,5,0)*$H494","v":33.327142497334705},{"$f":"VLOOKUP($A494,'8.Non-elective admissions - CCG'!$D$5:$N$215,6,0)*$H494","v":34.212878272960317},{"$f":"VLOOKUP($A494,'8.Non-elective admissions - CCG'!$D$5:$N$215,7,0)*$H494","v":32.524211353795373},{"$f":"VLOOKUP($A494,'8.Non-elective admissions - CCG'!$D$5:$N$215,8,0)*$H494","v":32.94919536749466},{"$f":"VLOOKUP($A494,'8.Non-elective admissions - CCG'!$D$5:$N$215,9,0)*$H494","v":33.9248108425937},{"$f":"VLOOKUP($A494,'8.Non-elective admissions - CCG'!$D$5:$N$215,10,0)*$H494","v":33.769599289953696},{"$f":"VLOOKUP($A494,'8.Non-elective admissions - CCG'!$D$5:$Q$215,11,0)*$H494","v":32.336768642637452},{"$f":"VLOOKUP($A494,'8.Non-elective admissions - CCG'!$D$5:$Q$215,12,0)*$H494","v":32.759303398996089},{"$f":"VLOOKUP($A494,'8.Non-elective admissions - CCG'!$D$5:$Q$215,13,0)*$H494","v":33.729296231679669},{"$f":"VLOOKUP($A494,'8.Non-elective admissions - CCG'!$D$5:$Q$215,14,0)*$H494","v":33.574979189860095}]
["04J","NHS North Derbyshire CCG","E10000007","Derbyshire",{"$f":"COUNTIF($D$5:D495,D495)","v":7},"Derbyshire7","NHS North Derbyshire CCG",0.98302149138998818,0.36100045613501597,{"$f":"VLOOKUP($A495,'8.Non-elective admissions - CCG'!$D$5:$N$215,3,0)*$H495","v":9066.407215089861},{"$f":"VLOOKUP($A495,'8.Non-elective admissions - CCG'!$D$5:$N$215,4,0)*$H495","v":8877.6670887429827},{"$f":"VLOOKUP($A495,'8.Non-elective admissions - CCG'!$D$5:$N$215,5,0)*$H495","v":9209.9283528327996},{"$f":"VLOOKUP($A495,'8.Non-elective admissions - CCG'!$D$5:$N$215,6,0)*$H495","v":9454.7007041889065},{"$f":"VLOOKUP($A495,'8.Non-elective admissions - CCG'!$D$5:$N$215,7,0)*$H495","v":8988.0389932860944},{"$f":"VLOOKUP($A495,'8.Non-elective admissions - CCG'!$D$5:$N$215,8,0)*$H495","v":9105.4829750971003},{"$f":"VLOOKUP($A495,'8.Non-elective admissions - CCG'!$D$5:$N$215,9,0)*$H495","v":9375.0935073020628},{"$f":"VLOOKUP($A495,'8.Non-elective admissions - CCG'!$D$5:$N$215,10,0)*$H495","v":9332.2009226929658},{"$f":"VLOOKUP($A495,'8.Non-elective admissions - CCG'!$D$5:$Q$215,11,0)*$H495","v":8936.239354593301},{"$f":"VLOOKUP($A495,'8.Non-elective admissions - CCG'!$D$5:$Q$215,12,0)*$H495","v":9053.0064861574883},{"$f":"VLOOKUP($A495,'8.Non-elective admissions - CCG'!$D$5:$Q$215,13,0)*$H495","v":9321.0632057664825},{"$f":"VLOOKUP($A495,'8.Non-elective admissions - CCG'!$D$5:$Q$215,14,0)*$H495","v":9278.4178184851389}]
["04J","NHS North Derbyshire CCG","E08000019","Sheffield",{"$f":"COUNTIF($D$5:D496,D496)","v":3},"Sheffield3","NHS North Derbyshire CCG",6.3656468980840958E-3,3.2025578803753503E-3,{"$f":"VLOOKUP($A496,'8.Non-elective admissions - CCG'!$D$5:$N$215,3,0)*$H496","v":58.710361341029618},{"$f":"VLOOKUP($A496,'8.Non-elective admissions - CCG'!$D$5:$N$215,4,0)*$H496","v":57.488157136597472},{"$f":"VLOOKUP($A496,'8.Non-elective admissions - CCG'!$D$5:$N$215,5,0)*$H496","v":59.639745788149895},{"$f":"VLOOKUP($A496,'8.Non-elective admissions - CCG'!$D$5:$N$215,6,0)*$H496","v":61.224791865772836},{"$f":"VLOOKUP($A496,'8.Non-elective admissions - CCG'!$D$5:$N$215,7,0)*$H496","v":58.202880647674561},{"$f":"VLOOKUP($A496,'8.Non-elective admissions - CCG'!$D$5:$N$215,8,0)*$H496","v":58.963400051433226},{"$f":"VLOOKUP($A496,'8.Non-elective admissions - CCG'!$D$5:$N$215,9,0)*$H496","v":60.709288074282618},{"$f":"VLOOKUP($A496,'8.Non-elective admissions - CCG'!$D$5:$N$215,10,0)*$H496","v":60.431533161944301},{"$f":"VLOOKUP($A496,'8.Non-elective admissions - CCG'!$D$5:$Q$215,11,0)*$H496","v":57.867447279986521},{"$f":"VLOOKUP($A496,'8.Non-elective admissions - CCG'!$D$5:$Q$215,12,0)*$H496","v":58.623583677155956},{"$f":"VLOOKUP($A496,'8.Non-elective admissions - CCG'!$D$5:$Q$215,13,0)*$H496","v":60.359409842336554},{"$f":"VLOOKUP($A496,'8.Non-elective admissions - CCG'!$D$5:$Q$215,14,0)*$H496","v":60.08325567923557}]
["04J","NHS North Derbyshire CCG","E10000028","Staffordshire",{"$f":"COUNTIF($D$5:D497,D497)","v":6},"Staffordshire6","NHS North Derbyshire CCG",7.0556899222666532E-3,2.351461240559659E-3,{"$f":"VLOOKUP($A497,'8.Non-elective admissions - CCG'!$D$5:$N$215,3,0)*$H497","v":65.074628153065348},{"$f":"VLOOKUP($A497,'8.Non-elective admissions - CCG'!$D$5:$N$215,4,0)*$H497","v":63.719935687990144},{"$f":"VLOOKUP($A497,'8.Non-elective admissions - CCG'!$D$5:$N$215,5,0)*$H497","v":66.104758881716279},{"$f":"VLOOKUP($A497,'8.Non-elective admissions - CCG'!$D$5:$N$215,6,0)*$H497","v":67.861625672360674},{"$f":"VLOOKUP($A497,'8.Non-elective admissions - CCG'!$D$5:$N$215,7,0)*$H497","v":64.512136002436023},{"$f":"VLOOKUP($A497,'8.Non-elective admissions - CCG'!$D$5:$N$215,8,0)*$H497","v":65.355096533973409},{"$f":"VLOOKUP($A497,'8.Non-elective admissions - CCG'!$D$5:$N$215,9,0)*$H497","v":67.290240711061216},{"$f":"VLOOKUP($A497,'8.Non-elective admissions - CCG'!$D$5:$N$215,10,0)*$H497","v":66.982376865136089},{"$f":"VLOOKUP($A497,'8.Non-elective admissions - CCG'!$D$5:$Q$215,11,0)*$H497","v":64.140341294077189},{"$f":"VLOOKUP($A497,'8.Non-elective admissions - CCG'!$D$5:$Q$215,12,0)*$H497","v":64.978443696359847},{"$f":"VLOOKUP($A497,'8.Non-elective admissions - CCG'!$D$5:$Q$215,13,0)*$H497","v":66.902435299500411},{"$f":"VLOOKUP($A497,'8.Non-elective admissions - CCG'!$D$5:$Q$215,14,0)*$H497","v":66.596345725765175}]
["00J","NHS North Durham CCG","E06000047","County Durham",{"$f":"COUNTIF($D$5:D498,D498)","v":4},"County Durham4","NHS North Durham CCG",0.96633449288313011,0.45654894510473565,{"$f":"VLOOKUP($A498,'8.Non-elective admissions - CCG'!$D$5:$N$215,3,0)*$H498","v":6902.5272826641985},{"$f":"VLOOKUP($A498,'8.Non-elective admissions - CCG'!$D$5:$N$215,4,0)*$H498","v":6771.1057916320924},{"$f":"VLOOKUP($A498,'8.Non-elective admissions - CCG'!$D$5:$N$215,5,0)*$H498","v":7181.7979511074227},{"$f":"VLOOKUP($A498,'8.Non-elective admissions - CCG'!$D$5:$N$215,6,0)*$H498","v":6964.3726902087192},{"$f":"VLOOKUP($A498,'8.Non-elective admissions - CCG'!$D$5:$N$215,7,0)*$H498","v":6907.3589551286141},{"$f":"VLOOKUP($A498,'8.Non-elective admissions - CCG'!$D$5:$N$215,8,0)*$H498","v":6859.0422304844578},{"$f":"VLOOKUP($A498,'8.Non-elective admissions - CCG'!$D$5:$N$215,9,0)*$H498","v":6982.7330455734982},{"$f":"VLOOKUP($A498,'8.Non-elective admissions - CCG'!$D$5:$N$215,10,0)*$H498","v":7033.9487736963038},{"$f":"VLOOKUP($A498,'8.Non-elective admissions - CCG'!$D$5:$Q$215,11,0)*$H498","v":6907.3589551286141},{"$f":"VLOOKUP($A498,'8.Non-elective admissions - CCG'!$D$5:$Q$215,12,0)*$H498","v":6859.0422304844578},{"$f":"VLOOKUP($A498,'8.Non-elective admissions - CCG'!$D$5:$Q$215,13,0)*$H498","v":6982.7330455734982},{"$f":"VLOOKUP($A498,'8.Non-elective admissions - CCG'!$D$5:$Q$215,14,0)*$H498","v":7033.9487736963038}]
["00J","NHS North Durham CCG","E08000020","Gateshead",{"$f":"COUNTIF($D$5:D499,D499)","v":2},"Gateshead2","NHS North Durham CCG",8.2857279632348249E-3,1.0224123418017496E-2,{"$f":"VLOOKUP($A499,'8.Non-elective admissions - CCG'!$D$5:$N$215,3,0)*$H499","v":59.184954841386357},{"$f":"VLOOKUP($A499,'8.Non-elective admissions - CCG'!$D$5:$N$215,4,0)*$H499","v":58.058095838386421},{"$f":"VLOOKUP($A499,'8.Non-elective admissions - CCG'!$D$5:$N$215,5,0)*$H499","v":61.579530222761221},{"$f":"VLOOKUP($A499,'8.Non-elective admissions - CCG'!$D$5:$N$215,6,0)*$H499","v":59.715241431033384},{"$f":"VLOOKUP($A499,'8.Non-elective admissions - CCG'!$D$5:$N$215,7,0)*$H499","v":59.226383481202525},{"$f":"VLOOKUP($A499,'8.Non-elective admissions - CCG'!$D$5:$N$215,8,0)*$H499","v":58.81209708304079},{"$f":"VLOOKUP($A499,'8.Non-elective admissions - CCG'!$D$5:$N$215,9,0)*$H499","v":59.872670262334843},{"$f":"VLOOKUP($A499,'8.Non-elective admissions - CCG'!$D$5:$N$215,10,0)*$H499","v":60.311813844386293},{"$f":"VLOOKUP($A499,'8.Non-elective admissions - CCG'!$D$5:$Q$215,11,0)*$H499","v":59.226383481202525},{"$f":"VLOOKUP($A499,'8.Non-elective admissions - CCG'!$D$5:$Q$215,12,0)*$H499","v":58.81209708304079},{"$f":"VLOOKUP($A499,'8.Non-elective admissions - CCG'!$D$5:$Q$215,13,0)*$H499","v":59.872670262334843},{"$f":"VLOOKUP($A499,'8.Non-elective admissions - CCG'!$D$5:$Q$215,14,0)*$H499","v":60.311813844386293}]
["00J","NHS North Durham CCG","E06000048","Northumberland",{"$f":"COUNTIF($D$5:D500,D500)","v":3},"Northumberland3","NHS North Durham CCG",2.0544775643071425E-3,1.6161527405557056E-3,{"$f":"VLOOKUP($A500,'8.Non-elective admissions - CCG'!$D$5:$N$215,3,0)*$H500","v":14.67513324184592},{"$f":"VLOOKUP($A500,'8.Non-elective admissions - CCG'!$D$5:$N$215,4,0)*$H500","v":14.395724293100148},{"$f":"VLOOKUP($A500,'8.Non-elective admissions - CCG'!$D$5:$N$215,5,0)*$H500","v":15.268877257930683},{"$f":"VLOOKUP($A500,'8.Non-elective admissions - CCG'!$D$5:$N$215,6,0)*$H500","v":14.806619805961576},{"$f":"VLOOKUP($A500,'8.Non-elective admissions - CCG'!$D$5:$N$215,7,0)*$H500","v":14.685405629667455},{"$f":"VLOOKUP($A500,'8.Non-elective admissions - CCG'!$D$5:$N$215,8,0)*$H500","v":14.582681751452098},{"$f":"VLOOKUP($A500,'8.Non-elective admissions - CCG'!$D$5:$N$215,9,0)*$H500","v":14.845654879683412},{"$f":"VLOOKUP($A500,'8.Non-elective admissions - CCG'!$D$5:$N$215,10,0)*$H500","v":14.95454219059169},{"$f":"VLOOKUP($A500,'8.Non-elective admissions - CCG'!$D$5:$Q$215,11,0)*$H500","v":14.685405629667455},{"$f":"VLOOKUP($A500,'8.Non-elective admissions - CCG'!$D$5:$Q$215,12,0)*$H500","v":14.582681751452098},{"$f":"VLOOKUP($A500,'8.Non-elective admissions - CCG'!$D$5:$Q$215,13,0)*$H500","v":14.845654879683412},{"$f":"VLOOKUP($A500,'8.Non-elective admissions - CCG'!$D$5:$Q$215,14,0)*$H500","v":14.95454219059169}]
["00J","NHS North Durham CCG","E08000024","Sunderland",{"$f":"COUNTIF($D$5:D501,D501)","v":3},"Sunderland3","NHS North Durham CCG",2.3325301589327888E-2,2.0173964648120095E-2,{"$f":"VLOOKUP($A501,'8.Non-elective admissions - CCG'!$D$5:$N$215,3,0)*$H501","v":166.61262925256909},{"$f":"VLOOKUP($A501,'8.Non-elective admissions - CCG'!$D$5:$N$215,4,0)*$H501","v":163.44038823642052},{"$f":"VLOOKUP($A501,'8.Non-elective admissions - CCG'!$D$5:$N$215,5,0)*$H501","v":173.35364141188487},{"$f":"VLOOKUP($A501,'8.Non-elective admissions - CCG'!$D$5:$N$215,6,0)*$H501","v":168.10544855428608},{"$f":"VLOOKUP($A501,'8.Non-elective admissions - CCG'!$D$5:$N$215,7,0)*$H501","v":166.72925576051574},{"$f":"VLOOKUP($A501,'8.Non-elective admissions - CCG'!$D$5:$N$215,8,0)*$H501","v":165.56299068104934},{"$f":"VLOOKUP($A501,'8.Non-elective admissions - CCG'!$D$5:$N$215,9,0)*$H501","v":168.54862928448333},{"$f":"VLOOKUP($A501,'8.Non-elective admissions - CCG'!$D$5:$N$215,10,0)*$H501","v":169.7848702687177},{"$f":"VLOOKUP($A501,'8.Non-elective admissions - CCG'!$D$5:$Q$215,11,0)*$H501","v":166.72925576051574},{"$f":"VLOOKUP($A501,'8.Non-elective admissions - CCG'!$D$5:$Q$215,12,0)*$H501","v":165.56299068104934},{"$f":"VLOOKUP($A501,'8.Non-elective admissions - CCG'!$D$5:$Q$215,13,0)*$H501","v":168.54862928448333},{"$f":"VLOOKUP($A501,'8.Non-elective admissions - CCG'!$D$5:$Q$215,14,0)*$H501","v":169.7848702687177}]
["06T","NHS North East Essex CCG","E10000012","Essex",{"$f":"COUNTIF($D$5:D502,D502)","v":8},"Essex8","NHS North East Essex CCG",0.98684877601274679,0.22210706193661262,{"$f":"VLOOKUP($A502,'8.Non-elective admissions - CCG'!$D$5:$N$215,3,0)*$H502","v":7907.6192421901396},{"$f":"VLOOKUP($A502,'8.Non-elective admissions - CCG'!$D$5:$N$215,4,0)*$H502","v":8083.2783243204085},{"$f":"VLOOKUP($A502,'8.Non-elective admissions - CCG'!$D$5:$N$215,5,0)*$H502","v":9263.5494604316536},{"$f":"VLOOKUP($A502,'8.Non-elective admissions - CCG'!$D$5:$N$215,6,0)*$H502","v":9066.179705229104},{"$f":"VLOOKUP($A502,'8.Non-elective admissions - CCG'!$D$5:$N$215,7,0)*$H502","v":8556.9657368065273},{"$f":"VLOOKUP($A502,'8.Non-elective admissions - CCG'!$D$5:$N$215,8,0)*$H502","v":8562.8868294626045},{"$f":"VLOOKUP($A502,'8.Non-elective admissions - CCG'!$D$5:$N$215,9,0)*$H502","v":8560.9131319105782},{"$f":"VLOOKUP($A502,'8.Non-elective admissions - CCG'!$D$5:$N$215,10,0)*$H502","v":8562.8868294626045},{"$f":"VLOOKUP($A502,'8.Non-elective admissions - CCG'!$D$5:$Q$215,11,0)*$H502","v":8693.877188595432},{"$f":"VLOOKUP($A502,'8.Non-elective admissions - CCG'!$D$5:$Q$215,12,0)*$H502","v":8699.8930187340065},{"$f":"VLOOKUP($A502,'8.Non-elective admissions - CCG'!$D$5:$Q$215,13,0)*$H502","v":8697.8877420211466},{"$f":"VLOOKUP($A502,'8.Non-elective admissions - CCG'!$D$5:$Q$215,14,0)*$H502","v":8699.8930187340065}]
["06T","NHS North East Essex CCG","E10000029","Suffolk",{"$f":"COUNTIF($D$5:D503,D503)","v":4},"Suffolk4","NHS North East Essex CCG",1.3151223987253149E-2,5.8454902002865053E-3,{"$f":"VLOOKUP($A503,'8.Non-elective admissions - CCG'!$D$5:$N$215,3,0)*$H503","v":105.38075780985949},{"$f":"VLOOKUP($A503,'8.Non-elective admissions - CCG'!$D$5:$N$215,4,0)*$H503","v":107.72167567959055},{"$f":"VLOOKUP($A503,'8.Non-elective admissions - CCG'!$D$5:$N$215,5,0)*$H503","v":123.45053956834531},{"$f":"VLOOKUP($A503,'8.Non-elective admissions - CCG'!$D$5:$N$215,6,0)*$H503","v":120.82029477089468},{"$f":"VLOOKUP($A503,'8.Non-elective admissions - CCG'!$D$5:$N$215,7,0)*$H503","v":114.03426319347206},{"$f":"VLOOKUP($A503,'8.Non-elective admissions - CCG'!$D$5:$N$215,8,0)*$H503","v":114.11317053739558},{"$f":"VLOOKUP($A503,'8.Non-elective admissions - CCG'!$D$5:$N$215,9,0)*$H503","v":114.08686808942107},{"$f":"VLOOKUP($A503,'8.Non-elective admissions - CCG'!$D$5:$N$215,10,0)*$H503","v":114.11317053739558},{"$f":"VLOOKUP($A503,'8.Non-elective admissions - CCG'!$D$5:$Q$215,11,0)*$H503","v":115.85881140456762},{"$f":"VLOOKUP($A503,'8.Non-elective admissions - CCG'!$D$5:$Q$215,12,0)*$H503","v":115.9389812659939},{"$f":"VLOOKUP($A503,'8.Non-elective admissions - CCG'!$D$5:$Q$215,13,0)*$H503","v":115.9122579788518},{"$f":"VLOOKUP($A503,'8.Non-elective admissions - CCG'!$D$5:$Q$215,14,0)*$H503","v":115.9389812659939}]
["99M","NHS North East Hampshire and Farnham CCG","E06000036","Bracknell Forest",{"$f":"COUNTIF($D$5:D504,D504)","v":2},"Bracknell Forest2","NHS North East Hampshire and Farnham CCG",5.6839075502449253E-3,1.0484093820916271E-2,{"$f":"VLOOKUP($A504,'8.Non-elective admissions - CCG'!$D$5:$N$215,3,0)*$H504","v":25.46958973264751},{"$f":"VLOOKUP($A504,'8.Non-elective admissions - CCG'!$D$5:$N$215,4,0)*$H504","v":25.770836832810492},{"$f":"VLOOKUP($A504,'8.Non-elective admissions - CCG'!$D$5:$N$215,5,0)*$H504","v":26.560899982294536},{"$f":"VLOOKUP($A504,'8.Non-elective admissions - CCG'!$D$5:$N$215,6,0)*$H504","v":25.458221917547021},{"$f":"VLOOKUP($A504,'8.Non-elective admissions - CCG'!$D$5:$N$215,7,0)*$H504","v":24.310072592397546},{"$f":"VLOOKUP($A504,'8.Non-elective admissions - CCG'!$D$5:$N$215,8,0)*$H504","v":24.1395553658902},{"$f":"VLOOKUP($A504,'8.Non-elective admissions - CCG'!$D$5:$N$215,9,0)*$H504","v":25.196762170235754},{"$f":"VLOOKUP($A504,'8.Non-elective admissions - CCG'!$D$5:$N$215,10,0)*$H504","v":24.753417381316648},{"$f":"VLOOKUP($A504,'8.Non-elective admissions - CCG'!$D$5:$Q$215,11,0)*$H504","v":23.156239359697825},{"$f":"VLOOKUP($A504,'8.Non-elective admissions - CCG'!$D$5:$Q$215,12,0)*$H504","v":23.002773855841212},{"$f":"VLOOKUP($A504,'8.Non-elective admissions - CCG'!$D$5:$Q$215,13,0)*$H504","v":24.031561122435544},{"$f":"VLOOKUP($A504,'8.Non-elective admissions - CCG'!$D$5:$Q$215,14,0)*$H504","v":23.900831248779912}]
["99M","NHS North East Hampshire and Farnham CCG","E10000014","Hampshire",{"$f":"COUNTIF($D$5:D505,D505)","v":8},"Hampshire8","NHS North East Hampshire and Farnham CCG",0.76365477071425647,0.12389125681007507,{"$f":"VLOOKUP($A505,'8.Non-elective admissions - CCG'!$D$5:$N$215,3,0)*$H505","v":3421.9370275705833},{"$f":"VLOOKUP($A505,'8.Non-elective admissions - CCG'!$D$5:$N$215,4,0)*$H505","v":3462.410730418439},{"$f":"VLOOKUP($A505,'8.Non-elective admissions - CCG'!$D$5:$N$215,5,0)*$H505","v":3568.5587435477205},{"$f":"VLOOKUP($A505,'8.Non-elective admissions - CCG'!$D$5:$N$215,6,0)*$H505","v":3420.4097180291546},{"$f":"VLOOKUP($A505,'8.Non-elective admissions - CCG'!$D$5:$N$215,7,0)*$H505","v":3266.1514543448748},{"$f":"VLOOKUP($A505,'8.Non-elective admissions - CCG'!$D$5:$N$215,8,0)*$H505","v":3243.2418112234473},{"$f":"VLOOKUP($A505,'8.Non-elective admissions - CCG'!$D$5:$N$215,9,0)*$H505","v":3385.2815985762991},{"$f":"VLOOKUP($A505,'8.Non-elective admissions - CCG'!$D$5:$N$215,10,0)*$H505","v":3325.7165264605869},{"$f":"VLOOKUP($A505,'8.Non-elective admissions - CCG'!$D$5:$Q$215,11,0)*$H505","v":3111.129535889881},{"$f":"VLOOKUP($A505,'8.Non-elective admissions - CCG'!$D$5:$Q$215,12,0)*$H505","v":3090.510857080596},{"$f":"VLOOKUP($A505,'8.Non-elective admissions - CCG'!$D$5:$Q$215,13,0)*$H505","v":3228.7323705798763},{"$f":"VLOOKUP($A505,'8.Non-elective admissions - CCG'!$D$5:$Q$215,14,0)*$H505","v":3211.1683108534485}]
["99M","NHS North East Hampshire and Farnham CCG","E10000030","Surrey",{"$f":"COUNTIF($D$5:D506,D506)","v":12},"Surrey12","NHS North East Hampshire and Farnham CCG",0.2306613217354985,4.1897630847633732E-2,{"$f":"VLOOKUP($A506,'8.Non-elective admissions - CCG'!$D$5:$N$215,3,0)*$H506","v":1033.5933826967687},{"$f":"VLOOKUP($A506,'8.Non-elective admissions - CCG'!$D$5:$N$215,4,0)*$H506","v":1045.8184327487502},{"$f":"VLOOKUP($A506,'8.Non-elective admissions - CCG'!$D$5:$N$215,5,0)*$H506","v":1077.8803564699845},{"$f":"VLOOKUP($A506,'8.Non-elective admissions - CCG'!$D$5:$N$215,6,0)*$H506","v":1033.1320600532977},{"$f":"VLOOKUP($A506,'8.Non-elective admissions - CCG'!$D$5:$N$215,7,0)*$H506","v":986.53847306272712},{"$f":"VLOOKUP($A506,'8.Non-elective admissions - CCG'!$D$5:$N$215,8,0)*$H506","v":979.61863341066214},{"$f":"VLOOKUP($A506,'8.Non-elective admissions - CCG'!$D$5:$N$215,9,0)*$H506","v":1022.5216392534649},{"$f":"VLOOKUP($A506,'8.Non-elective admissions - CCG'!$D$5:$N$215,10,0)*$H506","v":1004.5300561580959},{"$f":"VLOOKUP($A506,'8.Non-elective admissions - CCG'!$D$5:$Q$215,11,0)*$H506","v":939.71422475042084},{"$f":"VLOOKUP($A506,'8.Non-elective admissions - CCG'!$D$5:$Q$215,12,0)*$H506","v":933.48636906356239},{"$f":"VLOOKUP($A506,'8.Non-elective admissions - CCG'!$D$5:$Q$215,13,0)*$H506","v":975.23606829768767},{"$f":"VLOOKUP($A506,'8.Non-elective admissions - CCG'!$D$5:$Q$215,14,0)*$H506","v":969.93085789777115}]
["03H","NHS North East Lincolnshire CCG","E10000019","Lincolnshire",{"$f":"COUNTIF($D$5:D507,D507)","v":6},"Lincolnshire6","NHS North East Lincolnshire CCG",2.6350468954054376E-2,5.9220145789086083E-3,{"$f":"VLOOKUP($A507,'8.Non-elective admissions - CCG'!$D$5:$N$215,3,0)*$H507","v":92.964454469903842},{"$f":"VLOOKUP($A507,'8.Non-elective admissions - CCG'!$D$5:$N$215,4,0)*$H507","v":95.652202303217379},{"$f":"VLOOKUP($A507,'8.Non-elective admissions - CCG'!$D$5:$N$215,5,0)*$H507","v":95.863006054849819},{"$f":"VLOOKUP($A507,'8.Non-elective admissions - CCG'!$D$5:$N$215,6,0)*$H507","v":99.710174522141756},{"$f":"VLOOKUP($A507,'8.Non-elective admissions - CCG'!$D$5:$N$215,7,0)*$H507","v":93.860370414341688},{"$f":"VLOOKUP($A507,'8.Non-elective admissions - CCG'!$D$5:$N$215,8,0)*$H507","v":95.494099489493053},{"$f":"VLOOKUP($A507,'8.Non-elective admissions - CCG'!$D$5:$N$215,9,0)*$H507","v":94.67723495191737},{"$f":"VLOOKUP($A507,'8.Non-elective admissions - CCG'!$D$5:$N$215,10,0)*$H507","v":92.437445090822749},{"$f":"VLOOKUP($A507,'8.Non-elective admissions - CCG'!$D$5:$Q$215,11,0)*$H507","v":93.043505876766005},{"$f":"VLOOKUP($A507,'8.Non-elective admissions - CCG'!$D$5:$Q$215,12,0)*$H507","v":95.546800427401166},{"$f":"VLOOKUP($A507,'8.Non-elective admissions - CCG'!$D$5:$Q$215,13,0)*$H507","v":95.494099489493053},{"$f":"VLOOKUP($A507,'8.Non-elective admissions - CCG'!$D$5:$Q$215,14,0)*$H507","v":92.990804938857892}]
["03H","NHS North East Lincolnshire CCG","E06000012","North East Lincolnshire",{"$f":"COUNTIF($D$5:D508,D508)","v":2},"North East Lincolnshire2","NHS North East Lincolnshire CCG",0.95977086548735613,0.98670824662366274,{"$f":"VLOOKUP($A508,'8.Non-elective admissions - CCG'!$D$5:$N$215,3,0)*$H508","v":3386.0716134393924},{"$f":"VLOOKUP($A508,'8.Non-elective admissions - CCG'!$D$5:$N$215,4,0)*$H508","v":3483.9682417191029},{"$f":"VLOOKUP($A508,'8.Non-elective admissions - CCG'!$D$5:$N$215,5,0)*$H508","v":3491.6464086430015},{"$f":"VLOOKUP($A508,'8.Non-elective admissions - CCG'!$D$5:$N$215,6,0)*$H508","v":3631.7729550041554},{"$f":"VLOOKUP($A508,'8.Non-elective admissions - CCG'!$D$5:$N$215,7,0)*$H508","v":3418.7038228659626},{"$f":"VLOOKUP($A508,'8.Non-elective admissions - CCG'!$D$5:$N$215,8,0)*$H508","v":3478.2096165261787},{"$f":"VLOOKUP($A508,'8.Non-elective admissions - CCG'!$D$5:$N$215,9,0)*$H508","v":3448.4567196960706},{"$f":"VLOOKUP($A508,'8.Non-elective admissions - CCG'!$D$5:$N$215,10,0)*$H508","v":3366.8761961296455},{"$f":"VLOOKUP($A508,'8.Non-elective admissions - CCG'!$D$5:$Q$215,11,0)*$H508","v":3388.9509260358545},{"$f":"VLOOKUP($A508,'8.Non-elective admissions - CCG'!$D$5:$Q$215,12,0)*$H508","v":3480.1291582571534},{"$f":"VLOOKUP($A508,'8.Non-elective admissions - CCG'!$D$5:$Q$215,13,0)*$H508","v":3478.2096165261787},{"$f":"VLOOKUP($A508,'8.Non-elective admissions - CCG'!$D$5:$Q$215,14,0)*$H508","v":3387.0313843048798}]
["03H","NHS North East Lincolnshire CCG","E06000013","North Lincolnshire",{"$f":"COUNTIF($D$5:D509,D509)","v":5},"North Lincolnshire5","NHS North East Lincolnshire CCG",1.3878665558589577E-2,1.3697907817415913E-2,{"$f":"VLOOKUP($A509,'8.Non-elective admissions - CCG'!$D$5:$N$215,3,0)*$H509","v":48.963932090704027},{"$f":"VLOOKUP($A509,'8.Non-elective admissions - CCG'!$D$5:$N$215,4,0)*$H509","v":50.37955597768017},{"$f":"VLOOKUP($A509,'8.Non-elective admissions - CCG'!$D$5:$N$215,5,0)*$H509","v":50.49058530214888},{"$f":"VLOOKUP($A509,'8.Non-elective admissions - CCG'!$D$5:$N$215,6,0)*$H509","v":52.516870473702959},{"$f":"VLOOKUP($A509,'8.Non-elective admissions - CCG'!$D$5:$N$215,7,0)*$H509","v":49.435806719696075},{"$f":"VLOOKUP($A509,'8.Non-elective admissions - CCG'!$D$5:$N$215,8,0)*$H509","v":50.296283984328632},{"$f":"VLOOKUP($A509,'8.Non-elective admissions - CCG'!$D$5:$N$215,9,0)*$H509","v":49.86604535201235},{"$f":"VLOOKUP($A509,'8.Non-elective admissions - CCG'!$D$5:$N$215,10,0)*$H509","v":48.686358779532235},{"$f":"VLOOKUP($A509,'8.Non-elective admissions - CCG'!$D$5:$Q$215,11,0)*$H509","v":49.0055680873798},{"$f":"VLOOKUP($A509,'8.Non-elective admissions - CCG'!$D$5:$Q$215,12,0)*$H509","v":50.324041315445811},{"$f":"VLOOKUP($A509,'8.Non-elective admissions - CCG'!$D$5:$Q$215,13,0)*$H509","v":50.296283984328632},{"$f":"VLOOKUP($A509,'8.Non-elective admissions - CCG'!$D$5:$Q$215,14,0)*$H509","v":48.97781075626262}]
["10J","NHS North Hampshire CCG","E10000014","Hampshire",{"$f":"COUNTIF($D$5:D510,D510)","v":9},"Hampshire9","NHS North Hampshire CCG",0.9914324330515657,0.15937987716270752,{"$f":"VLOOKUP($A510,'8.Non-elective admissions - CCG'!$D$5:$N$215,3,0)*$H510","v":4531.8376514787069},{"$f":"VLOOKUP($A510,'8.Non-elective admissions - CCG'!$D$5:$N$215,4,0)*$H510","v":4521.9233271481908},{"$f":"VLOOKUP($A510,'8.Non-elective admissions - CCG'!$D$5:$N$215,5,0)*$H510","v":4436.6601379057565},{"$f":"VLOOKUP($A510,'8.Non-elective admissions - CCG'!$D$5:$N$215,6,0)*$H510","v":4481.2745973930769},{"$f":"VLOOKUP($A510,'8.Non-elective admissions - CCG'!$D$5:$N$215,7,0)*$H510","v":4235.3993539962885},{"$f":"VLOOKUP($A510,'8.Non-elective admissions - CCG'!$D$5:$N$215,8,0)*$H510","v":4239.3650837284949},{"$f":"VLOOKUP($A510,'8.Non-elective admissions - CCG'!$D$5:$N$215,9,0)*$H510","v":4405.9257324811579},{"$f":"VLOOKUP($A510,'8.Non-elective admissions - CCG'!$D$5:$N$215,10,0)*$H510","v":4773.7471651432888},{"$f":"VLOOKUP($A510,'8.Non-elective admissions - CCG'!$D$5:$Q$215,11,0)*$H510","v":4138.2389755572349},{"$f":"VLOOKUP($A510,'8.Non-elective admissions - CCG'!$D$5:$Q$215,12,0)*$H510","v":4141.2132728563902},{"$f":"VLOOKUP($A510,'8.Non-elective admissions - CCG'!$D$5:$Q$215,13,0)*$H510","v":4297.859597278537},{"$f":"VLOOKUP($A510,'8.Non-elective admissions - CCG'!$D$5:$Q$215,14,0)*$H510","v":4694.4325704991634}]
["10J","NHS North Hampshire CCG","E10000030","Surrey",{"$f":"COUNTIF($D$5:D511,D511)","v":13},"Surrey13","NHS North Hampshire CCG",1.2828442489634161E-3,0,{"$f":"VLOOKUP($A511,'8.Non-elective admissions - CCG'!$D$5:$N$215,3,0)*$H511","v":5.8638810620117745},{"$f":"VLOOKUP($A511,'8.Non-elective admissions - CCG'!$D$5:$N$215,4,0)*$H511","v":5.8510526195221404},{"$f":"VLOOKUP($A511,'8.Non-elective admissions - CCG'!$D$5:$N$215,5,0)*$H511","v":5.7407280141112871},{"$f":"VLOOKUP($A511,'8.Non-elective admissions - CCG'!$D$5:$N$215,6,0)*$H511","v":5.798456005314641},{"$f":"VLOOKUP($A511,'8.Non-elective admissions - CCG'!$D$5:$N$215,7,0)*$H511","v":5.4803106315717134},{"$f":"VLOOKUP($A511,'8.Non-elective admissions - CCG'!$D$5:$N$215,8,0)*$H511","v":5.485442008567567},{"$f":"VLOOKUP($A511,'8.Non-elective admissions - CCG'!$D$5:$N$215,9,0)*$H511","v":5.7009598423934209},{"$f":"VLOOKUP($A511,'8.Non-elective admissions - CCG'!$D$5:$N$215,10,0)*$H511","v":6.1768950587588485},{"$f":"VLOOKUP($A511,'8.Non-elective admissions - CCG'!$D$5:$Q$215,11,0)*$H511","v":5.3545918951732983},{"$f":"VLOOKUP($A511,'8.Non-elective admissions - CCG'!$D$5:$Q$215,12,0)*$H511","v":5.3584404279201889},{"$f":"VLOOKUP($A511,'8.Non-elective admissions - CCG'!$D$5:$Q$215,13,0)*$H511","v":5.5611298192564087},{"$f":"VLOOKUP($A511,'8.Non-elective admissions - CCG'!$D$5:$Q$215,14,0)*$H511","v":6.0742675188417747}]
["10J","NHS North Hampshire CCG","E06000037","West Berkshire",{"$f":"COUNTIF($D$5:D512,D512)","v":3},"West Berkshire3","NHS North Hampshire CCG",7.2847226994708263E-3,9.7375157698761684E-3,{"$f":"VLOOKUP($A512,'8.Non-elective admissions - CCG'!$D$5:$N$215,3,0)*$H512","v":33.298467459281149},{"$f":"VLOOKUP($A512,'8.Non-elective admissions - CCG'!$D$5:$N$215,4,0)*$H512","v":33.225620232286438},{"$f":"VLOOKUP($A512,'8.Non-elective admissions - CCG'!$D$5:$N$215,5,0)*$H512","v":32.599134080131947},{"$f":"VLOOKUP($A512,'8.Non-elective admissions - CCG'!$D$5:$N$215,6,0)*$H512","v":32.926946601608137},{"$f":"VLOOKUP($A512,'8.Non-elective admissions - CCG'!$D$5:$N$215,7,0)*$H512","v":31.120335372139369},{"$f":"VLOOKUP($A512,'8.Non-elective admissions - CCG'!$D$5:$N$215,8,0)*$H512","v":31.149474262937254},{"$f":"VLOOKUP($A512,'8.Non-elective admissions - CCG'!$D$5:$N$215,9,0)*$H512","v":32.373307676448356},{"$f":"VLOOKUP($A512,'8.Non-elective admissions - CCG'!$D$5:$N$215,10,0)*$H512","v":35.075939797952032},{"$f":"VLOOKUP($A512,'8.Non-elective admissions - CCG'!$D$5:$Q$215,11,0)*$H512","v":30.40643254759123},{"$f":"VLOOKUP($A512,'8.Non-elective admissions - CCG'!$D$5:$Q$215,12,0)*$H512","v":30.428286715689641},{"$f":"VLOOKUP($A512,'8.Non-elective admissions - CCG'!$D$5:$Q$215,13,0)*$H512","v":31.579272902206032},{"$f":"VLOOKUP($A512,'8.Non-elective admissions - CCG'!$D$5:$Q$215,14,0)*$H512","v":34.493161981994362}]
["03J","NHS North Kirklees CCG","E08000032","Bradford",{"$f":"COUNTIF($D$5:D513,D513)","v":7},"Bradford7","NHS North Kirklees CCG",1.0776376907763771E-3,0,{"$f":"VLOOKUP($A513,'8.Non-elective admissions - CCG'!$D$5:$N$215,3,0)*$H513","v":5.7610510948905116},{"$f":"VLOOKUP($A513,'8.Non-elective admissions - CCG'!$D$5:$N$215,4,0)*$H513","v":5.6791506303915069},{"$f":"VLOOKUP($A513,'8.Non-elective admissions - CCG'!$D$5:$N$215,5,0)*$H513","v":5.9862773722627747},{"$f":"VLOOKUP($A513,'8.Non-elective admissions - CCG'!$D$5:$N$215,6,0)*$H513","v":5.6910046449900475},{"$f":"VLOOKUP($A513,'8.Non-elective admissions - CCG'!$D$5:$N$215,7,0)*$H513","v":5.6489767750497686},{"$f":"VLOOKUP($A513,'8.Non-elective admissions - CCG'!$D$5:$N$215,8,0)*$H513","v":5.5681539482415401},{"$f":"VLOOKUP($A513,'8.Non-elective admissions - CCG'!$D$5:$N$215,9,0)*$H513","v":5.8709701393497022},{"$f":"VLOOKUP($A513,'8.Non-elective admissions - CCG'!$D$5:$N$215,10,0)*$H513","v":5.5142720637027214},{"$f":"VLOOKUP($A513,'8.Non-elective admissions - CCG'!$D$5:$Q$215,11,0)*$H513","v":5.5929396151293966},{"$f":"VLOOKUP($A513,'8.Non-elective admissions - CCG'!$D$5:$Q$215,12,0)*$H513","v":5.5131944260119452},{"$f":"VLOOKUP($A513,'8.Non-elective admissions - CCG'!$D$5:$Q$215,13,0)*$H513","v":5.8127777040477779},{"$f":"VLOOKUP($A513,'8.Non-elective admissions - CCG'!$D$5:$Q$215,14,0)*$H513","v":5.4593125414731265}]
["03J","NHS North Kirklees CCG","E08000034","Kirklees",{"$f":"COUNTIF($D$5:D514,D514)","v":6},"Kirklees6","NHS North Kirklees CCG",0.98987657597876588,0.4248849879348412,{"$f":"VLOOKUP($A514,'8.Non-elective admissions - CCG'!$D$5:$N$215,3,0)*$H514","v":5291.8801751824822},{"$f":"VLOOKUP($A514,'8.Non-elective admissions - CCG'!$D$5:$N$215,4,0)*$H514","v":5216.6495554080966},{"$f":"VLOOKUP($A514,'8.Non-elective admissions - CCG'!$D$5:$N$215,5,0)*$H514","v":5498.7643795620443},{"$f":"VLOOKUP($A514,'8.Non-elective admissions - CCG'!$D$5:$N$215,6,0)*$H514","v":5227.5381977438628},{"$f":"VLOOKUP($A514,'8.Non-elective admissions - CCG'!$D$5:$N$215,7,0)*$H514","v":5188.9330112806911},{"$f":"VLOOKUP($A514,'8.Non-elective admissions - CCG'!$D$5:$N$215,8,0)*$H514","v":5114.6922680822836},{"$f":"VLOOKUP($A514,'8.Non-elective admissions - CCG'!$D$5:$N$215,9,0)*$H514","v":5392.8475859323162},{"$f":"VLOOKUP($A514,'8.Non-elective admissions - CCG'!$D$5:$N$215,10,0)*$H514","v":5065.1984392833447},{"$f":"VLOOKUP($A514,'8.Non-elective admissions - CCG'!$D$5:$Q$215,11,0)*$H514","v":5137.4594293297951},{"$f":"VLOOKUP($A514,'8.Non-elective admissions - CCG'!$D$5:$Q$215,12,0)*$H514","v":5064.2085627073666},{"$f":"VLOOKUP($A514,'8.Non-elective admissions - CCG'!$D$5:$Q$215,13,0)*$H514","v":5339.3942508294631},{"$f":"VLOOKUP($A514,'8.Non-elective admissions - CCG'!$D$5:$Q$215,14,0)*$H514","v":5014.7147339084277}]
["03J","NHS North Kirklees CCG","E08000035","Leeds",{"$f":"COUNTIF($D$5:D515,D515)","v":6},"Leeds6","NHS North Kirklees CCG",2.8453881884538818E-3,0,{"$f":"VLOOKUP($A515,'8.Non-elective admissions - CCG'!$D$5:$N$215,3,0)*$H515","v":15.211445255474452},{"$f":"VLOOKUP($A515,'8.Non-elective admissions - CCG'!$D$5:$N$215,4,0)*$H515","v":14.995195753151958},{"$f":"VLOOKUP($A515,'8.Non-elective admissions - CCG'!$D$5:$N$215,5,0)*$H515","v":15.806131386861313},{"$f":"VLOOKUP($A515,'8.Non-elective admissions - CCG'!$D$5:$N$215,6,0)*$H515","v":15.02649502322495},{"$f":"VLOOKUP($A515,'8.Non-elective admissions - CCG'!$D$5:$N$215,7,0)*$H515","v":14.915524883875248},{"$f":"VLOOKUP($A515,'8.Non-elective admissions - CCG'!$D$5:$N$215,8,0)*$H515","v":14.702120769741207},{"$f":"VLOOKUP($A515,'8.Non-elective admissions - CCG'!$D$5:$N$215,9,0)*$H515","v":15.501674850696748},{"$f":"VLOOKUP($A515,'8.Non-elective admissions - CCG'!$D$5:$N$215,10,0)*$H515","v":14.559851360318513},{"$f":"VLOOKUP($A515,'8.Non-elective admissions - CCG'!$D$5:$Q$215,11,0)*$H515","v":14.767564698075645},{"$f":"VLOOKUP($A515,'8.Non-elective admissions - CCG'!$D$5:$Q$215,12,0)*$H515","v":14.557005972130058},{"$f":"VLOOKUP($A515,'8.Non-elective admissions - CCG'!$D$5:$Q$215,13,0)*$H515","v":15.348023888520238},{"$f":"VLOOKUP($A515,'8.Non-elective admissions - CCG'!$D$5:$Q$215,14,0)*$H515","v":14.414736562707365}]
["03J","NHS North Kirklees CCG","E08000036","Wakefield",{"$f":"COUNTIF($D$5:D516,D516)","v":4},"Wakefield4","NHS North Kirklees CCG",6.2003981420039817E-3,3.3724475653700448E-3,{"$f":"VLOOKUP($A516,'8.Non-elective admissions - CCG'!$D$5:$N$215,3,0)*$H516","v":33.147328467153287},{"$f":"VLOOKUP($A516,'8.Non-elective admissions - CCG'!$D$5:$N$215,4,0)*$H516","v":32.676098208360983},{"$f":"VLOOKUP($A516,'8.Non-elective admissions - CCG'!$D$5:$N$215,5,0)*$H516","v":34.443211678832121},{"$f":"VLOOKUP($A516,'8.Non-elective admissions - CCG'!$D$5:$N$215,6,0)*$H516","v":32.744302587923031},{"$f":"VLOOKUP($A516,'8.Non-elective admissions - CCG'!$D$5:$N$215,7,0)*$H516","v":32.502487060384873},{"$f":"VLOOKUP($A516,'8.Non-elective admissions - CCG'!$D$5:$N$215,8,0)*$H516","v":32.037457199734575},{"$f":"VLOOKUP($A516,'8.Non-elective admissions - CCG'!$D$5:$N$215,9,0)*$H516","v":33.779769077637695},{"$f":"VLOOKUP($A516,'8.Non-elective admissions - CCG'!$D$5:$N$215,10,0)*$H516","v":31.727437292634374},{"$f":"VLOOKUP($A516,'8.Non-elective admissions - CCG'!$D$5:$Q$215,11,0)*$H516","v":32.180066357000662},{"$f":"VLOOKUP($A516,'8.Non-elective admissions - CCG'!$D$5:$Q$215,12,0)*$H516","v":31.721236894492371},{"$f":"VLOOKUP($A516,'8.Non-elective admissions - CCG'!$D$5:$Q$215,13,0)*$H516","v":33.444947577969479},{"$f":"VLOOKUP($A516,'8.Non-elective admissions - CCG'!$D$5:$Q$215,14,0)*$H516","v":31.411216987392173}]
["03K","NHS North Lincolnshire CCG","E10000019","Lincolnshire",{"$f":"COUNTIF($D$5:D517,D517)","v":7},{"$f":"D517&E517","v":"Lincolnshire7"},{"$f":"B517","v":"NHS North Lincolnshire CCG"},2.6550753260799285E-2,6.0260734068326612E-3,{"$f":"VLOOKUP($A517,'8.Non-elective admissions - CCG'!$D$5:$N$215,3,0)*$H517","v":115.62853045078089},{"$f":"VLOOKUP($A517,'8.Non-elective admissions - CCG'!$D$5:$N$215,4,0)*$H517","v":118.6287655692512},{"$f":"VLOOKUP($A517,'8.Non-elective admissions - CCG'!$D$5:$N$215,5,0)*$H517","v":123.64685793554227},{"$f":"VLOOKUP($A517,'8.Non-elective admissions - CCG'!$D$5:$N$215,6,0)*$H517","v":123.83271320836786},{"$f":"VLOOKUP($A517,'8.Non-elective admissions - CCG'!$D$5:$N$215,7,0)*$H517","v":110.00877510068045},{"$f":"VLOOKUP($A517,'8.Non-elective admissions - CCG'!$D$5:$N$215,8,0)*$H517","v":111.2334181306254},{"$f":"VLOOKUP($A517,'8.Non-elective admissions - CCG'!$D$5:$N$215,9,0)*$H517","v":111.2334181306254},{"$f":"VLOOKUP($A517,'8.Non-elective admissions - CCG'!$D$5:$N$215,10,0)*$H517","v":108.8106828213147},{"$f":"VLOOKUP($A517,'8.Non-elective admissions - CCG'!$D$5:$Q$215,11,0)*$H517","v":93.862141719629562},{"$f":"VLOOKUP($A517,'8.Non-elective admissions - CCG'!$D$5:$Q$215,12,0)*$H517","v":94.909349218115921},{"$f":"VLOOKUP($A517,'8.Non-elective admissions - CCG'!$D$5:$Q$215,13,0)*$H517","v":94.909349218115906},{"$f":"VLOOKUP($A517,'8.Non-elective admissions - CCG'!$D$5:$Q$215,14,0)*$H517","v":92.971055711910623}]
["03K","NHS North Lincolnshire CCG","E06000012","North East Lincolnshire",{"$f":"COUNTIF($D$5:D518,D518)","v":3},"North East Lincolnshire3","NHS North Lincolnshire CCG",1.252005854449911E-3,1.2998822172451041E-3,{"$f":"VLOOKUP($A518,'8.Non-elective admissions - CCG'!$D$5:$N$215,3,0)*$H518","v":5.4524854961293627},{"$f":"VLOOKUP($A518,'8.Non-elective admissions - CCG'!$D$5:$N$215,4,0)*$H518","v":5.5939621576822027},{"$f":"VLOOKUP($A518,'8.Non-elective admissions - CCG'!$D$5:$N$215,5,0)*$H518","v":5.8305912641732354},{"$f":"VLOOKUP($A518,'8.Non-elective admissions - CCG'!$D$5:$N$215,6,0)*$H518","v":5.8393553051543847},{"$f":"VLOOKUP($A518,'8.Non-elective admissions - CCG'!$D$5:$N$215,7,0)*$H518","v":5.1874848564190694},{"$f":"VLOOKUP($A518,'8.Non-elective admissions - CCG'!$D$5:$N$215,8,0)*$H518","v":5.2452331330137731},{"$f":"VLOOKUP($A518,'8.Non-elective admissions - CCG'!$D$5:$N$215,9,0)*$H518","v":5.2452331330137731},{"$f":"VLOOKUP($A518,'8.Non-elective admissions - CCG'!$D$5:$N$215,10,0)*$H518","v":5.1309885855523651},{"$f":"VLOOKUP($A518,'8.Non-elective admissions - CCG'!$D$5:$Q$215,11,0)*$H518","v":4.4260872672749834},{"$f":"VLOOKUP($A518,'8.Non-elective admissions - CCG'!$D$5:$Q$215,12,0)*$H518","v":4.4754685374050682},{"$f":"VLOOKUP($A518,'8.Non-elective admissions - CCG'!$D$5:$Q$215,13,0)*$H518","v":4.4754685374050682},{"$f":"VLOOKUP($A518,'8.Non-elective admissions - CCG'!$D$5:$Q$215,14,0)*$H518","v":4.384067935939111}]
["03K","NHS North Lincolnshire CCG","E06000013","North Lincolnshire",{"$f":"COUNTIF($D$5:D519,D519)","v":6},"North Lincolnshire6","NHS North Lincolnshire CCG",0.97219724088475079,0.96903030764633868,{"$f":"VLOOKUP($A519,'8.Non-elective admissions - CCG'!$D$5:$N$215,3,0)*$H519","v":4233.9189840530898},{"$f":"VLOOKUP($A519,'8.Non-elective admissions - CCG'!$D$5:$N$215,4,0)*$H519","v":4343.777272273067},{"$f":"VLOOKUP($A519,'8.Non-elective admissions - CCG'!$D$5:$N$215,5,0)*$H519","v":4527.5225508002841},{"$f":"VLOOKUP($A519,'8.Non-elective admissions - CCG'!$D$5:$N$215,6,0)*$H519","v":4534.3279314864776},{"$f":"VLOOKUP($A519,'8.Non-elective admissions - CCG'!$D$5:$N$215,7,0)*$H519","v":4028.1428769819004},{"$f":"VLOOKUP($A519,'8.Non-elective admissions - CCG'!$D$5:$N$215,8,0)*$H519","v":4072.9850915543611},{"$f":"VLOOKUP($A519,'8.Non-elective admissions - CCG'!$D$5:$N$215,9,0)*$H519","v":4072.9850915543611},{"$f":"VLOOKUP($A519,'8.Non-elective admissions - CCG'!$D$5:$N$215,10,0)*$H519","v":3984.2728595521335},{"$f":"VLOOKUP($A519,'8.Non-elective admissions - CCG'!$D$5:$Q$215,11,0)*$H519","v":3436.9087124200955},{"$f":"VLOOKUP($A519,'8.Non-elective admissions - CCG'!$D$5:$Q$215,12,0)*$H519","v":3475.253848268479},{"$f":"VLOOKUP($A519,'8.Non-elective admissions - CCG'!$D$5:$Q$215,13,0)*$H519","v":3475.2538482684786},{"$f":"VLOOKUP($A519,'8.Non-elective admissions - CCG'!$D$5:$Q$215,14,0)*$H519","v":3404.2802084531504}]
["01M","NHS North Manchester CCG","E08000002","Bury",{"$f":"COUNTIF($D$5:D520,D520)","v":5},"Bury5","NHS North Manchester CCG",2.0096458928562339E-2,1.9955093454162961E-2,{"$f":"VLOOKUP($A520,'8.Non-elective admissions - CCG'!$D$5:$N$215,3,0)*$H520","v":122.68888175887308},{"$f":"VLOOKUP($A520,'8.Non-elective admissions - CCG'!$D$5:$N$215,4,0)*$H520","v":123.11090739637289},{"$f":"VLOOKUP($A520,'8.Non-elective admissions - CCG'!$D$5:$N$215,5,0)*$H520","v":128.37617963565623},{"$f":"VLOOKUP($A520,'8.Non-elective admissions - CCG'!$D$5:$N$215,6,0)*$H520","v":128.2355044231563},{"$f":"VLOOKUP($A520,'8.Non-elective admissions - CCG'!$D$5:$N$215,7,0)*$H520","v":118.70978289101774},{"$f":"VLOOKUP($A520,'8.Non-elective admissions - CCG'!$D$5:$N$215,8,0)*$H520","v":119.67441291958873},{"$f":"VLOOKUP($A520,'8.Non-elective admissions - CCG'!$D$5:$N$215,9,0)*$H520","v":125.06026391244343},{"$f":"VLOOKUP($A520,'8.Non-elective admissions - CCG'!$D$5:$N$215,10,0)*$H520","v":123.03052156065864},{"$f":"VLOOKUP($A520,'8.Non-elective admissions - CCG'!$D$5:$Q$215,11,0)*$H520","v":115.49434946244776},{"$f":"VLOOKUP($A520,'8.Non-elective admissions - CCG'!$D$5:$Q$215,12,0)*$H520","v":116.53936532673301},{"$f":"VLOOKUP($A520,'8.Non-elective admissions - CCG'!$D$5:$Q$215,13,0)*$H520","v":121.80463756601634},{"$f":"VLOOKUP($A520,'8.Non-elective admissions - CCG'!$D$5:$Q$215,14,0)*$H520","v":119.71460583744586}]
["01M","NHS North Manchester CCG","E08000003","Manchester",{"$f":"COUNTIF($D$5:D521,D521)","v":4},"Manchester4","NHS North Manchester CCG",0.84835984171364853,0.30102843883671293,{"$f":"VLOOKUP($A521,'8.Non-elective admissions - CCG'!$D$5:$N$215,3,0)*$H521","v":5179.2368336618247},{"$f":"VLOOKUP($A521,'8.Non-elective admissions - CCG'!$D$5:$N$215,4,0)*$H521","v":5197.0523903378107},{"$f":"VLOOKUP($A521,'8.Non-elective admissions - CCG'!$D$5:$N$215,5,0)*$H521","v":5419.3226688667864},{"$f":"VLOOKUP($A521,'8.Non-elective admissions - CCG'!$D$5:$N$215,6,0)*$H521","v":5413.3841499747914},{"$f":"VLOOKUP($A521,'8.Non-elective admissions - CCG'!$D$5:$N$215,7,0)*$H521","v":5011.2615850025222},{"$f":"VLOOKUP($A521,'8.Non-elective admissions - CCG'!$D$5:$N$215,8,0)*$H521","v":5051.982857404777},{"$f":"VLOOKUP($A521,'8.Non-elective admissions - CCG'!$D$5:$N$215,9,0)*$H521","v":5279.3432949840344},{"$f":"VLOOKUP($A521,'8.Non-elective admissions - CCG'!$D$5:$N$215,10,0)*$H521","v":5193.6589509709565},{"$f":"VLOOKUP($A521,'8.Non-elective admissions - CCG'!$D$5:$Q$215,11,0)*$H521","v":4875.5240103283377},{"$f":"VLOOKUP($A521,'8.Non-elective admissions - CCG'!$D$5:$Q$215,12,0)*$H521","v":4919.6387220974475},{"$f":"VLOOKUP($A521,'8.Non-elective admissions - CCG'!$D$5:$Q$215,13,0)*$H521","v":5141.9090006264241},{"$f":"VLOOKUP($A521,'8.Non-elective admissions - CCG'!$D$5:$Q$215,14,0)*$H521","v":5053.6795770882045}]
["01M","NHS North Manchester CCG","E08000004","Oldham",{"$f":"COUNTIF($D$5:D522,D522)","v":2},"Oldham2","NHS North Manchester CCG",2.6600051947258258E-2,2.1798103569162966E-2,{"$f":"VLOOKUP($A522,'8.Non-elective admissions - CCG'!$D$5:$N$215,3,0)*$H522","v":162.39331713801167},{"$f":"VLOOKUP($A522,'8.Non-elective admissions - CCG'!$D$5:$N$215,4,0)*$H522","v":162.95191822890408},{"$f":"VLOOKUP($A522,'8.Non-elective admissions - CCG'!$D$5:$N$215,5,0)*$H522","v":169.92113183908575},{"$f":"VLOOKUP($A522,'8.Non-elective admissions - CCG'!$D$5:$N$215,6,0)*$H522","v":169.73493147545494},{"$f":"VLOOKUP($A522,'8.Non-elective admissions - CCG'!$D$5:$N$215,7,0)*$H522","v":157.12650685245453},{"$f":"VLOOKUP($A522,'8.Non-elective admissions - CCG'!$D$5:$N$215,8,0)*$H522","v":158.40330934592293},{"$f":"VLOOKUP($A522,'8.Non-elective admissions - CCG'!$D$5:$N$215,9,0)*$H522","v":165.53212326778814},{"$f":"VLOOKUP($A522,'8.Non-elective admissions - CCG'!$D$5:$N$215,10,0)*$H522","v":162.84551802111505},{"$f":"VLOOKUP($A522,'8.Non-elective admissions - CCG'!$D$5:$Q$215,11,0)*$H522","v":152.87049854089321},{"$f":"VLOOKUP($A522,'8.Non-elective admissions - CCG'!$D$5:$Q$215,12,0)*$H522","v":154.25370124215064},{"$f":"VLOOKUP($A522,'8.Non-elective admissions - CCG'!$D$5:$Q$215,13,0)*$H522","v":161.22291485233231},{"$f":"VLOOKUP($A522,'8.Non-elective admissions - CCG'!$D$5:$Q$215,14,0)*$H522","v":158.45650944981745}]
["01M","NHS North Manchester CCG","E08000005","Rochdale",{"$f":"COUNTIF($D$5:D523,D523)","v":4},"Rochdale4","NHS North Manchester CCG",1.9546429135281866E-2,1.7076675965846652E-2,{"$f":"VLOOKUP($A523,'8.Non-elective admissions - CCG'!$D$5:$N$215,3,0)*$H523","v":119.33094987089579},{"$f":"VLOOKUP($A523,'8.Non-elective admissions - CCG'!$D$5:$N$215,4,0)*$H523","v":119.74142488273671},{"$f":"VLOOKUP($A523,'8.Non-elective admissions - CCG'!$D$5:$N$215,5,0)*$H523","v":124.86258931618056},{"$f":"VLOOKUP($A523,'8.Non-elective admissions - CCG'!$D$5:$N$215,6,0)*$H523","v":124.72576431223359},{"$f":"VLOOKUP($A523,'8.Non-elective admissions - CCG'!$D$5:$N$215,7,0)*$H523","v":115.46075690210998},{"$f":"VLOOKUP($A523,'8.Non-elective admissions - CCG'!$D$5:$N$215,8,0)*$H523","v":116.39898550060352},{"$f":"VLOOKUP($A523,'8.Non-elective admissions - CCG'!$D$5:$N$215,9,0)*$H523","v":121.63742850885906},{"$f":"VLOOKUP($A523,'8.Non-elective admissions - CCG'!$D$5:$N$215,10,0)*$H523","v":119.66323916619558},{"$f":"VLOOKUP($A523,'8.Non-elective admissions - CCG'!$D$5:$Q$215,11,0)*$H523","v":112.33332824046488},{"$f":"VLOOKUP($A523,'8.Non-elective admissions - CCG'!$D$5:$Q$215,12,0)*$H523","v":113.34974255549955},{"$f":"VLOOKUP($A523,'8.Non-elective admissions - CCG'!$D$5:$Q$215,13,0)*$H523","v":118.4709069889434},{"$f":"VLOOKUP($A523,'8.Non-elective admissions - CCG'!$D$5:$Q$215,14,0)*$H523","v":116.43807835887408}]
["01M","NHS North Manchester CCG","E08000006","Salford",{"$f":"COUNTIF($D$5:D524,D524)","v":4},"Salford4","NHS North Manchester CCG",2.0193223429232049E-2,1.5801219463595428E-2,{"$f":"VLOOKUP($A524,'8.Non-elective admissions - CCG'!$D$5:$N$215,3,0)*$H524","v":123.27962903546165},{"$f":"VLOOKUP($A524,'8.Non-elective admissions - CCG'!$D$5:$N$215,4,0)*$H524","v":123.70368672747553},{"$f":"VLOOKUP($A524,'8.Non-elective admissions - CCG'!$D$5:$N$215,5,0)*$H524","v":128.99431126593433},{"$f":"VLOOKUP($A524,'8.Non-elective admissions - CCG'!$D$5:$N$215,6,0)*$H524","v":128.85295870192971},{"$f":"VLOOKUP($A524,'8.Non-elective admissions - CCG'!$D$5:$N$215,7,0)*$H524","v":119.28137079647371},{"$f":"VLOOKUP($A524,'8.Non-elective admissions - CCG'!$D$5:$N$215,8,0)*$H524","v":120.25064552107685},{"$f":"VLOOKUP($A524,'8.Non-elective admissions - CCG'!$D$5:$N$215,9,0)*$H524","v":125.66242940011104},{"$f":"VLOOKUP($A524,'8.Non-elective admissions - CCG'!$D$5:$N$215,10,0)*$H524","v":123.6229138337586},{"$f":"VLOOKUP($A524,'8.Non-elective admissions - CCG'!$D$5:$Q$215,11,0)*$H524","v":116.05045504779659},{"$f":"VLOOKUP($A524,'8.Non-elective admissions - CCG'!$D$5:$Q$215,12,0)*$H524","v":117.10050266611665},{"$f":"VLOOKUP($A524,'8.Non-elective admissions - CCG'!$D$5:$Q$215,13,0)*$H524","v":122.39112720457545},{"$f":"VLOOKUP($A524,'8.Non-elective admissions - CCG'!$D$5:$Q$215,14,0)*$H524","v":120.29103196793531}]
["01M","NHS North Manchester CCG","E08000008","Tameside",{"$f":"COUNTIF($D$5:D525,D525)","v":2},"Tameside2","NHS North Manchester CCG",6.5203994846017133E-2,5.481463721641143E-2,{"$f":"VLOOKUP($A525,'8.Non-elective admissions - CCG'!$D$5:$N$215,3,0)*$H525","v":398.07038853493458},{"$f":"VLOOKUP($A525,'8.Non-elective admissions - CCG'!$D$5:$N$215,4,0)*$H525","v":399.43967242670095},{"$f":"VLOOKUP($A525,'8.Non-elective admissions - CCG'!$D$5:$N$215,5,0)*$H525","v":416.52311907635743},{"$f":"VLOOKUP($A525,'8.Non-elective admissions - CCG'!$D$5:$N$215,6,0)*$H525","v":416.06669111243531},{"$f":"VLOOKUP($A525,'8.Non-elective admissions - CCG'!$D$5:$N$215,7,0)*$H525","v":385.15999755542322},{"$f":"VLOOKUP($A525,'8.Non-elective admissions - CCG'!$D$5:$N$215,8,0)*$H525","v":388.28978930803203},{"$f":"VLOOKUP($A525,'8.Non-elective admissions - CCG'!$D$5:$N$215,9,0)*$H525","v":405.76445992676463},{"$f":"VLOOKUP($A525,'8.Non-elective admissions - CCG'!$D$5:$N$215,10,0)*$H525","v":399.17885644731689},{"$f":"VLOOKUP($A525,'8.Non-elective admissions - CCG'!$D$5:$Q$215,11,0)*$H525","v":374.72735838006048},{"$f":"VLOOKUP($A525,'8.Non-elective admissions - CCG'!$D$5:$Q$215,12,0)*$H525","v":378.11796611205335},{"$f":"VLOOKUP($A525,'8.Non-elective admissions - CCG'!$D$5:$Q$215,13,0)*$H525","v":395.20141276170983},{"$f":"VLOOKUP($A525,'8.Non-elective admissions - CCG'!$D$5:$Q$215,14,0)*$H525","v":388.42019729772409}]
["06V","NHS North Norfolk CCG","E10000020","Norfolk",{"$f":"COUNTIF($D$5:D526,D526)","v":4},"Norfolk4","NHS North Norfolk CCG",1,0.18839363335110629,{"$f":"VLOOKUP($A526,'8.Non-elective admissions - CCG'!$D$5:$N$215,3,0)*$H526","v":4133},{"$f":"VLOOKUP($A526,'8.Non-elective admissions - CCG'!$D$5:$N$215,4,0)*$H526","v":4106},{"$f":"VLOOKUP($A526,'8.Non-elective admissions - CCG'!$D$5:$N$215,5,0)*$H526","v":4321},{"$f":"VLOOKUP($A526,'8.Non-elective admissions - CCG'!$D$5:$N$215,6,0)*$H526","v":4213},{"$f":"VLOOKUP($A526,'8.Non-elective admissions - CCG'!$D$5:$N$215,7,0)*$H526","v":4516.6435743700004},{"$f":"VLOOKUP($A526,'8.Non-elective admissions - CCG'!$D$5:$N$215,8,0)*$H526","v":4410.8333666199997},{"$f":"VLOOKUP($A526,'8.Non-elective admissions - CCG'!$D$5:$N$215,9,0)*$H526","v":4663.9479811700003},{"$f":"VLOOKUP($A526,'8.Non-elective admissions - CCG'!$D$5:$N$215,10,0)*$H526","v":4275.8188209700002},{"$f":"VLOOKUP($A526,'8.Non-elective admissions - CCG'!$D$5:$Q$215,11,0)*$H526","v":4670.2094557700002},{"$f":"VLOOKUP($A526,'8.Non-elective admissions - CCG'!$D$5:$Q$215,12,0)*$H526","v":4560.8017009800005},{"$f":"VLOOKUP($A526,'8.Non-elective admissions - CCG'!$D$5:$Q$215,13,0)*$H526","v":4822.5222125099999},{"$f":"VLOOKUP($A526,'8.Non-elective admissions - CCG'!$D$5:$Q$215,14,0)*$H526","v":4421.1966609500005}]
["11T","NHS North Somerset CCG","E06000024","North Somerset",{"$f":"COUNTIF($D$5:D527,D527)","v":3},"North Somerset3","NHS North Somerset CCG",0.99120345866140824,0.97685443777148961,{"$f":"VLOOKUP($A527,'8.Non-elective admissions - CCG'!$D$5:$N$215,3,0)*$H527","v":4581.3423859330287},{"$f":"VLOOKUP($A527,'8.Non-elective admissions - CCG'!$D$5:$N$215,4,0)*$H527","v":4860.8617612755461},{"$f":"VLOOKUP($A527,'8.Non-elective admissions - CCG'!$D$5:$N$215,5,0)*$H527","v":4967.9117348109785},{"$f":"VLOOKUP($A527,'8.Non-elective admissions - CCG'!$D$5:$N$215,6,0)*$H527","v":5179.0380715058582},{"$f":"VLOOKUP($A527,'8.Non-elective admissions - CCG'!$D$5:$N$215,7,0)*$H527","v":4693.3483767617681},{"$f":"VLOOKUP($A527,'8.Non-elective admissions - CCG'!$D$5:$N$215,8,0)*$H527","v":5001.6126524054662},{"$f":"VLOOKUP($A527,'8.Non-elective admissions - CCG'!$D$5:$N$215,9,0)*$H527","v":4924.2987826298759},{"$f":"VLOOKUP($A527,'8.Non-elective admissions - CCG'!$D$5:$N$215,10,0)*$H527","v":4926.2811895471987},{"$f":"VLOOKUP($A527,'8.Non-elective admissions - CCG'!$D$5:$Q$215,11,0)*$H527","v":4596.2104378129497},{"$f":"VLOOKUP($A527,'8.Non-elective admissions - CCG'!$D$5:$Q$215,12,0)*$H527","v":4739.934939318854},{"$f":"VLOOKUP($A527,'8.Non-elective admissions - CCG'!$D$5:$Q$215,13,0)*$H527","v":4596.2104378129497},{"$f":"VLOOKUP($A527,'8.Non-elective admissions - CCG'!$D$5:$Q$215,14,0)*$H527","v":4453.4771397657069}]
["11T","NHS North Somerset CCG","E10000027","Somerset",{"$f":"COUNTIF($D$5:D528,D528)","v":3},"Somerset3","NHS North Somerset CCG",8.7965413385918973E-3,3.3564423855404891E-3,{"$f":"VLOOKUP($A528,'8.Non-elective admissions - CCG'!$D$5:$N$215,3,0)*$H528","v":40.657614066971746},{"$f":"VLOOKUP($A528,'8.Non-elective admissions - CCG'!$D$5:$N$215,4,0)*$H528","v":43.138238724454666},{"$f":"VLOOKUP($A528,'8.Non-elective admissions - CCG'!$D$5:$N$215,5,0)*$H528","v":44.088265189022586},{"$f":"VLOOKUP($A528,'8.Non-elective admissions - CCG'!$D$5:$N$215,6,0)*$H528","v":45.961928494142661},{"$f":"VLOOKUP($A528,'8.Non-elective admissions - CCG'!$D$5:$N$215,7,0)*$H528","v":41.651623238232631},{"$f":"VLOOKUP($A528,'8.Non-elective admissions - CCG'!$D$5:$N$215,8,0)*$H528","v":44.387347594534717},{"$f":"VLOOKUP($A528,'8.Non-elective admissions - CCG'!$D$5:$N$215,9,0)*$H528","v":43.701217370124546},{"$f":"VLOOKUP($A528,'8.Non-elective admissions - CCG'!$D$5:$N$215,10,0)*$H528","v":43.718810452801726},{"$f":"VLOOKUP($A528,'8.Non-elective admissions - CCG'!$D$5:$Q$215,11,0)*$H528","v":40.789562187050628},{"$f":"VLOOKUP($A528,'8.Non-elective admissions - CCG'!$D$5:$Q$215,12,0)*$H528","v":42.065060681146456},{"$f":"VLOOKUP($A528,'8.Non-elective admissions - CCG'!$D$5:$Q$215,13,0)*$H528","v":40.789562187050628},{"$f":"VLOOKUP($A528,'8.Non-elective admissions - CCG'!$D$5:$Q$215,14,0)*$H528","v":39.522860234293397}]
["05G","NHS North Staffordshire CCG","E06000049","Cheshire East",{"$f":"COUNTIF($D$5:D529,D529)","v":3},"Cheshire East3","NHS North Staffordshire CCG",1.0774140194644701E-2,5.9355429889294152E-3,{"$f":"VLOOKUP($A529,'8.Non-elective admissions - CCG'!$D$5:$N$215,3,0)*$H529","v":59.688736678331644},{"$f":"VLOOKUP($A529,'8.Non-elective admissions - CCG'!$D$5:$N$215,4,0)*$H529","v":56.424172199354302},{"$f":"VLOOKUP($A529,'8.Non-elective admissions - CCG'!$D$5:$N$215,5,0)*$H529","v":62.252982044657081},{"$f":"VLOOKUP($A529,'8.Non-elective admissions - CCG'!$D$5:$N$215,6,0)*$H529","v":62.824011474973254},{"$f":"VLOOKUP($A529,'8.Non-elective admissions - CCG'!$D$5:$N$215,7,0)*$H529","v":52.276128224416091},{"$f":"VLOOKUP($A529,'8.Non-elective admissions - CCG'!$D$5:$N$215,8,0)*$H529","v":53.428961225243071},{"$f":"VLOOKUP($A529,'8.Non-elective admissions - CCG'!$D$5:$N$215,9,0)*$H529","v":53.698314730109189},{"$f":"VLOOKUP($A529,'8.Non-elective admissions - CCG'!$D$5:$N$215,10,0)*$H529","v":55.023533974050487},{"$f":"VLOOKUP($A529,'8.Non-elective admissions - CCG'!$D$5:$Q$215,11,0)*$H529","v":49.119305147385191},{"$f":"VLOOKUP($A529,'8.Non-elective admissions - CCG'!$D$5:$Q$215,12,0)*$H529","v":50.250589867822889},{"$f":"VLOOKUP($A529,'8.Non-elective admissions - CCG'!$D$5:$Q$215,13,0)*$H529","v":50.509169232494358},{"$f":"VLOOKUP($A529,'8.Non-elective admissions - CCG'!$D$5:$Q$215,14,0)*$H529","v":51.737421214683856}]
["05G","NHS North Staffordshire CCG","E06000051","Shropshire",{"$f":"COUNTIF($D$5:D530,D530)","v":2},"Shropshire2","NHS North Staffordshire CCG",3.9947484242936777E-3,2.8644943413673185E-3,{"$f":"VLOOKUP($A530,'8.Non-elective admissions - CCG'!$D$5:$N$215,3,0)*$H530","v":22.130906270586973},{"$f":"VLOOKUP($A530,'8.Non-elective admissions - CCG'!$D$5:$N$215,4,0)*$H530","v":20.920497498025991},{"$f":"VLOOKUP($A530,'8.Non-elective admissions - CCG'!$D$5:$N$215,5,0)*$H530","v":23.081656395568871},{"$f":"VLOOKUP($A530,'8.Non-elective admissions - CCG'!$D$5:$N$215,6,0)*$H530","v":23.293378062056433},{"$f":"VLOOKUP($A530,'8.Non-elective admissions - CCG'!$D$5:$N$215,7,0)*$H530","v":19.382519354672922},{"$f":"VLOOKUP($A530,'8.Non-elective admissions - CCG'!$D$5:$N$215,8,0)*$H530","v":19.809957436072349},{"$f":"VLOOKUP($A530,'8.Non-elective admissions - CCG'!$D$5:$N$215,9,0)*$H530","v":19.909826146679688},{"$f":"VLOOKUP($A530,'8.Non-elective admissions - CCG'!$D$5:$N$215,10,0)*$H530","v":20.401180202867813},{"$f":"VLOOKUP($A530,'8.Non-elective admissions - CCG'!$D$5:$Q$215,11,0)*$H530","v":18.212058066354878},{"$f":"VLOOKUP($A530,'8.Non-elective admissions - CCG'!$D$5:$Q$215,12,0)*$H530","v":18.631506650905713},{"$f":"VLOOKUP($A530,'8.Non-elective admissions - CCG'!$D$5:$Q$215,13,0)*$H530","v":18.727380613088762},{"$f":"VLOOKUP($A530,'8.Non-elective admissions - CCG'!$D$5:$Q$215,14,0)*$H530","v":19.182781933458241}]
["05G","NHS North Staffordshire CCG","E10000028","Staffordshire",{"$f":"COUNTIF($D$5:D531,D531)","v":7},"Staffordshire7","NHS North Staffordshire CCG",0.95193219673785578,0.23427568094637979,{"$f":"VLOOKUP($A531,'8.Non-elective admissions - CCG'!$D$5:$N$215,3,0)*$H531","v":5273.704369927721},{"$f":"VLOOKUP($A531,'8.Non-elective admissions - CCG'!$D$5:$N$215,4,0)*$H531","v":4985.2689143161506},{"$f":"VLOOKUP($A531,'8.Non-elective admissions - CCG'!$D$5:$N$215,5,0)*$H531","v":5500.2642327513304},{"$f":"VLOOKUP($A531,'8.Non-elective admissions - CCG'!$D$5:$N$215,6,0)*$H531","v":5550.7166391784367},{"$f":"VLOOKUP($A531,'8.Non-elective admissions - CCG'!$D$5:$N$215,7,0)*$H531","v":4618.7750185720761},{"$f":"VLOOKUP($A531,'8.Non-elective admissions - CCG'!$D$5:$N$215,8,0)*$H531","v":4720.6317636230269},{"$f":"VLOOKUP($A531,'8.Non-elective admissions - CCG'!$D$5:$N$215,9,0)*$H531","v":4744.4300685414728},{"$f":"VLOOKUP($A531,'8.Non-elective admissions - CCG'!$D$5:$N$215,10,0)*$H531","v":4861.5177287402294},{"$f":"VLOOKUP($A531,'8.Non-elective admissions - CCG'!$D$5:$Q$215,11,0)*$H531","v":4339.8588849278849},{"$f":"VLOOKUP($A531,'8.Non-elective admissions - CCG'!$D$5:$Q$215,12,0)*$H531","v":4439.8117655853594},{"$f":"VLOOKUP($A531,'8.Non-elective admissions - CCG'!$D$5:$Q$215,13,0)*$H531","v":4462.6581383070679},{"$f":"VLOOKUP($A531,'8.Non-elective admissions - CCG'!$D$5:$Q$215,14,0)*$H531","v":4571.1784087351834}]
["05G","NHS North Staffordshire CCG","E06000021","Stoke-on-Trent",{"$f":"COUNTIF($D$5:D532,D532)","v":1},"Stoke-on-Trent1","NHS North Staffordshire CCG",3.329891464320589E-2,2.6883383375831738E-2,{"$f":"VLOOKUP($A532,'8.Non-elective admissions - CCG'!$D$5:$N$215,3,0)*$H532","v":184.47598712336062},{"$f":"VLOOKUP($A532,'8.Non-elective admissions - CCG'!$D$5:$N$215,4,0)*$H532","v":174.38641598646925},{"$f":"VLOOKUP($A532,'8.Non-elective admissions - CCG'!$D$5:$N$215,5,0)*$H532","v":192.40112880844364},{"$f":"VLOOKUP($A532,'8.Non-elective admissions - CCG'!$D$5:$N$215,6,0)*$H532","v":194.16597128453355},{"$f":"VLOOKUP($A532,'8.Non-elective admissions - CCG'!$D$5:$N$215,7,0)*$H532","v":161.56633384883497},{"$f":"VLOOKUP($A532,'8.Non-elective admissions - CCG'!$D$5:$N$215,8,0)*$H532","v":165.129317715658},{"$f":"VLOOKUP($A532,'8.Non-elective admissions - CCG'!$D$5:$N$215,9,0)*$H532","v":165.96179058173817},{"$f":"VLOOKUP($A532,'8.Non-elective admissions - CCG'!$D$5:$N$215,10,0)*$H532","v":170.05755708285247},{"$f":"VLOOKUP($A532,'8.Non-elective admissions - CCG'!$D$5:$Q$215,11,0)*$H532","v":151.80975185837565},{"$f":"VLOOKUP($A532,'8.Non-elective admissions - CCG'!$D$5:$Q$215,12,0)*$H532","v":155.30613789591229},{"$f":"VLOOKUP($A532,'8.Non-elective admissions - CCG'!$D$5:$Q$215,13,0)*$H532","v":156.10531184734921},{"$f":"VLOOKUP($A532,'8.Non-elective admissions - CCG'!$D$5:$Q$215,14,0)*$H532","v":159.9013881166747}]
["99C","NHS North Tyneside CCG","E08000021","Newcastle upon Tyne",{"$f":"COUNTIF($D$5:D533,D533)","v":3},"Newcastle upon Tyne3","NHS North Tyneside CCG",6.0108125136082949E-2,4.2578396755181602E-2,{"$f":"VLOOKUP($A533,'8.Non-elective admissions - CCG'!$D$5:$N$215,3,0)*$H533","v":359.14604768809562},{"$f":"VLOOKUP($A533,'8.Non-elective admissions - CCG'!$D$5:$N$215,4,0)*$H533","v":349.28831516577799},{"$f":"VLOOKUP($A533,'8.Non-elective admissions - CCG'!$D$5:$N$215,5,0)*$H533","v":371.88897021694521},{"$f":"VLOOKUP($A533,'8.Non-elective admissions - CCG'!$D$5:$N$215,6,0)*$H533","v":405.85006091883207},{"$f":"VLOOKUP($A533,'8.Non-elective admissions - CCG'!$D$5:$N$215,7,0)*$H533","v":335.46344638447891},{"$f":"VLOOKUP($A533,'8.Non-elective admissions - CCG'!$D$5:$N$215,8,0)*$H533","v":332.33782387740263},{"$f":"VLOOKUP($A533,'8.Non-elective admissions - CCG'!$D$5:$N$215,9,0)*$H533","v":349.40853141605021},{"$f":"VLOOKUP($A533,'8.Non-elective admissions - CCG'!$D$5:$N$215,10,0)*$H533","v":370.2059427131349},{"$f":"VLOOKUP($A533,'8.Non-elective admissions - CCG'!$D$5:$Q$215,11,0)*$H533","v":329.39252574573459},{"$f":"VLOOKUP($A533,'8.Non-elective admissions - CCG'!$D$5:$Q$215,12,0)*$H533","v":326.50733573920257},{"$f":"VLOOKUP($A533,'8.Non-elective admissions - CCG'!$D$5:$Q$215,13,0)*$H533","v":343.21739452703366},{"$f":"VLOOKUP($A533,'8.Non-elective admissions - CCG'!$D$5:$Q$215,14,0)*$H533","v":363.59404894816578}]
["99C","NHS North Tyneside CCG","E08000022","North Tyneside",{"$f":"COUNTIF($D$5:D534,D534)","v":3},"North Tyneside3","NHS North Tyneside CCG",0.93095093601901235,0.96469684604675721,{"$f":"VLOOKUP($A534,'8.Non-elective admissions - CCG'!$D$5:$N$215,3,0)*$H534","v":5562.4318427135986},{"$f":"VLOOKUP($A534,'8.Non-elective admissions - CCG'!$D$5:$N$215,4,0)*$H534","v":5409.7558892064808},{"$f":"VLOOKUP($A534,'8.Non-elective admissions - CCG'!$D$5:$N$215,5,0)*$H534","v":5759.7934411496299},{"$f":"VLOOKUP($A534,'8.Non-elective admissions - CCG'!$D$5:$N$215,6,0)*$H534","v":6285.7807200003717},{"$f":"VLOOKUP($A534,'8.Non-elective admissions - CCG'!$D$5:$N$215,7,0)*$H534","v":5195.6371739221076},{"$f":"VLOOKUP($A534,'8.Non-elective admissions - CCG'!$D$5:$N$215,8,0)*$H534","v":5147.2277252491194},{"$f":"VLOOKUP($A534,'8.Non-elective admissions - CCG'!$D$5:$N$215,9,0)*$H534","v":5411.6177910785191},{"$f":"VLOOKUP($A534,'8.Non-elective admissions - CCG'!$D$5:$N$215,10,0)*$H534","v":5733.7268149410975},{"$f":"VLOOKUP($A534,'8.Non-elective admissions - CCG'!$D$5:$Q$215,11,0)*$H534","v":5101.6111293841877},{"$f":"VLOOKUP($A534,'8.Non-elective admissions - CCG'!$D$5:$Q$215,12,0)*$H534","v":5056.9254844552752},{"$f":"VLOOKUP($A534,'8.Non-elective admissions - CCG'!$D$5:$Q$215,13,0)*$H534","v":5315.7298446685609},{"$f":"VLOOKUP($A534,'8.Non-elective admissions - CCG'!$D$5:$Q$215,14,0)*$H534","v":5631.3222119790062}]
["99C","NHS North Tyneside CCG","E06000048","Northumberland",{"$f":"COUNTIF($D$5:D535,D535)","v":4},"Northumberland4","NHS North Tyneside CCG",8.9409388449048239E-3,6.0566500762573037E-3,{"$f":"VLOOKUP($A535,'8.Non-elective admissions - CCG'!$D$5:$N$215,3,0)*$H535","v":53.422109598306321},{"$f":"VLOOKUP($A535,'8.Non-elective admissions - CCG'!$D$5:$N$215,4,0)*$H535","v":51.955795627741935},{"$f":"VLOOKUP($A535,'8.Non-elective admissions - CCG'!$D$5:$N$215,5,0)*$H535","v":55.317588633426148},{"$f":"VLOOKUP($A535,'8.Non-elective admissions - CCG'!$D$5:$N$215,6,0)*$H535","v":60.369219080797372},{"$f":"VLOOKUP($A535,'8.Non-elective admissions - CCG'!$D$5:$N$215,7,0)*$H535","v":49.89937969341382},{"$f":"VLOOKUP($A535,'8.Non-elective admissions - CCG'!$D$5:$N$215,8,0)*$H535","v":49.434450873478774},{"$f":"VLOOKUP($A535,'8.Non-elective admissions - CCG'!$D$5:$N$215,9,0)*$H535","v":51.973677505431745},{"$f":"VLOOKUP($A535,'8.Non-elective admissions - CCG'!$D$5:$N$215,10,0)*$H535","v":55.067242345768811},{"$f":"VLOOKUP($A535,'8.Non-elective admissions - CCG'!$D$5:$Q$215,11,0)*$H535","v":48.996344870078438},{"$f":"VLOOKUP($A535,'8.Non-elective admissions - CCG'!$D$5:$Q$215,12,0)*$H535","v":48.567179805523004},{"$f":"VLOOKUP($A535,'8.Non-elective admissions - CCG'!$D$5:$Q$215,13,0)*$H535","v":51.052760804406546},{"$f":"VLOOKUP($A535,'8.Non-elective admissions - CCG'!$D$5:$Q$215,14,0)*$H535","v":54.083739072829282}]
["09Y","NHS North West Surrey CCG","E09000018","Hounslow",{"$f":"COUNTIF($D$5:D536,D536)","v":5},"Hounslow5","NHS North West Surrey CCG",3.2991906542420351E-3,3.9782321877591311E-3,{"$f":"VLOOKUP($A536,'8.Non-elective admissions - CCG'!$D$5:$N$215,3,0)*$H536","v":22.437795639500081},{"$f":"VLOOKUP($A536,'8.Non-elective admissions - CCG'!$D$5:$N$215,4,0)*$H536","v":21.956113803980745},{"$f":"VLOOKUP($A536,'8.Non-elective admissions - CCG'!$D$5:$N$215,5,0)*$H536","v":22.269536916133738},{"$f":"VLOOKUP($A536,'8.Non-elective admissions - CCG'!$D$5:$N$215,6,0)*$H536","v":21.834043749773787},{"$f":"VLOOKUP($A536,'8.Non-elective admissions - CCG'!$D$5:$N$215,7,0)*$H536","v":25.167958431170653},{"$f":"VLOOKUP($A536,'8.Non-elective admissions - CCG'!$D$5:$N$215,8,0)*$H536","v":25.444529402870629},{"$f":"VLOOKUP($A536,'8.Non-elective admissions - CCG'!$D$5:$N$215,9,0)*$H536","v":25.444529402870629},{"$f":"VLOOKUP($A536,'8.Non-elective admissions - CCG'!$D$5:$N$215,10,0)*$H536","v":24.891387459173757},{"$f":"VLOOKUP($A536,'8.Non-elective admissions - CCG'!$D$5:$Q$215,11,0)*$H536","v":25.582420430833174},{"$f":"VLOOKUP($A536,'8.Non-elective admissions - CCG'!$D$5:$Q$215,12,0)*$H536","v":25.863545930206666},{"$f":"VLOOKUP($A536,'8.Non-elective admissions - CCG'!$D$5:$Q$215,13,0)*$H536","v":25.863545930206666},{"$f":"VLOOKUP($A536,'8.Non-elective admissions - CCG'!$D$5:$Q$215,14,0)*$H536","v":25.301294931789609}]
["09Y","NHS North West Surrey CCG","E10000030","Surrey",{"$f":"COUNTIF($D$5:D537,D537)","v":14},"Surrey14","NHS North West Surrey CCG",0.99482152353005038,0.29465477005285856,{"$f":"VLOOKUP($A537,'8.Non-elective admissions - CCG'!$D$5:$N$215,3,0)*$H537","v":6765.7811815278728},{"$f":"VLOOKUP($A537,'8.Non-elective admissions - CCG'!$D$5:$N$215,4,0)*$H537","v":6620.5372390924849},{"$f":"VLOOKUP($A537,'8.Non-elective admissions - CCG'!$D$5:$N$215,5,0)*$H537","v":6715.0452838278397},{"$f":"VLOOKUP($A537,'8.Non-elective admissions - CCG'!$D$5:$N$215,6,0)*$H537","v":6583.7288427218737},{"$f":"VLOOKUP($A537,'8.Non-elective admissions - CCG'!$D$5:$N$215,7,0)*$H537","v":7589.0208765126299},{"$f":"VLOOKUP($A537,'8.Non-elective admissions - CCG'!$D$5:$N$215,8,0)*$H537","v":7672.4167102990123},{"$f":"VLOOKUP($A537,'8.Non-elective admissions - CCG'!$D$5:$N$215,9,0)*$H537","v":7672.4167102990132},{"$f":"VLOOKUP($A537,'8.Non-elective admissions - CCG'!$D$5:$N$215,10,0)*$H537","v":7505.6250426367151},{"$f":"VLOOKUP($A537,'8.Non-elective admissions - CCG'!$D$5:$Q$215,11,0)*$H537","v":7713.9956843247919},{"$f":"VLOOKUP($A537,'8.Non-elective admissions - CCG'!$D$5:$Q$215,12,0)*$H537","v":7798.7648677092957},{"$f":"VLOOKUP($A537,'8.Non-elective admissions - CCG'!$D$5:$Q$215,13,0)*$H537","v":7798.7648677092957},{"$f":"VLOOKUP($A537,'8.Non-elective admissions - CCG'!$D$5:$Q$215,14,0)*$H537","v":7629.2265010397732}]
["09Y","NHS North West Surrey CCG","E06000040","Windsor and Maidenhead",{"$f":"COUNTIF($D$5:D538,D538)","v":3},"Windsor and Maidenhead3","NHS North West Surrey CCG",1.8792858157074884E-3,4.3328390687284559E-3,{"$f":"VLOOKUP($A538,'8.Non-elective admissions - CCG'!$D$5:$N$215,3,0)*$H538","v":12.781022832626629},{"$f":"VLOOKUP($A538,'8.Non-elective admissions - CCG'!$D$5:$N$215,4,0)*$H538","v":12.506647103533336},{"$f":"VLOOKUP($A538,'8.Non-elective admissions - CCG'!$D$5:$N$215,5,0)*$H538","v":12.685179256025547},{"$f":"VLOOKUP($A538,'8.Non-elective admissions - CCG'!$D$5:$N$215,6,0)*$H538","v":12.437113528352159},{"$f":"VLOOKUP($A538,'8.Non-elective admissions - CCG'!$D$5:$N$215,7,0)*$H538","v":14.336178853198474},{"$f":"VLOOKUP($A538,'8.Non-elective admissions - CCG'!$D$5:$N$215,8,0)*$H538","v":14.49371928011618},{"$f":"VLOOKUP($A538,'8.Non-elective admissions - CCG'!$D$5:$N$215,9,0)*$H538","v":14.493719280116181},{"$f":"VLOOKUP($A538,'8.Non-elective admissions - CCG'!$D$5:$N$215,10,0)*$H538","v":14.178638426111632},{"$f":"VLOOKUP($A538,'8.Non-elective admissions - CCG'!$D$5:$Q$215,11,0)*$H538","v":14.572264802373327},{"$f":"VLOOKUP($A538,'8.Non-elective admissions - CCG'!$D$5:$Q$215,12,0)*$H538","v":14.732399580497468},{"$f":"VLOOKUP($A538,'8.Non-elective admissions - CCG'!$D$5:$Q$215,13,0)*$H538","v":14.732399580497468},{"$f":"VLOOKUP($A538,'8.Non-elective admissions - CCG'!$D$5:$Q$215,14,0)*$H538","v":14.41213002443712}]
["99P","NHS North, East, West Devon CCG","E06000052","Cornwall",{"$f":"COUNTIF($D$5:D539,D539)","v":2},"Cornwall2","NHS North, East, West Devon CCG",3.3523287598700101E-3,5.4190732118752421E-3,{"$f":"VLOOKUP($A539,'8.Non-elective admissions - CCG'!$D$5:$N$215,3,0)*$H539","v":81.716365850591373},{"$f":"VLOOKUP($A539,'8.Non-elective admissions - CCG'!$D$5:$N$215,4,0)*$H539","v":86.030812964544069},{"$f":"VLOOKUP($A539,'8.Non-elective admissions - CCG'!$D$5:$N$215,5,0)*$H539","v":87.184014057939351},{"$f":"VLOOKUP($A539,'8.Non-elective admissions - CCG'!$D$5:$N$215,6,0)*$H539","v":82.882976259026137},{"$f":"VLOOKUP($A539,'8.Non-elective admissions - CCG'!$D$5:$N$215,7,0)*$H539","v":71.485058475468094},{"$f":"VLOOKUP($A539,'8.Non-elective admissions - CCG'!$D$5:$N$215,8,0)*$H539","v":73.385828882314385},{"$f":"VLOOKUP($A539,'8.Non-elective admissions - CCG'!$D$5:$N$215,9,0)*$H539","v":73.700947785742173},{"$f":"VLOOKUP($A539,'8.Non-elective admissions - CCG'!$D$5:$N$215,10,0)*$H539","v":72.939969157251682},{"$f":"VLOOKUP($A539,'8.Non-elective admissions - CCG'!$D$5:$Q$215,11,0)*$H539","v":72.212513816359888},{"$f":"VLOOKUP($A539,'8.Non-elective admissions - CCG'!$D$5:$Q$215,12,0)*$H539","v":74.133398195765409},{"$f":"VLOOKUP($A539,'8.Non-elective admissions - CCG'!$D$5:$Q$215,13,0)*$H539","v":74.45857408547279},{"$f":"VLOOKUP($A539,'8.Non-elective admissions - CCG'!$D$5:$Q$215,14,0)*$H539","v":73.161222855403096}]
["99P","NHS North, East, West Devon CCG","E10000008","Devon",{"$f":"COUNTIF($D$5:D540,D540)","v":3},"Devon3","NHS North, East, West Devon CCG",0.69837424740826048,0.80499040648773179,{"$f":"VLOOKUP($A540,'8.Non-elective admissions - CCG'!$D$5:$N$215,3,0)*$H540","v":17023.570654823758},{"$f":"VLOOKUP($A540,'8.Non-elective admissions - CCG'!$D$5:$N$215,4,0)*$H540","v":17922.37831123819},{"$f":"VLOOKUP($A540,'8.Non-elective admissions - CCG'!$D$5:$N$215,5,0)*$H540","v":18162.619052346632},{"$f":"VLOOKUP($A540,'8.Non-elective admissions - CCG'!$D$5:$N$215,6,0)*$H540","v":17266.60489292183},{"$f":"VLOOKUP($A540,'8.Non-elective admissions - CCG'!$D$5:$N$215,7,0)*$H540","v":14892.132451733747},{"$f":"VLOOKUP($A540,'8.Non-elective admissions - CCG'!$D$5:$N$215,8,0)*$H540","v":15288.11065001423},{"$f":"VLOOKUP($A540,'8.Non-elective admissions - CCG'!$D$5:$N$215,9,0)*$H540","v":15353.757829270608},{"$f":"VLOOKUP($A540,'8.Non-elective admissions - CCG'!$D$5:$N$215,10,0)*$H540","v":15195.226875108932},{"$f":"VLOOKUP($A540,'8.Non-elective admissions - CCG'!$D$5:$Q$215,11,0)*$H540","v":15043.679663421339},{"$f":"VLOOKUP($A540,'8.Non-elective admissions - CCG'!$D$5:$Q$215,12,0)*$H540","v":15443.848107186272},{"$f":"VLOOKUP($A540,'8.Non-elective admissions - CCG'!$D$5:$Q$215,13,0)*$H540","v":15511.590409184873},{"$f":"VLOOKUP($A540,'8.Non-elective admissions - CCG'!$D$5:$Q$215,14,0)*$H540","v":15241.319575437878}]
["99P","NHS North, East, West Devon CCG","E06000026","Plymouth",{"$f":"COUNTIF($D$5:D541,D541)","v":1},"Plymouth1","NHS North, East, West Devon CCG",0.29550243013499766,0.99999999999999989,{"$f":"VLOOKUP($A541,'8.Non-elective admissions - CCG'!$D$5:$N$215,3,0)*$H541","v":7203.167236970703},{"$f":"VLOOKUP($A541,'8.Non-elective admissions - CCG'!$D$5:$N$215,4,0)*$H541","v":7583.478864554445},{"$f":"VLOOKUP($A541,'8.Non-elective admissions - CCG'!$D$5:$N$215,5,0)*$H541","v":7685.1317005208839},{"$f":"VLOOKUP($A541,'8.Non-elective admissions - CCG'!$D$5:$N$215,6,0)*$H541","v":7306.002082657682},{"$f":"VLOOKUP($A541,'8.Non-elective admissions - CCG'!$D$5:$N$215,7,0)*$H541","v":6301.2938201986899},{"$f":"VLOOKUP($A541,'8.Non-elective admissions - CCG'!$D$5:$N$215,8,0)*$H541","v":6468.8436980852339},{"$f":"VLOOKUP($A541,'8.Non-elective admissions - CCG'!$D$5:$N$215,9,0)*$H541","v":6496.6209265179232},{"$f":"VLOOKUP($A541,'8.Non-elective admissions - CCG'!$D$5:$N$215,10,0)*$H541","v":6429.541874877279},{"$f":"VLOOKUP($A541,'8.Non-elective admissions - CCG'!$D$5:$Q$215,11,0)*$H541","v":6365.4178475379849},{"$f":"VLOOKUP($A541,'8.Non-elective admissions - CCG'!$D$5:$Q$215,12,0)*$H541","v":6534.740740005338},{"$f":"VLOOKUP($A541,'8.Non-elective admissions - CCG'!$D$5:$Q$215,13,0)*$H541","v":6563.4044757284328},{"$f":"VLOOKUP($A541,'8.Non-elective admissions - CCG'!$D$5:$Q$215,14,0)*$H541","v":6449.0450352661892}]
["99P","NHS North, East, West Devon CCG","E10000027","Somerset",{"$f":"COUNTIF($D$5:D542,D542)","v":4},"Somerset4","NHS North, East, West Devon CCG",2.7709936968718218E-3,4.4895544581883429E-3,{"$f":"VLOOKUP($A542,'8.Non-elective admissions - CCG'!$D$5:$N$215,3,0)*$H542","v":67.545742354947521},{"$f":"VLOOKUP($A542,'8.Non-elective admissions - CCG'!$D$5:$N$215,4,0)*$H542","v":71.112011242821566},{"$f":"VLOOKUP($A542,'8.Non-elective admissions - CCG'!$D$5:$N$215,5,0)*$H542","v":72.065233074545475},{"$f":"VLOOKUP($A542,'8.Non-elective admissions - CCG'!$D$5:$N$215,6,0)*$H542","v":68.510048161458926},{"$f":"VLOOKUP($A542,'8.Non-elective admissions - CCG'!$D$5:$N$215,7,0)*$H542","v":59.088669592094725},{"$f":"VLOOKUP($A542,'8.Non-elective admissions - CCG'!$D$5:$N$215,8,0)*$H542","v":60.659823018221047},{"$f":"VLOOKUP($A542,'8.Non-elective admissions - CCG'!$D$5:$N$215,9,0)*$H542","v":60.920296425727003},{"$f":"VLOOKUP($A542,'8.Non-elective admissions - CCG'!$D$5:$N$215,10,0)*$H542","v":60.291280856537099},{"$f":"VLOOKUP($A542,'8.Non-elective admissions - CCG'!$D$5:$Q$215,11,0)*$H542","v":59.689975224315916},{"$f":"VLOOKUP($A542,'8.Non-elective admissions - CCG'!$D$5:$Q$215,12,0)*$H542","v":61.277754612623468},{"$f":"VLOOKUP($A542,'8.Non-elective admissions - CCG'!$D$5:$Q$215,13,0)*$H542","v":61.546541001220035},{"$f":"VLOOKUP($A542,'8.Non-elective admissions - CCG'!$D$5:$Q$215,14,0)*$H542","v":60.474166440530638}]
["00L","NHS Northumberland CCG","E08000020","Gateshead",{"$f":"COUNTIF($D$5:D543,D543)","v":3},"Gateshead3","NHS Northumberland CCG",4.524196986150481E-3,7.157378646989618E-3,{"$f":"VLOOKUP($A543,'8.Non-elective admissions - CCG'!$D$5:$N$215,3,0)*$H543","v":37.143657256295448},{"$f":"VLOOKUP($A543,'8.Non-elective admissions - CCG'!$D$5:$N$215,4,0)*$H543","v":37.736327061481163},{"$f":"VLOOKUP($A543,'8.Non-elective admissions - CCG'!$D$5:$N$215,5,0)*$H543","v":38.347093654611477},{"$f":"VLOOKUP($A543,'8.Non-elective admissions - CCG'!$D$5:$N$215,6,0)*$H543","v":40.039143327431759},{"$f":"VLOOKUP($A543,'8.Non-elective admissions - CCG'!$D$5:$N$215,7,0)*$H543","v":36.786245694389564},{"$f":"VLOOKUP($A543,'8.Non-elective admissions - CCG'!$D$5:$N$215,8,0)*$H543","v":37.184375029170802},{"$f":"VLOOKUP($A543,'8.Non-elective admissions - CCG'!$D$5:$N$215,9,0)*$H543","v":35.980938630854773},{"$f":"VLOOKUP($A543,'8.Non-elective admissions - CCG'!$D$5:$N$215,10,0)*$H543","v":38.116359608317801},{"$f":"VLOOKUP($A543,'8.Non-elective admissions - CCG'!$D$5:$Q$215,11,0)*$H543","v":36.890302225071025},{"$f":"VLOOKUP($A543,'8.Non-elective admissions - CCG'!$D$5:$Q$215,12,0)*$H543","v":37.292955756838417},{"$f":"VLOOKUP($A543,'8.Non-elective admissions - CCG'!$D$5:$Q$215,13,0)*$H543","v":36.084995161536234},{"$f":"VLOOKUP($A543,'8.Non-elective admissions - CCG'!$D$5:$Q$215,14,0)*$H543","v":38.224940335985416}]
["00L","NHS Northumberland CCG","E08000021","Newcastle upon Tyne",{"$f":"COUNTIF($D$5:D544,D544)","v":4},"Newcastle upon Tyne4","NHS Northumberland CCG",8.273617459542042E-3,8.7256999593085059E-3,{"$f":"VLOOKUP($A544,'8.Non-elective admissions - CCG'!$D$5:$N$215,3,0)*$H544","v":67.92639934284017},{"$f":"VLOOKUP($A544,'8.Non-elective admissions - CCG'!$D$5:$N$215,4,0)*$H544","v":69.010243230040174},{"$f":"VLOOKUP($A544,'8.Non-elective admissions - CCG'!$D$5:$N$215,5,0)*$H544","v":70.127181587078354},{"$f":"VLOOKUP($A544,'8.Non-elective admissions - CCG'!$D$5:$N$215,6,0)*$H544","v":73.221514516947067},{"$f":"VLOOKUP($A544,'8.Non-elective admissions - CCG'!$D$5:$N$215,7,0)*$H544","v":67.27278356353635},{"$f":"VLOOKUP($A544,'8.Non-elective admissions - CCG'!$D$5:$N$215,8,0)*$H544","v":68.000861899976044},{"$f":"VLOOKUP($A544,'8.Non-elective admissions - CCG'!$D$5:$N$215,9,0)*$H544","v":65.800079655737861},{"$f":"VLOOKUP($A544,'8.Non-elective admissions - CCG'!$D$5:$N$215,10,0)*$H544","v":69.705227096641707},{"$f":"VLOOKUP($A544,'8.Non-elective admissions - CCG'!$D$5:$Q$215,11,0)*$H544","v":67.463076765105811},{"$f":"VLOOKUP($A544,'8.Non-elective admissions - CCG'!$D$5:$Q$215,12,0)*$H544","v":68.199428719005056},{"$f":"VLOOKUP($A544,'8.Non-elective admissions - CCG'!$D$5:$Q$215,13,0)*$H544","v":65.990372857307321},{"$f":"VLOOKUP($A544,'8.Non-elective admissions - CCG'!$D$5:$Q$215,14,0)*$H544","v":69.903793915670718}]
["00L","NHS Northumberland CCG","E08000022","North Tyneside",{"$f":"COUNTIF($D$5:D545,D545)","v":4},"North Tyneside4","NHS Northumberland CCG",7.6917571869078325E-3,1.1866929096058758E-2,{"$f":"VLOOKUP($A545,'8.Non-elective admissions - CCG'!$D$5:$N$215,3,0)*$H545","v":63.149326504513304},{"$f":"VLOOKUP($A545,'8.Non-elective admissions - CCG'!$D$5:$N$215,4,0)*$H545","v":64.156946695998229},{"$f":"VLOOKUP($A545,'8.Non-elective admissions - CCG'!$D$5:$N$215,5,0)*$H545","v":65.195333916230794},{"$f":"VLOOKUP($A545,'8.Non-elective admissions - CCG'!$D$5:$N$215,6,0)*$H545","v":68.072051104134317},{"$f":"VLOOKUP($A545,'8.Non-elective admissions - CCG'!$D$5:$N$215,7,0)*$H545","v":62.541677686747583},{"$f":"VLOOKUP($A545,'8.Non-elective admissions - CCG'!$D$5:$N$215,8,0)*$H545","v":63.218552319195474},{"$f":"VLOOKUP($A545,'8.Non-elective admissions - CCG'!$D$5:$N$215,9,0)*$H545","v":61.172544907477992},{"$f":"VLOOKUP($A545,'8.Non-elective admissions - CCG'!$D$5:$N$215,10,0)*$H545","v":64.803054299698488},{"$f":"VLOOKUP($A545,'8.Non-elective admissions - CCG'!$D$5:$Q$215,11,0)*$H545","v":62.718588102046468},{"$f":"VLOOKUP($A545,'8.Non-elective admissions - CCG'!$D$5:$Q$215,12,0)*$H545","v":63.403154491681263},{"$f":"VLOOKUP($A545,'8.Non-elective admissions - CCG'!$D$5:$Q$215,13,0)*$H545","v":61.349455322776869},{"$f":"VLOOKUP($A545,'8.Non-elective admissions - CCG'!$D$5:$Q$215,14,0)*$H545","v":64.987656472184284}]
["00L","NHS Northumberland CCG","E06000048","Northumberland",{"$f":"COUNTIF($D$5:D546,D546)","v":5},"Northumberland5","NHS Northumberland CCG",0.97951042836739965,0.98788669984748534,{"$f":"VLOOKUP($A546,'8.Non-elective admissions - CCG'!$D$5:$N$215,3,0)*$H546","v":8041.7806168963516},{"$f":"VLOOKUP($A546,'8.Non-elective admissions - CCG'!$D$5:$N$215,4,0)*$H546","v":8170.0964830124803},{"$f":"VLOOKUP($A546,'8.Non-elective admissions - CCG'!$D$5:$N$215,5,0)*$H546","v":8302.3303908420803},{"$f":"VLOOKUP($A546,'8.Non-elective admissions - CCG'!$D$5:$N$215,6,0)*$H546","v":8668.6672910514862},{"$f":"VLOOKUP($A546,'8.Non-elective admissions - CCG'!$D$5:$N$215,7,0)*$H546","v":7964.3992930553268},{"$f":"VLOOKUP($A546,'8.Non-elective admissions - CCG'!$D$5:$N$215,8,0)*$H546","v":8050.596210751658},{"$f":"VLOOKUP($A546,'8.Non-elective admissions - CCG'!$D$5:$N$215,9,0)*$H546","v":7790.0464368059293},{"$f":"VLOOKUP($A546,'8.Non-elective admissions - CCG'!$D$5:$N$215,10,0)*$H546","v":8252.3753589953412},{"$f":"VLOOKUP($A546,'8.Non-elective admissions - CCG'!$D$5:$Q$215,11,0)*$H546","v":7986.9280329077765},{"$f":"VLOOKUP($A546,'8.Non-elective admissions - CCG'!$D$5:$Q$215,12,0)*$H546","v":8074.1044610324752},{"$f":"VLOOKUP($A546,'8.Non-elective admissions - CCG'!$D$5:$Q$215,13,0)*$H546","v":7812.5751766583799},{"$f":"VLOOKUP($A546,'8.Non-elective admissions - CCG'!$D$5:$Q$215,14,0)*$H546","v":8275.8836092761594}]
["06W","NHS Norwich CCG","E10000020","Norfolk",{"$f":"COUNTIF($D$5:D547,D547)","v":5},"Norfolk5","NHS Norwich CCG",1,0.23721878203722521,{"$f":"VLOOKUP($A547,'8.Non-elective admissions - CCG'!$D$5:$N$215,3,0)*$H547","v":4920},{"$f":"VLOOKUP($A547,'8.Non-elective admissions - CCG'!$D$5:$N$215,4,0)*$H547","v":5094},{"$f":"VLOOKUP($A547,'8.Non-elective admissions - CCG'!$D$5:$N$215,5,0)*$H547","v":5206},{"$f":"VLOOKUP($A547,'8.Non-elective admissions - CCG'!$D$5:$N$215,6,0)*$H547","v":5120},{"$f":"VLOOKUP($A547,'8.Non-elective admissions - CCG'!$D$5:$N$215,7,0)*$H547","v":5432},{"$f":"VLOOKUP($A547,'8.Non-elective admissions - CCG'!$D$5:$N$215,8,0)*$H547","v":5361},{"$f":"VLOOKUP($A547,'8.Non-elective admissions - CCG'!$D$5:$N$215,9,0)*$H547","v":5464},{"$f":"VLOOKUP($A547,'8.Non-elective admissions - CCG'!$D$5:$N$215,10,0)*$H547","v":5315},{"$f":"VLOOKUP($A547,'8.Non-elective admissions - CCG'!$D$5:$Q$215,11,0)*$H547","v":5329},{"$f":"VLOOKUP($A547,'8.Non-elective admissions - CCG'!$D$5:$Q$215,12,0)*$H547","v":5261},{"$f":"VLOOKUP($A547,'8.Non-elective admissions - CCG'!$D$5:$Q$215,13,0)*$H547","v":5361},{"$f":"VLOOKUP($A547,'8.Non-elective admissions - CCG'!$D$5:$Q$215,14,0)*$H547","v":5219}]
["04K","NHS Nottingham City CCG","E06000018","Nottingham",{"$f":"COUNTIF($D$5:D548,D548)","v":1},"Nottingham1","NHS Nottingham City CCG",0.89689050546583127,0.9496154858154332,{"$f":"VLOOKUP($A548,'8.Non-elective admissions - CCG'!$D$5:$N$215,3,0)*$H548","v":7473.7885820467718},{"$f":"VLOOKUP($A548,'8.Non-elective admissions - CCG'!$D$5:$N$215,4,0)*$H548","v":7354.5021448198167},{"$f":"VLOOKUP($A548,'8.Non-elective admissions - CCG'!$D$5:$N$215,5,0)*$H548","v":7680.0733983039136},{"$f":"VLOOKUP($A548,'8.Non-elective admissions - CCG'!$D$5:$N$215,6,0)*$H548","v":6506.0437266491399},{"$f":"VLOOKUP($A548,'8.Non-elective admissions - CCG'!$D$5:$N$215,7,0)*$H548","v":7219.0716784944761},{"$f":"VLOOKUP($A548,'8.Non-elective admissions - CCG'!$D$5:$N$215,8,0)*$H548","v":7237.9063791092585},{"$f":"VLOOKUP($A548,'8.Non-elective admissions - CCG'!$D$5:$N$215,9,0)*$H548","v":7423.5627137406855},{"$f":"VLOOKUP($A548,'8.Non-elective admissions - CCG'!$D$5:$N$215,10,0)*$H548","v":6088.989641607528},{"$f":"VLOOKUP($A548,'8.Non-elective admissions - CCG'!$D$5:$Q$215,11,0)*$H548","v":7069.2909640816824},{"$f":"VLOOKUP($A548,'8.Non-elective admissions - CCG'!$D$5:$Q$215,12,0)*$H548","v":7092.6101172237941},{"$f":"VLOOKUP($A548,'8.Non-elective admissions - CCG'!$D$5:$Q$215,13,0)*$H548","v":7279.1633423606863},{"$f":"VLOOKUP($A548,'8.Non-elective admissions - CCG'!$D$5:$Q$215,14,0)*$H548","v":5923.9617886018159}]
["04K","NHS Nottingham City CCG","E10000024","Nottinghamshire",{"$f":"COUNTIF($D$5:D549,D549)","v":9},"Nottinghamshire9","NHS Nottingham City CCG",0.10310949453416887,4.4607830560615555E-2,{"$f":"VLOOKUP($A549,'8.Non-elective admissions - CCG'!$D$5:$N$215,3,0)*$H549","v":859.21141795322922},{"$f":"VLOOKUP($A549,'8.Non-elective admissions - CCG'!$D$5:$N$215,4,0)*$H549","v":845.49785518018473},{"$f":"VLOOKUP($A549,'8.Non-elective admissions - CCG'!$D$5:$N$215,5,0)*$H549","v":882.92660169608803},{"$f":"VLOOKUP($A549,'8.Non-elective admissions - CCG'!$D$5:$N$215,6,0)*$H549","v":747.95627335086101},{"$f":"VLOOKUP($A549,'8.Non-elective admissions - CCG'!$D$5:$N$215,7,0)*$H549","v":829.92832150552522},{"$f":"VLOOKUP($A549,'8.Non-elective admissions - CCG'!$D$5:$N$215,8,0)*$H549","v":832.09362089074284},{"$f":"VLOOKUP($A549,'8.Non-elective admissions - CCG'!$D$5:$N$215,9,0)*$H549","v":853.43728625931578},{"$f":"VLOOKUP($A549,'8.Non-elective admissions - CCG'!$D$5:$N$215,10,0)*$H549","v":700.01035839247243},{"$f":"VLOOKUP($A549,'8.Non-elective admissions - CCG'!$D$5:$Q$215,11,0)*$H549","v":812.70903591831905},{"$f":"VLOOKUP($A549,'8.Non-elective admissions - CCG'!$D$5:$Q$215,12,0)*$H549","v":815.3898827762074},{"$f":"VLOOKUP($A549,'8.Non-elective admissions - CCG'!$D$5:$Q$215,13,0)*$H549","v":836.83665763931458},{"$f":"VLOOKUP($A549,'8.Non-elective admissions - CCG'!$D$5:$Q$215,14,0)*$H549","v":681.03821139818535}]
["04L","NHS Nottingham North and East CCG","E10000007","Derbyshire",{"$f":"COUNTIF($D$5:D550,D550)","v":8},"Derbyshire8","NHS Nottingham North and East CCG",1.9368466516847865E-3,0,{"$f":"VLOOKUP($A550,'8.Non-elective admissions - CCG'!$D$5:$N$215,3,0)*$H550","v":6.6453208619305029},{"$f":"VLOOKUP($A550,'8.Non-elective admissions - CCG'!$D$5:$N$215,4,0)*$H550","v":6.7712158942900134},{"$f":"VLOOKUP($A550,'8.Non-elective admissions - CCG'!$D$5:$N$215,5,0)*$H550","v":6.4187098036833827},{"$f":"VLOOKUP($A550,'8.Non-elective admissions - CCG'!$D$5:$N$215,6,0)*$H550","v":5.8725190479082725},{"$f":"VLOOKUP($A550,'8.Non-elective admissions - CCG'!$D$5:$N$215,7,0)*$H550","v":6.703426261481046},{"$f":"VLOOKUP($A550,'8.Non-elective admissions - CCG'!$D$5:$N$215,8,0)*$H550","v":6.6240155487619701},{"$f":"VLOOKUP($A550,'8.Non-elective admissions - CCG'!$D$5:$N$215,9,0)*$H550","v":6.2656989182002842},{"$f":"VLOOKUP($A550,'8.Non-elective admissions - CCG'!$D$5:$N$215,10,0)*$H550","v":5.688518615998218},{"$f":"VLOOKUP($A550,'8.Non-elective admissions - CCG'!$D$5:$Q$215,11,0)*$H550","v":6.5736575358181657},{"$f":"VLOOKUP($A550,'8.Non-elective admissions - CCG'!$D$5:$Q$215,12,0)*$H550","v":6.4690678166271871},{"$f":"VLOOKUP($A550,'8.Non-elective admissions - CCG'!$D$5:$Q$215,13,0)*$H550","v":6.1107511860655013},{"$f":"VLOOKUP($A550,'8.Non-elective admissions - CCG'!$D$5:$Q$215,14,0)*$H550","v":5.5296971905600651}]
["04L","NHS Nottingham North and East CCG","E06000018","Nottingham",{"$f":"COUNTIF($D$5:D551,D551)","v":2},"Nottingham2","NHS Nottingham North and East CCG",4.5249326827688133E-2,2.0047959623020618E-2,{"$f":"VLOOKUP($A551,'8.Non-elective admissions - CCG'!$D$5:$N$215,3,0)*$H551","v":155.25044034579798},{"$f":"VLOOKUP($A551,'8.Non-elective admissions - CCG'!$D$5:$N$215,4,0)*$H551","v":158.19164658959772},{"$f":"VLOOKUP($A551,'8.Non-elective admissions - CCG'!$D$5:$N$215,5,0)*$H551","v":149.95626910695847},{"$f":"VLOOKUP($A551,'8.Non-elective admissions - CCG'!$D$5:$N$215,6,0)*$H551","v":137.19595894155043},{"$f":"VLOOKUP($A551,'8.Non-elective admissions - CCG'!$D$5:$N$215,7,0)*$H551","v":156.60792015062862},{"$f":"VLOOKUP($A551,'8.Non-elective admissions - CCG'!$D$5:$N$215,8,0)*$H551","v":154.75269775069341},{"$f":"VLOOKUP($A551,'8.Non-elective admissions - CCG'!$D$5:$N$215,9,0)*$H551","v":146.38157228757112},{"$f":"VLOOKUP($A551,'8.Non-elective admissions - CCG'!$D$5:$N$215,10,0)*$H551","v":132.89727289292006},{"$f":"VLOOKUP($A551,'8.Non-elective admissions - CCG'!$D$5:$Q$215,11,0)*$H551","v":153.57621525317353},{"$f":"VLOOKUP($A551,'8.Non-elective admissions - CCG'!$D$5:$Q$215,12,0)*$H551","v":151.13275160447836},{"$f":"VLOOKUP($A551,'8.Non-elective admissions - CCG'!$D$5:$Q$215,13,0)*$H551","v":142.76162614135606},{"$f":"VLOOKUP($A551,'8.Non-elective admissions - CCG'!$D$5:$Q$215,14,0)*$H551","v":129.18682809304963}]
["04L","NHS Nottingham North and East CCG","E10000024","Nottinghamshire",{"$f":"COUNTIF($D$5:D552,D552)","v":10},"Nottinghamshire10","NHS Nottingham North and East CCG",0.95281382652062696,0.17249248941064932,{"$f":"VLOOKUP($A552,'8.Non-elective admissions - CCG'!$D$5:$N$215,3,0)*$H552","v":3269.1042387922712},{"$f":"VLOOKUP($A552,'8.Non-elective admissions - CCG'!$D$5:$N$215,4,0)*$H552","v":3331.0371375161117},{"$f":"VLOOKUP($A552,'8.Non-elective admissions - CCG'!$D$5:$N$215,5,0)*$H552","v":3157.6250210893577},{"$f":"VLOOKUP($A552,'8.Non-elective admissions - CCG'!$D$5:$N$215,6,0)*$H552","v":2888.9315220105409},{"$f":"VLOOKUP($A552,'8.Non-elective admissions - CCG'!$D$5:$N$215,7,0)*$H552","v":3297.6886535878898},{"$f":"VLOOKUP($A552,'8.Non-elective admissions - CCG'!$D$5:$N$215,8,0)*$H552","v":3258.6232867005442},{"$f":"VLOOKUP($A552,'8.Non-elective admissions - CCG'!$D$5:$N$215,9,0)*$H552","v":3082.3527287942284},{"$f":"VLOOKUP($A552,'8.Non-elective admissions - CCG'!$D$5:$N$215,10,0)*$H552","v":2798.4142084910814},{"$f":"VLOOKUP($A552,'8.Non-elective admissions - CCG'!$D$5:$Q$215,11,0)*$H552","v":3233.8501272110079},{"$f":"VLOOKUP($A552,'8.Non-elective admissions - CCG'!$D$5:$Q$215,12,0)*$H552","v":3182.398180578894},{"$f":"VLOOKUP($A552,'8.Non-elective admissions - CCG'!$D$5:$Q$215,13,0)*$H552","v":3006.1276226725781},{"$f":"VLOOKUP($A552,'8.Non-elective admissions - CCG'!$D$5:$Q$215,14,0)*$H552","v":2720.2834747163902}]
["04M","NHS Nottingham West CCG","E10000007","Derbyshire",{"$f":"COUNTIF($D$5:D553,D553)","v":9},"Derbyshire9","NHS Nottingham West CCG",4.9826446017811839E-2,5.9474937914956155E-3,{"$f":"VLOOKUP($A553,'8.Non-elective admissions - CCG'!$D$5:$N$215,3,0)*$H553","v":111.31228040379165},{"$f":"VLOOKUP($A553,'8.Non-elective admissions - CCG'!$D$5:$N$215,4,0)*$H553","v":109.26939611706136},{"$f":"VLOOKUP($A553,'8.Non-elective admissions - CCG'!$D$5:$N$215,5,0)*$H553","v":111.41193329582727},{"$f":"VLOOKUP($A553,'8.Non-elective admissions - CCG'!$D$5:$N$215,6,0)*$H553","v":94.81972677189593},{"$f":"VLOOKUP($A553,'8.Non-elective admissions - CCG'!$D$5:$N$215,7,0)*$H553","v":108.42234653475856},{"$f":"VLOOKUP($A553,'8.Non-elective admissions - CCG'!$D$5:$N$215,8,0)*$H553","v":108.52199942679418},{"$f":"VLOOKUP($A553,'8.Non-elective admissions - CCG'!$D$5:$N$215,9,0)*$H553","v":110.51505726750666},{"$f":"VLOOKUP($A553,'8.Non-elective admissions - CCG'!$D$5:$N$215,10,0)*$H553","v":93.424586283397204},{"$f":"VLOOKUP($A553,'8.Non-elective admissions - CCG'!$D$5:$Q$215,11,0)*$H553","v":107.97390852059826},{"$f":"VLOOKUP($A553,'8.Non-elective admissions - CCG'!$D$5:$Q$215,12,0)*$H553","v":107.67494984449138},{"$f":"VLOOKUP($A553,'8.Non-elective admissions - CCG'!$D$5:$Q$215,13,0)*$H553","v":109.51852834715042},{"$f":"VLOOKUP($A553,'8.Non-elective admissions - CCG'!$D$5:$Q$215,14,0)*$H553","v":92.527710255076585}]
["04M","NHS Nottingham West CCG","E06000018","Nottingham",{"$f":"COUNTIF($D$5:D554,D554)","v":3},"Nottingham3","NHS Nottingham West CCG",5.7702718481641491E-2,1.6253647801750946E-2,{"$f":"VLOOKUP($A554,'8.Non-elective admissions - CCG'!$D$5:$N$215,3,0)*$H554","v":128.9078730879871},{"$f":"VLOOKUP($A554,'8.Non-elective admissions - CCG'!$D$5:$N$215,4,0)*$H554","v":126.54206163023979},{"$f":"VLOOKUP($A554,'8.Non-elective admissions - CCG'!$D$5:$N$215,5,0)*$H554","v":129.02327852495037},{"$f":"VLOOKUP($A554,'8.Non-elective admissions - CCG'!$D$5:$N$215,6,0)*$H554","v":109.80827327056376},{"$f":"VLOOKUP($A554,'8.Non-elective admissions - CCG'!$D$5:$N$215,7,0)*$H554","v":125.56111541605188},{"$f":"VLOOKUP($A554,'8.Non-elective admissions - CCG'!$D$5:$N$215,8,0)*$H554","v":125.67652085301516},{"$f":"VLOOKUP($A554,'8.Non-elective admissions - CCG'!$D$5:$N$215,9,0)*$H554","v":127.98462959228083},{"$f":"VLOOKUP($A554,'8.Non-elective admissions - CCG'!$D$5:$N$215,10,0)*$H554","v":108.1925971530778},{"$f":"VLOOKUP($A554,'8.Non-elective admissions - CCG'!$D$5:$Q$215,11,0)*$H554","v":125.04179094971711},{"$f":"VLOOKUP($A554,'8.Non-elective admissions - CCG'!$D$5:$Q$215,12,0)*$H554","v":124.69557463882727},{"$f":"VLOOKUP($A554,'8.Non-elective admissions - CCG'!$D$5:$Q$215,13,0)*$H554","v":126.83057522264799},{"$f":"VLOOKUP($A554,'8.Non-elective admissions - CCG'!$D$5:$Q$215,14,0)*$H554","v":107.15394822040825}]
["04M","NHS Nottingham West CCG","E10000024","Nottinghamshire",{"$f":"COUNTIF($D$5:D555,D555)","v":11},"Nottinghamshire11","NHS Nottingham West CCG",0.89247083550054673,0.10271945031893279,{"$f":"VLOOKUP($A555,'8.Non-elective admissions - CCG'!$D$5:$N$215,3,0)*$H555","v":1993.7798465082215},{"$f":"VLOOKUP($A555,'8.Non-elective admissions - CCG'!$D$5:$N$215,4,0)*$H555","v":1957.1885422526989},{"$f":"VLOOKUP($A555,'8.Non-elective admissions - CCG'!$D$5:$N$215,5,0)*$H555","v":1995.5647881792224},{"$f":"VLOOKUP($A555,'8.Non-elective admissions - CCG'!$D$5:$N$215,6,0)*$H555","v":1698.3719999575405},{"$f":"VLOOKUP($A555,'8.Non-elective admissions - CCG'!$D$5:$N$215,7,0)*$H555","v":1942.0165380491896},{"$f":"VLOOKUP($A555,'8.Non-elective admissions - CCG'!$D$5:$N$215,8,0)*$H555","v":1943.8014797201909},{"$f":"VLOOKUP($A555,'8.Non-elective admissions - CCG'!$D$5:$N$215,9,0)*$H555","v":1979.5003131402127},{"$f":"VLOOKUP($A555,'8.Non-elective admissions - CCG'!$D$5:$N$215,10,0)*$H555","v":1673.382816563525},{"$f":"VLOOKUP($A555,'8.Non-elective admissions - CCG'!$D$5:$Q$215,11,0)*$H555","v":1933.9843005296848},{"$f":"VLOOKUP($A555,'8.Non-elective admissions - CCG'!$D$5:$Q$215,12,0)*$H555","v":1928.6294755166814},{"$f":"VLOOKUP($A555,'8.Non-elective admissions - CCG'!$D$5:$Q$215,13,0)*$H555","v":1961.6508964302018},{"$f":"VLOOKUP($A555,'8.Non-elective admissions - CCG'!$D$5:$Q$215,14,0)*$H555","v":1657.3183415245153}]
["00Y","NHS Oldham CCG","E08000003","Manchester",{"$f":"COUNTIF($D$5:D556,D556)","v":5},"Manchester5","NHS Oldham CCG",8.5047054722899949E-3,3.7479918245347083E-3,{"$f":"VLOOKUP($A556,'8.Non-elective admissions - CCG'!$D$5:$N$215,3,0)*$H556","v":61.506029975601244},{"$f":"VLOOKUP($A556,'8.Non-elective admissions - CCG'!$D$5:$N$215,4,0)*$H556","v":60.647054722899952},{"$f":"VLOOKUP($A556,'8.Non-elective admissions - CCG'!$D$5:$N$215,5,0)*$H556","v":62.909306378529095},{"$f":"VLOOKUP($A556,'8.Non-elective admissions - CCG'!$D$5:$N$215,6,0)*$H556","v":63.368560474032755},{"$f":"VLOOKUP($A556,'8.Non-elective admissions - CCG'!$D$5:$N$215,7,0)*$H556","v":60.102753572673393},{"$f":"VLOOKUP($A556,'8.Non-elective admissions - CCG'!$D$5:$N$215,8,0)*$H556","v":59.762565353781795},{"$f":"VLOOKUP($A556,'8.Non-elective admissions - CCG'!$D$5:$N$215,9,0)*$H556","v":62.730707563611006},{"$f":"VLOOKUP($A556,'8.Non-elective admissions - CCG'!$D$5:$N$215,10,0)*$H556","v":59.652004182642024},{"$f":"VLOOKUP($A556,'8.Non-elective admissions - CCG'!$D$5:$Q$215,11,0)*$H556","v":60.128267689090265},{"$f":"VLOOKUP($A556,'8.Non-elective admissions - CCG'!$D$5:$Q$215,12,0)*$H556","v":60.783130010456595},{"$f":"VLOOKUP($A556,'8.Non-elective admissions - CCG'!$D$5:$Q$215,13,0)*$H556","v":60.783130010456595},{"$f":"VLOOKUP($A556,'8.Non-elective admissions - CCG'!$D$5:$Q$215,14,0)*$H556","v":60.111258278145684}]
["00Y","NHS Oldham CCG","E08000004","Oldham",{"$f":"COUNTIF($D$5:D557,D557)","v":3},"Oldham3","NHS Oldham CCG",0.94653599327496762,0.96335264264966114,{"$f":"VLOOKUP($A557,'8.Non-elective admissions - CCG'!$D$5:$N$215,3,0)*$H557","v":6845.3483033645662},{"$f":"VLOOKUP($A557,'8.Non-elective admissions - CCG'!$D$5:$N$215,4,0)*$H557","v":6749.7481680437941},{"$f":"VLOOKUP($A557,'8.Non-elective admissions - CCG'!$D$5:$N$215,5,0)*$H557","v":7001.5267422549359},{"$f":"VLOOKUP($A557,'8.Non-elective admissions - CCG'!$D$5:$N$215,6,0)*$H557","v":7052.6396858917842},{"$f":"VLOOKUP($A557,'8.Non-elective admissions - CCG'!$D$5:$N$215,7,0)*$H557","v":6689.1698644741964},{"$f":"VLOOKUP($A557,'8.Non-elective admissions - CCG'!$D$5:$N$215,8,0)*$H557","v":6651.3084247431971},{"$f":"VLOOKUP($A557,'8.Non-elective admissions - CCG'!$D$5:$N$215,9,0)*$H557","v":6981.6494863961616},{"$f":"VLOOKUP($A557,'8.Non-elective admissions - CCG'!$D$5:$N$215,10,0)*$H557","v":6639.0034568306228},{"$f":"VLOOKUP($A557,'8.Non-elective admissions - CCG'!$D$5:$Q$215,11,0)*$H557","v":6692.0094724540213},{"$f":"VLOOKUP($A557,'8.Non-elective admissions - CCG'!$D$5:$Q$215,12,0)*$H557","v":6764.8927439361933},{"$f":"VLOOKUP($A557,'8.Non-elective admissions - CCG'!$D$5:$Q$215,13,0)*$H557","v":6764.8927439361933},{"$f":"VLOOKUP($A557,'8.Non-elective admissions - CCG'!$D$5:$Q$215,14,0)*$H557","v":6690.1164004674711}]
["00Y","NHS Oldham CCG","E08000005","Rochdale",{"$f":"COUNTIF($D$5:D558,D558)","v":5},"Rochdale5","NHS Oldham CCG",8.3775859594447753E-3,9.0900596660304089E-3,{"$f":"VLOOKUP($A558,'8.Non-elective admissions - CCG'!$D$5:$N$215,3,0)*$H558","v":60.586701658704612},{"$f":"VLOOKUP($A558,'8.Non-elective admissions - CCG'!$D$5:$N$215,4,0)*$H558","v":59.74056547680069},{"$f":"VLOOKUP($A558,'8.Non-elective admissions - CCG'!$D$5:$N$215,5,0)*$H558","v":61.969003342013004},{"$f":"VLOOKUP($A558,'8.Non-elective admissions - CCG'!$D$5:$N$215,6,0)*$H558","v":62.421392983823019},{"$f":"VLOOKUP($A558,'8.Non-elective admissions - CCG'!$D$5:$N$215,7,0)*$H558","v":59.204399975396228},{"$f":"VLOOKUP($A558,'8.Non-elective admissions - CCG'!$D$5:$N$215,8,0)*$H558","v":58.869296537018435},{"$f":"VLOOKUP($A558,'8.Non-elective admissions - CCG'!$D$5:$N$215,9,0)*$H558","v":61.79307403686466},{"$f":"VLOOKUP($A558,'8.Non-elective admissions - CCG'!$D$5:$N$215,10,0)*$H558","v":58.760387919545657},{"$f":"VLOOKUP($A558,'8.Non-elective admissions - CCG'!$D$5:$Q$215,11,0)*$H558","v":59.22953273327456},{"$f":"VLOOKUP($A558,'8.Non-elective admissions - CCG'!$D$5:$Q$215,12,0)*$H558","v":59.874606852151807},{"$f":"VLOOKUP($A558,'8.Non-elective admissions - CCG'!$D$5:$Q$215,13,0)*$H558","v":59.874606852151807},{"$f":"VLOOKUP($A558,'8.Non-elective admissions - CCG'!$D$5:$Q$215,14,0)*$H558","v":59.212777561355672}]
["00Y","NHS Oldham CCG","E08000008","Tameside",{"$f":"COUNTIF($D$5:D559,D559)","v":3},"Tameside3","NHS Oldham CCG",3.6581715293297519E-2,3.8194280919128826E-2,{"$f":"VLOOKUP($A559,'8.Non-elective admissions - CCG'!$D$5:$N$215,3,0)*$H559","v":264.55896500112766},{"$f":"VLOOKUP($A559,'8.Non-elective admissions - CCG'!$D$5:$N$215,4,0)*$H559","v":260.86421175650463},{"$f":"VLOOKUP($A559,'8.Non-elective admissions - CCG'!$D$5:$N$215,5,0)*$H559","v":270.59494802452173},{"$f":"VLOOKUP($A559,'8.Non-elective admissions - CCG'!$D$5:$N$215,6,0)*$H559","v":272.57036065035982},{"$f":"VLOOKUP($A559,'8.Non-elective admissions - CCG'!$D$5:$N$215,7,0)*$H559","v":258.52298197773359},{"$f":"VLOOKUP($A559,'8.Non-elective admissions - CCG'!$D$5:$N$215,8,0)*$H559","v":257.05971336600169},{"$f":"VLOOKUP($A559,'8.Non-elective admissions - CCG'!$D$5:$N$215,9,0)*$H559","v":269.82673200336251},{"$f":"VLOOKUP($A559,'8.Non-elective admissions - CCG'!$D$5:$N$215,10,0)*$H559","v":256.58415106718877},{"$f":"VLOOKUP($A559,'8.Non-elective admissions - CCG'!$D$5:$Q$215,11,0)*$H559","v":258.63272712361345},{"$f":"VLOOKUP($A559,'8.Non-elective admissions - CCG'!$D$5:$Q$215,12,0)*$H559","v":261.44951920119735},{"$f":"VLOOKUP($A559,'8.Non-elective admissions - CCG'!$D$5:$Q$215,13,0)*$H559","v":261.44951920119735},{"$f":"VLOOKUP($A559,'8.Non-elective admissions - CCG'!$D$5:$Q$215,14,0)*$H559","v":258.55956369302686}]
["10Q","NHS Oxfordshire CCG","E10000002","Buckinghamshire",{"$f":"COUNTIF($D$5:D560,D560)","v":8},"Buckinghamshire8","NHS Oxfordshire CCG",5.6658353546416972E-3,7.4736365498026388E-3,{"$f":"VLOOKUP($A560,'8.Non-elective admissions - CCG'!$D$5:$N$215,3,0)*$H560","v":71.004248664369754},{"$f":"VLOOKUP($A560,'8.Non-elective admissions - CCG'!$D$5:$N$215,4,0)*$H560","v":72.460368350512667},{"$f":"VLOOKUP($A560,'8.Non-elective admissions - CCG'!$D$5:$N$215,5,0)*$H560","v":73.032617721331476},{"$f":"VLOOKUP($A560,'8.Non-elective admissions - CCG'!$D$5:$N$215,6,0)*$H560","v":71.406522974549304},{"$f":"VLOOKUP($A560,'8.Non-elective admissions - CCG'!$D$5:$N$215,7,0)*$H560","v":68.669924498257373},{"$f":"VLOOKUP($A560,'8.Non-elective admissions - CCG'!$D$5:$N$215,8,0)*$H560","v":70.828607768375861},{"$f":"VLOOKUP($A560,'8.Non-elective admissions - CCG'!$D$5:$N$215,9,0)*$H560","v":71.95610900394955},{"$f":"VLOOKUP($A560,'8.Non-elective admissions - CCG'!$D$5:$N$215,10,0)*$H560","v":68.55094195580989},{"$f":"VLOOKUP($A560,'8.Non-elective admissions - CCG'!$D$5:$Q$215,11,0)*$H560","v":69.984398300534238},{"$f":"VLOOKUP($A560,'8.Non-elective admissions - CCG'!$D$5:$Q$215,12,0)*$H560","v":72.194074088844502},{"$f":"VLOOKUP($A560,'8.Non-elective admissions - CCG'!$D$5:$Q$215,13,0)*$H560","v":73.321575324418205},{"$f":"VLOOKUP($A560,'8.Non-elective admissions - CCG'!$D$5:$Q$215,14,0)*$H560","v":69.865415758086769}]
["10Q","NHS Oxfordshire CCG","E10000013","Gloucestershire",{"$f":"COUNTIF($D$5:D561,D561)","v":3},"Gloucestershire3","NHS Oxfordshire CCG",1.5453573051247465E-3,1.7507709039625513E-3,{"$f":"VLOOKUP($A561,'8.Non-elective admissions - CCG'!$D$5:$N$215,3,0)*$H561","v":19.366417747823323},{"$f":"VLOOKUP($A561,'8.Non-elective admissions - CCG'!$D$5:$N$215,4,0)*$H561","v":19.763574575240384},{"$f":"VLOOKUP($A561,'8.Non-elective admissions - CCG'!$D$5:$N$215,5,0)*$H561","v":19.919655663057981},{"$f":"VLOOKUP($A561,'8.Non-elective admissions - CCG'!$D$5:$N$215,6,0)*$H561","v":19.476138116487178},{"$f":"VLOOKUP($A561,'8.Non-elective admissions - CCG'!$D$5:$N$215,7,0)*$H561","v":18.729730538111927},{"$f":"VLOOKUP($A561,'8.Non-elective admissions - CCG'!$D$5:$N$215,8,0)*$H561","v":19.318511671364455},{"$f":"VLOOKUP($A561,'8.Non-elective admissions - CCG'!$D$5:$N$215,9,0)*$H561","v":19.626037775084281},{"$f":"VLOOKUP($A561,'8.Non-elective admissions - CCG'!$D$5:$N$215,10,0)*$H561","v":18.697278034704308},{"$f":"VLOOKUP($A561,'8.Non-elective admissions - CCG'!$D$5:$Q$215,11,0)*$H561","v":19.088253432900867},{"$f":"VLOOKUP($A561,'8.Non-elective admissions - CCG'!$D$5:$Q$215,12,0)*$H561","v":19.690942781899519},{"$f":"VLOOKUP($A561,'8.Non-elective admissions - CCG'!$D$5:$Q$215,13,0)*$H561","v":19.998468885619342},{"$f":"VLOOKUP($A561,'8.Non-elective admissions - CCG'!$D$5:$Q$215,14,0)*$H561","v":19.055800929493248}]
["10Q","NHS Oxfordshire CCG","E10000021","Northamptonshire",{"$f":"COUNTIF($D$5:D562,D562)","v":9},"Northamptonshire9","NHS Oxfordshire CCG",1.1874326131635957E-2,1.10887364932087E-2,{"$f":"VLOOKUP($A562,'8.Non-elective admissions - CCG'!$D$5:$N$215,3,0)*$H562","v":148.8090550816618},{"$f":"VLOOKUP($A562,'8.Non-elective admissions - CCG'!$D$5:$N$215,4,0)*$H562","v":151.86075689749225},{"$f":"VLOOKUP($A562,'8.Non-elective admissions - CCG'!$D$5:$N$215,5,0)*$H562","v":153.06006383678749},{"$f":"VLOOKUP($A562,'8.Non-elective admissions - CCG'!$D$5:$N$215,6,0)*$H562","v":149.65213223700795},{"$f":"VLOOKUP($A562,'8.Non-elective admissions - CCG'!$D$5:$N$215,7,0)*$H562","v":143.9168327154278},{"$f":"VLOOKUP($A562,'8.Non-elective admissions - CCG'!$D$5:$N$215,8,0)*$H562","v":148.44095097158109},{"$f":"VLOOKUP($A562,'8.Non-elective admissions - CCG'!$D$5:$N$215,9,0)*$H562","v":150.80394187177666},{"$f":"VLOOKUP($A562,'8.Non-elective admissions - CCG'!$D$5:$N$215,10,0)*$H562","v":143.66747186666345},{"$f":"VLOOKUP($A562,'8.Non-elective admissions - CCG'!$D$5:$Q$215,11,0)*$H562","v":146.67167637796734},{"$f":"VLOOKUP($A562,'8.Non-elective admissions - CCG'!$D$5:$Q$215,12,0)*$H562","v":151.30266356930537},{"$f":"VLOOKUP($A562,'8.Non-elective admissions - CCG'!$D$5:$Q$215,13,0)*$H562","v":153.66565446950091},{"$f":"VLOOKUP($A562,'8.Non-elective admissions - CCG'!$D$5:$Q$215,14,0)*$H562","v":146.42231552920299}]
["10Q","NHS Oxfordshire CCG","E10000025","Oxfordshire",{"$f":"COUNTIF($D$5:D563,D563)","v":6},"Oxfordshire6","NHS Oxfordshire CCG",0.97314069303221884,0.96569820526519612,{"$f":"VLOOKUP($A563,'8.Non-elective admissions - CCG'!$D$5:$N$215,3,0)*$H563","v":12195.399165079767},{"$f":"VLOOKUP($A563,'8.Non-elective admissions - CCG'!$D$5:$N$215,4,0)*$H563","v":12445.496323189047},{"$f":"VLOOKUP($A563,'8.Non-elective admissions - CCG'!$D$5:$N$215,5,0)*$H563","v":12543.7835331853},{"$f":"VLOOKUP($A563,'8.Non-elective admissions - CCG'!$D$5:$N$215,6,0)*$H563","v":12264.492154285053},{"$f":"VLOOKUP($A563,'8.Non-elective admissions - CCG'!$D$5:$N$215,7,0)*$H563","v":11794.465199550492},{"$f":"VLOOKUP($A563,'8.Non-elective admissions - CCG'!$D$5:$N$215,8,0)*$H563","v":12165.231803595767},{"$f":"VLOOKUP($A563,'8.Non-elective admissions - CCG'!$D$5:$N$215,9,0)*$H563","v":12358.886801509179},{"$f":"VLOOKUP($A563,'8.Non-elective admissions - CCG'!$D$5:$N$215,10,0)*$H563","v":11774.029244996816},{"$f":"VLOOKUP($A563,'8.Non-elective admissions - CCG'!$D$5:$Q$215,11,0)*$H563","v":12020.233840333967},{"$f":"VLOOKUP($A563,'8.Non-elective admissions - CCG'!$D$5:$Q$215,12,0)*$H563","v":12399.758710616532},{"$f":"VLOOKUP($A563,'8.Non-elective admissions - CCG'!$D$5:$Q$215,13,0)*$H563","v":12593.413708529944},{"$f":"VLOOKUP($A563,'8.Non-elective admissions - CCG'!$D$5:$Q$215,14,0)*$H563","v":11999.79788578029}]
["10Q","NHS Oxfordshire CCG","E06000038","Reading",{"$f":"COUNTIF($D$5:D564,D564)","v":2},"Reading2","NHS Oxfordshire CCG",1.5581759371488229E-3,6.0966095272062589E-3,{"$f":"VLOOKUP($A564,'8.Non-elective admissions - CCG'!$D$5:$N$215,3,0)*$H564","v":19.527060844349048},{"$f":"VLOOKUP($A564,'8.Non-elective admissions - CCG'!$D$5:$N$215,4,0)*$H564","v":19.927512060196296},{"$f":"VLOOKUP($A564,'8.Non-elective admissions - CCG'!$D$5:$N$215,5,0)*$H564","v":20.084887829848327},{"$f":"VLOOKUP($A564,'8.Non-elective admissions - CCG'!$D$5:$N$215,6,0)*$H564","v":19.637691335886615},{"$f":"VLOOKUP($A564,'8.Non-elective admissions - CCG'!$D$5:$N$215,7,0)*$H564","v":18.885092358243735},{"$f":"VLOOKUP($A564,'8.Non-elective admissions - CCG'!$D$5:$N$215,8,0)*$H564","v":19.478757390297435},{"$f":"VLOOKUP($A564,'8.Non-elective admissions - CCG'!$D$5:$N$215,9,0)*$H564","v":19.788834401790051},{"$f":"VLOOKUP($A564,'8.Non-elective admissions - CCG'!$D$5:$N$215,10,0)*$H564","v":18.852370663563608},{"$f":"VLOOKUP($A564,'8.Non-elective admissions - CCG'!$D$5:$Q$215,11,0)*$H564","v":19.246589175662262},{"$f":"VLOOKUP($A564,'8.Non-elective admissions - CCG'!$D$5:$Q$215,12,0)*$H564","v":19.854277791150302},{"$f":"VLOOKUP($A564,'8.Non-elective admissions - CCG'!$D$5:$Q$215,13,0)*$H564","v":20.164354802642919},{"$f":"VLOOKUP($A564,'8.Non-elective admissions - CCG'!$D$5:$Q$215,14,0)*$H564","v":19.213867480982135}]
["10Q","NHS Oxfordshire CCG","E10000031","Warwickshire",{"$f":"COUNTIF($D$5:D565,D565)","v":5},"Warwickshire5","NHS Oxfordshire CCG",2.6520325365366618E-3,3.2408084267981094E-3,{"$f":"VLOOKUP($A565,'8.Non-elective admissions - CCG'!$D$5:$N$215,3,0)*$H565","v":33.235271747877448},{"$f":"VLOOKUP($A565,'8.Non-elective admissions - CCG'!$D$5:$N$215,4,0)*$H565","v":33.916844109767368},{"$f":"VLOOKUP($A565,'8.Non-elective admissions - CCG'!$D$5:$N$215,5,0)*$H565","v":34.184699395957573},{"$f":"VLOOKUP($A565,'8.Non-elective admissions - CCG'!$D$5:$N$215,6,0)*$H565","v":33.423566057971549},{"$f":"VLOOKUP($A565,'8.Non-elective admissions - CCG'!$D$5:$N$215,7,0)*$H565","v":32.142634342824344},{"$f":"VLOOKUP($A565,'8.Non-elective admissions - CCG'!$D$5:$N$215,8,0)*$H565","v":33.153058739244813},{"$f":"VLOOKUP($A565,'8.Non-elective admissions - CCG'!$D$5:$N$215,9,0)*$H565","v":33.680813214015608},{"$f":"VLOOKUP($A565,'8.Non-elective admissions - CCG'!$D$5:$N$215,10,0)*$H565","v":32.08694165955707},{"$f":"VLOOKUP($A565,'8.Non-elective admissions - CCG'!$D$5:$Q$215,11,0)*$H565","v":32.757905891300844},{"$f":"VLOOKUP($A565,'8.Non-elective admissions - CCG'!$D$5:$Q$215,12,0)*$H565","v":33.792198580550142},{"$f":"VLOOKUP($A565,'8.Non-elective admissions - CCG'!$D$5:$Q$215,13,0)*$H565","v":34.319953055320937},{"$f":"VLOOKUP($A565,'8.Non-elective admissions - CCG'!$D$5:$Q$215,14,0)*$H565","v":32.702213208033577}]
["10Q","NHS Oxfordshire CCG","E06000037","West Berkshire",{"$f":"COUNTIF($D$5:D566,D566)","v":4},"West Berkshire4","NHS Oxfordshire CCG",2.4184485752090502E-3,1.0398931935377191E-2,{"$f":"VLOOKUP($A566,'8.Non-elective admissions - CCG'!$D$5:$N$215,3,0)*$H566","v":30.307997544519818},{"$f":"VLOOKUP($A566,'8.Non-elective admissions - CCG'!$D$5:$N$215,4,0)*$H566","v":30.929538828348544},{"$f":"VLOOKUP($A566,'8.Non-elective admissions - CCG'!$D$5:$N$215,5,0)*$H566","v":31.173802134444657},{"$f":"VLOOKUP($A566,'8.Non-elective admissions - CCG'!$D$5:$N$215,6,0)*$H566","v":30.479707393359661},{"$f":"VLOOKUP($A566,'8.Non-elective admissions - CCG'!$D$5:$N$215,7,0)*$H566","v":29.31159673153369},{"$f":"VLOOKUP($A566,'8.Non-elective admissions - CCG'!$D$5:$N$215,8,0)*$H566","v":30.233025638688336},{"$f":"VLOOKUP($A566,'8.Non-elective admissions - CCG'!$D$5:$N$215,9,0)*$H566","v":30.714296905154939},{"$f":"VLOOKUP($A566,'8.Non-elective admissions - CCG'!$D$5:$N$215,10,0)*$H566","v":29.260809311454299},{"$f":"VLOOKUP($A566,'8.Non-elective admissions - CCG'!$D$5:$Q$215,11,0)*$H566","v":29.872676800982187},{"$f":"VLOOKUP($A566,'8.Non-elective admissions - CCG'!$D$5:$Q$215,12,0)*$H566","v":30.815871745313718},{"$f":"VLOOKUP($A566,'8.Non-elective admissions - CCG'!$D$5:$Q$215,13,0)*$H566","v":31.297143011780317},{"$f":"VLOOKUP($A566,'8.Non-elective admissions - CCG'!$D$5:$Q$215,14,0)*$H566","v":29.8218893809028}]
["10Q","NHS Oxfordshire CCG","E06000040","Windsor and Maidenhead",{"$f":"COUNTIF($D$5:D567,D567)","v":4},"Windsor and Maidenhead4","NHS Oxfordshire CCG",0,1.6111742314827298E-3,{"$f":"VLOOKUP($A567,'8.Non-elective admissions - CCG'!$D$5:$N$215,3,0)*$H567","v":0},{"$f":"VLOOKUP($A567,'8.Non-elective admissions - CCG'!$D$5:$N$215,4,0)*$H567","v":0},{"$f":"VLOOKUP($A567,'8.Non-elective admissions - CCG'!$D$5:$N$215,5,0)*$H567","v":0},{"$f":"VLOOKUP($A567,'8.Non-elective admissions - CCG'!$D$5:$N$215,6,0)*$H567","v":0},{"$f":"VLOOKUP($A567,'8.Non-elective admissions - CCG'!$D$5:$N$215,7,0)*$H567","v":0},{"$f":"VLOOKUP($A567,'8.Non-elective admissions - CCG'!$D$5:$N$215,8,0)*$H567","v":0},{"$f":"VLOOKUP($A567,'8.Non-elective admissions - CCG'!$D$5:$N$215,9,0)*$H567","v":0},{"$f":"VLOOKUP($A567,'8.Non-elective admissions - CCG'!$D$5:$N$215,10,0)*$H567","v":0},{"$f":"VLOOKUP($A567,'8.Non-elective admissions - CCG'!$D$5:$Q$215,11,0)*$H567","v":0},{"$f":"VLOOKUP($A567,'8.Non-elective admissions - CCG'!$D$5:$Q$215,12,0)*$H567","v":0},{"$f":"VLOOKUP($A567,'8.Non-elective admissions - CCG'!$D$5:$Q$215,13,0)*$H567","v":0},{"$f":"VLOOKUP($A567,'8.Non-elective admissions - CCG'!$D$5:$Q$215,14,0)*$H567","v":0}]
["10Q","NHS Oxfordshire CCG","E06000041","Wokingham",{"$f":"COUNTIF($D$5:D568,D568)","v":3},"Wokingham3","NHS Oxfordshire CCG",1.1451311274841439E-3,4.8157842720319135E-3,{"$f":"VLOOKUP($A568,'8.Non-elective admissions - CCG'!$D$5:$N$215,3,0)*$H568","v":14.350783289631291},{"$f":"VLOOKUP($A568,'8.Non-elective admissions - CCG'!$D$5:$N$215,4,0)*$H568","v":14.645081989394717},{"$f":"VLOOKUP($A568,'8.Non-elective admissions - CCG'!$D$5:$N$215,5,0)*$H568","v":14.760740233270614},{"$f":"VLOOKUP($A568,'8.Non-elective admissions - CCG'!$D$5:$N$215,6,0)*$H568","v":14.432087599682665},{"$f":"VLOOKUP($A568,'8.Non-elective admissions - CCG'!$D$5:$N$215,7,0)*$H568","v":13.878989265107824},{"$f":"VLOOKUP($A568,'8.Non-elective admissions - CCG'!$D$5:$N$215,8,0)*$H568","v":14.315284224679283},{"$f":"VLOOKUP($A568,'8.Non-elective admissions - CCG'!$D$5:$N$215,9,0)*$H568","v":14.543165319048628},{"$f":"VLOOKUP($A568,'8.Non-elective admissions - CCG'!$D$5:$N$215,10,0)*$H568","v":13.854941511430656},{"$f":"VLOOKUP($A568,'8.Non-elective admissions - CCG'!$D$5:$Q$215,11,0)*$H568","v":14.144659686684145},{"$f":"VLOOKUP($A568,'8.Non-elective admissions - CCG'!$D$5:$Q$215,12,0)*$H568","v":14.59126082640296},{"$f":"VLOOKUP($A568,'8.Non-elective admissions - CCG'!$D$5:$Q$215,13,0)*$H568","v":14.819141920772307},{"$f":"VLOOKUP($A568,'8.Non-elective admissions - CCG'!$D$5:$Q$215,14,0)*$H568","v":14.120611933006979}]
["10R","NHS Portsmouth CCG","E10000014","Hampshire",{"$f":"COUNTIF($D$5:D569,D569)","v":10},"Hampshire10","NHS Portsmouth CCG",4.6129598183711568E-2,7.2429663902496156E-3,{"$f":"VLOOKUP($A569,'8.Non-elective admissions - CCG'!$D$5:$N$215,3,0)*$H569","v":230.5096021240067},{"$f":"VLOOKUP($A569,'8.Non-elective admissions - CCG'!$D$5:$N$215,4,0)*$H569","v":225.25082793106358},{"$f":"VLOOKUP($A569,'8.Non-elective admissions - CCG'!$D$5:$N$215,5,0)*$H569","v":247.94659023744967},{"$f":"VLOOKUP($A569,'8.Non-elective admissions - CCG'!$D$5:$N$215,6,0)*$H569","v":232.17026765862033},{"$f":"VLOOKUP($A569,'8.Non-elective admissions - CCG'!$D$5:$N$215,7,0)*$H569","v":224.37436556557307},{"$f":"VLOOKUP($A569,'8.Non-elective admissions - CCG'!$D$5:$N$215,8,0)*$H569","v":220.73012730905984},{"$f":"VLOOKUP($A569,'8.Non-elective admissions - CCG'!$D$5:$N$215,9,0)*$H569","v":224.00532878010338},{"$f":"VLOOKUP($A569,'8.Non-elective admissions - CCG'!$D$5:$N$215,10,0)*$H569","v":223.22112561098027},{"$f":"VLOOKUP($A569,'8.Non-elective admissions - CCG'!$D$5:$Q$215,11,0)*$H569","v":214.68714994699363},{"$f":"VLOOKUP($A569,'8.Non-elective admissions - CCG'!$D$5:$Q$215,12,0)*$H569","v":211.04291169048042},{"$f":"VLOOKUP($A569,'8.Non-elective admissions - CCG'!$D$5:$Q$215,13,0)*$H569","v":225.38921672561472},{"$f":"VLOOKUP($A569,'8.Non-elective admissions - CCG'!$D$5:$Q$215,14,0)*$H569","v":226.45019748384007}]
["10R","NHS Portsmouth CCG","E06000044","Portsmouth",{"$f":"COUNTIF($D$5:D570,D570)","v":2},"Portsmouth2","NHS Portsmouth CCG",0.95387040181628835,0.9847026977293748,{"$f":"VLOOKUP($A570,'8.Non-elective admissions - CCG'!$D$5:$N$215,3,0)*$H570","v":4766.490397875993},{"$f":"VLOOKUP($A570,'8.Non-elective admissions - CCG'!$D$5:$N$215,4,0)*$H570","v":4657.7491720689359},{"$f":"VLOOKUP($A570,'8.Non-elective admissions - CCG'!$D$5:$N$215,5,0)*$H570","v":5127.0534097625496},{"$f":"VLOOKUP($A570,'8.Non-elective admissions - CCG'!$D$5:$N$215,6,0)*$H570","v":4800.829732341379},{"$f":"VLOOKUP($A570,'8.Non-elective admissions - CCG'!$D$5:$N$215,7,0)*$H570","v":4639.6256344344265},{"$f":"VLOOKUP($A570,'8.Non-elective admissions - CCG'!$D$5:$N$215,8,0)*$H570","v":4564.2698726909393},{"$f":"VLOOKUP($A570,'8.Non-elective admissions - CCG'!$D$5:$N$215,9,0)*$H570","v":4631.9946712198962},{"$f":"VLOOKUP($A570,'8.Non-elective admissions - CCG'!$D$5:$N$215,10,0)*$H570","v":4615.7788743890196},{"$f":"VLOOKUP($A570,'8.Non-elective admissions - CCG'!$D$5:$Q$215,11,0)*$H570","v":4439.3128500530056},{"$f":"VLOOKUP($A570,'8.Non-elective admissions - CCG'!$D$5:$Q$215,12,0)*$H570","v":4363.9570883095193},{"$f":"VLOOKUP($A570,'8.Non-elective admissions - CCG'!$D$5:$Q$215,13,0)*$H570","v":4660.6107832743846},{"$f":"VLOOKUP($A570,'8.Non-elective admissions - CCG'!$D$5:$Q$215,14,0)*$H570","v":4682.5498025161596}]
["08N","NHS Redbridge CCG","E09000002","Barking and Dagenham",{"$f":"COUNTIF($D$5:D571,D571)","v":4},"Barking and Dagenham4","NHS Redbridge CCG",1.9996590521650186E-2,2.8186816355562392E-2,{"$f":"VLOOKUP($A571,'8.Non-elective admissions - CCG'!$D$5:$N$215,3,0)*$H571","v":134.39708489601091},{"$f":"VLOOKUP($A571,'8.Non-elective admissions - CCG'!$D$5:$N$215,4,0)*$H571","v":130.35777361063757},{"$f":"VLOOKUP($A571,'8.Non-elective admissions - CCG'!$D$5:$N$215,5,0)*$H571","v":131.91750767132629},{"$f":"VLOOKUP($A571,'8.Non-elective admissions - CCG'!$D$5:$N$215,6,0)*$H571","v":144.95528469144219},{"$f":"VLOOKUP($A571,'8.Non-elective admissions - CCG'!$D$5:$N$215,7,0)*$H571","v":135.07832074326629},{"$f":"VLOOKUP($A571,'8.Non-elective admissions - CCG'!$D$5:$N$215,8,0)*$H571","v":128.31828135015343},{"$f":"VLOOKUP($A571,'8.Non-elective admissions - CCG'!$D$5:$N$215,9,0)*$H571","v":129.14955561541086},{"$f":"VLOOKUP($A571,'8.Non-elective admissions - CCG'!$D$5:$N$215,10,0)*$H571","v":142.99280330037504},{"$f":"VLOOKUP($A571,'8.Non-elective admissions - CCG'!$D$5:$Q$215,11,0)*$H571","v":137.7064989950324},{"$f":"VLOOKUP($A571,'8.Non-elective admissions - CCG'!$D$5:$Q$215,12,0)*$H571","v":130.81463883375383},{"$f":"VLOOKUP($A571,'8.Non-elective admissions - CCG'!$D$5:$Q$215,13,0)*$H571","v":131.66212294718378},{"$f":"VLOOKUP($A571,'8.Non-elective admissions - CCG'!$D$5:$Q$215,14,0)*$H571","v":161.79147690843334}]
["08N","NHS Redbridge CCG","E10000012","Essex",{"$f":"COUNTIF($D$5:D572,D572)","v":9},"Essex9","NHS Redbridge CCG",3.1963859529491982E-2,6.3673978363751943E-3,{"$f":"VLOOKUP($A572,'8.Non-elective admissions - CCG'!$D$5:$N$215,3,0)*$H572","v":214.82909989771562},{"$f":"VLOOKUP($A572,'8.Non-elective admissions - CCG'!$D$5:$N$215,4,0)*$H572","v":208.37240027275823},{"$f":"VLOOKUP($A572,'8.Non-elective admissions - CCG'!$D$5:$N$215,5,0)*$H572","v":210.86558131605861},{"$f":"VLOOKUP($A572,'8.Non-elective admissions - CCG'!$D$5:$N$215,6,0)*$H572","v":231.70601772928737},{"$f":"VLOOKUP($A572,'8.Non-elective admissions - CCG'!$D$5:$N$215,7,0)*$H572","v":215.91803187862254},{"$f":"VLOOKUP($A572,'8.Non-elective admissions - CCG'!$D$5:$N$215,8,0)*$H572","v":205.11234231162629},{"$f":"VLOOKUP($A572,'8.Non-elective admissions - CCG'!$D$5:$N$215,9,0)*$H572","v":206.44110552335493},{"$f":"VLOOKUP($A572,'8.Non-elective admissions - CCG'!$D$5:$N$215,10,0)*$H572","v":228.56905898397542},{"$f":"VLOOKUP($A572,'8.Non-elective admissions - CCG'!$D$5:$Q$215,11,0)*$H572","v":220.11908407134334},{"$f":"VLOOKUP($A572,'8.Non-elective admissions - CCG'!$D$5:$Q$215,12,0)*$H572","v":209.10268355779061},{"$f":"VLOOKUP($A572,'8.Non-elective admissions - CCG'!$D$5:$Q$215,13,0)*$H572","v":210.45735765214795},{"$f":"VLOOKUP($A572,'8.Non-elective admissions - CCG'!$D$5:$Q$215,14,0)*$H572","v":258.61808968739342}]
["08N","NHS Redbridge CCG","E09000016","Havering",{"$f":"COUNTIF($D$5:D573,D573)","v":3},"Havering3","NHS Redbridge CCG",4.1970678486191607E-3,4.9460991710964589E-3,{"$f":"VLOOKUP($A573,'8.Non-elective admissions - CCG'!$D$5:$N$215,3,0)*$H573","v":28.208493010569381},{"$f":"VLOOKUP($A573,'8.Non-elective admissions - CCG'!$D$5:$N$215,4,0)*$H573","v":27.360685305148309},{"$f":"VLOOKUP($A573,'8.Non-elective admissions - CCG'!$D$5:$N$215,5,0)*$H573","v":27.688056597340601},{"$f":"VLOOKUP($A573,'8.Non-elective admissions - CCG'!$D$5:$N$215,6,0)*$H573","v":30.424544834640297},{"$f":"VLOOKUP($A573,'8.Non-elective admissions - CCG'!$D$5:$N$215,7,0)*$H573","v":28.351477039208998},{"$f":"VLOOKUP($A573,'8.Non-elective admissions - CCG'!$D$5:$N$215,8,0)*$H573","v":26.932617961131943},{"$f":"VLOOKUP($A573,'8.Non-elective admissions - CCG'!$D$5:$N$215,9,0)*$H573","v":27.107093429253325},{"$f":"VLOOKUP($A573,'8.Non-elective admissions - CCG'!$D$5:$N$215,10,0)*$H573","v":30.012641238322537},{"$f":"VLOOKUP($A573,'8.Non-elective admissions - CCG'!$D$5:$Q$215,11,0)*$H573","v":28.903103199127855},{"$f":"VLOOKUP($A573,'8.Non-elective admissions - CCG'!$D$5:$Q$215,12,0)*$H573","v":27.456576369028294},{"$f":"VLOOKUP($A573,'8.Non-elective admissions - CCG'!$D$5:$Q$215,13,0)*$H573","v":27.634454108778041},{"$f":"VLOOKUP($A573,'8.Non-elective admissions - CCG'!$D$5:$Q$215,14,0)*$H573","v":33.958279296552668}]
["08N","NHS Redbridge CCG","E09000025","Newham",{"$f":"COUNTIF($D$5:D574,D574)","v":3},"Newham3","NHS Redbridge CCG",2.0661438799863619E-3,1.6736170565329058E-3,{"$f":"VLOOKUP($A574,'8.Non-elective admissions - CCG'!$D$5:$N$215,3,0)*$H574","v":13.886553017388339},{"$f":"VLOOKUP($A574,'8.Non-elective admissions - CCG'!$D$5:$N$215,4,0)*$H574","v":13.469191953631093},{"$f":"VLOOKUP($A574,'8.Non-elective admissions - CCG'!$D$5:$N$215,5,0)*$H574","v":13.630351176270029},{"$f":"VLOOKUP($A574,'8.Non-elective admissions - CCG'!$D$5:$N$215,6,0)*$H574","v":14.977476986021138},{"$f":"VLOOKUP($A574,'8.Non-elective admissions - CCG'!$D$5:$N$215,7,0)*$H574","v":13.956941580634162},{"$f":"VLOOKUP($A574,'8.Non-elective admissions - CCG'!$D$5:$N$215,8,0)*$H574","v":13.258461807023524},{"$f":"VLOOKUP($A574,'8.Non-elective admissions - CCG'!$D$5:$N$215,9,0)*$H574","v":13.344353061029663},{"$f":"VLOOKUP($A574,'8.Non-elective admissions - CCG'!$D$5:$N$215,10,0)*$H574","v":14.774703972724174},{"$f":"VLOOKUP($A574,'8.Non-elective admissions - CCG'!$D$5:$Q$215,11,0)*$H574","v":14.228497594371634},{"$f":"VLOOKUP($A574,'8.Non-elective admissions - CCG'!$D$5:$Q$215,12,0)*$H574","v":13.516397465175586},{"$f":"VLOOKUP($A574,'8.Non-elective admissions - CCG'!$D$5:$Q$215,13,0)*$H574","v":13.603963598634843},{"$f":"VLOOKUP($A574,'8.Non-elective admissions - CCG'!$D$5:$Q$215,14,0)*$H574","v":16.717073317393112}]
["08N","NHS Redbridge CCG","E09000026","Redbridge",{"$f":"COUNTIF($D$5:D575,D575)","v":4},"Redbridge4","NHS Redbridge CCG",0.92780429594272062,0.88672703633584993,{"$f":"VLOOKUP($A575,'8.Non-elective admissions - CCG'!$D$5:$N$215,3,0)*$H575","v":6235.7726730310251},{"$f":"VLOOKUP($A575,'8.Non-elective admissions - CCG'!$D$5:$N$215,4,0)*$H575","v":6048.3562052505958},{"$f":"VLOOKUP($A575,'8.Non-elective admissions - CCG'!$D$5:$N$215,5,0)*$H575","v":6120.7249403341284},{"$f":"VLOOKUP($A575,'8.Non-elective admissions - CCG'!$D$5:$N$215,6,0)*$H575","v":6725.653341288782},{"$f":"VLOOKUP($A575,'8.Non-elective admissions - CCG'!$D$5:$N$215,7,0)*$H575","v":6267.3807386634835},{"$f":"VLOOKUP($A575,'8.Non-elective admissions - CCG'!$D$5:$N$215,8,0)*$H575","v":5953.7275894988052},{"$f":"VLOOKUP($A575,'8.Non-elective admissions - CCG'!$D$5:$N$215,9,0)*$H575","v":5992.2971563245828},{"$f":"VLOOKUP($A575,'8.Non-elective admissions - CCG'!$D$5:$N$215,10,0)*$H575","v":6634.5978854415271},{"$f":"VLOOKUP($A575,'8.Non-elective admissions - CCG'!$D$5:$Q$215,11,0)*$H575","v":6389.3232803108594},{"$f":"VLOOKUP($A575,'8.Non-elective admissions - CCG'!$D$5:$Q$215,12,0)*$H575","v":6069.5538947374689},{"$f":"VLOOKUP($A575,'8.Non-elective admissions - CCG'!$D$5:$Q$215,13,0)*$H575","v":6108.8755681163475},{"$f":"VLOOKUP($A575,'8.Non-elective admissions - CCG'!$D$5:$Q$215,14,0)*$H575","v":7506.8210833260728}]
["08N","NHS Redbridge CCG","E09000031","Waltham Forest",{"$f":"COUNTIF($D$5:D576,D576)","v":3},"Waltham Forest3","NHS Redbridge CCG",1.3972042277531536E-2,1.4237719185482948E-2,{"$f":"VLOOKUP($A576,'8.Non-elective admissions - CCG'!$D$5:$N$215,3,0)*$H576","v":93.90609614728946},{"$f":"VLOOKUP($A576,'8.Non-elective admissions - CCG'!$D$5:$N$215,4,0)*$H576","v":91.083743607228087},{"$f":"VLOOKUP($A576,'8.Non-elective admissions - CCG'!$D$5:$N$215,5,0)*$H576","v":92.173562904875553},{"$f":"VLOOKUP($A576,'8.Non-elective admissions - CCG'!$D$5:$N$215,6,0)*$H576","v":101.2833344698261},{"$f":"VLOOKUP($A576,'8.Non-elective admissions - CCG'!$D$5:$N$215,7,0)*$H576","v":94.382090094783493},{"$f":"VLOOKUP($A576,'8.Non-elective admissions - CCG'!$D$5:$N$215,8,0)*$H576","v":89.658707071258092},{"$f":"VLOOKUP($A576,'8.Non-elective admissions - CCG'!$D$5:$N$215,9,0)*$H576","v":90.239536046368912},{"$f":"VLOOKUP($A576,'8.Non-elective admissions - CCG'!$D$5:$N$215,10,0)*$H576","v":99.912107063075354},{"$f":"VLOOKUP($A576,'8.Non-elective admissions - CCG'!$D$5:$Q$215,11,0)*$H576","v":96.218454029265601},{"$f":"VLOOKUP($A576,'8.Non-elective admissions - CCG'!$D$5:$Q$215,12,0)*$H576","v":91.402965036781438},{"$f":"VLOOKUP($A576,'8.Non-elective admissions - CCG'!$D$5:$Q$215,13,0)*$H576","v":91.995120176906923},{"$f":"VLOOKUP($A576,'8.Non-elective admissions - CCG'!$D$5:$Q$215,14,0)*$H576","v":113.04713936415341}]
["05J","NHS Redditch and Bromsgrove CCG","E08000025","Birmingham",{"$f":"COUNTIF($D$5:D577,D577)","v":4},"Birmingham4","NHS Redditch and Bromsgrove CCG",2.771769699570318E-2,4.0197522890723283E-3,{"$f":"VLOOKUP($A577,'8.Non-elective admissions - CCG'!$D$5:$N$215,3,0)*$H577","v":122.42906763002094},{"$f":"VLOOKUP($A577,'8.Non-elective admissions - CCG'!$D$5:$N$215,4,0)*$H577","v":115.38877259311234},{"$f":"VLOOKUP($A577,'8.Non-elective admissions - CCG'!$D$5:$N$215,5,0)*$H577","v":121.45894823517133},{"$f":"VLOOKUP($A577,'8.Non-elective admissions - CCG'!$D$5:$N$215,6,0)*$H577","v":119.3801209604936},{"$f":"VLOOKUP($A577,'8.Non-elective admissions - CCG'!$D$5:$N$215,7,0)*$H577","v":114.72354786521547},{"$f":"VLOOKUP($A577,'8.Non-elective admissions - CCG'!$D$5:$N$215,8,0)*$H577","v":113.69799307637444},{"$f":"VLOOKUP($A577,'8.Non-elective admissions - CCG'!$D$5:$N$215,9,0)*$H577","v":122.09645526607251},{"$f":"VLOOKUP($A577,'8.Non-elective admissions - CCG'!$D$5:$N$215,10,0)*$H577","v":116.8023751398932},{"$f":"VLOOKUP($A577,'8.Non-elective admissions - CCG'!$D$5:$Q$215,11,0)*$H577","v":111.56373040770529},{"$f":"VLOOKUP($A577,'8.Non-elective admissions - CCG'!$D$5:$Q$215,12,0)*$H577","v":110.51045792186858},{"$f":"VLOOKUP($A577,'8.Non-elective admissions - CCG'!$D$5:$Q$215,13,0)*$H577","v":118.68717853560102},{"$f":"VLOOKUP($A577,'8.Non-elective admissions - CCG'!$D$5:$Q$215,14,0)*$H577","v":113.69799307637444}]
["05J","NHS Redditch and Bromsgrove CCG","E08000029","Solihull",{"$f":"COUNTIF($D$5:D578,D578)","v":3},"Solihull3","NHS Redditch and Bromsgrove CCG",4.6969319176819188E-3,3.6819520709843998E-3,{"$f":"VLOOKUP($A578,'8.Non-elective admissions - CCG'!$D$5:$N$215,3,0)*$H578","v":20.746348280401037},{"$f":"VLOOKUP($A578,'8.Non-elective admissions - CCG'!$D$5:$N$215,4,0)*$H578","v":19.553327573309829},{"$f":"VLOOKUP($A578,'8.Non-elective admissions - CCG'!$D$5:$N$215,5,0)*$H578","v":20.581955663282169},{"$f":"VLOOKUP($A578,'8.Non-elective admissions - CCG'!$D$5:$N$215,6,0)*$H578","v":20.229685769456026},{"$f":"VLOOKUP($A578,'8.Non-elective admissions - CCG'!$D$5:$N$215,7,0)*$H578","v":19.440601207285461},{"$f":"VLOOKUP($A578,'8.Non-elective admissions - CCG'!$D$5:$N$215,8,0)*$H578","v":19.26681472633123},{"$f":"VLOOKUP($A578,'8.Non-elective admissions - CCG'!$D$5:$N$215,9,0)*$H578","v":20.689985097388853},{"$f":"VLOOKUP($A578,'8.Non-elective admissions - CCG'!$D$5:$N$215,10,0)*$H578","v":19.792871101111604},{"$f":"VLOOKUP($A578,'8.Non-elective admissions - CCG'!$D$5:$Q$215,11,0)*$H578","v":18.905150968669723},{"$f":"VLOOKUP($A578,'8.Non-elective admissions - CCG'!$D$5:$Q$215,12,0)*$H578","v":18.72666755579781},{"$f":"VLOOKUP($A578,'8.Non-elective admissions - CCG'!$D$5:$Q$215,13,0)*$H578","v":20.112262471513976},{"$f":"VLOOKUP($A578,'8.Non-elective admissions - CCG'!$D$5:$Q$215,14,0)*$H578","v":19.26681472633123}]
["05J","NHS Redditch and Bromsgrove CCG","E10000031","Warwickshire",{"$f":"COUNTIF($D$5:D579,D579)","v":6},"Warwickshire6","NHS Redditch and Bromsgrove CCG",7.9789855786794091E-3,2.3949260984286783E-3,{"$f":"VLOOKUP($A579,'8.Non-elective admissions - CCG'!$D$5:$N$215,3,0)*$H579","v":35.243179301026949},{"$f":"VLOOKUP($A579,'8.Non-elective admissions - CCG'!$D$5:$N$215,4,0)*$H579","v":33.216516964042377},{"$f":"VLOOKUP($A579,'8.Non-elective admissions - CCG'!$D$5:$N$215,5,0)*$H579","v":34.963914805773172},{"$f":"VLOOKUP($A579,'8.Non-elective admissions - CCG'!$D$5:$N$215,6,0)*$H579","v":34.365490887372218},{"$f":"VLOOKUP($A579,'8.Non-elective admissions - CCG'!$D$5:$N$215,7,0)*$H579","v":33.025021310154074},{"$f":"VLOOKUP($A579,'8.Non-elective admissions - CCG'!$D$5:$N$215,8,0)*$H579","v":32.729798843742934},{"$f":"VLOOKUP($A579,'8.Non-elective admissions - CCG'!$D$5:$N$215,9,0)*$H579","v":35.147431474082801},{"$f":"VLOOKUP($A579,'8.Non-elective admissions - CCG'!$D$5:$N$215,10,0)*$H579","v":33.623445228555028},{"$f":"VLOOKUP($A579,'8.Non-elective admissions - CCG'!$D$5:$Q$215,11,0)*$H579","v":32.115416954184624},{"$f":"VLOOKUP($A579,'8.Non-elective admissions - CCG'!$D$5:$Q$215,12,0)*$H579","v":31.812215502194803},{"$f":"VLOOKUP($A579,'8.Non-elective admissions - CCG'!$D$5:$Q$215,13,0)*$H579","v":34.166016247905233},{"$f":"VLOOKUP($A579,'8.Non-elective admissions - CCG'!$D$5:$Q$215,14,0)*$H579","v":32.729798843742934}]
["05J","NHS Redditch and Bromsgrove CCG","E10000034","Worcestershire",{"$f":"COUNTIF($D$5:D580,D580)","v":6},"Worcestershire6","NHS Redditch and Bromsgrove CCG",0.95960638550793553,0.2806634013310087,{"$f":"VLOOKUP($A580,'8.Non-elective admissions - CCG'!$D$5:$N$215,3,0)*$H580","v":4238.5814047885515},{"$f":"VLOOKUP($A580,'8.Non-elective admissions - CCG'!$D$5:$N$215,4,0)*$H580","v":3994.8413828695357},{"$f":"VLOOKUP($A580,'8.Non-elective admissions - CCG'!$D$5:$N$215,5,0)*$H580","v":4204.9951812957734},{"$f":"VLOOKUP($A580,'8.Non-elective admissions - CCG'!$D$5:$N$215,6,0)*$H580","v":4133.0247023826787},{"$f":"VLOOKUP($A580,'8.Non-elective admissions - CCG'!$D$5:$N$215,7,0)*$H580","v":3971.810829617345},{"$f":"VLOOKUP($A580,'8.Non-elective admissions - CCG'!$D$5:$N$215,8,0)*$H580","v":3936.3053933535516},{"$f":"VLOOKUP($A580,'8.Non-elective admissions - CCG'!$D$5:$N$215,9,0)*$H580","v":4227.0661281624562},{"$f":"VLOOKUP($A580,'8.Non-elective admissions - CCG'!$D$5:$N$215,10,0)*$H580","v":4043.7813085304401},{"$f":"VLOOKUP($A580,'8.Non-elective admissions - CCG'!$D$5:$Q$215,11,0)*$H580","v":3862.4157016694403},{"$f":"VLOOKUP($A580,'8.Non-elective admissions - CCG'!$D$5:$Q$215,12,0)*$H580","v":3825.950659020139},{"$f":"VLOOKUP($A580,'8.Non-elective admissions - CCG'!$D$5:$Q$215,13,0)*$H580","v":4109.0345427449802},{"$f":"VLOOKUP($A580,'8.Non-elective admissions - CCG'!$D$5:$Q$215,14,0)*$H580","v":3936.3053933535516}]
["08P","NHS Richmond CCG","E09000018","Hounslow",{"$f":"COUNTIF($D$5:D581,D581)","v":6},{"$f":"D581&E581","v":"Hounslow6"},{"$f":"B581","v":"NHS Richmond CCG"},5.0092249575262503E-2,3.4545155453199541E-2,{"$f":"VLOOKUP($A581,'8.Non-elective admissions - CCG'!$D$5:$N$215,3,0)*$H581","v":163.10036461705471},{"$f":"VLOOKUP($A581,'8.Non-elective admissions - CCG'!$D$5:$N$215,4,0)*$H581","v":156.88892566972217},{"$f":"VLOOKUP($A581,'8.Non-elective admissions - CCG'!$D$5:$N$215,5,0)*$H581","v":166.90737558477466},{"$f":"VLOOKUP($A581,'8.Non-elective admissions - CCG'!$D$5:$N$215,6,0)*$H581","v":164.55303985473734},{"$f":"VLOOKUP($A581,'8.Non-elective admissions - CCG'!$D$5:$N$215,7,0)*$H581","v":161.84805837767314},{"$f":"VLOOKUP($A581,'8.Non-elective admissions - CCG'!$D$5:$N$215,8,0)*$H581","v":155.58652718076533},{"$f":"VLOOKUP($A581,'8.Non-elective admissions - CCG'!$D$5:$N$215,9,0)*$H581","v":162.74971887002786},{"$f":"VLOOKUP($A581,'8.Non-elective admissions - CCG'!$D$5:$N$215,10,0)*$H581","v":167.05765233350044},{"$f":"VLOOKUP($A581,'8.Non-elective admissions - CCG'!$D$5:$Q$215,11,0)*$H581","v":160.29519864084},{"$f":"VLOOKUP($A581,'8.Non-elective admissions - CCG'!$D$5:$Q$215,12,0)*$H581","v":153.83329844563116},{"$f":"VLOOKUP($A581,'8.Non-elective admissions - CCG'!$D$5:$Q$215,13,0)*$H581","v":161.09667463404421},{"$f":"VLOOKUP($A581,'8.Non-elective admissions - CCG'!$D$5:$Q$215,14,0)*$H581","v":165.45470034709206}]
["08P","NHS Richmond CCG","E09000021","Kingston upon Thames",{"$f":"COUNTIF($D$5:D582,D582)","v":3},"Kingston upon Thames3","NHS Richmond CCG",7.6915213147633384E-3,8.8970476442532392E-3,{"$f":"VLOOKUP($A582,'8.Non-elective admissions - CCG'!$D$5:$N$215,3,0)*$H582","v":25.04359340086943},{"$f":"VLOOKUP($A582,'8.Non-elective admissions - CCG'!$D$5:$N$215,4,0)*$H582","v":24.089844757838776},{"$f":"VLOOKUP($A582,'8.Non-elective admissions - CCG'!$D$5:$N$215,5,0)*$H582","v":25.628149020791444},{"$f":"VLOOKUP($A582,'8.Non-elective admissions - CCG'!$D$5:$N$215,6,0)*$H582","v":25.266647518997566},{"$f":"VLOOKUP($A582,'8.Non-elective admissions - CCG'!$D$5:$N$215,7,0)*$H582","v":24.851305368000347},{"$f":"VLOOKUP($A582,'8.Non-elective admissions - CCG'!$D$5:$N$215,8,0)*$H582","v":23.889865203654928},{"$f":"VLOOKUP($A582,'8.Non-elective admissions - CCG'!$D$5:$N$215,9,0)*$H582","v":24.989752751666085},{"$f":"VLOOKUP($A582,'8.Non-elective admissions - CCG'!$D$5:$N$215,10,0)*$H582","v":25.651223584735735},{"$f":"VLOOKUP($A582,'8.Non-elective admissions - CCG'!$D$5:$Q$215,11,0)*$H582","v":24.612868207242684},{"$f":"VLOOKUP($A582,'8.Non-elective admissions - CCG'!$D$5:$Q$215,12,0)*$H582","v":23.620661957638212},{"$f":"VLOOKUP($A582,'8.Non-elective admissions - CCG'!$D$5:$Q$215,13,0)*$H582","v":24.735932548278896},{"$f":"VLOOKUP($A582,'8.Non-elective admissions - CCG'!$D$5:$Q$215,14,0)*$H582","v":25.405094902663308}]
["08P","NHS Richmond CCG","E09000027","Richmond upon Thames",{"$f":"COUNTIF($D$5:D583,D583)","v":4},"Richmond upon Thames4","NHS Richmond CCG",0.92534843078361007,0.90451242666057596,{"$f":"VLOOKUP($A583,'8.Non-elective admissions - CCG'!$D$5:$N$215,3,0)*$H583","v":3012.9344906314345},{"$f":"VLOOKUP($A583,'8.Non-elective admissions - CCG'!$D$5:$N$215,4,0)*$H583","v":2898.1912852142668},{"$f":"VLOOKUP($A583,'8.Non-elective admissions - CCG'!$D$5:$N$215,5,0)*$H583","v":3083.260971370989},{"$f":"VLOOKUP($A583,'8.Non-elective admissions - CCG'!$D$5:$N$215,6,0)*$H583","v":3039.769595124159},{"$f":"VLOOKUP($A583,'8.Non-elective admissions - CCG'!$D$5:$N$215,7,0)*$H583","v":2989.8007798618441},{"$f":"VLOOKUP($A583,'8.Non-elective admissions - CCG'!$D$5:$N$215,8,0)*$H583","v":2874.1322260138927},{"$f":"VLOOKUP($A583,'8.Non-elective admissions - CCG'!$D$5:$N$215,9,0)*$H583","v":3006.4570516159492},{"$f":"VLOOKUP($A583,'8.Non-elective admissions - CCG'!$D$5:$N$215,10,0)*$H583","v":3086.0370166633397},{"$f":"VLOOKUP($A583,'8.Non-elective admissions - CCG'!$D$5:$Q$215,11,0)*$H583","v":2961.1149785075522},{"$f":"VLOOKUP($A583,'8.Non-elective admissions - CCG'!$D$5:$Q$215,12,0)*$H583","v":2841.7450309364667},{"$f":"VLOOKUP($A583,'8.Non-elective admissions - CCG'!$D$5:$Q$215,13,0)*$H583","v":2975.9205534000898},{"$f":"VLOOKUP($A583,'8.Non-elective admissions - CCG'!$D$5:$Q$215,14,0)*$H583","v":3056.4258668782641}]
["08P","NHS Richmond CCG","E10000030","Surrey",{"$f":"COUNTIF($D$5:D584,D584)","v":15},"Surrey15","NHS Richmond CCG",4.0112744071930323E-3,0,{"$f":"VLOOKUP($A584,'8.Non-elective admissions - CCG'!$D$5:$N$215,3,0)*$H584","v":13.060709469820512},{"$f":"VLOOKUP($A584,'8.Non-elective admissions - CCG'!$D$5:$N$215,4,0)*$H584","v":12.563311443328578},{"$f":"VLOOKUP($A584,'8.Non-elective admissions - CCG'!$D$5:$N$215,5,0)*$H584","v":13.365566324767183},{"$f":"VLOOKUP($A584,'8.Non-elective admissions - CCG'!$D$5:$N$215,6,0)*$H584","v":13.177036427629112},{"$f":"VLOOKUP($A584,'8.Non-elective admissions - CCG'!$D$5:$N$215,7,0)*$H584","v":12.960427609640687},{"$f":"VLOOKUP($A584,'8.Non-elective admissions - CCG'!$D$5:$N$215,8,0)*$H584","v":12.459018308741559},{"$f":"VLOOKUP($A584,'8.Non-elective admissions - CCG'!$D$5:$N$215,9,0)*$H584","v":13.032630548970163},{"$f":"VLOOKUP($A584,'8.Non-elective admissions - CCG'!$D$5:$N$215,10,0)*$H584","v":13.377600147988764},{"$f":"VLOOKUP($A584,'8.Non-elective admissions - CCG'!$D$5:$Q$215,11,0)*$H584","v":12.836078103017703},{"$f":"VLOOKUP($A584,'8.Non-elective admissions - CCG'!$D$5:$Q$215,12,0)*$H584","v":12.318623704489802},{"$f":"VLOOKUP($A584,'8.Non-elective admissions - CCG'!$D$5:$Q$215,13,0)*$H584","v":12.900258493532792},{"$f":"VLOOKUP($A584,'8.Non-elective admissions - CCG'!$D$5:$Q$215,14,0)*$H584","v":13.249239366958586}]
["08P","NHS Richmond CCG","E09000032","Wandsworth",{"$f":"COUNTIF($D$5:D585,D585)","v":5},"Wandsworth5","NHS Richmond CCG",1.2856523919170871E-2,7.5493811279764471E-3,{"$f":"VLOOKUP($A585,'8.Non-elective admissions - CCG'!$D$5:$N$215,3,0)*$H585","v":41.86084188082036},{"$f":"VLOOKUP($A585,'8.Non-elective admissions - CCG'!$D$5:$N$215,4,0)*$H585","v":40.266632914843171},{"$f":"VLOOKUP($A585,'8.Non-elective admissions - CCG'!$D$5:$N$215,5,0)*$H585","v":42.837937698677344},{"$f":"VLOOKUP($A585,'8.Non-elective admissions - CCG'!$D$5:$N$215,6,0)*$H585","v":42.233681074476316},{"$f":"VLOOKUP($A585,'8.Non-elective admissions - CCG'!$D$5:$N$215,7,0)*$H585","v":41.539428782841085},{"$f":"VLOOKUP($A585,'8.Non-elective admissions - CCG'!$D$5:$N$215,8,0)*$H585","v":39.932363292944729},{"$f":"VLOOKUP($A585,'8.Non-elective admissions - CCG'!$D$5:$N$215,9,0)*$H585","v":41.770846213386157},{"$f":"VLOOKUP($A585,'8.Non-elective admissions - CCG'!$D$5:$N$215,10,0)*$H585","v":42.876507270434857},{"$f":"VLOOKUP($A585,'8.Non-elective admissions - CCG'!$D$5:$Q$215,11,0)*$H585","v":41.140876541346785},{"$f":"VLOOKUP($A585,'8.Non-elective admissions - CCG'!$D$5:$Q$215,12,0)*$H585","v":39.482384955773746},{"$f":"VLOOKUP($A585,'8.Non-elective admissions - CCG'!$D$5:$Q$215,13,0)*$H585","v":41.346580924053519},{"$f":"VLOOKUP($A585,'8.Non-elective admissions - CCG'!$D$5:$Q$215,14,0)*$H585","v":42.465098505021388}]
["03L","NHS Rotherham CCG","E08000016","Barnsley",{"$f":"COUNTIF($D$5:D586,D586)","v":4},"Barnsley4","NHS Rotherham CCG",2.9941627383613064E-3,3.1807688984170223E-3,{"$f":"VLOOKUP($A586,'8.Non-elective admissions - CCG'!$D$5:$N$215,3,0)*$H586","v":20.614810453617594},{"$f":"VLOOKUP($A586,'8.Non-elective admissions - CCG'!$D$5:$N$215,4,0)*$H586","v":20.791466055180912},{"$f":"VLOOKUP($A586,'8.Non-elective admissions - CCG'!$D$5:$N$215,5,0)*$H586","v":22.126862636490053},{"$f":"VLOOKUP($A586,'8.Non-elective admissions - CCG'!$D$5:$N$215,6,0)*$H586","v":21.198672187598049},{"$f":"VLOOKUP($A586,'8.Non-elective admissions - CCG'!$D$5:$N$215,7,0)*$H586","v":20.761524427797298},{"$f":"VLOOKUP($A586,'8.Non-elective admissions - CCG'!$D$5:$N$215,8,0)*$H586","v":20.989080795912759},{"$f":"VLOOKUP($A586,'8.Non-elective admissions - CCG'!$D$5:$N$215,9,0)*$H586","v":20.989080795912759},{"$f":"VLOOKUP($A586,'8.Non-elective admissions - CCG'!$D$5:$N$215,10,0)*$H586","v":20.53396805968184},{"$f":"VLOOKUP($A586,'8.Non-elective admissions - CCG'!$D$5:$Q$215,11,0)*$H586","v":20.761524427797298},{"$f":"VLOOKUP($A586,'8.Non-elective admissions - CCG'!$D$5:$Q$215,12,0)*$H586","v":20.989080795912759},{"$f":"VLOOKUP($A586,'8.Non-elective admissions - CCG'!$D$5:$Q$215,13,0)*$H586","v":20.989080795912759},{"$f":"VLOOKUP($A586,'8.Non-elective admissions - CCG'!$D$5:$Q$215,14,0)*$H586","v":20.53396805968184}]
["03L","NHS Rotherham CCG","E08000017","Doncaster",{"$f":"COUNTIF($D$5:D587,D587)","v":4},"Doncaster4","NHS Rotherham CCG",1.5768740631136972E-2,1.3217274988149584E-2,{"$f":"VLOOKUP($A587,'8.Non-elective admissions - CCG'!$D$5:$N$215,3,0)*$H587","v":108.56777924537805},{"$f":"VLOOKUP($A587,'8.Non-elective admissions - CCG'!$D$5:$N$215,4,0)*$H587","v":109.49813494261514},{"$f":"VLOOKUP($A587,'8.Non-elective admissions - CCG'!$D$5:$N$215,5,0)*$H587","v":116.53099326410222},{"$f":"VLOOKUP($A587,'8.Non-elective admissions - CCG'!$D$5:$N$215,6,0)*$H587","v":111.64268366844976},{"$f":"VLOOKUP($A587,'8.Non-elective admissions - CCG'!$D$5:$N$215,7,0)*$H587","v":109.34044753630377},{"$f":"VLOOKUP($A587,'8.Non-elective admissions - CCG'!$D$5:$N$215,8,0)*$H587","v":110.53887182427017},{"$f":"VLOOKUP($A587,'8.Non-elective admissions - CCG'!$D$5:$N$215,9,0)*$H587","v":110.53887182427017},{"$f":"VLOOKUP($A587,'8.Non-elective admissions - CCG'!$D$5:$N$215,10,0)*$H587","v":108.14202324833735},{"$f":"VLOOKUP($A587,'8.Non-elective admissions - CCG'!$D$5:$Q$215,11,0)*$H587","v":109.34044753630377},{"$f":"VLOOKUP($A587,'8.Non-elective admissions - CCG'!$D$5:$Q$215,12,0)*$H587","v":110.53887182427017},{"$f":"VLOOKUP($A587,'8.Non-elective admissions - CCG'!$D$5:$Q$215,13,0)*$H587","v":110.53887182427017},{"$f":"VLOOKUP($A587,'8.Non-elective admissions - CCG'!$D$5:$Q$215,14,0)*$H587","v":108.14202324833735}]
["03L","NHS Rotherham CCG","E08000018","Rotherham",{"$f":"COUNTIF($D$5:D588,D588)","v":4},"Rotherham4","NHS Rotherham CCG",0.97859928961261822,0.93634621727899081,{"$f":"VLOOKUP($A588,'8.Non-elective admissions - CCG'!$D$5:$N$215,3,0)*$H588","v":6737.6561089828765},{"$f":"VLOOKUP($A588,'8.Non-elective admissions - CCG'!$D$5:$N$215,4,0)*$H588","v":6795.393467070021},{"$f":"VLOOKUP($A588,'8.Non-elective admissions - CCG'!$D$5:$N$215,5,0)*$H588","v":7231.8487502372491},{"$f":"VLOOKUP($A588,'8.Non-elective admissions - CCG'!$D$5:$N$215,6,0)*$H588","v":6928.4829704573367},{"$f":"VLOOKUP($A588,'8.Non-elective admissions - CCG'!$D$5:$N$215,7,0)*$H588","v":6785.6074741738948},{"$f":"VLOOKUP($A588,'8.Non-elective admissions - CCG'!$D$5:$N$215,8,0)*$H588","v":6859.9810201844539},{"$f":"VLOOKUP($A588,'8.Non-elective admissions - CCG'!$D$5:$N$215,9,0)*$H588","v":6859.9810201844539},{"$f":"VLOOKUP($A588,'8.Non-elective admissions - CCG'!$D$5:$N$215,10,0)*$H588","v":6711.2339281633358},{"$f":"VLOOKUP($A588,'8.Non-elective admissions - CCG'!$D$5:$Q$215,11,0)*$H588","v":6785.6074741738948},{"$f":"VLOOKUP($A588,'8.Non-elective admissions - CCG'!$D$5:$Q$215,12,0)*$H588","v":6859.9810201844539},{"$f":"VLOOKUP($A588,'8.Non-elective admissions - CCG'!$D$5:$Q$215,13,0)*$H588","v":6859.9810201844539},{"$f":"VLOOKUP($A588,'8.Non-elective admissions - CCG'!$D$5:$Q$215,14,0)*$H588","v":6711.2339281633358}]
["03L","NHS Rotherham CCG","E08000019","Sheffield",{"$f":"COUNTIF($D$5:D589,D589)","v":4},"Sheffield4","NHS Rotherham CCG",2.6378070178836345E-3,1.1820823395856984E-3,{"$f":"VLOOKUP($A589,'8.Non-elective admissions - CCG'!$D$5:$N$215,3,0)*$H589","v":18.161301318128825},{"$f":"VLOOKUP($A589,'8.Non-elective admissions - CCG'!$D$5:$N$215,4,0)*$H589","v":18.316931932183959},{"$f":"VLOOKUP($A589,'8.Non-elective admissions - CCG'!$D$5:$N$215,5,0)*$H589","v":19.493393862160058},{"$f":"VLOOKUP($A589,'8.Non-elective admissions - CCG'!$D$5:$N$215,6,0)*$H589","v":18.675673686616133},{"$f":"VLOOKUP($A589,'8.Non-elective admissions - CCG'!$D$5:$N$215,7,0)*$H589","v":18.290553862005122},{"$f":"VLOOKUP($A589,'8.Non-elective admissions - CCG'!$D$5:$N$215,8,0)*$H589","v":18.491027195364278},{"$f":"VLOOKUP($A589,'8.Non-elective admissions - CCG'!$D$5:$N$215,9,0)*$H589","v":18.491027195364278},{"$f":"VLOOKUP($A589,'8.Non-elective admissions - CCG'!$D$5:$N$215,10,0)*$H589","v":18.090080528645966},{"$f":"VLOOKUP($A589,'8.Non-elective admissions - CCG'!$D$5:$Q$215,11,0)*$H589","v":18.290553862005122},{"$f":"VLOOKUP($A589,'8.Non-elective admissions - CCG'!$D$5:$Q$215,12,0)*$H589","v":18.491027195364278},{"$f":"VLOOKUP($A589,'8.Non-elective admissions - CCG'!$D$5:$Q$215,13,0)*$H589","v":18.491027195364278},{"$f":"VLOOKUP($A589,'8.Non-elective admissions - CCG'!$D$5:$Q$215,14,0)*$H589","v":18.090080528645966}]
["04N","NHS Rushcliffe CCG","E10000018","Leicestershire",{"$f":"COUNTIF($D$5:D590,D590)","v":4},"Leicestershire4","NHS Rushcliffe CCG",5.43739837398374E-2,9.8195539502855707E-3,{"$f":"VLOOKUP($A590,'8.Non-elective admissions - CCG'!$D$5:$N$215,3,0)*$H590","v":142.1879674796748},{"$f":"VLOOKUP($A590,'8.Non-elective admissions - CCG'!$D$5:$N$215,4,0)*$H590","v":142.67733333333334},{"$f":"VLOOKUP($A590,'8.Non-elective admissions - CCG'!$D$5:$N$215,5,0)*$H590","v":135.98933333333335},{"$f":"VLOOKUP($A590,'8.Non-elective admissions - CCG'!$D$5:$N$215,6,0)*$H590","v":118.75278048780488},{"$f":"VLOOKUP($A590,'8.Non-elective admissions - CCG'!$D$5:$N$215,7,0)*$H590","v":128.92071544715446},{"$f":"VLOOKUP($A590,'8.Non-elective admissions - CCG'!$D$5:$N$215,8,0)*$H590","v":140.01300813008132},{"$f":"VLOOKUP($A590,'8.Non-elective admissions - CCG'!$D$5:$N$215,9,0)*$H590","v":133.48813008130082},{"$f":"VLOOKUP($A590,'8.Non-elective admissions - CCG'!$D$5:$N$215,10,0)*$H590","v":114.83785365853659},{"$f":"VLOOKUP($A590,'8.Non-elective admissions - CCG'!$D$5:$Q$215,11,0)*$H590","v":127.01762601626017},{"$f":"VLOOKUP($A590,'8.Non-elective admissions - CCG'!$D$5:$Q$215,12,0)*$H590","v":137.13118699186992},{"$f":"VLOOKUP($A590,'8.Non-elective admissions - CCG'!$D$5:$Q$215,13,0)*$H590","v":130.66068292682928},{"$f":"VLOOKUP($A590,'8.Non-elective admissions - CCG'!$D$5:$Q$215,14,0)*$H590","v":111.68416260162601}]
["04N","NHS Rushcliffe CCG","E06000018","Nottingham",{"$f":"COUNTIF($D$5:D591,D591)","v":4},"Nottingham4","NHS Rushcliffe CCG",3.8292682926829268E-2,1.4082906759795245E-2,{"$f":"VLOOKUP($A591,'8.Non-elective admissions - CCG'!$D$5:$N$215,3,0)*$H591","v":100.13536585365854},{"$f":"VLOOKUP($A591,'8.Non-elective admissions - CCG'!$D$5:$N$215,4,0)*$H591","v":100.48},{"$f":"VLOOKUP($A591,'8.Non-elective admissions - CCG'!$D$5:$N$215,5,0)*$H591","v":95.77},{"$f":"VLOOKUP($A591,'8.Non-elective admissions - CCG'!$D$5:$N$215,6,0)*$H591","v":83.631219512195116},{"$f":"VLOOKUP($A591,'8.Non-elective admissions - CCG'!$D$5:$N$215,7,0)*$H591","v":90.7919512195122},{"$f":"VLOOKUP($A591,'8.Non-elective admissions - CCG'!$D$5:$N$215,8,0)*$H591","v":98.603658536585371},{"$f":"VLOOKUP($A591,'8.Non-elective admissions - CCG'!$D$5:$N$215,9,0)*$H591","v":94.008536585365846},{"$f":"VLOOKUP($A591,'8.Non-elective admissions - CCG'!$D$5:$N$215,10,0)*$H591","v":80.874146341463415},{"$f":"VLOOKUP($A591,'8.Non-elective admissions - CCG'!$D$5:$Q$215,11,0)*$H591","v":89.451707317073172},{"$f":"VLOOKUP($A591,'8.Non-elective admissions - CCG'!$D$5:$Q$215,12,0)*$H591","v":96.574146341463418},{"$f":"VLOOKUP($A591,'8.Non-elective admissions - CCG'!$D$5:$Q$215,13,0)*$H591","v":92.01731707317073},{"$f":"VLOOKUP($A591,'8.Non-elective admissions - CCG'!$D$5:$Q$215,14,0)*$H591","v":78.65317073170732}]
["04N","NHS Rushcliffe CCG","E10000024","Nottinghamshire",{"$f":"COUNTIF($D$5:D592,D592)","v":12},"Nottinghamshire12","NHS Rushcliffe CCG",0.90733333333333333,0.13634758726516807,{"$f":"VLOOKUP($A592,'8.Non-elective admissions - CCG'!$D$5:$N$215,3,0)*$H592","v":2372.6766666666667},{"$f":"VLOOKUP($A592,'8.Non-elective admissions - CCG'!$D$5:$N$215,4,0)*$H592","v":2380.8426666666664},{"$f":"VLOOKUP($A592,'8.Non-elective admissions - CCG'!$D$5:$N$215,5,0)*$H592","v":2269.2406666666666},{"$f":"VLOOKUP($A592,'8.Non-elective admissions - CCG'!$D$5:$N$215,6,0)*$H592","v":1981.616},{"$f":"VLOOKUP($A592,'8.Non-elective admissions - CCG'!$D$5:$N$215,7,0)*$H592","v":2151.2873333333332},{"$f":"VLOOKUP($A592,'8.Non-elective admissions - CCG'!$D$5:$N$215,8,0)*$H592","v":2336.3833333333332},{"$f":"VLOOKUP($A592,'8.Non-elective admissions - CCG'!$D$5:$N$215,9,0)*$H592","v":2227.5033333333331},{"$f":"VLOOKUP($A592,'8.Non-elective admissions - CCG'!$D$5:$N$215,10,0)*$H592","v":1916.288},{"$f":"VLOOKUP($A592,'8.Non-elective admissions - CCG'!$D$5:$Q$215,11,0)*$H592","v":2119.5306666666665},{"$f":"VLOOKUP($A592,'8.Non-elective admissions - CCG'!$D$5:$Q$215,12,0)*$H592","v":2288.2946666666667},{"$f":"VLOOKUP($A592,'8.Non-elective admissions - CCG'!$D$5:$Q$215,13,0)*$H592","v":2180.3220000000001},{"$f":"VLOOKUP($A592,'8.Non-elective admissions - CCG'!$D$5:$Q$215,14,0)*$H592","v":1863.6626666666666}]
["01G","NHS Salford CCG","E08000001","Bolton",{"$f":"COUNTIF($D$5:D593,D593)","v":4},"Bolton4","NHS Salford CCG",5.9883533600006301E-3,5.1185254347723879E-3,{"$f":"VLOOKUP($A593,'8.Non-elective admissions - CCG'!$D$5:$N$215,3,0)*$H593","v":48.403860208885092},{"$f":"VLOOKUP($A593,'8.Non-elective admissions - CCG'!$D$5:$N$215,4,0)*$H593","v":47.799036519525032},{"$f":"VLOOKUP($A593,'8.Non-elective admissions - CCG'!$D$5:$N$215,5,0)*$H593","v":51.661524436725436},{"$f":"VLOOKUP($A593,'8.Non-elective admissions - CCG'!$D$5:$N$215,6,0)*$H593","v":50.29617987064529},{"$f":"VLOOKUP($A593,'8.Non-elective admissions - CCG'!$D$5:$N$215,7,0)*$H593","v":41.275492391287109},{"$f":"VLOOKUP($A593,'8.Non-elective admissions - CCG'!$D$5:$N$215,8,0)*$H593","v":42.469534823716671},{"$f":"VLOOKUP($A593,'8.Non-elective admissions - CCG'!$D$5:$N$215,9,0)*$H593","v":44.390661462596768},{"$f":"VLOOKUP($A593,'8.Non-elective admissions - CCG'!$D$5:$N$215,10,0)*$H593","v":45.379490037998387},{"$f":"VLOOKUP($A593,'8.Non-elective admissions - CCG'!$D$5:$Q$215,11,0)*$H593","v":41.059230604964782},{"$f":"VLOOKUP($A593,'8.Non-elective admissions - CCG'!$D$5:$Q$215,12,0)*$H593","v":41.902088710497686},{"$f":"VLOOKUP($A593,'8.Non-elective admissions - CCG'!$D$5:$Q$215,13,0)*$H593","v":43.914627454831376},{"$f":"VLOOKUP($A593,'8.Non-elective admissions - CCG'!$D$5:$Q$215,14,0)*$H593","v":45.135911649730474}]
["01G","NHS Salford CCG","E08000002","Bury",{"$f":"COUNTIF($D$5:D594,D594)","v":6},"Bury6","NHS Salford CCG",1.4365761078846654E-2,1.8488550853628934E-2,{"$f":"VLOOKUP($A594,'8.Non-elective admissions - CCG'!$D$5:$N$215,3,0)*$H594","v":116.11844680031751},{"$f":"VLOOKUP($A594,'8.Non-elective admissions - CCG'!$D$5:$N$215,4,0)*$H594","v":114.66750493135399},{"$f":"VLOOKUP($A594,'8.Non-elective admissions - CCG'!$D$5:$N$215,5,0)*$H594","v":123.93342082721009},{"$f":"VLOOKUP($A594,'8.Non-elective admissions - CCG'!$D$5:$N$215,6,0)*$H594","v":120.65802730123305},{"$f":"VLOOKUP($A594,'8.Non-elective admissions - CCG'!$D$5:$N$215,7,0)*$H594","v":99.017847888809499},{"$f":"VLOOKUP($A594,'8.Non-elective admissions - CCG'!$D$5:$N$215,8,0)*$H594","v":101.88229613878487},{"$f":"VLOOKUP($A594,'8.Non-elective admissions - CCG'!$D$5:$N$215,9,0)*$H594","v":106.49098314124262},{"$f":"VLOOKUP($A594,'8.Non-elective admissions - CCG'!$D$5:$N$215,10,0)*$H594","v":108.86313358196988},{"$f":"VLOOKUP($A594,'8.Non-elective admissions - CCG'!$D$5:$Q$215,11,0)*$H594","v":98.499046648130729},{"$f":"VLOOKUP($A594,'8.Non-elective admissions - CCG'!$D$5:$Q$215,12,0)*$H594","v":100.52102121101018},{"$f":"VLOOKUP($A594,'8.Non-elective admissions - CCG'!$D$5:$Q$215,13,0)*$H594","v":105.34900129584219},{"$f":"VLOOKUP($A594,'8.Non-elective admissions - CCG'!$D$5:$Q$215,14,0)*$H594","v":108.27880117546889}]
["01G","NHS Salford CCG","E08000003","Manchester",{"$f":"COUNTIF($D$5:D595,D595)","v":6},"Manchester6","NHS Salford CCG",2.4365996840789963E-2,1.1206025701031689E-2,{"$f":"VLOOKUP($A595,'8.Non-elective admissions - CCG'!$D$5:$N$215,3,0)*$H595","v":196.95035246410526},{"$f":"VLOOKUP($A595,'8.Non-elective admissions - CCG'!$D$5:$N$215,4,0)*$H595","v":194.48938678318549},{"$f":"VLOOKUP($A595,'8.Non-elective admissions - CCG'!$D$5:$N$215,5,0)*$H595","v":210.20545474549502},{"$f":"VLOOKUP($A595,'8.Non-elective admissions - CCG'!$D$5:$N$215,6,0)*$H595","v":204.65000746579489},{"$f":"VLOOKUP($A595,'8.Non-elective admissions - CCG'!$D$5:$N$215,7,0)*$H595","v":167.94575348974499},{"$f":"VLOOKUP($A595,'8.Non-elective admissions - CCG'!$D$5:$N$215,8,0)*$H595","v":172.80418992248494},{"$f":"VLOOKUP($A595,'8.Non-elective admissions - CCG'!$D$5:$N$215,9,0)*$H595","v":180.62105756532975},{"$f":"VLOOKUP($A595,'8.Non-elective admissions - CCG'!$D$5:$N$215,10,0)*$H595","v":184.64449981996586},{"$f":"VLOOKUP($A595,'8.Non-elective admissions - CCG'!$D$5:$Q$215,11,0)*$H595","v":167.06580641823268},{"$f":"VLOOKUP($A595,'8.Non-elective admissions - CCG'!$D$5:$Q$215,12,0)*$H595","v":170.49530977283212},{"$f":"VLOOKUP($A595,'8.Non-elective admissions - CCG'!$D$5:$Q$215,13,0)*$H595","v":178.68412391562293},{"$f":"VLOOKUP($A595,'8.Non-elective admissions - CCG'!$D$5:$Q$215,14,0)*$H595","v":183.65340429132456}]
["01G","NHS Salford CCG","E08000006","Salford",{"$f":"COUNTIF($D$5:D596,D596)","v":5},"Salford5","NHS Salford CCG",0.93877655268886506,0.95211015024110313,{"$f":"VLOOKUP($A596,'8.Non-elective admissions - CCG'!$D$5:$N$215,3,0)*$H596","v":7588.1308753840967},{"$f":"VLOOKUP($A596,'8.Non-elective admissions - CCG'!$D$5:$N$215,4,0)*$H596","v":7493.3144435625209},{"$f":"VLOOKUP($A596,'8.Non-elective admissions - CCG'!$D$5:$N$215,5,0)*$H596","v":8098.8253200468389},{"$f":"VLOOKUP($A596,'8.Non-elective admissions - CCG'!$D$5:$N$215,6,0)*$H596","v":7884.7842660337774},{"$f":"VLOOKUP($A596,'8.Non-elective admissions - CCG'!$D$5:$N$215,7,0)*$H596","v":6470.6376074012969},{"$f":"VLOOKUP($A596,'8.Non-elective admissions - CCG'!$D$5:$N$215,8,0)*$H596","v":6657.8241294872832},{"$f":"VLOOKUP($A596,'8.Non-elective admissions - CCG'!$D$5:$N$215,9,0)*$H596","v":6958.9935052581232},{"$f":"VLOOKUP($A596,'8.Non-elective admissions - CCG'!$D$5:$N$215,10,0)*$H596","v":7114.0092542311731},{"$f":"VLOOKUP($A596,'8.Non-elective admissions - CCG'!$D$5:$Q$215,11,0)*$H596","v":6436.7348828897311},{"$f":"VLOOKUP($A596,'8.Non-elective admissions - CCG'!$D$5:$Q$215,12,0)*$H596","v":6568.867270401006},{"$f":"VLOOKUP($A596,'8.Non-elective admissions - CCG'!$D$5:$Q$215,13,0)*$H596","v":6884.3670532258056},{"$f":"VLOOKUP($A596,'8.Non-elective admissions - CCG'!$D$5:$Q$215,14,0)*$H596","v":7075.8241863333697}]
["01G","NHS Salford CCG","E08000009","Trafford",{"$f":"COUNTIF($D$5:D597,D597)","v":2},"Trafford2","NHS Salford CCG",0,9.3450215018193832E-4,{"$f":"VLOOKUP($A597,'8.Non-elective admissions - CCG'!$D$5:$N$215,3,0)*$H597","v":0},{"$f":"VLOOKUP($A597,'8.Non-elective admissions - CCG'!$D$5:$N$215,4,0)*$H597","v":0},{"$f":"VLOOKUP($A597,'8.Non-elective admissions - CCG'!$D$5:$N$215,5,0)*$H597","v":0},{"$f":"VLOOKUP($A597,'8.Non-elective admissions - CCG'!$D$5:$N$215,6,0)*$H597","v":0},{"$f":"VLOOKUP($A597,'8.Non-elective admissions - CCG'!$D$5:$N$215,7,0)*$H597","v":0},{"$f":"VLOOKUP($A597,'8.Non-elective admissions - CCG'!$D$5:$N$215,8,0)*$H597","v":0},{"$f":"VLOOKUP($A597,'8.Non-elective admissions - CCG'!$D$5:$N$215,9,0)*$H597","v":0},{"$f":"VLOOKUP($A597,'8.Non-elective admissions - CCG'!$D$5:$N$215,10,0)*$H597","v":0},{"$f":"VLOOKUP($A597,'8.Non-elective admissions - CCG'!$D$5:$Q$215,11,0)*$H597","v":0},{"$f":"VLOOKUP($A597,'8.Non-elective admissions - CCG'!$D$5:$Q$215,12,0)*$H597","v":0},{"$f":"VLOOKUP($A597,'8.Non-elective admissions - CCG'!$D$5:$Q$215,13,0)*$H597","v":0},{"$f":"VLOOKUP($A597,'8.Non-elective admissions - CCG'!$D$5:$Q$215,14,0)*$H597","v":0}]
["01G","NHS Salford CCG","E06000007","Warrington",{"$f":"COUNTIF($D$5:D598,D598)","v":2},"Warrington2","NHS Salford CCG",4.9588595408929098E-3,5.8988501449004395E-3,{"$f":"VLOOKUP($A598,'8.Non-elective admissions - CCG'!$D$5:$N$215,3,0)*$H598","v":40.082461669037393},{"$f":"VLOOKUP($A598,'8.Non-elective admissions - CCG'!$D$5:$N$215,4,0)*$H598","v":39.581616855407205},{"$f":"VLOOKUP($A598,'8.Non-elective admissions - CCG'!$D$5:$N$215,5,0)*$H598","v":42.780081259283136},{"$f":"VLOOKUP($A598,'8.Non-elective admissions - CCG'!$D$5:$N$215,6,0)*$H598","v":41.649461283959546},{"$f":"VLOOKUP($A598,'8.Non-elective admissions - CCG'!$D$5:$N$215,7,0)*$H598","v":34.179574408008094},{"$f":"VLOOKUP($A598,'8.Non-elective admissions - CCG'!$D$5:$N$215,8,0)*$H598","v":35.168341829088213},{"$f":"VLOOKUP($A598,'8.Non-elective admissions - CCG'!$D$5:$N$215,9,0)*$H598","v":36.759196040549291},{"$f":"VLOOKUP($A598,'8.Non-elective admissions - CCG'!$D$5:$N$215,10,0)*$H598","v":37.578029152200763},{"$f":"VLOOKUP($A598,'8.Non-elective admissions - CCG'!$D$5:$Q$215,11,0)*$H598","v":34.000491485213615},{"$f":"VLOOKUP($A598,'8.Non-elective admissions - CCG'!$D$5:$Q$215,12,0)*$H598","v":34.69844878782682},{"$f":"VLOOKUP($A598,'8.Non-elective admissions - CCG'!$D$5:$Q$215,13,0)*$H598","v":36.364999900260628},{"$f":"VLOOKUP($A598,'8.Non-elective admissions - CCG'!$D$5:$Q$215,14,0)*$H598","v":37.376325788687566}]
["01G","NHS Salford CCG","E08000010","Wigan",{"$f":"COUNTIF($D$5:D599,D599)","v":2},"Wigan2","NHS Salford CCG",1.1544476490604888E-2,9.0318574331448888E-3,{"$f":"VLOOKUP($A599,'8.Non-elective admissions - CCG'!$D$5:$N$215,3,0)*$H599","v":93.31400347355931},{"$f":"VLOOKUP($A599,'8.Non-elective admissions - CCG'!$D$5:$N$215,4,0)*$H599","v":92.148011348008211},{"$f":"VLOOKUP($A599,'8.Non-elective admissions - CCG'!$D$5:$N$215,5,0)*$H599","v":99.594198684448372},{"$f":"VLOOKUP($A599,'8.Non-elective admissions - CCG'!$D$5:$N$215,6,0)*$H599","v":96.962058044590449},{"$f":"VLOOKUP($A599,'8.Non-elective admissions - CCG'!$D$5:$N$215,7,0)*$H599","v":79.571782575854016},{"$f":"VLOOKUP($A599,'8.Non-elective admissions - CCG'!$D$5:$N$215,8,0)*$H599","v":81.873683275642762},{"$f":"VLOOKUP($A599,'8.Non-elective admissions - CCG'!$D$5:$N$215,9,0)*$H599","v":85.577272557158324},{"$f":"VLOOKUP($A599,'8.Non-elective admissions - CCG'!$D$5:$N$215,10,0)*$H599","v":87.483557566692426},{"$f":"VLOOKUP($A599,'8.Non-elective admissions - CCG'!$D$5:$Q$215,11,0)*$H599","v":79.154868449728681},{"$f":"VLOOKUP($A599,'8.Non-elective admissions - CCG'!$D$5:$Q$215,12,0)*$H599","v":80.779748445828204},{"$f":"VLOOKUP($A599,'8.Non-elective admissions - CCG'!$D$5:$Q$215,13,0)*$H599","v":84.659563951636855},{"$f":"VLOOKUP($A599,'8.Non-elective admissions - CCG'!$D$5:$Q$215,14,0)*$H599","v":87.013981907420018}]
["05L","NHS Sandwell and West Birmingham CCG","E08000025","Birmingham",{"$f":"COUNTIF($D$5:D600,D600)","v":5},"Birmingham5","NHS Sandwell and West Birmingham CCG",0.39898720487544659,0.1836673596114127,{"$f":"VLOOKUP($A600,'8.Non-elective admissions - CCG'!$D$5:$N$215,3,0)*$H600","v":6045.8531154776419},{"$f":"VLOOKUP($A600,'8.Non-elective admissions - CCG'!$D$5:$N$215,4,0)*$H600","v":5937.3285957515209},{"$f":"VLOOKUP($A600,'8.Non-elective admissions - CCG'!$D$5:$N$215,5,0)*$H600","v":6160.3624432768956},{"$f":"VLOOKUP($A600,'8.Non-elective admissions - CCG'!$D$5:$N$215,6,0)*$H600","v":6163.554340915899},{"$f":"VLOOKUP($A600,'8.Non-elective admissions - CCG'!$D$5:$N$215,7,0)*$H600","v":6203.8545023360994},{"$f":"VLOOKUP($A600,'8.Non-elective admissions - CCG'!$D$5:$N$215,8,0)*$H600","v":6203.4555151312243},{"$f":"VLOOKUP($A600,'8.Non-elective admissions - CCG'!$D$5:$N$215,9,0)*$H600","v":6203.4555151312243},{"$f":"VLOOKUP($A600,'8.Non-elective admissions - CCG'!$D$5:$N$215,10,0)*$H600","v":6203.4555151312243},{"$f":"VLOOKUP($A600,'8.Non-elective admissions - CCG'!$D$5:$Q$215,11,0)*$H600","v":6336.6084504478986},{"$f":"VLOOKUP($A600,'8.Non-elective admissions - CCG'!$D$5:$Q$215,12,0)*$H600","v":6336.2094632430226},{"$f":"VLOOKUP($A600,'8.Non-elective admissions - CCG'!$D$5:$Q$215,13,0)*$H600","v":6336.2094632430226},{"$f":"VLOOKUP($A600,'8.Non-elective admissions - CCG'!$D$5:$Q$215,14,0)*$H600","v":6336.2094632430226}]
["05L","NHS Sandwell and West Birmingham CCG","E08000027","Dudley",{"$f":"COUNTIF($D$5:D601,D601)","v":3},"Dudley3","NHS Sandwell and West Birmingham CCG",4.0109902154929877E-2,6.8432437149749725E-2,{"$f":"VLOOKUP($A601,'8.Non-elective admissions - CCG'!$D$5:$N$215,3,0)*$H601","v":607.78534735365247},{"$f":"VLOOKUP($A601,'8.Non-elective admissions - CCG'!$D$5:$N$215,4,0)*$H601","v":596.87545396751148},{"$f":"VLOOKUP($A601,'8.Non-elective admissions - CCG'!$D$5:$N$215,5,0)*$H601","v":619.29688927211726},{"$f":"VLOOKUP($A601,'8.Non-elective admissions - CCG'!$D$5:$N$215,6,0)*$H601","v":619.61776848935676},{"$f":"VLOOKUP($A601,'8.Non-elective admissions - CCG'!$D$5:$N$215,7,0)*$H601","v":623.66911527852687},{"$f":"VLOOKUP($A601,'8.Non-elective admissions - CCG'!$D$5:$N$215,8,0)*$H601","v":623.62900537637199},{"$f":"VLOOKUP($A601,'8.Non-elective admissions - CCG'!$D$5:$N$215,9,0)*$H601","v":623.62900537637199},{"$f":"VLOOKUP($A601,'8.Non-elective admissions - CCG'!$D$5:$N$215,10,0)*$H601","v":623.62900537637199},{"$f":"VLOOKUP($A601,'8.Non-elective admissions - CCG'!$D$5:$Q$215,11,0)*$H601","v":637.01477600242697},{"$f":"VLOOKUP($A601,'8.Non-elective admissions - CCG'!$D$5:$Q$215,12,0)*$H601","v":636.97466610027197},{"$f":"VLOOKUP($A601,'8.Non-elective admissions - CCG'!$D$5:$Q$215,13,0)*$H601","v":636.97466610027197},{"$f":"VLOOKUP($A601,'8.Non-elective admissions - CCG'!$D$5:$Q$215,14,0)*$H601","v":636.97466610027197}]
["05L","NHS Sandwell and West Birmingham CCG","E08000028","Sandwell",{"$f":"COUNTIF($D$5:D602,D602)","v":4},"Sandwell4","NHS Sandwell and West Birmingham CCG",0.54575298321507637,0.89370963254585334,{"$f":"VLOOKUP($A602,'8.Non-elective admissions - CCG'!$D$5:$N$215,3,0)*$H602","v":8269.794954658053},{"$f":"VLOOKUP($A602,'8.Non-elective admissions - CCG'!$D$5:$N$215,4,0)*$H602","v":8121.3501432235516},{"$f":"VLOOKUP($A602,'8.Non-elective admissions - CCG'!$D$5:$N$215,5,0)*$H602","v":8426.4260608407785},{"$f":"VLOOKUP($A602,'8.Non-elective admissions - CCG'!$D$5:$N$215,6,0)*$H602","v":8430.7920847064997},{"$f":"VLOOKUP($A602,'8.Non-elective admissions - CCG'!$D$5:$N$215,7,0)*$H602","v":8485.9164923325279},{"$f":"VLOOKUP($A602,'8.Non-elective admissions - CCG'!$D$5:$N$215,8,0)*$H602","v":8485.3707393493132},{"$f":"VLOOKUP($A602,'8.Non-elective admissions - CCG'!$D$5:$N$215,9,0)*$H602","v":8485.3707393493132},{"$f":"VLOOKUP($A602,'8.Non-elective admissions - CCG'!$D$5:$N$215,10,0)*$H602","v":8485.3707393493132},{"$f":"VLOOKUP($A602,'8.Non-elective admissions - CCG'!$D$5:$Q$215,11,0)*$H602","v":8667.5034262749614},{"$f":"VLOOKUP($A602,'8.Non-elective admissions - CCG'!$D$5:$Q$215,12,0)*$H602","v":8666.9576732917449},{"$f":"VLOOKUP($A602,'8.Non-elective admissions - CCG'!$D$5:$Q$215,13,0)*$H602","v":8666.9576732917449},{"$f":"VLOOKUP($A602,'8.Non-elective admissions - CCG'!$D$5:$Q$215,14,0)*$H602","v":8666.9576732917449}]
["05L","NHS Sandwell and West Birmingham CCG","E08000030","Walsall",{"$f":"COUNTIF($D$5:D603,D603)","v":3},"Walsall3","NHS Sandwell and West Birmingham CCG",1.4141499024472228E-2,2.77668175589879E-2,{"$f":"VLOOKUP($A603,'8.Non-elective admissions - CCG'!$D$5:$N$215,3,0)*$H603","v":214.28613471782768},{"$f":"VLOOKUP($A603,'8.Non-elective admissions - CCG'!$D$5:$N$215,4,0)*$H603","v":210.43964698317123},{"$f":"VLOOKUP($A603,'8.Non-elective admissions - CCG'!$D$5:$N$215,5,0)*$H603","v":218.3447449378512},{"$f":"VLOOKUP($A603,'8.Non-elective admissions - CCG'!$D$5:$N$215,6,0)*$H603","v":218.45787693004698},{"$f":"VLOOKUP($A603,'8.Non-elective admissions - CCG'!$D$5:$N$215,7,0)*$H603","v":219.88625530019485},{"$f":"VLOOKUP($A603,'8.Non-elective admissions - CCG'!$D$5:$N$215,8,0)*$H603","v":219.87211380117037},{"$f":"VLOOKUP($A603,'8.Non-elective admissions - CCG'!$D$5:$N$215,9,0)*$H603","v":219.87211380117037},{"$f":"VLOOKUP($A603,'8.Non-elective admissions - CCG'!$D$5:$N$215,10,0)*$H603","v":219.87211380117037},{"$f":"VLOOKUP($A603,'8.Non-elective admissions - CCG'!$D$5:$Q$215,11,0)*$H603","v":224.59151853865859},{"$f":"VLOOKUP($A603,'8.Non-elective admissions - CCG'!$D$5:$Q$215,12,0)*$H603","v":224.57737703963411},{"$f":"VLOOKUP($A603,'8.Non-elective admissions - CCG'!$D$5:$Q$215,13,0)*$H603","v":224.57737703963411},{"$f":"VLOOKUP($A603,'8.Non-elective admissions - CCG'!$D$5:$Q$215,14,0)*$H603","v":224.57737703963411}]
["05L","NHS Sandwell and West Birmingham CCG","E08000031","Wolverhampton",{"$f":"COUNTIF($D$5:D604,D604)","v":2},"Wolverhampton2","NHS Sandwell and West Birmingham CCG",1.0084107300747539E-3,2.0753596162088588E-3,{"$f":"VLOOKUP($A604,'8.Non-elective admissions - CCG'!$D$5:$N$215,3,0)*$H604","v":15.280447792822745},{"$f":"VLOOKUP($A604,'8.Non-elective admissions - CCG'!$D$5:$N$215,4,0)*$H604","v":15.006160074242413},{"$f":"VLOOKUP($A604,'8.Non-elective admissions - CCG'!$D$5:$N$215,5,0)*$H604","v":15.5698616723542},{"$f":"VLOOKUP($A604,'8.Non-elective admissions - CCG'!$D$5:$N$215,6,0)*$H604","v":15.577928958194798},{"$f":"VLOOKUP($A604,'8.Non-elective admissions - CCG'!$D$5:$N$215,7,0)*$H604","v":15.67978464354832},{"$f":"VLOOKUP($A604,'8.Non-elective admissions - CCG'!$D$5:$N$215,8,0)*$H604","v":15.678776232818246},{"$f":"VLOOKUP($A604,'8.Non-elective admissions - CCG'!$D$5:$N$215,9,0)*$H604","v":15.678776232818246},{"$f":"VLOOKUP($A604,'8.Non-elective admissions - CCG'!$D$5:$N$215,10,0)*$H604","v":15.678776232818246},{"$f":"VLOOKUP($A604,'8.Non-elective admissions - CCG'!$D$5:$Q$215,11,0)*$H604","v":16.015310455153021},{"$f":"VLOOKUP($A604,'8.Non-elective admissions - CCG'!$D$5:$Q$215,12,0)*$H604","v":16.014302044422944},{"$f":"VLOOKUP($A604,'8.Non-elective admissions - CCG'!$D$5:$Q$215,13,0)*$H604","v":16.014302044422944},{"$f":"VLOOKUP($A604,'8.Non-elective admissions - CCG'!$D$5:$Q$215,14,0)*$H604","v":16.014302044422944}]
["03M","NHS Scarborough and Ryedale CCG","E06000011","East Riding of Yorkshire",{"$f":"COUNTIF($D$5:D605,D605)","v":3},"East Riding of Yorkshire3","NHS Scarborough and Ryedale CCG",6.6593895700589783E-3,2.2928429504547815E-3,{"$f":"VLOOKUP($A605,'8.Non-elective admissions - CCG'!$D$5:$N$215,3,0)*$H605","v":23.161356924665128},{"$f":"VLOOKUP($A605,'8.Non-elective admissions - CCG'!$D$5:$N$215,4,0)*$H605","v":20.00480626845717},{"$f":"VLOOKUP($A605,'8.Non-elective admissions - CCG'!$D$5:$N$215,5,0)*$H605","v":19.818343360495518},{"$f":"VLOOKUP($A605,'8.Non-elective admissions - CCG'!$D$5:$N$215,6,0)*$H605","v":18.599675069174726},{"$f":"VLOOKUP($A605,'8.Non-elective admissions - CCG'!$D$5:$N$215,7,0)*$H605","v":19.641155311144356},{"$f":"VLOOKUP($A605,'8.Non-elective admissions - CCG'!$D$5:$N$215,8,0)*$H605","v":20.881515179478551},{"$f":"VLOOKUP($A605,'8.Non-elective admissions - CCG'!$D$5:$N$215,9,0)*$H605","v":20.573820153993736},{"$f":"VLOOKUP($A605,'8.Non-elective admissions - CCG'!$D$5:$N$215,10,0)*$H605","v":20.246965595239558},{"$f":"VLOOKUP($A605,'8.Non-elective admissions - CCG'!$D$5:$Q$215,11,0)*$H605","v":20.220962046008637},{"$f":"VLOOKUP($A605,'8.Non-elective admissions - CCG'!$D$5:$Q$215,12,0)*$H605","v":20.44317042011366},{"$f":"VLOOKUP($A605,'8.Non-elective admissions - CCG'!$D$5:$Q$215,13,0)*$H605","v":20.44317042011366},{"$f":"VLOOKUP($A605,'8.Non-elective admissions - CCG'!$D$5:$Q$215,14,0)*$H605","v":20.220962045942041}]
["03M","NHS Scarborough and Ryedale CCG","E10000023","North Yorkshire",{"$f":"COUNTIF($D$5:D606,D606)","v":13},"North Yorkshire13","NHS Scarborough and Ryedale CCG",0.99334061042994104,0.19246609480338919,{"$f":"VLOOKUP($A606,'8.Non-elective admissions - CCG'!$D$5:$N$215,3,0)*$H606","v":3454.8386430753349},{"$f":"VLOOKUP($A606,'8.Non-elective admissions - CCG'!$D$5:$N$215,4,0)*$H606","v":2983.9951937315427},{"$f":"VLOOKUP($A606,'8.Non-elective admissions - CCG'!$D$5:$N$215,5,0)*$H606","v":2956.1816566395046},{"$f":"VLOOKUP($A606,'8.Non-elective admissions - CCG'!$D$5:$N$215,6,0)*$H606","v":2774.4003249308253},{"$f":"VLOOKUP($A606,'8.Non-elective admissions - CCG'!$D$5:$N$215,7,0)*$H606","v":2929.7515937558555},{"$f":"VLOOKUP($A606,'8.Non-elective admissions - CCG'!$D$5:$N$215,8,0)*$H606","v":3114.7685259839213},{"$f":"VLOOKUP($A606,'8.Non-elective admissions - CCG'!$D$5:$N$215,9,0)*$H606","v":3068.8715317886058},{"$f":"VLOOKUP($A606,'8.Non-elective admissions - CCG'!$D$5:$N$215,10,0)*$H606","v":3020.1166266281602},{"$f":"VLOOKUP($A606,'8.Non-elective admissions - CCG'!$D$5:$Q$215,11,0)*$H606","v":3016.2378354574917},{"$f":"VLOOKUP($A606,'8.Non-elective admissions - CCG'!$D$5:$Q$215,12,0)*$H606","v":3049.383306172786},{"$f":"VLOOKUP($A606,'8.Non-elective admissions - CCG'!$D$5:$Q$215,13,0)*$H606","v":3049.383306172786},{"$f":"VLOOKUP($A606,'8.Non-elective admissions - CCG'!$D$5:$Q$215,14,0)*$H606","v":3016.2378354475582}]
["03N","NHS Sheffield CCG","E08000016","Barnsley",{"$f":"COUNTIF($D$5:D607,D607)","v":5},"Barnsley5","NHS Sheffield CCG",1.5784679717635369E-3,3.7650757335725427E-3,{"$f":"VLOOKUP($A607,'8.Non-elective admissions - CCG'!$D$5:$N$215,3,0)*$H607","v":24.573589384414742},{"$f":"VLOOKUP($A607,'8.Non-elective admissions - CCG'!$D$5:$N$215,4,0)*$H607","v":23.508123503474355},{"$f":"VLOOKUP($A607,'8.Non-elective admissions - CCG'!$D$5:$N$215,5,0)*$H607","v":25.441746768884688},{"$f":"VLOOKUP($A607,'8.Non-elective admissions - CCG'!$D$5:$N$215,6,0)*$H607","v":24.322612976904338},{"$f":"VLOOKUP($A607,'8.Non-elective admissions - CCG'!$D$5:$N$215,7,0)*$H607","v":21.711391497375086},{"$f":"VLOOKUP($A607,'8.Non-elective admissions - CCG'!$D$5:$N$215,8,0)*$H607","v":21.864438892760322},{"$f":"VLOOKUP($A607,'8.Non-elective admissions - CCG'!$D$5:$N$215,9,0)*$H607","v":23.629082485190537},{"$f":"VLOOKUP($A607,'8.Non-elective admissions - CCG'!$D$5:$N$215,10,0)*$H607","v":23.30236862680011},{"$f":"VLOOKUP($A607,'8.Non-elective admissions - CCG'!$D$5:$Q$215,11,0)*$H607","v":21.389774151039862},{"$f":"VLOOKUP($A607,'8.Non-elective admissions - CCG'!$D$5:$Q$215,12,0)*$H607","v":21.546501167029806},{"$f":"VLOOKUP($A607,'8.Non-elective admissions - CCG'!$D$5:$Q$215,13,0)*$H607","v":23.263015794655125},{"$f":"VLOOKUP($A607,'8.Non-elective admissions - CCG'!$D$5:$Q$215,14,0)*$H607","v":22.97562452140863}]
["03N","NHS Sheffield CCG","E10000007","Derbyshire",{"$f":"COUNTIF($D$5:D608,D608)","v":10},"Derbyshire10","NHS Sheffield CCG",5.7325126449947906E-3,4.2103796056966198E-3,{"$f":"VLOOKUP($A608,'8.Non-elective admissions - CCG'!$D$5:$N$215,3,0)*$H608","v":89.243756857278896},{"$f":"VLOOKUP($A608,'8.Non-elective admissions - CCG'!$D$5:$N$215,4,0)*$H608","v":85.374310821907414},{"$f":"VLOOKUP($A608,'8.Non-elective admissions - CCG'!$D$5:$N$215,5,0)*$H608","v":92.39663881202604},{"$f":"VLOOKUP($A608,'8.Non-elective admissions - CCG'!$D$5:$N$215,6,0)*$H608","v":88.332287346724726},{"$f":"VLOOKUP($A608,'8.Non-elective admissions - CCG'!$D$5:$N$215,7,0)*$H608","v":78.849129995385141},{"$f":"VLOOKUP($A608,'8.Non-elective admissions - CCG'!$D$5:$N$215,8,0)*$H608","v":79.404951301248687},{"$f":"VLOOKUP($A608,'8.Non-elective admissions - CCG'!$D$5:$N$215,9,0)*$H608","v":85.813596828730226},{"$f":"VLOOKUP($A608,'8.Non-elective admissions - CCG'!$D$5:$N$215,10,0)*$H608","v":84.627072073067495},{"$f":"VLOOKUP($A608,'8.Non-elective admissions - CCG'!$D$5:$Q$215,11,0)*$H608","v":77.68111421191854},{"$f":"VLOOKUP($A608,'8.Non-elective admissions - CCG'!$D$5:$Q$215,12,0)*$H608","v":78.250298773814265},{"$f":"VLOOKUP($A608,'8.Non-elective admissions - CCG'!$D$5:$Q$215,13,0)*$H608","v":84.484154629113647},{"$f":"VLOOKUP($A608,'8.Non-elective admissions - CCG'!$D$5:$Q$215,14,0)*$H608","v":83.440437469552876}]
["03N","NHS Sheffield CCG","E08000018","Rotherham",{"$f":"COUNTIF($D$5:D609,D609)","v":5},"Rotherham5","NHS Sheffield CCG",6.7468723907838177E-3,1.4494902138099987E-2,{"$f":"VLOOKUP($A609,'8.Non-elective admissions - CCG'!$D$5:$N$215,3,0)*$H609","v":105.03530937972248},{"$f":"VLOOKUP($A609,'8.Non-elective admissions - CCG'!$D$5:$N$215,4,0)*$H609","v":100.4811705159434},{"$f":"VLOOKUP($A609,'8.Non-elective admissions - CCG'!$D$5:$N$215,5,0)*$H609","v":108.74608919465358},{"$f":"VLOOKUP($A609,'8.Non-elective admissions - CCG'!$D$5:$N$215,6,0)*$H609","v":103.96255666958785},{"$f":"VLOOKUP($A609,'8.Non-elective admissions - CCG'!$D$5:$N$215,7,0)*$H609","v":92.801368465829469},{"$f":"VLOOKUP($A609,'8.Non-elective admissions - CCG'!$D$5:$N$215,8,0)*$H609","v":93.455541540530731},{"$f":"VLOOKUP($A609,'8.Non-elective admissions - CCG'!$D$5:$N$215,9,0)*$H609","v":100.99818754052481},{"$f":"VLOOKUP($A609,'8.Non-elective admissions - CCG'!$D$5:$N$215,10,0)*$H609","v":99.601708961109537},{"$f":"VLOOKUP($A609,'8.Non-elective admissions - CCG'!$D$5:$Q$215,11,0)*$H609","v":91.426673994226135},{"$f":"VLOOKUP($A609,'8.Non-elective admissions - CCG'!$D$5:$Q$215,12,0)*$H609","v":92.096574933610469},{"$f":"VLOOKUP($A609,'8.Non-elective admissions - CCG'!$D$5:$Q$215,13,0)*$H609","v":99.433502484039565},{"$f":"VLOOKUP($A609,'8.Non-elective admissions - CCG'!$D$5:$Q$215,14,0)*$H609","v":98.205101096425309}]
["03N","NHS Sheffield CCG","E08000019","Sheffield",{"$f":"COUNTIF($D$5:D610,D610)","v":5},"Sheffield5","NHS Sheffield CCG",0.98594214699245797,0.99205869793890666,{"$f":"VLOOKUP($A610,'8.Non-elective admissions - CCG'!$D$5:$N$215,3,0)*$H610","v":15349.147344378585},{"$f":"VLOOKUP($A610,'8.Non-elective admissions - CCG'!$D$5:$N$215,4,0)*$H610","v":14683.636395158677},{"$f":"VLOOKUP($A610,'8.Non-elective admissions - CCG'!$D$5:$N$215,5,0)*$H610","v":15891.415525224438},{"$f":"VLOOKUP($A610,'8.Non-elective admissions - CCG'!$D$5:$N$215,6,0)*$H610","v":15192.382543006785},{"$f":"VLOOKUP($A610,'8.Non-elective admissions - CCG'!$D$5:$N$215,7,0)*$H610","v":13561.36223860141},{"$f":"VLOOKUP($A610,'8.Non-elective admissions - CCG'!$D$5:$N$215,8,0)*$H610","v":13656.958652527464},{"$f":"VLOOKUP($A610,'8.Non-elective admissions - CCG'!$D$5:$N$215,9,0)*$H610","v":14759.189754659556},{"$f":"VLOOKUP($A610,'8.Non-elective admissions - CCG'!$D$5:$N$215,10,0)*$H610","v":14555.117851551024},{"$f":"VLOOKUP($A610,'8.Non-elective admissions - CCG'!$D$5:$Q$215,11,0)*$H610","v":13360.473717181816},{"$f":"VLOOKUP($A610,'8.Non-elective admissions - CCG'!$D$5:$Q$215,12,0)*$H610","v":13458.368494523547},{"$f":"VLOOKUP($A610,'8.Non-elective admissions - CCG'!$D$5:$Q$215,13,0)*$H610","v":14530.537298439192},{"$f":"VLOOKUP($A610,'8.Non-elective admissions - CCG'!$D$5:$Q$215,14,0)*$H610","v":14351.027055570614}]
["05N","NHS Shropshire CCG","E06000049","Cheshire East",{"$f":"COUNTIF($D$5:D611,D611)","v":4},"Cheshire East4","NHS Shropshire CCG",1.090047393364929E-3,0,{"$f":"VLOOKUP($A611,'8.Non-elective admissions - CCG'!$D$5:$N$215,3,0)*$H611","v":7.3687203791469198},{"$f":"VLOOKUP($A611,'8.Non-elective admissions - CCG'!$D$5:$N$215,4,0)*$H611","v":7.1932227488151659},{"$f":"VLOOKUP($A611,'8.Non-elective admissions - CCG'!$D$5:$N$215,5,0)*$H611","v":8.0020379146919431},{"$f":"VLOOKUP($A611,'8.Non-elective admissions - CCG'!$D$5:$N$215,6,0)*$H611","v":7.8319905213270147},{"$f":"VLOOKUP($A611,'8.Non-elective admissions - CCG'!$D$5:$N$215,7,0)*$H611","v":7.8592417061611375},{"$f":"VLOOKUP($A611,'8.Non-elective admissions - CCG'!$D$5:$N$215,8,0)*$H611","v":7.5300473933649297},{"$f":"VLOOKUP($A611,'8.Non-elective admissions - CCG'!$D$5:$N$215,9,0)*$H611","v":8.0216587677725126},{"$f":"VLOOKUP($A611,'8.Non-elective admissions - CCG'!$D$5:$N$215,10,0)*$H611","v":7.5420379146919432},{"$f":"VLOOKUP($A611,'8.Non-elective admissions - CCG'!$D$5:$Q$215,11,0)*$H611","v":7.8657819905213273},{"$f":"VLOOKUP($A611,'8.Non-elective admissions - CCG'!$D$5:$Q$215,12,0)*$H611","v":7.5365876777251186},{"$f":"VLOOKUP($A611,'8.Non-elective admissions - CCG'!$D$5:$Q$215,13,0)*$H611","v":8.0281990521327025},{"$f":"VLOOKUP($A611,'8.Non-elective admissions - CCG'!$D$5:$Q$215,14,0)*$H611","v":7.5474881516587686}]
["05N","NHS Shropshire CCG","E06000019","Herefordshire, County of",{"$f":"COUNTIF($D$5:D612,D612)","v":3},"Herefordshire, County of3","NHS Shropshire CCG",2.7928232904536224E-3,4.5366811290562048E-3,{"$f":"VLOOKUP($A612,'8.Non-elective admissions - CCG'!$D$5:$N$215,3,0)*$H612","v":18.879485443466486},{"$f":"VLOOKUP($A612,'8.Non-elective admissions - CCG'!$D$5:$N$215,4,0)*$H612","v":18.429840893703453},{"$f":"VLOOKUP($A612,'8.Non-elective admissions - CCG'!$D$5:$N$215,5,0)*$H612","v":20.502115775220041},{"$f":"VLOOKUP($A612,'8.Non-elective admissions - CCG'!$D$5:$N$215,6,0)*$H612","v":20.066435341909276},{"$f":"VLOOKUP($A612,'8.Non-elective admissions - CCG'!$D$5:$N$215,7,0)*$H612","v":20.136255924170616},{"$f":"VLOOKUP($A612,'8.Non-elective admissions - CCG'!$D$5:$N$215,8,0)*$H612","v":19.292823290453622},{"$f":"VLOOKUP($A612,'8.Non-elective admissions - CCG'!$D$5:$N$215,9,0)*$H612","v":20.552386594448208},{"$f":"VLOOKUP($A612,'8.Non-elective admissions - CCG'!$D$5:$N$215,10,0)*$H612","v":19.323544346648614},{"$f":"VLOOKUP($A612,'8.Non-elective admissions - CCG'!$D$5:$Q$215,11,0)*$H612","v":20.153012863913339},{"$f":"VLOOKUP($A612,'8.Non-elective admissions - CCG'!$D$5:$Q$215,12,0)*$H612","v":19.309580230196346},{"$f":"VLOOKUP($A612,'8.Non-elective admissions - CCG'!$D$5:$Q$215,13,0)*$H612","v":20.569143534190928},{"$f":"VLOOKUP($A612,'8.Non-elective admissions - CCG'!$D$5:$Q$215,14,0)*$H612","v":19.337508463100882}]
["05N","NHS Shropshire CCG","E06000051","Shropshire",{"$f":"COUNTIF($D$5:D613,D613)","v":3},"Shropshire3","NHS Shropshire CCG",0.96423493568043328,0.95427864996884237,{"$f":"VLOOKUP($A613,'8.Non-elective admissions - CCG'!$D$5:$N$215,3,0)*$H613","v":6518.2281651997291},{"$f":"VLOOKUP($A613,'8.Non-elective admissions - CCG'!$D$5:$N$215,4,0)*$H613","v":6362.9863405551796},{"$f":"VLOOKUP($A613,'8.Non-elective admissions - CCG'!$D$5:$N$215,5,0)*$H613","v":7078.448662830061},{"$f":"VLOOKUP($A613,'8.Non-elective admissions - CCG'!$D$5:$N$215,6,0)*$H613","v":6928.0280128639133},{"$f":"VLOOKUP($A613,'8.Non-elective admissions - CCG'!$D$5:$N$215,7,0)*$H613","v":6952.1338862559242},{"$f":"VLOOKUP($A613,'8.Non-elective admissions - CCG'!$D$5:$N$215,8,0)*$H613","v":6660.9349356804332},{"$f":"VLOOKUP($A613,'8.Non-elective admissions - CCG'!$D$5:$N$215,9,0)*$H613","v":7095.8048916723083},{"$f":"VLOOKUP($A613,'8.Non-elective admissions - CCG'!$D$5:$N$215,10,0)*$H613","v":6671.5415199729177},{"$f":"VLOOKUP($A613,'8.Non-elective admissions - CCG'!$D$5:$Q$215,11,0)*$H613","v":6957.9192958700069},{"$f":"VLOOKUP($A613,'8.Non-elective admissions - CCG'!$D$5:$Q$215,12,0)*$H613","v":6666.7203452945159},{"$f":"VLOOKUP($A613,'8.Non-elective admissions - CCG'!$D$5:$Q$215,13,0)*$H613","v":7101.590301286391},{"$f":"VLOOKUP($A613,'8.Non-elective admissions - CCG'!$D$5:$Q$215,14,0)*$H613","v":6676.3626946513205}]
["05N","NHS Shropshire CCG","E10000028","Staffordshire",{"$f":"COUNTIF($D$5:D614,D614)","v":8},"Staffordshire8","NHS Shropshire CCG",1.1401489505754909E-2,3.8727244294400648E-3,{"$f":"VLOOKUP($A614,'8.Non-elective admissions - CCG'!$D$5:$N$215,3,0)*$H614","v":77.074069058903191},{"$f":"VLOOKUP($A614,'8.Non-elective admissions - CCG'!$D$5:$N$215,4,0)*$H614","v":75.238429248476649},{"$f":"VLOOKUP($A614,'8.Non-elective admissions - CCG'!$D$5:$N$215,5,0)*$H614","v":83.698334461746782},{"$f":"VLOOKUP($A614,'8.Non-elective admissions - CCG'!$D$5:$N$215,6,0)*$H614","v":81.919702098849029},{"$f":"VLOOKUP($A614,'8.Non-elective admissions - CCG'!$D$5:$N$215,7,0)*$H614","v":82.204739336492892},{"$f":"VLOOKUP($A614,'8.Non-elective admissions - CCG'!$D$5:$N$215,8,0)*$H614","v":78.761489505754909},{"$f":"VLOOKUP($A614,'8.Non-elective admissions - CCG'!$D$5:$N$215,9,0)*$H614","v":83.903561272850382},{"$f":"VLOOKUP($A614,'8.Non-elective admissions - CCG'!$D$5:$N$215,10,0)*$H614","v":78.886905890318218},{"$f":"VLOOKUP($A614,'8.Non-elective admissions - CCG'!$D$5:$Q$215,11,0)*$H614","v":82.273148273527426},{"$f":"VLOOKUP($A614,'8.Non-elective admissions - CCG'!$D$5:$Q$215,12,0)*$H614","v":78.829898442789442},{"$f":"VLOOKUP($A614,'8.Non-elective admissions - CCG'!$D$5:$Q$215,13,0)*$H614","v":83.971970209884901},{"$f":"VLOOKUP($A614,'8.Non-elective admissions - CCG'!$D$5:$Q$215,14,0)*$H614","v":78.943913337846993}]
["05N","NHS Shropshire CCG","E06000020","Telford and Wrekin",{"$f":"COUNTIF($D$5:D615,D615)","v":1},"Telford and Wrekin1","NHS Shropshire CCG",1.7948544346648613E-2,3.0254095601116124E-2,{"$f":"VLOOKUP($A615,'8.Non-elective admissions - CCG'!$D$5:$N$215,3,0)*$H615","v":121.33215978334462},{"$f":"VLOOKUP($A615,'8.Non-elective admissions - CCG'!$D$5:$N$215,4,0)*$H615","v":118.4424441435342},{"$f":"VLOOKUP($A615,'8.Non-elective admissions - CCG'!$D$5:$N$215,5,0)*$H615","v":131.76026404874747},{"$f":"VLOOKUP($A615,'8.Non-elective admissions - CCG'!$D$5:$N$215,6,0)*$H615","v":128.96029113067027},{"$f":"VLOOKUP($A615,'8.Non-elective admissions - CCG'!$D$5:$N$215,7,0)*$H615","v":129.4090047393365},{"$f":"VLOOKUP($A615,'8.Non-elective admissions - CCG'!$D$5:$N$215,8,0)*$H615","v":123.98854434664862},{"$f":"VLOOKUP($A615,'8.Non-elective admissions - CCG'!$D$5:$N$215,9,0)*$H615","v":132.08333784698715},{"$f":"VLOOKUP($A615,'8.Non-elective admissions - CCG'!$D$5:$N$215,10,0)*$H615","v":124.18597833446175},{"$f":"VLOOKUP($A615,'8.Non-elective admissions - CCG'!$D$5:$Q$215,11,0)*$H615","v":129.51669600541638},{"$f":"VLOOKUP($A615,'8.Non-elective admissions - CCG'!$D$5:$Q$215,12,0)*$H615","v":124.09623561272851},{"$f":"VLOOKUP($A615,'8.Non-elective admissions - CCG'!$D$5:$Q$215,13,0)*$H615","v":132.19102911306703},{"$f":"VLOOKUP($A615,'8.Non-elective admissions - CCG'!$D$5:$Q$215,14,0)*$H615","v":124.275721056195}]
["05N","NHS Shropshire CCG","E10000034","Worcestershire",{"$f":"COUNTIF($D$5:D616,D616)","v":7},"Worcestershire7","NHS Shropshire CCG",2.5321597833446179E-3,1.2685964709952715E-3,{"$f":"VLOOKUP($A616,'8.Non-elective admissions - CCG'!$D$5:$N$215,3,0)*$H616","v":17.117400135409618},{"$f":"VLOOKUP($A616,'8.Non-elective admissions - CCG'!$D$5:$N$215,4,0)*$H616","v":16.709722410291132},{"$f":"VLOOKUP($A616,'8.Non-elective admissions - CCG'!$D$5:$N$215,5,0)*$H616","v":18.588584969532839},{"$f":"VLOOKUP($A616,'8.Non-elective admissions - CCG'!$D$5:$N$215,6,0)*$H616","v":18.19356804333108},{"$f":"VLOOKUP($A616,'8.Non-elective admissions - CCG'!$D$5:$N$215,7,0)*$H616","v":18.256872037914693},{"$f":"VLOOKUP($A616,'8.Non-elective admissions - CCG'!$D$5:$N$215,8,0)*$H616","v":17.492159783344619},{"$f":"VLOOKUP($A616,'8.Non-elective admissions - CCG'!$D$5:$N$215,9,0)*$H616","v":18.634163845633044},{"$f":"VLOOKUP($A616,'8.Non-elective admissions - CCG'!$D$5:$N$215,10,0)*$H616","v":17.520013540961411},{"$f":"VLOOKUP($A616,'8.Non-elective admissions - CCG'!$D$5:$Q$215,11,0)*$H616","v":18.272064996614763},{"$f":"VLOOKUP($A616,'8.Non-elective admissions - CCG'!$D$5:$Q$215,12,0)*$H616","v":17.507352742044688},{"$f":"VLOOKUP($A616,'8.Non-elective admissions - CCG'!$D$5:$Q$215,13,0)*$H616","v":18.649356804333109},{"$f":"VLOOKUP($A616,'8.Non-elective admissions - CCG'!$D$5:$Q$215,14,0)*$H616","v":17.532674339878135}]
["10T","NHS Slough CCG","E10000002","Buckinghamshire",{"$f":"COUNTIF($D$5:D617,D617)","v":9},"Buckinghamshire9","NHS Slough CCG",2.8323851557913064E-2,7.8850810959079122E-3,{"$f":"VLOOKUP($A617,'8.Non-elective admissions - CCG'!$D$5:$N$215,3,0)*$H617","v":98.510355718421636},{"$f":"VLOOKUP($A617,'8.Non-elective admissions - CCG'!$D$5:$N$215,4,0)*$H617","v":106.69594881865851},{"$f":"VLOOKUP($A617,'8.Non-elective admissions - CCG'!$D$5:$N$215,5,0)*$H617","v":118.42202336363452},{"$f":"VLOOKUP($A617,'8.Non-elective admissions - CCG'!$D$5:$N$215,6,0)*$H617","v":109.01850464640738},{"$f":"VLOOKUP($A617,'8.Non-elective admissions - CCG'!$D$5:$N$215,7,0)*$H617","v":97.773935577915893},{"$f":"VLOOKUP($A617,'8.Non-elective admissions - CCG'!$D$5:$N$215,8,0)*$H617","v":98.567003421537464},{"$f":"VLOOKUP($A617,'8.Non-elective admissions - CCG'!$D$5:$N$215,9,0)*$H617","v":107.31907355293259},{"$f":"VLOOKUP($A617,'8.Non-elective admissions - CCG'!$D$5:$N$215,10,0)*$H617","v":101.68262709290789},{"$f":"VLOOKUP($A617,'8.Non-elective admissions - CCG'!$D$5:$Q$215,11,0)*$H617","v":89.956552547931892},{"$f":"VLOOKUP($A617,'8.Non-elective admissions - CCG'!$D$5:$Q$215,12,0)*$H617","v":90.834591946227192},{"$f":"VLOOKUP($A617,'8.Non-elective admissions - CCG'!$D$5:$Q$215,13,0)*$H617","v":98.793594234000764},{"$f":"VLOOKUP($A617,'8.Non-elective admissions - CCG'!$D$5:$Q$215,14,0)*$H617","v":93.525357844228935}]
["10T","NHS Slough CCG","E06000039","Slough",{"$f":"COUNTIF($D$5:D618,D618)","v":2},"Slough2","NHS Slough CCG",0.966196289622686,0.92821669843492682,{"$f":"VLOOKUP($A618,'8.Non-elective admissions - CCG'!$D$5:$N$215,3,0)*$H618","v":3360.4306953077021},{"$f":"VLOOKUP($A618,'8.Non-elective admissions - CCG'!$D$5:$N$215,4,0)*$H618","v":3639.6614230086579},{"$f":"VLOOKUP($A618,'8.Non-elective admissions - CCG'!$D$5:$N$215,5,0)*$H618","v":4039.6666869124501},{"$f":"VLOOKUP($A618,'8.Non-elective admissions - CCG'!$D$5:$N$215,6,0)*$H618","v":3718.8895187577186},{"$f":"VLOOKUP($A618,'8.Non-elective admissions - CCG'!$D$5:$N$215,7,0)*$H618","v":3335.3095917775122},{"$f":"VLOOKUP($A618,'8.Non-elective admissions - CCG'!$D$5:$N$215,8,0)*$H618","v":3362.3630878869471},{"$f":"VLOOKUP($A618,'8.Non-elective admissions - CCG'!$D$5:$N$215,9,0)*$H618","v":3660.9177413803573},{"$f":"VLOOKUP($A618,'8.Non-elective admissions - CCG'!$D$5:$N$215,10,0)*$H618","v":3468.6446797454428},{"$f":"VLOOKUP($A618,'8.Non-elective admissions - CCG'!$D$5:$Q$215,11,0)*$H618","v":3068.6394158416506},{"$f":"VLOOKUP($A618,'8.Non-elective admissions - CCG'!$D$5:$Q$215,12,0)*$H618","v":3098.591500819954},{"$f":"VLOOKUP($A618,'8.Non-elective admissions - CCG'!$D$5:$Q$215,13,0)*$H618","v":3370.0926582039287},{"$f":"VLOOKUP($A618,'8.Non-elective admissions - CCG'!$D$5:$Q$215,14,0)*$H618","v":3190.380148334109}]
["10T","NHS Slough CCG","E06000040","Windsor and Maidenhead",{"$f":"COUNTIF($D$5:D619,D619)","v":5},"Windsor and Maidenhead5","NHS Slough CCG",5.4798588194008594E-3,5.2122449241592686E-3,{"$f":"VLOOKUP($A619,'8.Non-elective admissions - CCG'!$D$5:$N$215,3,0)*$H619","v":19.058948973876188},{"$f":"VLOOKUP($A619,'8.Non-elective admissions - CCG'!$D$5:$N$215,4,0)*$H619","v":20.642628172683036},{"$f":"VLOOKUP($A619,'8.Non-elective admissions - CCG'!$D$5:$N$215,5,0)*$H619","v":22.911289723914994},{"$f":"VLOOKUP($A619,'8.Non-elective admissions - CCG'!$D$5:$N$215,6,0)*$H619","v":21.091976595873909},{"$f":"VLOOKUP($A619,'8.Non-elective admissions - CCG'!$D$5:$N$215,7,0)*$H619","v":18.916472644571765},{"$f":"VLOOKUP($A619,'8.Non-elective admissions - CCG'!$D$5:$N$215,8,0)*$H619","v":19.069908691514989},{"$f":"VLOOKUP($A619,'8.Non-elective admissions - CCG'!$D$5:$N$215,9,0)*$H619","v":20.763185066709855},{"$f":"VLOOKUP($A619,'8.Non-elective admissions - CCG'!$D$5:$N$215,10,0)*$H619","v":19.672693161649086},{"$f":"VLOOKUP($A619,'8.Non-elective admissions - CCG'!$D$5:$Q$215,11,0)*$H619","v":17.404031610417128},{"$f":"VLOOKUP($A619,'8.Non-elective admissions - CCG'!$D$5:$Q$215,12,0)*$H619","v":17.573907233818556},{"$f":"VLOOKUP($A619,'8.Non-elective admissions - CCG'!$D$5:$Q$215,13,0)*$H619","v":19.113747562070198},{"$f":"VLOOKUP($A619,'8.Non-elective admissions - CCG'!$D$5:$Q$215,14,0)*$H619","v":18.094493821661636}]
["05P","NHS Solihull CCG","E08000025","Birmingham",{"$f":"COUNTIF($D$5:D620,D620)","v":6},"Birmingham6","NHS Solihull CCG",0.14868166399600441,3.0041341218102671E-2,{"$f":"VLOOKUP($A620,'8.Non-elective admissions - CCG'!$D$5:$N$215,3,0)*$H620","v":936.39711984683572},{"$f":"VLOOKUP($A620,'8.Non-elective admissions - CCG'!$D$5:$N$215,4,0)*$H620","v":935.05898487087177},{"$f":"VLOOKUP($A620,'8.Non-elective admissions - CCG'!$D$5:$N$215,5,0)*$H620","v":988.88174723742532},{"$f":"VLOOKUP($A620,'8.Non-elective admissions - CCG'!$D$5:$N$215,6,0)*$H620","v":988.73306557342937},{"$f":"VLOOKUP($A620,'8.Non-elective admissions - CCG'!$D$5:$N$215,7,0)*$H620","v":943.21982957509374},{"$f":"VLOOKUP($A620,'8.Non-elective admissions - CCG'!$D$5:$N$215,8,0)*$H620","v":902.00984000435017},{"$f":"VLOOKUP($A620,'8.Non-elective admissions - CCG'!$D$5:$N$215,9,0)*$H620","v":935.95569583308918},{"$f":"VLOOKUP($A620,'8.Non-elective admissions - CCG'!$D$5:$N$215,10,0)*$H620","v":882.03347214570465},{"$f":"VLOOKUP($A620,'8.Non-elective admissions - CCG'!$D$5:$Q$215,11,0)*$H620","v":909.91350391670255},{"$f":"VLOOKUP($A620,'8.Non-elective admissions - CCG'!$D$5:$Q$215,12,0)*$H620","v":870.15869294267532},{"$f":"VLOOKUP($A620,'8.Non-elective admissions - CCG'!$D$5:$Q$215,13,0)*$H620","v":902.90587621676389},{"$f":"VLOOKUP($A620,'8.Non-elective admissions - CCG'!$D$5:$Q$215,14,0)*$H620","v":850.88771677925558}]
["05P","NHS Solihull CCG","E08000029","Solihull",{"$f":"COUNTIF($D$5:D621,D621)","v":4},"Solihull4","NHS Solihull CCG",0.84012652695981527,0.91754700170915304,{"$f":"VLOOKUP($A621,'8.Non-elective admissions - CCG'!$D$5:$N$215,3,0)*$H621","v":5291.1168667929169},{"$f":"VLOOKUP($A621,'8.Non-elective admissions - CCG'!$D$5:$N$215,4,0)*$H621","v":5283.555728050278},{"$f":"VLOOKUP($A621,'8.Non-elective admissions - CCG'!$D$5:$N$215,5,0)*$H621","v":5587.6815308097312},{"$f":"VLOOKUP($A621,'8.Non-elective admissions - CCG'!$D$5:$N$215,6,0)*$H621","v":5586.8414042827717},{"$f":"VLOOKUP($A621,'8.Non-elective admissions - CCG'!$D$5:$N$215,7,0)*$H621","v":5329.6686241139159},{"$f":"VLOOKUP($A621,'8.Non-elective admissions - CCG'!$D$5:$N$215,8,0)*$H621","v":5096.8113605911631},{"$f":"VLOOKUP($A621,'8.Non-elective admissions - CCG'!$D$5:$N$215,9,0)*$H621","v":5288.6225980739737},{"$f":"VLOOKUP($A621,'8.Non-elective admissions - CCG'!$D$5:$N$215,10,0)*$H621","v":4983.9347885963371},{"$f":"VLOOKUP($A621,'8.Non-elective admissions - CCG'!$D$5:$Q$215,11,0)*$H621","v":5141.4710552332717},{"$f":"VLOOKUP($A621,'8.Non-elective admissions - CCG'!$D$5:$Q$215,12,0)*$H621","v":4916.8362860498237},{"$f":"VLOOKUP($A621,'8.Non-elective admissions - CCG'!$D$5:$Q$215,13,0)*$H621","v":5101.8744179375317},{"$f":"VLOOKUP($A621,'8.Non-elective admissions - CCG'!$D$5:$Q$215,14,0)*$H621","v":4807.9455335510202}]
["05P","NHS Solihull CCG","E10000031","Warwickshire",{"$f":"COUNTIF($D$5:D622,D622)","v":7},"Warwickshire7","NHS Solihull CCG",6.2888893513412276E-3,2.6298934118646313E-3,{"$f":"VLOOKUP($A622,'8.Non-elective admissions - CCG'!$D$5:$N$215,3,0)*$H622","v":39.607425134747054},{"$f":"VLOOKUP($A622,'8.Non-elective admissions - CCG'!$D$5:$N$215,4,0)*$H622","v":39.550825130584983},{"$f":"VLOOKUP($A622,'8.Non-elective admissions - CCG'!$D$5:$N$215,5,0)*$H622","v":41.827403075770505},{"$f":"VLOOKUP($A622,'8.Non-elective admissions - CCG'!$D$5:$N$215,6,0)*$H622","v":41.821114186419166},{"$f":"VLOOKUP($A622,'8.Non-elective admissions - CCG'!$D$5:$N$215,7,0)*$H622","v":39.896009923241799},{"$f":"VLOOKUP($A622,'8.Non-elective admissions - CCG'!$D$5:$N$215,8,0)*$H622","v":38.152922997692613},{"$f":"VLOOKUP($A622,'8.Non-elective admissions - CCG'!$D$5:$N$215,9,0)*$H622","v":39.588753923349039},{"$f":"VLOOKUP($A622,'8.Non-elective admissions - CCG'!$D$5:$N$215,10,0)*$H622","v":37.307968995105668},{"$f":"VLOOKUP($A622,'8.Non-elective admissions - CCG'!$D$5:$Q$215,11,0)*$H622","v":38.487229639675768},{"$f":"VLOOKUP($A622,'8.Non-elective admissions - CCG'!$D$5:$Q$215,12,0)*$H622","v":36.805693391831106},{"$f":"VLOOKUP($A622,'8.Non-elective admissions - CCG'!$D$5:$Q$215,13,0)*$H622","v":38.190823250105822},{"$f":"VLOOKUP($A622,'8.Non-elective admissions - CCG'!$D$5:$Q$215,14,0)*$H622","v":35.990575820996419}]
["05P","NHS Solihull CCG","E10000034","Worcestershire",{"$f":"COUNTIF($D$5:D623,D623)","v":8},"Worcestershire8","NHS Solihull CCG",4.9029196928391571E-3,1.9978698433588634E-3,{"$f":"VLOOKUP($A623,'8.Non-elective admissions - CCG'!$D$5:$N$215,3,0)*$H623","v":30.878588225501012},{"$f":"VLOOKUP($A623,'8.Non-elective admissions - CCG'!$D$5:$N$215,4,0)*$H623","v":30.83446194826546},{"$f":"VLOOKUP($A623,'8.Non-elective admissions - CCG'!$D$5:$N$215,5,0)*$H623","v":32.609318877073235},{"$f":"VLOOKUP($A623,'8.Non-elective admissions - CCG'!$D$5:$N$215,6,0)*$H623","v":32.604415957380397},{"$f":"VLOOKUP($A623,'8.Non-elective admissions - CCG'!$D$5:$N$215,7,0)*$H623","v":31.103573586749729},{"$f":"VLOOKUP($A623,'8.Non-elective admissions - CCG'!$D$5:$N$215,8,0)*$H623","v":29.744634871794769},{"$f":"VLOOKUP($A623,'8.Non-elective admissions - CCG'!$D$5:$N$215,9,0)*$H623","v":30.864031847587803},{"$f":"VLOOKUP($A623,'8.Non-elective admissions - CCG'!$D$5:$N$215,10,0)*$H623","v":29.085895086852734},{"$f":"VLOOKUP($A623,'8.Non-elective admissions - CCG'!$D$5:$Q$215,11,0)*$H623","v":30.0052657283508},{"$f":"VLOOKUP($A623,'8.Non-elective admissions - CCG'!$D$5:$Q$215,12,0)*$H623","v":28.694312915669784},{"$f":"VLOOKUP($A623,'8.Non-elective admissions - CCG'!$D$5:$Q$215,13,0)*$H623","v":29.774182520598714},{"$f":"VLOOKUP($A623,'8.Non-elective admissions - CCG'!$D$5:$Q$215,14,0)*$H623","v":28.058834094727853}]
["11X","NHS Somerset CCG","E06000022","Bath and North East Somerset",{"$f":"COUNTIF($D$5:D624,D624)","v":3},"Bath and North East Somerset3","NHS Somerset CCG",1.8296375979678728E-3,5.2969594824472796E-3,{"$f":"VLOOKUP($A624,'8.Non-elective admissions - CCG'!$D$5:$N$215,3,0)*$H624","v":26.304699745984106},{"$f":"VLOOKUP($A624,'8.Non-elective admissions - CCG'!$D$5:$N$215,4,0)*$H624","v":26.996302758015961},{"$f":"VLOOKUP($A624,'8.Non-elective admissions - CCG'!$D$5:$N$215,5,0)*$H624","v":26.193091852508065},{"$f":"VLOOKUP($A624,'8.Non-elective admissions - CCG'!$D$5:$N$215,6,0)*$H624","v":26.813338998219177},{"$f":"VLOOKUP($A624,'8.Non-elective admissions - CCG'!$D$5:$N$215,7,0)*$H624","v":30.446999267783372},{"$f":"VLOOKUP($A624,'8.Non-elective admissions - CCG'!$D$5:$N$215,8,0)*$H624","v":30.470784556556954},{"$f":"VLOOKUP($A624,'8.Non-elective admissions - CCG'!$D$5:$N$215,9,0)*$H624","v":31.780805076701949},{"$f":"VLOOKUP($A624,'8.Non-elective admissions - CCG'!$D$5:$N$215,10,0)*$H624","v":30.750719109046038},{"$f":"VLOOKUP($A624,'8.Non-elective admissions - CCG'!$D$5:$Q$215,11,0)*$H624","v":30.373813763864657},{"$f":"VLOOKUP($A624,'8.Non-elective admissions - CCG'!$D$5:$Q$215,12,0)*$H624","v":30.399428690236206},{"$f":"VLOOKUP($A624,'8.Non-elective admissions - CCG'!$D$5:$Q$215,13,0)*$H624","v":31.702130659989333},{"$f":"VLOOKUP($A624,'8.Non-elective admissions - CCG'!$D$5:$Q$215,14,0)*$H624","v":30.70497816909684}]
["11X","NHS Somerset CCG","E10000008","Devon",{"$f":"COUNTIF($D$5:D625,D625)","v":4},"Devon4","NHS Somerset CCG",4.1492275566563912E-3,2.9181061173421965E-3,{"$f":"VLOOKUP($A625,'8.Non-elective admissions - CCG'!$D$5:$N$215,3,0)*$H625","v":59.653444582048934},{"$f":"VLOOKUP($A625,'8.Non-elective admissions - CCG'!$D$5:$N$215,4,0)*$H625","v":61.221852598465055},{"$f":"VLOOKUP($A625,'8.Non-elective admissions - CCG'!$D$5:$N$215,5,0)*$H625","v":59.400341701092898},{"$f":"VLOOKUP($A625,'8.Non-elective admissions - CCG'!$D$5:$N$215,6,0)*$H625","v":60.806929842799413},{"$f":"VLOOKUP($A625,'8.Non-elective admissions - CCG'!$D$5:$N$215,7,0)*$H625","v":69.04729577031901},{"$f":"VLOOKUP($A625,'8.Non-elective admissions - CCG'!$D$5:$N$215,8,0)*$H625","v":69.101235728555537},{"$f":"VLOOKUP($A625,'8.Non-elective admissions - CCG'!$D$5:$N$215,9,0)*$H625","v":72.07208265912152},{"$f":"VLOOKUP($A625,'8.Non-elective admissions - CCG'!$D$5:$N$215,10,0)*$H625","v":69.736067544723966},{"$f":"VLOOKUP($A625,'8.Non-elective admissions - CCG'!$D$5:$Q$215,11,0)*$H625","v":68.881326668052751},{"$f":"VLOOKUP($A625,'8.Non-elective admissions - CCG'!$D$5:$Q$215,12,0)*$H625","v":68.939415853845944},{"$f":"VLOOKUP($A625,'8.Non-elective admissions - CCG'!$D$5:$Q$215,13,0)*$H625","v":71.893665874185288},{"$f":"VLOOKUP($A625,'8.Non-elective admissions - CCG'!$D$5:$Q$215,14,0)*$H625","v":69.632336855807552}]
["11X","NHS Somerset CCG","E10000009","Dorset",{"$f":"COUNTIF($D$5:D626,D626)","v":2},"Dorset2","NHS Somerset CCG",5.7745676757997881E-3,7.4477040132258539E-3,{"$f":"VLOOKUP($A626,'8.Non-elective admissions - CCG'!$D$5:$N$215,3,0)*$H626","v":83.020959474973552},{"$f":"VLOOKUP($A626,'8.Non-elective admissions - CCG'!$D$5:$N$215,4,0)*$H626","v":85.203746056425871},{"$f":"VLOOKUP($A626,'8.Non-elective admissions - CCG'!$D$5:$N$215,5,0)*$H626","v":82.668710846749761},{"$f":"VLOOKUP($A626,'8.Non-elective admissions - CCG'!$D$5:$N$215,6,0)*$H626","v":84.626289288845896},{"$f":"VLOOKUP($A626,'8.Non-elective admissions - CCG'!$D$5:$N$215,7,0)*$H626","v":96.09458069298428},{"$f":"VLOOKUP($A626,'8.Non-elective admissions - CCG'!$D$5:$N$215,8,0)*$H626","v":96.16965007276967},{"$f":"VLOOKUP($A626,'8.Non-elective admissions - CCG'!$D$5:$N$215,9,0)*$H626","v":100.30424052864232},{"$f":"VLOOKUP($A626,'8.Non-elective admissions - CCG'!$D$5:$N$215,10,0)*$H626","v":97.053158927167033},{"$f":"VLOOKUP($A626,'8.Non-elective admissions - CCG'!$D$5:$Q$215,11,0)*$H626","v":95.863597985952282},{"$f":"VLOOKUP($A626,'8.Non-elective admissions - CCG'!$D$5:$Q$215,12,0)*$H626","v":95.944441933413472},{"$f":"VLOOKUP($A626,'8.Non-elective admissions - CCG'!$D$5:$Q$215,13,0)*$H626","v":100.05593411858293},{"$f":"VLOOKUP($A626,'8.Non-elective admissions - CCG'!$D$5:$Q$215,14,0)*$H626","v":96.908794735272039}]
["11X","NHS Somerset CCG","E06000024","North Somerset",{"$f":"COUNTIF($D$5:D627,D627)","v":4},"North Somerset4","NHS Somerset CCG",0,1.9664957138702576E-3,{"$f":"VLOOKUP($A627,'8.Non-elective admissions - CCG'!$D$5:$N$215,3,0)*$H627","v":0},{"$f":"VLOOKUP($A627,'8.Non-elective admissions - CCG'!$D$5:$N$215,4,0)*$H627","v":0},{"$f":"VLOOKUP($A627,'8.Non-elective admissions - CCG'!$D$5:$N$215,5,0)*$H627","v":0},{"$f":"VLOOKUP($A627,'8.Non-elective admissions - CCG'!$D$5:$N$215,6,0)*$H627","v":0},{"$f":"VLOOKUP($A627,'8.Non-elective admissions - CCG'!$D$5:$N$215,7,0)*$H627","v":0},{"$f":"VLOOKUP($A627,'8.Non-elective admissions - CCG'!$D$5:$N$215,8,0)*$H627","v":0},{"$f":"VLOOKUP($A627,'8.Non-elective admissions - CCG'!$D$5:$N$215,9,0)*$H627","v":0},{"$f":"VLOOKUP($A627,'8.Non-elective admissions - CCG'!$D$5:$N$215,10,0)*$H627","v":0},{"$f":"VLOOKUP($A627,'8.Non-elective admissions - CCG'!$D$5:$Q$215,11,0)*$H627","v":0},{"$f":"VLOOKUP($A627,'8.Non-elective admissions - CCG'!$D$5:$Q$215,12,0)*$H627","v":0},{"$f":"VLOOKUP($A627,'8.Non-elective admissions - CCG'!$D$5:$Q$215,13,0)*$H627","v":0},{"$f":"VLOOKUP($A627,'8.Non-elective admissions - CCG'!$D$5:$Q$215,14,0)*$H627","v":0}]
["11X","NHS Somerset CCG","E10000027","Somerset",{"$f":"COUNTIF($D$5:D628,D628)","v":5},"Somerset5","NHS Somerset CCG",0.9848494436057601,0.97357382475367316,{"$f":"VLOOKUP($A628,'8.Non-elective admissions - CCG'!$D$5:$N$215,3,0)*$H628","v":14159.180450720012},{"$f":"VLOOKUP($A628,'8.Non-elective admissions - CCG'!$D$5:$N$215,4,0)*$H628","v":14531.45354040299},{"$f":"VLOOKUP($A628,'8.Non-elective admissions - CCG'!$D$5:$N$215,5,0)*$H628","v":14099.104634660061},{"$f":"VLOOKUP($A628,'8.Non-elective admissions - CCG'!$D$5:$N$215,6,0)*$H628","v":14432.968596042414},{"$f":"VLOOKUP($A628,'8.Non-elective admissions - CCG'!$D$5:$N$215,7,0)*$H628","v":16388.879591043453},{"$f":"VLOOKUP($A628,'8.Non-elective admissions - CCG'!$D$5:$N$215,8,0)*$H628","v":16401.682633810327},{"$f":"VLOOKUP($A628,'8.Non-elective admissions - CCG'!$D$5:$N$215,9,0)*$H628","v":17106.834835432051},{"$f":"VLOOKUP($A628,'8.Non-elective admissions - CCG'!$D$5:$N$215,10,0)*$H628","v":16552.364598682008},{"$f":"VLOOKUP($A628,'8.Non-elective admissions - CCG'!$D$5:$Q$215,11,0)*$H628","v":16349.485613299223},{"$f":"VLOOKUP($A628,'8.Non-elective admissions - CCG'!$D$5:$Q$215,12,0)*$H628","v":16363.273505509704},{"$f":"VLOOKUP($A628,'8.Non-elective admissions - CCG'!$D$5:$Q$215,13,0)*$H628","v":17064.486309357006},{"$f":"VLOOKUP($A628,'8.Non-elective admissions - CCG'!$D$5:$Q$215,14,0)*$H628","v":16527.743362591867}]
["11X","NHS Somerset CCG","E06000054","Wiltshire",{"$f":"COUNTIF($D$5:D629,D629)","v":5},"Wiltshire5","NHS Somerset CCG",3.3971235638158427E-3,3.9283324970730889E-3,{"$f":"VLOOKUP($A629,'8.Non-elective admissions - CCG'!$D$5:$N$215,3,0)*$H629","v":48.840445476980371},{"$f":"VLOOKUP($A629,'8.Non-elective admissions - CCG'!$D$5:$N$215,4,0)*$H629","v":50.12455818410276},{"$f":"VLOOKUP($A629,'8.Non-elective admissions - CCG'!$D$5:$N$215,5,0)*$H629","v":48.633220939587602},{"$f":"VLOOKUP($A629,'8.Non-elective admissions - CCG'!$D$5:$N$215,6,0)*$H629","v":49.784845827721178},{"$f":"VLOOKUP($A629,'8.Non-elective admissions - CCG'!$D$5:$N$215,7,0)*$H629","v":56.531533225459441},{"$f":"VLOOKUP($A629,'8.Non-elective admissions - CCG'!$D$5:$N$215,8,0)*$H629","v":56.575695831789041},{"$f":"VLOOKUP($A629,'8.Non-elective admissions - CCG'!$D$5:$N$215,9,0)*$H629","v":59.008036303481191},{"$f":"VLOOKUP($A629,'8.Non-elective admissions - CCG'!$D$5:$N$215,10,0)*$H629","v":57.095455737052866},{"$f":"VLOOKUP($A629,'8.Non-elective admissions - CCG'!$D$5:$Q$215,11,0)*$H629","v":56.395648282906805},{"$f":"VLOOKUP($A629,'8.Non-elective admissions - CCG'!$D$5:$Q$215,12,0)*$H629","v":56.443208012800227},{"$f":"VLOOKUP($A629,'8.Non-elective admissions - CCG'!$D$5:$Q$215,13,0)*$H629","v":58.861959990237104},{"$f":"VLOOKUP($A629,'8.Non-elective admissions - CCG'!$D$5:$Q$215,14,0)*$H629","v":57.010527647957474}]
["01R","NHS South Cheshire CCG","E06000049","Cheshire East",{"$f":"COUNTIF($D$5:D630,D630)","v":5},"Cheshire East5","NHS South Cheshire CCG",0.98632197441285308,0.45065597273665609,{"$f":"VLOOKUP($A630,'8.Non-elective admissions - CCG'!$D$5:$N$215,3,0)*$H630","v":3960.0827272676052},{"$f":"VLOOKUP($A630,'8.Non-elective admissions - CCG'!$D$5:$N$215,4,0)*$H630","v":3821.9976508498057},{"$f":"VLOOKUP($A630,'8.Non-elective admissions - CCG'!$D$5:$N$215,5,0)*$H630","v":3912.7392724957881},{"$f":"VLOOKUP($A630,'8.Non-elective admissions - CCG'!$D$5:$N$215,6,0)*$H630","v":3797.3396014894843},{"$f":"VLOOKUP($A630,'8.Non-elective admissions - CCG'!$D$5:$N$215,7,0)*$H630","v":5470.1416700936834},{"$f":"VLOOKUP($A630,'8.Non-elective admissions - CCG'!$D$5:$N$215,8,0)*$H630","v":5289.6447487761307},{"$f":"VLOOKUP($A630,'8.Non-elective admissions - CCG'!$D$5:$N$215,9,0)*$H630","v":5606.254102562657},{"$f":"VLOOKUP($A630,'8.Non-elective admissions - CCG'!$D$5:$N$215,10,0)*$H630","v":5386.3043022685906},{"$f":"VLOOKUP($A630,'8.Non-elective admissions - CCG'!$D$5:$Q$215,11,0)*$H630","v":5306.4122223411496},{"$f":"VLOOKUP($A630,'8.Non-elective admissions - CCG'!$D$5:$Q$215,12,0)*$H630","v":5082.5171341494315},{"$f":"VLOOKUP($A630,'8.Non-elective admissions - CCG'!$D$5:$Q$215,13,0)*$H630","v":5367.5641847547467},{"$f":"VLOOKUP($A630,'8.Non-elective admissions - CCG'!$D$5:$Q$215,14,0)*$H630","v":5157.4776042048088}]
["01R","NHS South Cheshire CCG","E06000050","Cheshire West and Chester",{"$f":"COUNTIF($D$5:D631,D631)","v":3},"Cheshire West and Chester3","NHS South Cheshire CCG",4.625065488899279E-3,2.3515461200921137E-3,{"$f":"VLOOKUP($A631,'8.Non-elective admissions - CCG'!$D$5:$N$215,3,0)*$H631","v":18.569637937930604},{"$f":"VLOOKUP($A631,'8.Non-elective admissions - CCG'!$D$5:$N$215,4,0)*$H631","v":17.922128769484704},{"$f":"VLOOKUP($A631,'8.Non-elective admissions - CCG'!$D$5:$N$215,5,0)*$H631","v":18.347634794463438},{"$f":"VLOOKUP($A631,'8.Non-elective admissions - CCG'!$D$5:$N$215,6,0)*$H631","v":17.806502132262224},{"$f":"VLOOKUP($A631,'8.Non-elective admissions - CCG'!$D$5:$N$215,7,0)*$H631","v":25.650613201435402},{"$f":"VLOOKUP($A631,'8.Non-elective admissions - CCG'!$D$5:$N$215,8,0)*$H631","v":24.804226216966832},{"$f":"VLOOKUP($A631,'8.Non-elective admissions - CCG'!$D$5:$N$215,9,0)*$H631","v":26.288872238903501},{"$f":"VLOOKUP($A631,'8.Non-elective admissions - CCG'!$D$5:$N$215,10,0)*$H631","v":25.257482634878961},{"$f":"VLOOKUP($A631,'8.Non-elective admissions - CCG'!$D$5:$Q$215,11,0)*$H631","v":24.882852330278119},{"$f":"VLOOKUP($A631,'8.Non-elective admissions - CCG'!$D$5:$Q$215,12,0)*$H631","v":23.832962464297985},{"$f":"VLOOKUP($A631,'8.Non-elective admissions - CCG'!$D$5:$Q$215,13,0)*$H631","v":25.169606390589877},{"$f":"VLOOKUP($A631,'8.Non-elective admissions - CCG'!$D$5:$Q$215,14,0)*$H631","v":24.184467441454331}]
["01R","NHS South Cheshire CCG","E06000051","Shropshire",{"$f":"COUNTIF($D$5:D632,D632)","v":4},"Shropshire4","NHS South Cheshire CCG",4.6363323963022002E-3,2.7572851964272555E-3,{"$f":"VLOOKUP($A632,'8.Non-elective admissions - CCG'!$D$5:$N$215,3,0)*$H632","v":18.614874571153333},{"$f":"VLOOKUP($A632,'8.Non-elective admissions - CCG'!$D$5:$N$215,4,0)*$H632","v":17.965788035671025},{"$f":"VLOOKUP($A632,'8.Non-elective admissions - CCG'!$D$5:$N$215,5,0)*$H632","v":18.392330616130828},{"$f":"VLOOKUP($A632,'8.Non-elective admissions - CCG'!$D$5:$N$215,6,0)*$H632","v":17.849879725763472},{"$f":"VLOOKUP($A632,'8.Non-elective admissions - CCG'!$D$5:$N$215,7,0)*$H632","v":25.713099469892004},{"$f":"VLOOKUP($A632,'8.Non-elective admissions - CCG'!$D$5:$N$215,8,0)*$H632","v":24.864650641368701},{"$f":"VLOOKUP($A632,'8.Non-elective admissions - CCG'!$D$5:$N$215,9,0)*$H632","v":26.352913340581708},{"$f":"VLOOKUP($A632,'8.Non-elective admissions - CCG'!$D$5:$N$215,10,0)*$H632","v":25.319011216206317},{"$f":"VLOOKUP($A632,'8.Non-elective admissions - CCG'!$D$5:$Q$215,11,0)*$H632","v":24.943468292105837},{"$f":"VLOOKUP($A632,'8.Non-elective admissions - CCG'!$D$5:$Q$215,12,0)*$H632","v":23.891020838145238},{"$f":"VLOOKUP($A632,'8.Non-elective admissions - CCG'!$D$5:$Q$215,13,0)*$H632","v":25.230920900676573},{"$f":"VLOOKUP($A632,'8.Non-elective admissions - CCG'!$D$5:$Q$215,14,0)*$H632","v":24.243382100264206}]
["01R","NHS South Cheshire CCG","E10000028","Staffordshire",{"$f":"COUNTIF($D$5:D633,D633)","v":9},"Staffordshire9","NHS South Cheshire CCG",4.4166277019452313E-3,9.0148929711431427E-4,{"$f":"VLOOKUP($A633,'8.Non-elective admissions - CCG'!$D$5:$N$215,3,0)*$H633","v":17.732760223310105},{"$f":"VLOOKUP($A633,'8.Non-elective admissions - CCG'!$D$5:$N$215,4,0)*$H633","v":17.11443234503777},{"$f":"VLOOKUP($A633,'8.Non-elective admissions - CCG'!$D$5:$N$215,5,0)*$H633","v":17.520762093616732},{"$f":"VLOOKUP($A633,'8.Non-elective admissions - CCG'!$D$5:$N$215,6,0)*$H633","v":17.004016652489142},{"$f":"VLOOKUP($A633,'8.Non-elective admissions - CCG'!$D$5:$N$215,7,0)*$H633","v":24.494617234988254},{"$f":"VLOOKUP($A633,'8.Non-elective admissions - CCG'!$D$5:$N$215,8,0)*$H633","v":23.686374365532277},{"$f":"VLOOKUP($A633,'8.Non-elective admissions - CCG'!$D$5:$N$215,9,0)*$H633","v":25.104111857856694},{"$f":"VLOOKUP($A633,'8.Non-elective admissions - CCG'!$D$5:$N$215,10,0)*$H633","v":24.119203880322907},{"$f":"VLOOKUP($A633,'8.Non-elective admissions - CCG'!$D$5:$Q$215,11,0)*$H633","v":23.761457036465345},{"$f":"VLOOKUP($A633,'8.Non-elective admissions - CCG'!$D$5:$Q$215,12,0)*$H633","v":22.758882548123776},{"$f":"VLOOKUP($A633,'8.Non-elective admissions - CCG'!$D$5:$Q$215,13,0)*$H633","v":24.03528795398595},{"$f":"VLOOKUP($A633,'8.Non-elective admissions - CCG'!$D$5:$Q$215,14,0)*$H633","v":23.094546253471616}]
["99Q","NHS South Devon and Torbay CCG","E10000008","Devon",{"$f":"COUNTIF($D$5:D634,D634)","v":5},"Devon5","NHS South Devon and Torbay CCG",0.51012407016764738,0.18694951739992294,{"$f":"VLOOKUP($A634,'8.Non-elective admissions - CCG'!$D$5:$N$215,3,0)*$H634","v":2463.3891348395691},{"$f":"VLOOKUP($A634,'8.Non-elective admissions - CCG'!$D$5:$N$215,4,0)*$H634","v":2716.4106736427225},{"$f":"VLOOKUP($A634,'8.Non-elective admissions - CCG'!$D$5:$N$215,5,0)*$H634","v":2538.8874972243811},{"$f":"VLOOKUP($A634,'8.Non-elective admissions - CCG'!$D$5:$N$215,6,0)*$H634","v":2982.1853142000664},{"$f":"VLOOKUP($A634,'8.Non-elective admissions - CCG'!$D$5:$N$215,7,0)*$H634","v":4288.1029338292437},{"$f":"VLOOKUP($A634,'8.Non-elective admissions - CCG'!$D$5:$N$215,8,0)*$H634","v":4370.2329091262354},{"$f":"VLOOKUP($A634,'8.Non-elective admissions - CCG'!$D$5:$N$215,9,0)*$H634","v":4556.4281947374266},{"$f":"VLOOKUP($A634,'8.Non-elective admissions - CCG'!$D$5:$N$215,10,0)*$H634","v":4423.28581242367},{"$f":"VLOOKUP($A634,'8.Non-elective admissions - CCG'!$D$5:$Q$215,11,0)*$H634","v":4330.9533557233262},{"$f":"VLOOKUP($A634,'8.Non-elective admissions - CCG'!$D$5:$Q$215,12,0)*$H634","v":4413.5934550904849},{"$f":"VLOOKUP($A634,'8.Non-elective admissions - CCG'!$D$5:$Q$215,13,0)*$H634","v":4601.8292369823466},{"$f":"VLOOKUP($A634,'8.Non-elective admissions - CCG'!$D$5:$Q$215,14,0)*$H634","v":4467.6666065282561}]
["99Q","NHS South Devon and Torbay CCG","E06000027","Torbay",{"$f":"COUNTIF($D$5:D635,D635)","v":1},"Torbay1","NHS South Devon and Torbay CCG",0.48987592983235262,1,{"$f":"VLOOKUP($A635,'8.Non-elective admissions - CCG'!$D$5:$N$215,3,0)*$H635","v":2365.6108651604309},{"$f":"VLOOKUP($A635,'8.Non-elective admissions - CCG'!$D$5:$N$215,4,0)*$H635","v":2608.5893263572775},{"$f":"VLOOKUP($A635,'8.Non-elective admissions - CCG'!$D$5:$N$215,5,0)*$H635","v":2438.1125027756189},{"$f":"VLOOKUP($A635,'8.Non-elective admissions - CCG'!$D$5:$N$215,6,0)*$H635","v":2863.8146857999336},{"$f":"VLOOKUP($A635,'8.Non-elective admissions - CCG'!$D$5:$N$215,7,0)*$H635","v":4117.8970661707563},{"$f":"VLOOKUP($A635,'8.Non-elective admissions - CCG'!$D$5:$N$215,8,0)*$H635","v":4196.7670908737646},{"$f":"VLOOKUP($A635,'8.Non-elective admissions - CCG'!$D$5:$N$215,9,0)*$H635","v":4375.5718052625734},{"$f":"VLOOKUP($A635,'8.Non-elective admissions - CCG'!$D$5:$N$215,10,0)*$H635","v":4247.71418757633},{"$f":"VLOOKUP($A635,'8.Non-elective admissions - CCG'!$D$5:$Q$215,11,0)*$H635","v":4159.0466442766738},{"$f":"VLOOKUP($A635,'8.Non-elective admissions - CCG'!$D$5:$Q$215,12,0)*$H635","v":4238.4065449095151},{"$f":"VLOOKUP($A635,'8.Non-elective admissions - CCG'!$D$5:$Q$215,13,0)*$H635","v":4419.1707630176534},{"$f":"VLOOKUP($A635,'8.Non-elective admissions - CCG'!$D$5:$Q$215,14,0)*$H635","v":4290.3333934717439}]
["05Q","NHS South East Staffs and Seisdon Peninsular CCG","E06000051","Shropshire",{"$f":"COUNTIF($D$5:D636,D636)","v":5},"Shropshire5","NHS South East Staffs and Seisdon Peninsular CCG",1.2553500368806052E-2,8.9519636024952918E-3,{"$f":"VLOOKUP($A636,'8.Non-elective admissions - CCG'!$D$5:$N$215,3,0)*$H636","v":60.5706392794892},{"$f":"VLOOKUP($A636,'8.Non-elective admissions - CCG'!$D$5:$N$215,4,0)*$H636","v":64.374349891237429},{"$f":"VLOOKUP($A636,'8.Non-elective admissions - CCG'!$D$5:$N$215,5,0)*$H636","v":66.357802949508795},{"$f":"VLOOKUP($A636,'8.Non-elective admissions - CCG'!$D$5:$N$215,6,0)*$H636","v":66.621426457253719},{"$f":"VLOOKUP($A636,'8.Non-elective admissions - CCG'!$D$5:$N$215,7,0)*$H636","v":67.713580989339846},{"$f":"VLOOKUP($A636,'8.Non-elective admissions - CCG'!$D$5:$N$215,8,0)*$H636","v":67.738687990077452},{"$f":"VLOOKUP($A636,'8.Non-elective admissions - CCG'!$D$5:$N$215,9,0)*$H636","v":67.66336698786462},{"$f":"VLOOKUP($A636,'8.Non-elective admissions - CCG'!$D$5:$N$215,10,0)*$H636","v":67.67592048823343},{"$f":"VLOOKUP($A636,'8.Non-elective admissions - CCG'!$D$5:$Q$215,11,0)*$H636","v":63.872209876485194},{"$f":"VLOOKUP($A636,'8.Non-elective admissions - CCG'!$D$5:$Q$215,12,0)*$H636","v":63.947530878698032},{"$f":"VLOOKUP($A636,'8.Non-elective admissions - CCG'!$D$5:$Q$215,13,0)*$H636","v":63.934977378329222},{"$f":"VLOOKUP($A636,'8.Non-elective admissions - CCG'!$D$5:$Q$215,14,0)*$H636","v":63.947530878698032}]
["05Q","NHS South East Staffs and Seisdon Peninsular CCG","E10000028","Staffordshire",{"$f":"COUNTIF($D$5:D637,D637)","v":10},"Staffordshire10","NHS South East Staffs and Seisdon Peninsular CCG",0.96192606025868099,0.23542783946131415,{"$f":"VLOOKUP($A637,'8.Non-elective admissions - CCG'!$D$5:$N$215,3,0)*$H637","v":4641.2932407481358},{"$f":"VLOOKUP($A637,'8.Non-elective admissions - CCG'!$D$5:$N$215,4,0)*$H637","v":4932.7568370065164},{"$f":"VLOOKUP($A637,'8.Non-elective admissions - CCG'!$D$5:$N$215,5,0)*$H637","v":5084.7411545273881},{"$f":"VLOOKUP($A637,'8.Non-elective admissions - CCG'!$D$5:$N$215,6,0)*$H637","v":5104.9416017928197},{"$f":"VLOOKUP($A637,'8.Non-elective admissions - CCG'!$D$5:$N$215,7,0)*$H637","v":5188.6291690353255},{"$f":"VLOOKUP($A637,'8.Non-elective admissions - CCG'!$D$5:$N$215,8,0)*$H637","v":5190.5530211558425},{"$f":"VLOOKUP($A637,'8.Non-elective admissions - CCG'!$D$5:$N$215,9,0)*$H637","v":5184.7814647942905},{"$f":"VLOOKUP($A637,'8.Non-elective admissions - CCG'!$D$5:$N$215,10,0)*$H637","v":5185.743390854549},{"$f":"VLOOKUP($A637,'8.Non-elective admissions - CCG'!$D$5:$Q$215,11,0)*$H637","v":4894.2797945961693},{"$f":"VLOOKUP($A637,'8.Non-elective admissions - CCG'!$D$5:$Q$215,12,0)*$H637","v":4900.0513509577213},{"$f":"VLOOKUP($A637,'8.Non-elective admissions - CCG'!$D$5:$Q$215,13,0)*$H637","v":4899.0894248974619},{"$f":"VLOOKUP($A637,'8.Non-elective admissions - CCG'!$D$5:$Q$215,14,0)*$H637","v":4900.0513509577213}]
["05Q","NHS South East Staffs and Seisdon Peninsular CCG","E10000031","Warwickshire",{"$f":"COUNTIF($D$5:D638,D638)","v":8},"Warwickshire8","NHS South East Staffs and Seisdon Peninsular CCG",8.2546781990988916E-3,3.0580560719034792E-3,{"$f":"VLOOKUP($A638,'8.Non-elective admissions - CCG'!$D$5:$N$215,3,0)*$H638","v":39.82882231065215},{"$f":"VLOOKUP($A638,'8.Non-elective admissions - CCG'!$D$5:$N$215,4,0)*$H638","v":42.329989804979114},{"$f":"VLOOKUP($A638,'8.Non-elective admissions - CCG'!$D$5:$N$215,5,0)*$H638","v":43.634228960436744},{"$f":"VLOOKUP($A638,'8.Non-elective admissions - CCG'!$D$5:$N$215,6,0)*$H638","v":43.807577202617814},{"$f":"VLOOKUP($A638,'8.Non-elective admissions - CCG'!$D$5:$N$215,7,0)*$H638","v":44.525734205939422},{"$f":"VLOOKUP($A638,'8.Non-elective admissions - CCG'!$D$5:$N$215,8,0)*$H638","v":44.542243562337617},{"$f":"VLOOKUP($A638,'8.Non-elective admissions - CCG'!$D$5:$N$215,9,0)*$H638","v":44.492715493143024},{"$f":"VLOOKUP($A638,'8.Non-elective admissions - CCG'!$D$5:$N$215,10,0)*$H638","v":44.500970171342125},{"$f":"VLOOKUP($A638,'8.Non-elective admissions - CCG'!$D$5:$Q$215,11,0)*$H638","v":41.999802677015161},{"$f":"VLOOKUP($A638,'8.Non-elective admissions - CCG'!$D$5:$Q$215,12,0)*$H638","v":42.049330746209755},{"$f":"VLOOKUP($A638,'8.Non-elective admissions - CCG'!$D$5:$Q$215,13,0)*$H638","v":42.041076068010653},{"$f":"VLOOKUP($A638,'8.Non-elective admissions - CCG'!$D$5:$Q$215,14,0)*$H638","v":42.049330746209755}]
["05Q","NHS South East Staffs and Seisdon Peninsular CCG","E08000031","Wolverhampton",{"$f":"COUNTIF($D$5:D639,D639)","v":3},"Wolverhampton3","NHS South East Staffs and Seisdon Peninsular CCG",1.7265761173414013E-2,1.3816932227477459E-2,{"$f":"VLOOKUP($A639,'8.Non-elective admissions - CCG'!$D$5:$N$215,3,0)*$H639","v":83.307297661722615},{"$f":"VLOOKUP($A639,'8.Non-elective admissions - CCG'!$D$5:$N$215,4,0)*$H639","v":88.538823297267058},{"$f":"VLOOKUP($A639,'8.Non-elective admissions - CCG'!$D$5:$N$215,5,0)*$H639","v":91.266813562666471},{"$f":"VLOOKUP($A639,'8.Non-elective admissions - CCG'!$D$5:$N$215,6,0)*$H639","v":91.629394547308166},{"$f":"VLOOKUP($A639,'8.Non-elective admissions - CCG'!$D$5:$N$215,7,0)*$H639","v":93.131515769395193},{"$f":"VLOOKUP($A639,'8.Non-elective admissions - CCG'!$D$5:$N$215,8,0)*$H639","v":93.166047291742018},{"$f":"VLOOKUP($A639,'8.Non-elective admissions - CCG'!$D$5:$N$215,9,0)*$H639","v":93.062452724701529},{"$f":"VLOOKUP($A639,'8.Non-elective admissions - CCG'!$D$5:$N$215,10,0)*$H639","v":93.079718485874949},{"$f":"VLOOKUP($A639,'8.Non-elective admissions - CCG'!$D$5:$Q$215,11,0)*$H639","v":87.848192850330506},{"$f":"VLOOKUP($A639,'8.Non-elective admissions - CCG'!$D$5:$Q$215,12,0)*$H639","v":87.95178741737098},{"$f":"VLOOKUP($A639,'8.Non-elective admissions - CCG'!$D$5:$Q$215,13,0)*$H639","v":87.934521656197575},{"$f":"VLOOKUP($A639,'8.Non-elective admissions - CCG'!$D$5:$Q$215,14,0)*$H639","v":87.95178741737098}]
["10V","NHS South Eastern Hampshire CCG","E10000014","Hampshire",{"$f":"COUNTIF($D$5:D640,D640)","v":11},"Hampshire11","NHS South Eastern Hampshire CCG",0.95341951186791496,0.14656216879484965,{"$f":"VLOOKUP($A640,'8.Non-elective admissions - CCG'!$D$5:$N$215,3,0)*$H640","v":4286.5741253581455},{"$f":"VLOOKUP($A640,'8.Non-elective admissions - CCG'!$D$5:$N$215,4,0)*$H640","v":4379.0558180093331},{"$f":"VLOOKUP($A640,'8.Non-elective admissions - CCG'!$D$5:$N$215,5,0)*$H640","v":4569.7397203829159},{"$f":"VLOOKUP($A640,'8.Non-elective admissions - CCG'!$D$5:$N$215,6,0)*$H640","v":4219.8347595273917},{"$f":"VLOOKUP($A640,'8.Non-elective admissions - CCG'!$D$5:$N$215,7,0)*$H640","v":4236.0428912291463},{"$f":"VLOOKUP($A640,'8.Non-elective admissions - CCG'!$D$5:$N$215,8,0)*$H640","v":4167.3966863746564},{"$f":"VLOOKUP($A640,'8.Non-elective admissions - CCG'!$D$5:$N$215,9,0)*$H640","v":4297.0617399886924},{"$f":"VLOOKUP($A640,'8.Non-elective admissions - CCG'!$D$5:$N$215,10,0)*$H640","v":4273.2262521919947},{"$f":"VLOOKUP($A640,'8.Non-elective admissions - CCG'!$D$5:$Q$215,11,0)*$H640","v":4067.2876376285253},{"$f":"VLOOKUP($A640,'8.Non-elective admissions - CCG'!$D$5:$Q$215,12,0)*$H640","v":4004.3619498452426},{"$f":"VLOOKUP($A640,'8.Non-elective admissions - CCG'!$D$5:$Q$215,13,0)*$H640","v":4259.878379025844},{"$f":"VLOOKUP($A640,'8.Non-elective admissions - CCG'!$D$5:$Q$215,14,0)*$H640","v":4279.9001887750701}]
["10V","NHS South Eastern Hampshire CCG","E06000044","Portsmouth",{"$f":"COUNTIF($D$5:D641,D641)","v":3},"Portsmouth3","NHS South Eastern Hampshire CCG",2.5968550264955873E-3,2.6246083667865981E-3,{"$f":"VLOOKUP($A641,'8.Non-elective admissions - CCG'!$D$5:$N$215,3,0)*$H641","v":11.67546019912416},{"$f":"VLOOKUP($A641,'8.Non-elective admissions - CCG'!$D$5:$N$215,4,0)*$H641","v":11.927355136694233},{"$f":"VLOOKUP($A641,'8.Non-elective admissions - CCG'!$D$5:$N$215,5,0)*$H641","v":12.44672614199335},{"$f":"VLOOKUP($A641,'8.Non-elective admissions - CCG'!$D$5:$N$215,6,0)*$H641","v":11.49368034726947},{"$f":"VLOOKUP($A641,'8.Non-elective admissions - CCG'!$D$5:$N$215,7,0)*$H641","v":11.537826882719894},{"$f":"VLOOKUP($A641,'8.Non-elective admissions - CCG'!$D$5:$N$215,8,0)*$H641","v":11.350853320812211},{"$f":"VLOOKUP($A641,'8.Non-elective admissions - CCG'!$D$5:$N$215,9,0)*$H641","v":11.704025604415612},{"$f":"VLOOKUP($A641,'8.Non-elective admissions - CCG'!$D$5:$N$215,10,0)*$H641","v":11.639104228753222},{"$f":"VLOOKUP($A641,'8.Non-elective admissions - CCG'!$D$5:$Q$215,11,0)*$H641","v":11.078183543030175},{"$f":"VLOOKUP($A641,'8.Non-elective admissions - CCG'!$D$5:$Q$215,12,0)*$H641","v":10.906791111281466},{"$f":"VLOOKUP($A641,'8.Non-elective admissions - CCG'!$D$5:$Q$215,13,0)*$H641","v":11.602748258382285},{"$f":"VLOOKUP($A641,'8.Non-elective admissions - CCG'!$D$5:$Q$215,14,0)*$H641","v":11.657282213938691}]
["10V","NHS South Eastern Hampshire CCG","E10000030","Surrey",{"$f":"COUNTIF($D$5:D642,D642)","v":16},"Surrey16","NHS South Eastern Hampshire CCG",1.034909014249164E-3,0,{"$f":"VLOOKUP($A642,'8.Non-elective admissions - CCG'!$D$5:$N$215,3,0)*$H642","v":4.6529509280642412},{"$f":"VLOOKUP($A642,'8.Non-elective admissions - CCG'!$D$5:$N$215,4,0)*$H642","v":4.7533371024464106},{"$f":"VLOOKUP($A642,'8.Non-elective admissions - CCG'!$D$5:$N$215,5,0)*$H642","v":4.9603189052962433},{"$f":"VLOOKUP($A642,'8.Non-elective admissions - CCG'!$D$5:$N$215,6,0)*$H642","v":4.5805072970667995},{"$f":"VLOOKUP($A642,'8.Non-elective admissions - CCG'!$D$5:$N$215,7,0)*$H642","v":4.5981007503090359},{"$f":"VLOOKUP($A642,'8.Non-elective admissions - CCG'!$D$5:$N$215,8,0)*$H642","v":4.5235873012830963},{"$f":"VLOOKUP($A642,'8.Non-elective admissions - CCG'!$D$5:$N$215,9,0)*$H642","v":4.664334927220982},{"$f":"VLOOKUP($A642,'8.Non-elective admissions - CCG'!$D$5:$N$215,10,0)*$H642","v":4.638462201864753},{"$f":"VLOOKUP($A642,'8.Non-elective admissions - CCG'!$D$5:$Q$215,11,0)*$H642","v":4.4149218547869333},{"$f":"VLOOKUP($A642,'8.Non-elective admissions - CCG'!$D$5:$Q$215,12,0)*$H642","v":4.3466178598464884},{"$f":"VLOOKUP($A642,'8.Non-elective admissions - CCG'!$D$5:$Q$215,13,0)*$H642","v":4.6239734756652648},{"$f":"VLOOKUP($A642,'8.Non-elective admissions - CCG'!$D$5:$Q$215,14,0)*$H642","v":4.6457065649644971}]
["10V","NHS South Eastern Hampshire CCG","E10000032","West Sussex",{"$f":"COUNTIF($D$5:D643,D643)","v":8},"West Sussex8","NHS South Eastern Hampshire CCG",4.2948724091340304E-2,1.0469797717060841E-2,{"$f":"VLOOKUP($A643,'8.Non-elective admissions - CCG'!$D$5:$N$215,3,0)*$H643","v":193.097463514666},{"$f":"VLOOKUP($A643,'8.Non-elective admissions - CCG'!$D$5:$N$215,4,0)*$H643","v":197.26348975152601},{"$f":"VLOOKUP($A643,'8.Non-elective admissions - CCG'!$D$5:$N$215,5,0)*$H643","v":205.85323456979407},{"$f":"VLOOKUP($A643,'8.Non-elective admissions - CCG'!$D$5:$N$215,6,0)*$H643","v":190.09105282827218},{"$f":"VLOOKUP($A643,'8.Non-elective admissions - CCG'!$D$5:$N$215,7,0)*$H643","v":190.82118113782496},{"$f":"VLOOKUP($A643,'8.Non-elective admissions - CCG'!$D$5:$N$215,8,0)*$H643","v":187.72887300324848},{"$f":"VLOOKUP($A643,'8.Non-elective admissions - CCG'!$D$5:$N$215,9,0)*$H643","v":193.56989947967074},{"$f":"VLOOKUP($A643,'8.Non-elective admissions - CCG'!$D$5:$N$215,10,0)*$H643","v":192.49618137738724},{"$f":"VLOOKUP($A643,'8.Non-elective admissions - CCG'!$D$5:$Q$215,11,0)*$H643","v":183.21925697365774},{"$f":"VLOOKUP($A643,'8.Non-elective admissions - CCG'!$D$5:$Q$215,12,0)*$H643","v":180.38464118362927},{"$f":"VLOOKUP($A643,'8.Non-elective admissions - CCG'!$D$5:$Q$215,13,0)*$H643","v":191.89489924010849},{"$f":"VLOOKUP($A643,'8.Non-elective admissions - CCG'!$D$5:$Q$215,14,0)*$H643","v":192.79682244602662}]
["12A","NHS South Gloucestershire CCG","E06000023","Bristol, City of",{"$f":"COUNTIF($D$5:D644,D644)","v":2},"Bristol, City of2","NHS South Gloucestershire CCG",3.9144901459672768E-2,2.175533055491273E-2,{"$f":"VLOOKUP($A644,'8.Non-elective admissions - CCG'!$D$5:$N$215,3,0)*$H644","v":185.31196351009089},{"$f":"VLOOKUP($A644,'8.Non-elective admissions - CCG'!$D$5:$N$215,4,0)*$H644","v":183.15899392980887},{"$f":"VLOOKUP($A644,'8.Non-elective admissions - CCG'!$D$5:$N$215,5,0)*$H644","v":195.45049298814612},{"$f":"VLOOKUP($A644,'8.Non-elective admissions - CCG'!$D$5:$N$215,6,0)*$H644","v":204.29724071803219},{"$f":"VLOOKUP($A644,'8.Non-elective admissions - CCG'!$D$5:$N$215,7,0)*$H644","v":191.36499726249312},{"$f":"VLOOKUP($A644,'8.Non-elective admissions - CCG'!$D$5:$N$215,8,0)*$H644","v":203.32185611430498},{"$f":"VLOOKUP($A644,'8.Non-elective admissions - CCG'!$D$5:$N$215,9,0)*$H644","v":200.5870832608399},{"$f":"VLOOKUP($A644,'8.Non-elective admissions - CCG'!$D$5:$N$215,10,0)*$H644","v":200.46964855646087},{"$f":"VLOOKUP($A644,'8.Non-elective admissions - CCG'!$D$5:$Q$215,11,0)*$H644","v":197.85805196551937},{"$f":"VLOOKUP($A644,'8.Non-elective admissions - CCG'!$D$5:$Q$215,12,0)*$H644","v":203.71450081578854},{"$f":"VLOOKUP($A644,'8.Non-elective admissions - CCG'!$D$5:$Q$215,13,0)*$H644","v":198.05377647313085},{"$f":"VLOOKUP($A644,'8.Non-elective admissions - CCG'!$D$5:$Q$215,14,0)*$H644","v":192.04074801702296}]
["12A","NHS South Gloucestershire CCG","E10000013","Gloucestershire",{"$f":"COUNTIF($D$5:D645,D645)","v":4},{"$f":"D645&E645","v":"Gloucestershire4"},{"$f":"B645","v":"NHS South Gloucestershire CCG"},2.7734164594244584E-3,1.1714835726053569E-3,{"$f":"VLOOKUP($A645,'8.Non-elective admissions - CCG'!$D$5:$N$215,3,0)*$H645","v":13.129353518915387},{"$f":"VLOOKUP($A645,'8.Non-elective admissions - CCG'!$D$5:$N$215,4,0)*$H645","v":12.976815613647041},{"$f":"VLOOKUP($A645,'8.Non-elective admissions - CCG'!$D$5:$N$215,5,0)*$H645","v":13.84766838190632},{"$f":"VLOOKUP($A645,'8.Non-elective admissions - CCG'!$D$5:$N$215,6,0)*$H645","v":14.474460501736248},{"$f":"VLOOKUP($A645,'8.Non-elective admissions - CCG'!$D$5:$N$215,7,0)*$H645","v":13.558210989808723},{"$f":"VLOOKUP($A645,'8.Non-elective admissions - CCG'!$D$5:$N$215,8,0)*$H645","v":14.405354497802811},{"$f":"VLOOKUP($A645,'8.Non-elective admissions - CCG'!$D$5:$N$215,9,0)*$H645","v":14.21159582779055},{"$f":"VLOOKUP($A645,'8.Non-elective admissions - CCG'!$D$5:$N$215,10,0)*$H645","v":14.203275578412272},{"$f":"VLOOKUP($A645,'8.Non-elective admissions - CCG'!$D$5:$Q$215,11,0)*$H645","v":14.018243947200844},{"$f":"VLOOKUP($A645,'8.Non-elective admissions - CCG'!$D$5:$Q$215,12,0)*$H645","v":14.43317337681882},{"$f":"VLOOKUP($A645,'8.Non-elective admissions - CCG'!$D$5:$Q$215,13,0)*$H645","v":14.03211102952015},{"$f":"VLOOKUP($A645,'8.Non-elective admissions - CCG'!$D$5:$Q$215,14,0)*$H645","v":13.606087934064474}]
["12A","NHS South Gloucestershire CCG","E06000025","South Gloucestershire",{"$f":"COUNTIF($D$5:D646,D646)","v":4},"South Gloucestershire4","NHS South Gloucestershire CCG",0.94901268666124206,0.89568641024531648,{"$f":"VLOOKUP($A646,'8.Non-elective admissions - CCG'!$D$5:$N$215,3,0)*$H646","v":4492.6260586543203},{"$f":"VLOOKUP($A646,'8.Non-elective admissions - CCG'!$D$5:$N$215,4,0)*$H646","v":4440.4303608879518},{"$f":"VLOOKUP($A646,'8.Non-elective admissions - CCG'!$D$5:$N$215,5,0)*$H646","v":4738.4203444995819},{"$f":"VLOOKUP($A646,'8.Non-elective admissions - CCG'!$D$5:$N$215,6,0)*$H646","v":4952.8972116850227},{"$f":"VLOOKUP($A646,'8.Non-elective admissions - CCG'!$D$5:$N$215,7,0)*$H646","v":4639.3732877854582},{"$f":"VLOOKUP($A646,'8.Non-elective admissions - CCG'!$D$5:$N$215,8,0)*$H646","v":4929.2503936117982},{"$f":"VLOOKUP($A646,'8.Non-elective admissions - CCG'!$D$5:$N$215,9,0)*$H646","v":4862.9496996185117},{"$f":"VLOOKUP($A646,'8.Non-elective admissions - CCG'!$D$5:$N$215,10,0)*$H646","v":4860.102661558527},{"$f":"VLOOKUP($A646,'8.Non-elective admissions - CCG'!$D$5:$Q$215,11,0)*$H646","v":4796.7882015694531},{"$f":"VLOOKUP($A646,'8.Non-elective admissions - CCG'!$D$5:$Q$215,12,0)*$H646","v":4938.7695082132768},{"$f":"VLOOKUP($A646,'8.Non-elective admissions - CCG'!$D$5:$Q$215,13,0)*$H646","v":4801.5332650103501},{"$f":"VLOOKUP($A646,'8.Non-elective admissions - CCG'!$D$5:$Q$215,14,0)*$H646","v":4655.7559076198804}]
["12A","NHS South Gloucestershire CCG","E06000054","Wiltshire",{"$f":"COUNTIF($D$5:D647,D647)","v":6},"Wiltshire6","NHS South Gloucestershire CCG",9.0689954196606949E-3,4.9632045492557283E-3,{"$f":"VLOOKUP($A647,'8.Non-elective admissions - CCG'!$D$5:$N$215,3,0)*$H647","v":42.932624316673731},{"$f":"VLOOKUP($A647,'8.Non-elective admissions - CCG'!$D$5:$N$215,4,0)*$H647","v":42.433829568592394},{"$f":"VLOOKUP($A647,'8.Non-elective admissions - CCG'!$D$5:$N$215,5,0)*$H647","v":45.28149413036585},{"$f":"VLOOKUP($A647,'8.Non-elective admissions - CCG'!$D$5:$N$215,6,0)*$H647","v":47.331087095209163},{"$f":"VLOOKUP($A647,'8.Non-elective admissions - CCG'!$D$5:$N$215,7,0)*$H647","v":44.334976432239543},{"$f":"VLOOKUP($A647,'8.Non-elective admissions - CCG'!$D$5:$N$215,8,0)*$H647","v":47.105112366093486},{"$f":"VLOOKUP($A647,'8.Non-elective admissions - CCG'!$D$5:$N$215,9,0)*$H647","v":46.471526852857799},{"$f":"VLOOKUP($A647,'8.Non-elective admissions - CCG'!$D$5:$N$215,10,0)*$H647","v":46.444319866598811},{"$f":"VLOOKUP($A647,'8.Non-elective admissions - CCG'!$D$5:$Q$215,11,0)*$H647","v":45.839271529827556},{"$f":"VLOOKUP($A647,'8.Non-elective admissions - CCG'!$D$5:$Q$215,12,0)*$H647","v":47.196079334115538},{"$f":"VLOOKUP($A647,'8.Non-elective admissions - CCG'!$D$5:$Q$215,13,0)*$H647","v":45.884616506998398},{"$f":"VLOOKUP($A647,'8.Non-elective admissions - CCG'!$D$5:$Q$215,14,0)*$H647","v":44.491532721031767}]
["10A","NHS South Kent Coast CCG","E10000016","Kent",{"$f":"COUNTIF($D$5:D648,D648)","v":11},"Kent11","NHS South Kent Coast CCG",0.99999999999999989,0.13165149605898838,{"$f":"VLOOKUP($A648,'8.Non-elective admissions - CCG'!$D$5:$N$215,3,0)*$H648","v":5041.9999999999991},{"$f":"VLOOKUP($A648,'8.Non-elective admissions - CCG'!$D$5:$N$215,4,0)*$H648","v":5004.9999999999991},{"$f":"VLOOKUP($A648,'8.Non-elective admissions - CCG'!$D$5:$N$215,5,0)*$H648","v":4978.9999999999991},{"$f":"VLOOKUP($A648,'8.Non-elective admissions - CCG'!$D$5:$N$215,6,0)*$H648","v":4996.9999999999991},{"$f":"VLOOKUP($A648,'8.Non-elective admissions - CCG'!$D$5:$N$215,7,0)*$H648","v":5553.9999999999991},{"$f":"VLOOKUP($A648,'8.Non-elective admissions - CCG'!$D$5:$N$215,8,0)*$H648","v":5614.9999999999991},{"$f":"VLOOKUP($A648,'8.Non-elective admissions - CCG'!$D$5:$N$215,9,0)*$H648","v":5614.9999999999991},{"$f":"VLOOKUP($A648,'8.Non-elective admissions - CCG'!$D$5:$N$215,10,0)*$H648","v":5492.9999999999991},{"$f":"VLOOKUP($A648,'8.Non-elective admissions - CCG'!$D$5:$Q$215,11,0)*$H648","v":5492.9999999999991},{"$f":"VLOOKUP($A648,'8.Non-elective admissions - CCG'!$D$5:$Q$215,12,0)*$H648","v":5552.9999999999991},{"$f":"VLOOKUP($A648,'8.Non-elective admissions - CCG'!$D$5:$Q$215,13,0)*$H648","v":5552.9999999999991},{"$f":"VLOOKUP($A648,'8.Non-elective admissions - CCG'!$D$5:$Q$215,14,0)*$H648","v":5430.9999999999991}]
["99D","NHS South Lincolnshire CCG","E10000003","Cambridgeshire",{"$f":"COUNTIF($D$5:D649,D649)","v":4},"Cambridgeshire4","NHS South Lincolnshire CCG",3.4866810028713843E-3,0,{"$f":"VLOOKUP($A649,'8.Non-elective admissions - CCG'!$D$5:$N$215,3,0)*$H649","v":12.178976743029745},{"$f":"VLOOKUP($A649,'8.Non-elective admissions - CCG'!$D$5:$N$215,4,0)*$H649","v":12.144109933001031},{"$f":"VLOOKUP($A649,'8.Non-elective admissions - CCG'!$D$5:$N$215,5,0)*$H649","v":13.360961603003144},{"$f":"VLOOKUP($A649,'8.Non-elective admissions - CCG'!$D$5:$N$215,6,0)*$H649","v":12.900719710624122},{"$f":"VLOOKUP($A649,'8.Non-elective admissions - CCG'!$D$5:$N$215,7,0)*$H649","v":11.971628697265977},{"$f":"VLOOKUP($A649,'8.Non-elective admissions - CCG'!$D$5:$N$215,8,0)*$H649","v":11.294018144163589},{"$f":"VLOOKUP($A649,'8.Non-elective admissions - CCG'!$D$5:$N$215,9,0)*$H649","v":12.092070465986785},{"$f":"VLOOKUP($A649,'8.Non-elective admissions - CCG'!$D$5:$N$215,10,0)*$H649","v":11.266709591889208},{"$f":"VLOOKUP($A649,'8.Non-elective admissions - CCG'!$D$5:$Q$215,11,0)*$H649","v":11.814526340311744},{"$f":"VLOOKUP($A649,'8.Non-elective admissions - CCG'!$D$5:$Q$215,12,0)*$H649","v":11.143989647195397},{"$f":"VLOOKUP($A649,'8.Non-elective admissions - CCG'!$D$5:$Q$215,13,0)*$H649","v":11.93364836577226},{"$f":"VLOOKUP($A649,'8.Non-elective admissions - CCG'!$D$5:$Q$215,14,0)*$H649","v":11.116916684297498}]
["99D","NHS South Lincolnshire CCG","E10000019","Lincolnshire",{"$f":"COUNTIF($D$5:D650,D650)","v":8},"Lincolnshire8","NHS South Lincolnshire CCG",0.90597148504021185,0.1944686062520678,{"$f":"VLOOKUP($A650,'8.Non-elective admissions - CCG'!$D$5:$N$215,3,0)*$H650","v":3164.5583972454601},{"$f":"VLOOKUP($A650,'8.Non-elective admissions - CCG'!$D$5:$N$215,4,0)*$H650","v":3155.498682395058},{"$f":"VLOOKUP($A650,'8.Non-elective admissions - CCG'!$D$5:$N$215,5,0)*$H650","v":3471.682730674092},{"$f":"VLOOKUP($A650,'8.Non-elective admissions - CCG'!$D$5:$N$215,6,0)*$H650","v":3352.0944946487839},{"$f":"VLOOKUP($A650,'8.Non-elective admissions - CCG'!$D$5:$N$215,7,0)*$H650","v":3110.6815393436086},{"$f":"VLOOKUP($A650,'8.Non-elective admissions - CCG'!$D$5:$N$215,8,0)*$H650","v":2934.6127109743002},{"$f":"VLOOKUP($A650,'8.Non-elective admissions - CCG'!$D$5:$N$215,9,0)*$H650","v":3141.976862310923},{"$f":"VLOOKUP($A650,'8.Non-elective admissions - CCG'!$D$5:$N$215,10,0)*$H650","v":2927.5169171124744},{"$f":"VLOOKUP($A650,'8.Non-elective admissions - CCG'!$D$5:$Q$215,11,0)*$H650","v":3069.8604101620367},{"$f":"VLOOKUP($A650,'8.Non-elective admissions - CCG'!$D$5:$Q$215,12,0)*$H650","v":2895.6296379358751},{"$f":"VLOOKUP($A650,'8.Non-elective admissions - CCG'!$D$5:$Q$215,13,0)*$H650","v":3100.8128139576766},{"$f":"VLOOKUP($A650,'8.Non-elective admissions - CCG'!$D$5:$Q$215,14,0)*$H650","v":2888.5950590969023}]
["99D","NHS South Lincolnshire CCG","E10000020","Norfolk",{"$f":"COUNTIF($D$5:D651,D651)","v":6},"Norfolk6","NHS South Lincolnshire CCG",2.0323434722619299E-3,0,{"$f":"VLOOKUP($A651,'8.Non-elective admissions - CCG'!$D$5:$N$215,3,0)*$H651","v":7.0989757486109211},{"$f":"VLOOKUP($A651,'8.Non-elective admissions - CCG'!$D$5:$N$215,4,0)*$H651","v":7.078652313888302},{"$f":"VLOOKUP($A651,'8.Non-elective admissions - CCG'!$D$5:$N$215,5,0)*$H651","v":7.7879401857077157},{"$f":"VLOOKUP($A651,'8.Non-elective admissions - CCG'!$D$5:$N$215,6,0)*$H651","v":7.5196708473691407},{"$f":"VLOOKUP($A651,'8.Non-elective admissions - CCG'!$D$5:$N$215,7,0)*$H651","v":6.9781151230053027},{"$f":"VLOOKUP($A651,'8.Non-elective admissions - CCG'!$D$5:$N$215,8,0)*$H651","v":6.5831442658493655},{"$f":"VLOOKUP($A651,'8.Non-elective admissions - CCG'!$D$5:$N$215,9,0)*$H651","v":7.0483191486233139},{"$f":"VLOOKUP($A651,'8.Non-elective admissions - CCG'!$D$5:$N$215,10,0)*$H651","v":6.5672264466092178},{"$f":"VLOOKUP($A651,'8.Non-elective admissions - CCG'!$D$5:$Q$215,11,0)*$H651","v":6.8865420914116582},{"$f":"VLOOKUP($A651,'8.Non-elective admissions - CCG'!$D$5:$Q$215,12,0)*$H651","v":6.4956945002368887},{"$f":"VLOOKUP($A651,'8.Non-elective admissions - CCG'!$D$5:$Q$215,13,0)*$H651","v":6.9559768549153818},{"$f":"VLOOKUP($A651,'8.Non-elective admissions - CCG'!$D$5:$Q$215,14,0)*$H651","v":6.4799140031466704}]
["99D","NHS South Lincolnshire CCG","E10000021","Northamptonshire",{"$f":"COUNTIF($D$5:D652,D652)","v":10},"Northamptonshire10","NHS South Lincolnshire CCG",8.9932752427003444E-3,1.9246013800735262E-3,{"$f":"VLOOKUP($A652,'8.Non-elective admissions - CCG'!$D$5:$N$215,3,0)*$H652","v":31.413510422752303},{"$f":"VLOOKUP($A652,'8.Non-elective admissions - CCG'!$D$5:$N$215,4,0)*$H652","v":31.323577670325299},{"$f":"VLOOKUP($A652,'8.Non-elective admissions - CCG'!$D$5:$N$215,5,0)*$H652","v":34.46223073002772},{"$f":"VLOOKUP($A652,'8.Non-elective admissions - CCG'!$D$5:$N$215,6,0)*$H652","v":33.275118397991271},{"$f":"VLOOKUP($A652,'8.Non-elective admissions - CCG'!$D$5:$N$215,7,0)*$H652","v":30.878692914338451},{"$f":"VLOOKUP($A652,'8.Non-elective admissions - CCG'!$D$5:$N$215,8,0)*$H652","v":29.130916674874715},{"$f":"VLOOKUP($A652,'8.Non-elective admissions - CCG'!$D$5:$N$215,9,0)*$H652","v":31.189351094978395},{"$f":"VLOOKUP($A652,'8.Non-elective admissions - CCG'!$D$5:$N$215,10,0)*$H652","v":29.060479107778406},{"$f":"VLOOKUP($A652,'8.Non-elective admissions - CCG'!$D$5:$Q$215,11,0)*$H652","v":30.473475248540275},{"$f":"VLOOKUP($A652,'8.Non-elective admissions - CCG'!$D$5:$Q$215,12,0)*$H652","v":28.743944776277612},{"$f":"VLOOKUP($A652,'8.Non-elective admissions - CCG'!$D$5:$Q$215,13,0)*$H652","v":30.780729385512409},{"$f":"VLOOKUP($A652,'8.Non-elective admissions - CCG'!$D$5:$Q$215,14,0)*$H652","v":28.674114870193371}]
["99D","NHS South Lincolnshire CCG","E06000031","Peterborough",{"$f":"COUNTIF($D$5:D653,D653)","v":2},"Peterborough2","NHS South Lincolnshire CCG",5.1908662630983607E-2,3.9860830720329886E-2,{"$f":"VLOOKUP($A653,'8.Non-elective admissions - CCG'!$D$5:$N$215,3,0)*$H653","v":181.31695857002575},{"$f":"VLOOKUP($A653,'8.Non-elective admissions - CCG'!$D$5:$N$215,4,0)*$H653","v":180.7978719437159},{"$f":"VLOOKUP($A653,'8.Non-elective admissions - CCG'!$D$5:$N$215,5,0)*$H653","v":198.91399520192917},{"$f":"VLOOKUP($A653,'8.Non-elective admissions - CCG'!$D$5:$N$215,6,0)*$H653","v":192.06205173463934},{"$f":"VLOOKUP($A653,'8.Non-elective admissions - CCG'!$D$5:$N$215,7,0)*$H653","v":178.23002295822718},{"$f":"VLOOKUP($A653,'8.Non-elective admissions - CCG'!$D$5:$N$215,8,0)*$H653","v":168.14195996444619},{"$f":"VLOOKUP($A653,'8.Non-elective admissions - CCG'!$D$5:$N$215,9,0)*$H653","v":180.02312394281932},{"$f":"VLOOKUP($A653,'8.Non-elective admissions - CCG'!$D$5:$N$215,10,0)*$H653","v":167.73539841614738},{"$f":"VLOOKUP($A653,'8.Non-elective admissions - CCG'!$D$5:$Q$215,11,0)*$H653","v":175.89113011458767},{"$f":"VLOOKUP($A653,'8.Non-elective admissions - CCG'!$D$5:$Q$215,12,0)*$H653","v":165.90838062990366},{"$f":"VLOOKUP($A653,'8.Non-elective admissions - CCG'!$D$5:$Q$215,13,0)*$H653","v":177.66458315673782},{"$f":"VLOOKUP($A653,'8.Non-elective admissions - CCG'!$D$5:$Q$215,14,0)*$H653","v":165.5053264656911}]
["99D","NHS South Lincolnshire CCG","E06000017","Rutland",{"$f":"COUNTIF($D$5:D654,D654)","v":4},"Rutland4","NHS South Lincolnshire CCG",2.7607552610970927E-2,0.12143579649525686,{"$f":"VLOOKUP($A654,'8.Non-elective admissions - CCG'!$D$5:$N$215,3,0)*$H654","v":96.433181270121452},{"$f":"VLOOKUP($A654,'8.Non-elective admissions - CCG'!$D$5:$N$215,4,0)*$H654","v":96.157105744011744},{"$f":"VLOOKUP($A654,'8.Non-elective admissions - CCG'!$D$5:$N$215,5,0)*$H654","v":105.79214160524059},{"$f":"VLOOKUP($A654,'8.Non-elective admissions - CCG'!$D$5:$N$215,6,0)*$H654","v":102.14794466059243},{"$f":"VLOOKUP($A654,'8.Non-elective admissions - CCG'!$D$5:$N$215,7,0)*$H654","v":94.79139870455522},{"$f":"VLOOKUP($A654,'8.Non-elective admissions - CCG'!$D$5:$N$215,8,0)*$H654","v":89.426075929366618},{"$f":"VLOOKUP($A654,'8.Non-elective admissions - CCG'!$D$5:$N$215,9,0)*$H654","v":95.745057058668991},{"$f":"VLOOKUP($A654,'8.Non-elective admissions - CCG'!$D$5:$N$215,10,0)*$H654","v":89.209846715101378},{"$f":"VLOOKUP($A654,'8.Non-elective admissions - CCG'!$D$5:$Q$215,11,0)*$H654","v":93.547461682111887},{"$f":"VLOOKUP($A654,'8.Non-elective admissions - CCG'!$D$5:$Q$215,12,0)*$H654","v":88.2381497555115},{"$f":"VLOOKUP($A654,'8.Non-elective admissions - CCG'!$D$5:$Q$215,13,0)*$H654","v":94.490670304385702},{"$f":"VLOOKUP($A654,'8.Non-elective admissions - CCG'!$D$5:$Q$215,14,0)*$H654","v":88.023785938769151}]
["01N","NHS South Manchester CCG","E08000003","Manchester",{"$f":"COUNTIF($D$5:D655,D655)","v":7},"Manchester7","NHS South Manchester CCG",0.94036029855336478,0.28733037807009137,{"$f":"VLOOKUP($A655,'8.Non-elective admissions - CCG'!$D$5:$N$215,3,0)*$H655","v":4241.9653067742283},{"$f":"VLOOKUP($A655,'8.Non-elective admissions - CCG'!$D$5:$N$215,4,0)*$H655","v":4272.0568363279363},{"$f":"VLOOKUP($A655,'8.Non-elective admissions - CCG'!$D$5:$N$215,5,0)*$H655","v":4535.3577199228785},{"$f":"VLOOKUP($A655,'8.Non-elective admissions - CCG'!$D$5:$N$215,6,0)*$H655","v":4335.0609763310113},{"$f":"VLOOKUP($A655,'8.Non-elective admissions - CCG'!$D$5:$N$215,7,0)*$H655","v":4206.2316154292002},{"$f":"VLOOKUP($A655,'8.Non-elective admissions - CCG'!$D$5:$N$215,8,0)*$H655","v":4232.561703788695},{"$f":"VLOOKUP($A655,'8.Non-elective admissions - CCG'!$D$5:$N$215,9,0)*$H655","v":4496.8029476821903},{"$f":"VLOOKUP($A655,'8.Non-elective admissions - CCG'!$D$5:$N$215,10,0)*$H655","v":4215.6352184147345},{"$f":"VLOOKUP($A655,'8.Non-elective admissions - CCG'!$D$5:$Q$215,11,0)*$H655","v":4079.2829751244963},{"$f":"VLOOKUP($A655,'8.Non-elective admissions - CCG'!$D$5:$Q$215,12,0)*$H655","v":4110.3148649767572},{"$f":"VLOOKUP($A655,'8.Non-elective admissions - CCG'!$D$5:$Q$215,13,0)*$H655","v":4362.3314249890591},{"$f":"VLOOKUP($A655,'8.Non-elective admissions - CCG'!$D$5:$Q$215,14,0)*$H655","v":4088.68657811003}]
["01N","NHS South Manchester CCG","E08000007","Stockport",{"$f":"COUNTIF($D$5:D656,D656)","v":3},"Stockport3","NHS South Manchester CCG",2.9464993316852182E-2,1.6621348858158039E-2,{"$f":"VLOOKUP($A656,'8.Non-elective admissions - CCG'!$D$5:$N$215,3,0)*$H656","v":132.9165848523202},{"$f":"VLOOKUP($A656,'8.Non-elective admissions - CCG'!$D$5:$N$215,4,0)*$H656","v":133.85946463845946},{"$f":"VLOOKUP($A656,'8.Non-elective admissions - CCG'!$D$5:$N$215,5,0)*$H656","v":142.10966276717807},{"$f":"VLOOKUP($A656,'8.Non-elective admissions - CCG'!$D$5:$N$215,6,0)*$H656","v":135.83361919068855},{"$f":"VLOOKUP($A656,'8.Non-elective admissions - CCG'!$D$5:$N$215,7,0)*$H656","v":131.79691510627981},{"$f":"VLOOKUP($A656,'8.Non-elective admissions - CCG'!$D$5:$N$215,8,0)*$H656","v":132.62193491915167},{"$f":"VLOOKUP($A656,'8.Non-elective admissions - CCG'!$D$5:$N$215,9,0)*$H656","v":140.90159804118713},{"$f":"VLOOKUP($A656,'8.Non-elective admissions - CCG'!$D$5:$N$215,10,0)*$H656","v":132.09156503944834},{"$f":"VLOOKUP($A656,'8.Non-elective admissions - CCG'!$D$5:$Q$215,11,0)*$H656","v":127.81914100850476},{"$f":"VLOOKUP($A656,'8.Non-elective admissions - CCG'!$D$5:$Q$215,12,0)*$H656","v":128.79148578796088},{"$f":"VLOOKUP($A656,'8.Non-elective admissions - CCG'!$D$5:$Q$215,13,0)*$H656","v":136.68810399687726},{"$f":"VLOOKUP($A656,'8.Non-elective admissions - CCG'!$D$5:$Q$215,14,0)*$H656","v":128.11379094167327}]
["01N","NHS South Manchester CCG","E08000009","Trafford",{"$f":"COUNTIF($D$5:D657,D657)","v":3},"Trafford3","NHS South Manchester CCG",3.0174708129783186E-2,2.1096592788620572E-2,{"$f":"VLOOKUP($A657,'8.Non-elective admissions - CCG'!$D$5:$N$215,3,0)*$H657","v":136.11810837345195},{"$f":"VLOOKUP($A657,'8.Non-elective admissions - CCG'!$D$5:$N$215,4,0)*$H657","v":137.083699033605},{"$f":"VLOOKUP($A657,'8.Non-elective admissions - CCG'!$D$5:$N$215,5,0)*$H657","v":145.5326173099443},{"$f":"VLOOKUP($A657,'8.Non-elective admissions - CCG'!$D$5:$N$215,6,0)*$H657","v":139.1054044783005},{"$f":"VLOOKUP($A657,'8.Non-elective admissions - CCG'!$D$5:$N$215,7,0)*$H657","v":134.9714694645202},{"$f":"VLOOKUP($A657,'8.Non-elective admissions - CCG'!$D$5:$N$215,8,0)*$H657","v":135.81636129215411},{"$f":"VLOOKUP($A657,'8.Non-elective admissions - CCG'!$D$5:$N$215,9,0)*$H657","v":144.29545427662319},{"$f":"VLOOKUP($A657,'8.Non-elective admissions - CCG'!$D$5:$N$215,10,0)*$H657","v":135.27321654581803},{"$f":"VLOOKUP($A657,'8.Non-elective admissions - CCG'!$D$5:$Q$215,11,0)*$H657","v":130.89788386699945},{"$f":"VLOOKUP($A657,'8.Non-elective admissions - CCG'!$D$5:$Q$215,12,0)*$H657","v":131.89364923528231},{"$f":"VLOOKUP($A657,'8.Non-elective admissions - CCG'!$D$5:$Q$215,13,0)*$H657","v":139.98047101406419},{"$f":"VLOOKUP($A657,'8.Non-elective admissions - CCG'!$D$5:$Q$215,14,0)*$H657","v":131.19963094829728}]
["06Y","NHS South Norfolk CCG","E10000020","Norfolk",{"$f":"COUNTIF($D$5:D658,D658)","v":7},"Norfolk7","NHS South Norfolk CCG",0.98728404920558033,0.25184194913226077,{"$f":"VLOOKUP($A658,'8.Non-elective admissions - CCG'!$D$5:$N$215,3,0)*$H658","v":5168.4319975912131},{"$f":"VLOOKUP($A658,'8.Non-elective admissions - CCG'!$D$5:$N$215,4,0)*$H658","v":5273.0841068070049},{"$f":"VLOOKUP($A658,'8.Non-elective admissions - CCG'!$D$5:$N$215,5,0)*$H658","v":5268.1476865609766},{"$f":"VLOOKUP($A658,'8.Non-elective admissions - CCG'!$D$5:$N$215,6,0)*$H658","v":5428.0877025322807},{"$f":"VLOOKUP($A658,'8.Non-elective admissions - CCG'!$D$5:$N$215,7,0)*$H658","v":5477.4519049925593},{"$f":"VLOOKUP($A658,'8.Non-elective admissions - CCG'!$D$5:$N$215,8,0)*$H658","v":5436.9732589751311},{"$f":"VLOOKUP($A658,'8.Non-elective admissions - CCG'!$D$5:$N$215,9,0)*$H658","v":5431.0495546798975},{"$f":"VLOOKUP($A658,'8.Non-elective admissions - CCG'!$D$5:$N$215,10,0)*$H658","v":5478.4391890417655},{"$f":"VLOOKUP($A658,'8.Non-elective admissions - CCG'!$D$5:$Q$215,11,0)*$H658","v":5472.5154847465319},{"$f":"VLOOKUP($A658,'8.Non-elective admissions - CCG'!$D$5:$Q$215,12,0)*$H658","v":5430.0622706306922},{"$f":"VLOOKUP($A658,'8.Non-elective admissions - CCG'!$D$5:$Q$215,13,0)*$H658","v":5424.1385663354586},{"$f":"VLOOKUP($A658,'8.Non-elective admissions - CCG'!$D$5:$Q$215,14,0)*$H658","v":5472.5154847465319}]
["06Y","NHS South Norfolk CCG","E10000029","Suffolk",{"$f":"COUNTIF($D$5:D659,D659)","v":5},"Suffolk5","NHS South Norfolk CCG",1.2715950794419643E-2,3.908618275271886E-3,{"$f":"VLOOKUP($A659,'8.Non-elective admissions - CCG'!$D$5:$N$215,3,0)*$H659","v":66.568002408786825},{"$f":"VLOOKUP($A659,'8.Non-elective admissions - CCG'!$D$5:$N$215,4,0)*$H659","v":67.915893192995313},{"$f":"VLOOKUP($A659,'8.Non-elective admissions - CCG'!$D$5:$N$215,5,0)*$H659","v":67.85231343902322},{"$f":"VLOOKUP($A659,'8.Non-elective admissions - CCG'!$D$5:$N$215,6,0)*$H659","v":69.912297467719199},{"$f":"VLOOKUP($A659,'8.Non-elective admissions - CCG'!$D$5:$N$215,7,0)*$H659","v":70.548095007440182},{"$f":"VLOOKUP($A659,'8.Non-elective admissions - CCG'!$D$5:$N$215,8,0)*$H659","v":70.026741024868969},{"$f":"VLOOKUP($A659,'8.Non-elective admissions - CCG'!$D$5:$N$215,9,0)*$H659","v":69.95044532010246},{"$f":"VLOOKUP($A659,'8.Non-elective admissions - CCG'!$D$5:$N$215,10,0)*$H659","v":70.560810958234597},{"$f":"VLOOKUP($A659,'8.Non-elective admissions - CCG'!$D$5:$Q$215,11,0)*$H659","v":70.484515253468075},{"$f":"VLOOKUP($A659,'8.Non-elective admissions - CCG'!$D$5:$Q$215,12,0)*$H659","v":69.93772936930803},{"$f":"VLOOKUP($A659,'8.Non-elective admissions - CCG'!$D$5:$Q$215,13,0)*$H659","v":69.861433664541522},{"$f":"VLOOKUP($A659,'8.Non-elective admissions - CCG'!$D$5:$Q$215,14,0)*$H659","v":70.484515253468075}]
["10W","NHS South Reading CCG","E06000038","Reading",{"$f":"COUNTIF($D$5:D660,D660)","v":3},"Reading3","NHS South Reading CCG",0.80045981847688874,0.59371168721160916,{"$f":"VLOOKUP($A660,'8.Non-elective admissions - CCG'!$D$5:$N$215,3,0)*$H660","v":1573.7040031255633},{"$f":"VLOOKUP($A660,'8.Non-elective admissions - CCG'!$D$5:$N$215,4,0)*$H660","v":1508.8667578289353},{"$f":"VLOOKUP($A660,'8.Non-elective admissions - CCG'!$D$5:$N$215,5,0)*$H660","v":1686.5688375308046},{"$f":"VLOOKUP($A660,'8.Non-elective admissions - CCG'!$D$5:$N$215,6,0)*$H660","v":1692.9725160786197},{"$f":"VLOOKUP($A660,'8.Non-elective admissions - CCG'!$D$5:$N$215,7,0)*$H660","v":1600.9196369537774},{"$f":"VLOOKUP($A660,'8.Non-elective admissions - CCG'!$D$5:$N$215,8,0)*$H660","v":1556.0938871190717},{"$f":"VLOOKUP($A660,'8.Non-elective admissions - CCG'!$D$5:$N$215,9,0)*$H660","v":1624.9334315080841},{"$f":"VLOOKUP($A660,'8.Non-elective admissions - CCG'!$D$5:$N$215,10,0)*$H660","v":1521.6741149245654},{"$f":"VLOOKUP($A660,'8.Non-elective admissions - CCG'!$D$5:$Q$215,11,0)*$H660","v":1576.9058423994709},{"$f":"VLOOKUP($A660,'8.Non-elective admissions - CCG'!$D$5:$Q$215,12,0)*$H660","v":1562.4975656668869},{"$f":"VLOOKUP($A660,'8.Non-elective admissions - CCG'!$D$5:$Q$215,13,0)*$H660","v":1631.3371100558993},{"$f":"VLOOKUP($A660,'8.Non-elective admissions - CCG'!$D$5:$Q$215,14,0)*$H660","v":1558.4952665745025}]
["10W","NHS South Reading CCG","E06000037","West Berkshire",{"$f":"COUNTIF($D$5:D661,D661)","v":5},"West Berkshire5","NHS South Reading CCG",9.3601610867343865E-2,7.6295579535293909E-2,{"$f":"VLOOKUP($A661,'8.Non-elective admissions - CCG'!$D$5:$N$215,3,0)*$H661","v":184.02076696519805},{"$f":"VLOOKUP($A661,'8.Non-elective admissions - CCG'!$D$5:$N$215,4,0)*$H661","v":176.43903648494319},{"$f":"VLOOKUP($A661,'8.Non-elective admissions - CCG'!$D$5:$N$215,5,0)*$H661","v":197.21859409749354},{"$f":"VLOOKUP($A661,'8.Non-elective admissions - CCG'!$D$5:$N$215,6,0)*$H661","v":197.96740698443227},{"$f":"VLOOKUP($A661,'8.Non-elective admissions - CCG'!$D$5:$N$215,7,0)*$H661","v":187.20322173468773},{"$f":"VLOOKUP($A661,'8.Non-elective admissions - CCG'!$D$5:$N$215,8,0)*$H661","v":181.96153152611646},{"$f":"VLOOKUP($A661,'8.Non-elective admissions - CCG'!$D$5:$N$215,9,0)*$H661","v":190.01127006070806},{"$f":"VLOOKUP($A661,'8.Non-elective admissions - CCG'!$D$5:$N$215,10,0)*$H661","v":177.93666225882069},{"$f":"VLOOKUP($A661,'8.Non-elective admissions - CCG'!$D$5:$Q$215,11,0)*$H661","v":184.3951734086674},{"$f":"VLOOKUP($A661,'8.Non-elective admissions - CCG'!$D$5:$Q$215,12,0)*$H661","v":182.71034441305522},{"$f":"VLOOKUP($A661,'8.Non-elective admissions - CCG'!$D$5:$Q$215,13,0)*$H661","v":190.76008294764679},{"$f":"VLOOKUP($A661,'8.Non-elective admissions - CCG'!$D$5:$Q$215,14,0)*$H661","v":182.24233635871852}]
["10W","NHS South Reading CCG","E06000041","Wokingham",{"$f":"COUNTIF($D$5:D662,D662)","v":4},"Wokingham4","NHS South Reading CCG",0.10593857065576726,8.4455918203544755E-2,{"$f":"VLOOKUP($A662,'8.Non-elective admissions - CCG'!$D$5:$N$215,3,0)*$H662","v":208.27522990923842},{"$f":"VLOOKUP($A662,'8.Non-elective admissions - CCG'!$D$5:$N$215,4,0)*$H662","v":199.69420568612128},{"$f":"VLOOKUP($A662,'8.Non-elective admissions - CCG'!$D$5:$N$215,5,0)*$H662","v":223.21256837170162},{"$f":"VLOOKUP($A662,'8.Non-elective admissions - CCG'!$D$5:$N$215,6,0)*$H662","v":224.06007693694775},{"$f":"VLOOKUP($A662,'8.Non-elective admissions - CCG'!$D$5:$N$215,7,0)*$H662","v":211.8771413115345},{"$f":"VLOOKUP($A662,'8.Non-elective admissions - CCG'!$D$5:$N$215,8,0)*$H662","v":205.94458135481153},{"$f":"VLOOKUP($A662,'8.Non-elective admissions - CCG'!$D$5:$N$215,9,0)*$H662","v":215.05529843120752},{"$f":"VLOOKUP($A662,'8.Non-elective admissions - CCG'!$D$5:$N$215,10,0)*$H662","v":201.38922281661354},{"$f":"VLOOKUP($A662,'8.Non-elective admissions - CCG'!$D$5:$Q$215,11,0)*$H662","v":208.69898419186148},{"$f":"VLOOKUP($A662,'8.Non-elective admissions - CCG'!$D$5:$Q$215,12,0)*$H662","v":206.79208992005769},{"$f":"VLOOKUP($A662,'8.Non-elective admissions - CCG'!$D$5:$Q$215,13,0)*$H662","v":215.90280699645368},{"$f":"VLOOKUP($A662,'8.Non-elective admissions - CCG'!$D$5:$Q$215,14,0)*$H662","v":206.26239706677885}]
["01T","NHS South Sefton CCG","E08000011","Knowsley",{"$f":"COUNTIF($D$5:D663,D663)","v":4},"Knowsley4","NHS South Sefton CCG",1.3443987693580494E-3,1.3090487998288168E-3,{"$f":"VLOOKUP($A663,'8.Non-elective admissions - CCG'!$D$5:$N$215,3,0)*$H663","v":5.3023087463481469},{"$f":"VLOOKUP($A663,'8.Non-elective admissions - CCG'!$D$5:$N$215,4,0)*$H663","v":5.4636365986711128},{"$f":"VLOOKUP($A663,'8.Non-elective admissions - CCG'!$D$5:$N$215,5,0)*$H663","v":5.7002507820781299},{"$f":"VLOOKUP($A663,'8.Non-elective admissions - CCG'!$D$5:$N$215,6,0)*$H663","v":5.5940432792988437},{"$f":"VLOOKUP($A663,'8.Non-elective admissions - CCG'!$D$5:$N$215,7,0)*$H663","v":5.4582590035936809},{"$f":"VLOOKUP($A663,'8.Non-elective admissions - CCG'!$D$5:$N$215,8,0)*$H663","v":5.4717029912872608},{"$f":"VLOOKUP($A663,'8.Non-elective admissions - CCG'!$D$5:$N$215,9,0)*$H663","v":5.3923834638951362},{"$f":"VLOOKUP($A663,'8.Non-elective admissions - CCG'!$D$5:$N$215,10,0)*$H663","v":5.4246490343597289},{"$f":"VLOOKUP($A663,'8.Non-elective admissions - CCG'!$D$5:$Q$215,11,0)*$H663","v":5.4044830528193586},{"$f":"VLOOKUP($A663,'8.Non-elective admissions - CCG'!$D$5:$Q$215,12,0)*$H663","v":5.4152382429742234},{"$f":"VLOOKUP($A663,'8.Non-elective admissions - CCG'!$D$5:$Q$215,13,0)*$H663","v":5.3386075131208139},{"$f":"VLOOKUP($A663,'8.Non-elective admissions - CCG'!$D$5:$Q$215,14,0)*$H663","v":5.3749062798934819}]
["01T","NHS South Sefton CCG","E10000017","Lancashire",{"$f":"COUNTIF($D$5:D664,D664)","v":13},"Lancashire13","NHS South Sefton CCG",4.951007006385893E-3,0,{"$f":"VLOOKUP($A664,'8.Non-elective admissions - CCG'!$D$5:$N$215,3,0)*$H664","v":19.526771633185962},{"$f":"VLOOKUP($A664,'8.Non-elective admissions - CCG'!$D$5:$N$215,4,0)*$H664","v":20.120892473952271},{"$f":"VLOOKUP($A664,'8.Non-elective admissions - CCG'!$D$5:$N$215,5,0)*$H664","v":20.992269707076186},{"$f":"VLOOKUP($A664,'8.Non-elective admissions - CCG'!$D$5:$N$215,6,0)*$H664","v":20.601140153571702},{"$f":"VLOOKUP($A664,'8.Non-elective admissions - CCG'!$D$5:$N$215,7,0)*$H664","v":20.101088445926724},{"$f":"VLOOKUP($A664,'8.Non-elective admissions - CCG'!$D$5:$N$215,8,0)*$H664","v":20.150598515990584},{"$f":"VLOOKUP($A664,'8.Non-elective admissions - CCG'!$D$5:$N$215,9,0)*$H664","v":19.858489102613817},{"$f":"VLOOKUP($A664,'8.Non-elective admissions - CCG'!$D$5:$N$215,10,0)*$H664","v":19.977313270767077},{"$f":"VLOOKUP($A664,'8.Non-elective admissions - CCG'!$D$5:$Q$215,11,0)*$H664","v":19.90304816567129},{"$f":"VLOOKUP($A664,'8.Non-elective admissions - CCG'!$D$5:$Q$215,12,0)*$H664","v":19.942656221722377},{"$f":"VLOOKUP($A664,'8.Non-elective admissions - CCG'!$D$5:$Q$215,13,0)*$H664","v":19.660448822358383},{"$f":"VLOOKUP($A664,'8.Non-elective admissions - CCG'!$D$5:$Q$215,14,0)*$H664","v":19.7941260115308}]
["01T","NHS South Sefton CCG","E08000012","Liverpool",{"$f":"COUNTIF($D$5:D665,D665)","v":3},"Liverpool3","NHS South Sefton CCG",3.245301067762868E-2,1.0278529521345196E-2,{"$f":"VLOOKUP($A665,'8.Non-elective admissions - CCG'!$D$5:$N$215,3,0)*$H665","v":127.99467411256751},{"$f":"VLOOKUP($A665,'8.Non-elective admissions - CCG'!$D$5:$N$215,4,0)*$H665","v":131.88903539388295},{"$f":"VLOOKUP($A665,'8.Non-elective admissions - CCG'!$D$5:$N$215,5,0)*$H665","v":137.60076527314561},{"$f":"VLOOKUP($A665,'8.Non-elective admissions - CCG'!$D$5:$N$215,6,0)*$H665","v":135.03697742961293},{"$f":"VLOOKUP($A665,'8.Non-elective admissions - CCG'!$D$5:$N$215,7,0)*$H665","v":131.75922335117244},{"$f":"VLOOKUP($A665,'8.Non-elective admissions - CCG'!$D$5:$N$215,8,0)*$H665","v":132.08375345794872},{"$f":"VLOOKUP($A665,'8.Non-elective admissions - CCG'!$D$5:$N$215,9,0)*$H665","v":130.16902582796862},{"$f":"VLOOKUP($A665,'8.Non-elective admissions - CCG'!$D$5:$N$215,10,0)*$H665","v":130.94789808423172},{"$f":"VLOOKUP($A665,'8.Non-elective admissions - CCG'!$D$5:$Q$215,11,0)*$H665","v":130.46110292406729},{"$f":"VLOOKUP($A665,'8.Non-elective admissions - CCG'!$D$5:$Q$215,12,0)*$H665","v":130.72072700948831},{"$f":"VLOOKUP($A665,'8.Non-elective admissions - CCG'!$D$5:$Q$215,13,0)*$H665","v":128.87090540086348},{"$f":"VLOOKUP($A665,'8.Non-elective admissions - CCG'!$D$5:$Q$215,14,0)*$H665","v":129.74713668915948}]
["01T","NHS South Sefton CCG","E08000014","Sefton",{"$f":"COUNTIF($D$5:D666,D666)","v":3},"Sefton3","NHS South Sefton CCG",0.96125158354662732,0.52129762697605941,{"$f":"VLOOKUP($A666,'8.Non-elective admissions - CCG'!$D$5:$N$215,3,0)*$H666","v":3791.1762455078983},{"$f":"VLOOKUP($A666,'8.Non-elective admissions - CCG'!$D$5:$N$215,4,0)*$H666","v":3906.5264355334934},{"$f":"VLOOKUP($A666,'8.Non-elective admissions - CCG'!$D$5:$N$215,5,0)*$H666","v":4075.7067142377},{"$f":"VLOOKUP($A666,'8.Non-elective admissions - CCG'!$D$5:$N$215,6,0)*$H666","v":3999.7678391375161},{"$f":"VLOOKUP($A666,'8.Non-elective admissions - CCG'!$D$5:$N$215,7,0)*$H666","v":3902.6814291993069},{"$f":"VLOOKUP($A666,'8.Non-elective admissions - CCG'!$D$5:$N$215,8,0)*$H666","v":3912.2939450347731},{"$f":"VLOOKUP($A666,'8.Non-elective admissions - CCG'!$D$5:$N$215,9,0)*$H666","v":3855.580101605522},{"$f":"VLOOKUP($A666,'8.Non-elective admissions - CCG'!$D$5:$N$215,10,0)*$H666","v":3878.6501396106414},{"$f":"VLOOKUP($A666,'8.Non-elective admissions - CCG'!$D$5:$Q$215,11,0)*$H666","v":3864.2313658574417},{"$f":"VLOOKUP($A666,'8.Non-elective admissions - CCG'!$D$5:$Q$215,12,0)*$H666","v":3871.9213785258148},{"$f":"VLOOKUP($A666,'8.Non-elective admissions - CCG'!$D$5:$Q$215,13,0)*$H666","v":3817.1300382636573},{"$f":"VLOOKUP($A666,'8.Non-elective admissions - CCG'!$D$5:$Q$215,14,0)*$H666","v":3843.0838310194158}]
["00M","NHS South Tees CCG","E06000002","Middlesbrough",{"$f":"COUNTIF($D$5:D667,D667)","v":3},"Middlesbrough3","NHS South Tees CCG",0.51803820177652338,0.99598634830310995,{"$f":"VLOOKUP($A667,'8.Non-elective admissions - CCG'!$D$5:$N$215,3,0)*$H667","v":4733.3150496320941},{"$f":"VLOOKUP($A667,'8.Non-elective admissions - CCG'!$D$5:$N$215,4,0)*$H667","v":4615.202339627047},{"$f":"VLOOKUP($A667,'8.Non-elective admissions - CCG'!$D$5:$N$215,5,0)*$H667","v":4859.1983326637892},{"$f":"VLOOKUP($A667,'8.Non-elective admissions - CCG'!$D$5:$N$215,6,0)*$H667","v":4490.355132998905},{"$f":"VLOOKUP($A667,'8.Non-elective admissions - CCG'!$D$5:$N$215,7,0)*$H667","v":4591.890620547103},{"$f":"VLOOKUP($A667,'8.Non-elective admissions - CCG'!$D$5:$N$215,8,0)*$H667","v":4537.4966093605681},{"$f":"VLOOKUP($A667,'8.Non-elective admissions - CCG'!$D$5:$N$215,9,0)*$H667","v":4676.3308474366768},{"$f":"VLOOKUP($A667,'8.Non-elective admissions - CCG'!$D$5:$N$215,10,0)*$H667","v":4675.8128092348998},{"$f":"VLOOKUP($A667,'8.Non-elective admissions - CCG'!$D$5:$Q$215,11,0)*$H667","v":4041.7340502604352},{"$f":"VLOOKUP($A667,'8.Non-elective admissions - CCG'!$D$5:$Q$215,12,0)*$H667","v":3994.0745356969951},{"$f":"VLOOKUP($A667,'8.Non-elective admissions - CCG'!$D$5:$Q$215,13,0)*$H667","v":4115.295474912702},{"$f":"VLOOKUP($A667,'8.Non-elective admissions - CCG'!$D$5:$Q$215,14,0)*$H667","v":4113.7413603073719}]
["00M","NHS South Tees CCG","E06000003","Redcar and Cleveland",{"$f":"COUNTIF($D$5:D668,D668)","v":2},"Redcar and Cleveland2","NHS South Tees CCG",0.4791703148230172,0.99036987623481332,{"$f":"VLOOKUP($A668,'8.Non-elective admissions - CCG'!$D$5:$N$215,3,0)*$H668","v":4378.1791665379078},{"$f":"VLOOKUP($A668,'8.Non-elective admissions - CCG'!$D$5:$N$215,4,0)*$H668","v":4268.9283347582605},{"$f":"VLOOKUP($A668,'8.Non-elective admissions - CCG'!$D$5:$N$215,5,0)*$H668","v":4494.6175530399014},{"$f":"VLOOKUP($A668,'8.Non-elective admissions - CCG'!$D$5:$N$215,6,0)*$H668","v":4153.4482888859129},{"$f":"VLOOKUP($A668,'8.Non-elective admissions - CCG'!$D$5:$N$215,7,0)*$H668","v":4247.3656705912244},{"$f":"VLOOKUP($A668,'8.Non-elective admissions - CCG'!$D$5:$N$215,8,0)*$H668","v":4197.052787534808},{"$f":"VLOOKUP($A668,'8.Non-elective admissions - CCG'!$D$5:$N$215,9,0)*$H668","v":4325.4704319073762},{"$f":"VLOOKUP($A668,'8.Non-elective admissions - CCG'!$D$5:$N$215,10,0)*$H668","v":4324.9912615925532},{"$f":"VLOOKUP($A668,'8.Non-elective admissions - CCG'!$D$5:$Q$215,11,0)*$H668","v":3738.4867962491803},{"$f":"VLOOKUP($A668,'8.Non-elective admissions - CCG'!$D$5:$Q$215,12,0)*$H668","v":3694.4031272854627},{"$f":"VLOOKUP($A668,'8.Non-elective admissions - CCG'!$D$5:$Q$215,13,0)*$H668","v":3806.5289809540486},{"$f":"VLOOKUP($A668,'8.Non-elective admissions - CCG'!$D$5:$Q$215,14,0)*$H668","v":3805.0914700095796}]
["00M","NHS South Tees CCG","E06000004","Stockton-on-Tees",{"$f":"COUNTIF($D$5:D669,D669)","v":5},"Stockton-on-Tees5","NHS South Tees CCG",2.7914834004594104E-3,4.1113763249453839E-3,{"$f":"VLOOKUP($A669,'8.Non-elective admissions - CCG'!$D$5:$N$215,3,0)*$H669","v":25.505783829997632},{"$f":"VLOOKUP($A669,'8.Non-elective admissions - CCG'!$D$5:$N$215,4,0)*$H669","v":24.869325614692887},{"$f":"VLOOKUP($A669,'8.Non-elective admissions - CCG'!$D$5:$N$215,5,0)*$H669","v":26.184114296309268},{"$f":"VLOOKUP($A669,'8.Non-elective admissions - CCG'!$D$5:$N$215,6,0)*$H669","v":24.19657811518217},{"$f":"VLOOKUP($A669,'8.Non-elective admissions - CCG'!$D$5:$N$215,7,0)*$H669","v":24.743708861672214},{"$f":"VLOOKUP($A669,'8.Non-elective admissions - CCG'!$D$5:$N$215,8,0)*$H669","v":24.450603104623976},{"$f":"VLOOKUP($A669,'8.Non-elective admissions - CCG'!$D$5:$N$215,9,0)*$H669","v":25.198720655947099},{"$f":"VLOOKUP($A669,'8.Non-elective admissions - CCG'!$D$5:$N$215,10,0)*$H669","v":25.195929172546638},{"$f":"VLOOKUP($A669,'8.Non-elective admissions - CCG'!$D$5:$Q$215,11,0)*$H669","v":21.779153490384321},{"$f":"VLOOKUP($A669,'8.Non-elective admissions - CCG'!$D$5:$Q$215,12,0)*$H669","v":21.522337017542053},{"$f":"VLOOKUP($A669,'8.Non-elective admissions - CCG'!$D$5:$Q$215,13,0)*$H669","v":22.175544133249556},{"$f":"VLOOKUP($A669,'8.Non-elective admissions - CCG'!$D$5:$Q$215,14,0)*$H669","v":22.167169683048179}]
["00N","NHS South Tyneside CCG","E08000020","Gateshead",{"$f":"COUNTIF($D$5:D670,D670)","v":4},"Gateshead4","NHS South Tyneside CCG",3.2817597467618463E-3,2.500652237050018E-3,{"$f":"VLOOKUP($A670,'8.Non-elective admissions - CCG'!$D$5:$N$215,3,0)*$H670","v":13.937633644497561},{"$f":"VLOOKUP($A670,'8.Non-elective admissions - CCG'!$D$5:$N$215,4,0)*$H670","v":13.563513033366711},{"$f":"VLOOKUP($A670,'8.Non-elective admissions - CCG'!$D$5:$N$215,5,0)*$H670","v":14.009832358926323},{"$f":"VLOOKUP($A670,'8.Non-elective admissions - CCG'!$D$5:$N$215,6,0)*$H670","v":13.72103750121128},{"$f":"VLOOKUP($A670,'8.Non-elective admissions - CCG'!$D$5:$N$215,7,0)*$H670","v":13.576640072353758},{"$f":"VLOOKUP($A670,'8.Non-elective admissions - CCG'!$D$5:$N$215,8,0)*$H670","v":13.146729545527956},{"$f":"VLOOKUP($A670,'8.Non-elective admissions - CCG'!$D$5:$N$215,9,0)*$H670","v":13.228773539197002},{"$f":"VLOOKUP($A670,'8.Non-elective admissions - CCG'!$D$5:$N$215,10,0)*$H670","v":13.520850156658806},{"$f":"VLOOKUP($A670,'8.Non-elective admissions - CCG'!$D$5:$Q$215,11,0)*$H670","v":13.300972253625764},{"$f":"VLOOKUP($A670,'8.Non-elective admissions - CCG'!$D$5:$Q$215,12,0)*$H670","v":12.884188765787009},{"$f":"VLOOKUP($A670,'8.Non-elective admissions - CCG'!$D$5:$Q$215,13,0)*$H670","v":12.969514519202816},{"$f":"VLOOKUP($A670,'8.Non-elective admissions - CCG'!$D$5:$Q$215,14,0)*$H670","v":13.251745857424336}]
["00N","NHS South Tyneside CCG","E08000023","South Tyneside",{"$f":"COUNTIF($D$5:D671,D671)","v":2},"South Tyneside2","NHS South Tyneside CCG",0.99245453664524053,0.99228145870741868,{"$f":"VLOOKUP($A671,'8.Non-elective admissions - CCG'!$D$5:$N$215,3,0)*$H671","v":4214.9544171323369},{"$f":"VLOOKUP($A671,'8.Non-elective admissions - CCG'!$D$5:$N$215,4,0)*$H671","v":4101.8145999547787},{"$f":"VLOOKUP($A671,'8.Non-elective admissions - CCG'!$D$5:$N$215,5,0)*$H671","v":4236.7884169385316},{"$f":"VLOOKUP($A671,'8.Non-elective admissions - CCG'!$D$5:$N$215,6,0)*$H671","v":4149.4524177137509},{"$f":"VLOOKUP($A671,'8.Non-elective admissions - CCG'!$D$5:$N$215,7,0)*$H671","v":4105.7844181013597},{"$f":"VLOOKUP($A671,'8.Non-elective admissions - CCG'!$D$5:$N$215,8,0)*$H671","v":3975.7728738008336},{"$f":"VLOOKUP($A671,'8.Non-elective admissions - CCG'!$D$5:$N$215,9,0)*$H671","v":4000.5842372169645},{"$f":"VLOOKUP($A671,'8.Non-elective admissions - CCG'!$D$5:$N$215,10,0)*$H671","v":4088.9126909783909},{"$f":"VLOOKUP($A671,'8.Non-elective admissions - CCG'!$D$5:$Q$215,11,0)*$H671","v":4022.4182370231597},{"$f":"VLOOKUP($A671,'8.Non-elective admissions - CCG'!$D$5:$Q$215,12,0)*$H671","v":3896.3765108692141},{"$f":"VLOOKUP($A671,'8.Non-elective admissions - CCG'!$D$5:$Q$215,13,0)*$H671","v":3922.1803288219908},{"$f":"VLOOKUP($A671,'8.Non-elective admissions - CCG'!$D$5:$Q$215,14,0)*$H671","v":4007.5314189734813}]
["00N","NHS South Tyneside CCG","E08000024","Sunderland",{"$f":"COUNTIF($D$5:D672,D672)","v":4},"Sunderland4","NHS South Tyneside CCG",4.2637036079976745E-3,2.2772048345748698E-3,{"$f":"VLOOKUP($A672,'8.Non-elective admissions - CCG'!$D$5:$N$215,3,0)*$H672","v":18.107949223166123},{"$f":"VLOOKUP($A672,'8.Non-elective admissions - CCG'!$D$5:$N$215,4,0)*$H672","v":17.62188701185439},{"$f":"VLOOKUP($A672,'8.Non-elective admissions - CCG'!$D$5:$N$215,5,0)*$H672","v":18.201750702542071},{"$f":"VLOOKUP($A672,'8.Non-elective admissions - CCG'!$D$5:$N$215,6,0)*$H672","v":17.826544785038276},{"$f":"VLOOKUP($A672,'8.Non-elective admissions - CCG'!$D$5:$N$215,7,0)*$H672","v":17.638941826286381},{"$f":"VLOOKUP($A672,'8.Non-elective admissions - CCG'!$D$5:$N$215,8,0)*$H672","v":17.080396653638683},{"$f":"VLOOKUP($A672,'8.Non-elective admissions - CCG'!$D$5:$N$215,9,0)*$H672","v":17.186989243838624},{"$f":"VLOOKUP($A672,'8.Non-elective admissions - CCG'!$D$5:$N$215,10,0)*$H672","v":17.56645886495042},{"$f":"VLOOKUP($A672,'8.Non-elective admissions - CCG'!$D$5:$Q$215,11,0)*$H672","v":17.280790723214576},{"$f":"VLOOKUP($A672,'8.Non-elective admissions - CCG'!$D$5:$Q$215,12,0)*$H672","v":16.739300364998869},{"$f":"VLOOKUP($A672,'8.Non-elective admissions - CCG'!$D$5:$Q$215,13,0)*$H672","v":16.85015665880681},{"$f":"VLOOKUP($A672,'8.Non-elective admissions - CCG'!$D$5:$Q$215,14,0)*$H672","v":17.216835169094608}]
["05R","NHS South Warwickshire CCG","E10000013","Gloucestershire",{"$f":"COUNTIF($D$5:D673,D673)","v":5},"Gloucestershire5","NHS South Warwickshire CCG",5.5972131153546063E-3,2.4656017891749107E-3,{"$f":"VLOOKUP($A673,'8.Non-elective admissions - CCG'!$D$5:$N$215,3,0)*$H673","v":32.799668855977991},{"$f":"VLOOKUP($A673,'8.Non-elective admissions - CCG'!$D$5:$N$215,4,0)*$H673","v":33.26983475766778},{"$f":"VLOOKUP($A673,'8.Non-elective admissions - CCG'!$D$5:$N$215,5,0)*$H673","v":35.402372954617881},{"$f":"VLOOKUP($A673,'8.Non-elective admissions - CCG'!$D$5:$N$215,6,0)*$H673","v":33.392973446205581},{"$f":"VLOOKUP($A673,'8.Non-elective admissions - CCG'!$D$5:$N$215,7,0)*$H673","v":33.717335779211922},{"$f":"VLOOKUP($A673,'8.Non-elective admissions - CCG'!$D$5:$N$215,8,0)*$H673","v":34.087855952707656},{"$f":"VLOOKUP($A673,'8.Non-elective admissions - CCG'!$D$5:$N$215,9,0)*$H673","v":34.087855952707656},{"$f":"VLOOKUP($A673,'8.Non-elective admissions - CCG'!$D$5:$N$215,10,0)*$H673","v":33.346815606331894},{"$f":"VLOOKUP($A673,'8.Non-elective admissions - CCG'!$D$5:$Q$215,11,0)*$H673","v":33.625211911032444},{"$f":"VLOOKUP($A673,'8.Non-elective admissions - CCG'!$D$5:$Q$215,12,0)*$H673","v":33.99471973439114},{"$f":"VLOOKUP($A673,'8.Non-elective admissions - CCG'!$D$5:$Q$215,13,0)*$H673","v":33.99471973439114},{"$f":"VLOOKUP($A673,'8.Non-elective admissions - CCG'!$D$5:$Q$215,14,0)*$H673","v":33.625211911536198}]
["05R","NHS South Warwickshire CCG","E10000025","Oxfordshire",{"$f":"COUNTIF($D$5:D674,D674)","v":7},"Oxfordshire7","NHS South Warwickshire CCG",6.8206877099412809E-3,2.6317500431086872E-3,{"$f":"VLOOKUP($A674,'8.Non-elective admissions - CCG'!$D$5:$N$215,3,0)*$H674","v":39.969229980255903},{"$f":"VLOOKUP($A674,'8.Non-elective admissions - CCG'!$D$5:$N$215,4,0)*$H674","v":40.542167747890971},{"$f":"VLOOKUP($A674,'8.Non-elective admissions - CCG'!$D$5:$N$215,5,0)*$H674","v":43.140849765378604},{"$f":"VLOOKUP($A674,'8.Non-elective admissions - CCG'!$D$5:$N$215,6,0)*$H674","v":40.692222877509678},{"$f":"VLOOKUP($A674,'8.Non-elective admissions - CCG'!$D$5:$N$215,7,0)*$H674","v":41.087486401107725},{"$f":"VLOOKUP($A674,'8.Non-elective admissions - CCG'!$D$5:$N$215,8,0)*$H674","v":41.53899724079951},{"$f":"VLOOKUP($A674,'8.Non-elective admissions - CCG'!$D$5:$N$215,9,0)*$H674","v":41.53899724079951},{"$f":"VLOOKUP($A674,'8.Non-elective admissions - CCG'!$D$5:$N$215,10,0)*$H674","v":40.635975562166216},{"$f":"VLOOKUP($A674,'8.Non-elective admissions - CCG'!$D$5:$Q$215,11,0)*$H674","v":40.975225509386398},{"$f":"VLOOKUP($A674,'8.Non-elective admissions - CCG'!$D$5:$Q$215,12,0)*$H674","v":41.425502712981874},{"$f":"VLOOKUP($A674,'8.Non-elective admissions - CCG'!$D$5:$Q$215,13,0)*$H674","v":41.425502712981874},{"$f":"VLOOKUP($A674,'8.Non-elective admissions - CCG'!$D$5:$Q$215,14,0)*$H674","v":40.975225510000264}]
["05R","NHS South Warwickshire CCG","E08000029","Solihull",{"$f":"COUNTIF($D$5:D675,D675)","v":5},"Solihull5","NHS South Warwickshire CCG",3.8425893704234172E-3,4.7683552129168336E-3,{"$f":"VLOOKUP($A675,'8.Non-elective admissions - CCG'!$D$5:$N$215,3,0)*$H675","v":22.517573710681226},{"$f":"VLOOKUP($A675,'8.Non-elective admissions - CCG'!$D$5:$N$215,4,0)*$H675","v":22.84035121779679},{"$f":"VLOOKUP($A675,'8.Non-elective admissions - CCG'!$D$5:$N$215,5,0)*$H675","v":24.304377767928113},{"$f":"VLOOKUP($A675,'8.Non-elective admissions - CCG'!$D$5:$N$215,6,0)*$H675","v":22.924888183946106},{"$f":"VLOOKUP($A675,'8.Non-elective admissions - CCG'!$D$5:$N$215,7,0)*$H675","v":23.147568869367344},{"$f":"VLOOKUP($A675,'8.Non-elective admissions - CCG'!$D$5:$N$215,8,0)*$H675","v":23.401937758108854},{"$f":"VLOOKUP($A675,'8.Non-elective admissions - CCG'!$D$5:$N$215,9,0)*$H675","v":23.401937758108854},{"$f":"VLOOKUP($A675,'8.Non-elective admissions - CCG'!$D$5:$N$215,10,0)*$H675","v":22.893199981048529},{"$f":"VLOOKUP($A675,'8.Non-elective admissions - CCG'!$D$5:$Q$215,11,0)*$H675","v":23.084324145728424},{"$f":"VLOOKUP($A675,'8.Non-elective admissions - CCG'!$D$5:$Q$215,12,0)*$H675","v":23.337998037549937},{"$f":"VLOOKUP($A675,'8.Non-elective admissions - CCG'!$D$5:$Q$215,13,0)*$H675","v":23.337998037549937},{"$f":"VLOOKUP($A675,'8.Non-elective admissions - CCG'!$D$5:$Q$215,14,0)*$H675","v":23.084324146074259}]
["05R","NHS South Warwickshire CCG","E10000031","Warwickshire",{"$f":"COUNTIF($D$5:D676,D676)","v":9},"Warwickshire9","NHS South Warwickshire CCG",0.96062902711791143,0.45643706008897433,{"$f":"VLOOKUP($A676,'8.Non-elective admissions - CCG'!$D$5:$N$215,3,0)*$H676","v":5629.2860989109613},{"$f":"VLOOKUP($A676,'8.Non-elective admissions - CCG'!$D$5:$N$215,4,0)*$H676","v":5709.9789371888655},{"$f":"VLOOKUP($A676,'8.Non-elective admissions - CCG'!$D$5:$N$215,5,0)*$H676","v":6075.9785965207893},{"$f":"VLOOKUP($A676,'8.Non-elective admissions - CCG'!$D$5:$N$215,6,0)*$H676","v":5731.1127757854592},{"$f":"VLOOKUP($A676,'8.Non-elective admissions - CCG'!$D$5:$N$215,7,0)*$H676","v":5786.7818857457005},{"$f":"VLOOKUP($A676,'8.Non-elective admissions - CCG'!$D$5:$N$215,8,0)*$H676","v":5850.3728954959552},{"$f":"VLOOKUP($A676,'8.Non-elective admissions - CCG'!$D$5:$N$215,9,0)*$H676","v":5850.3728954959552},{"$f":"VLOOKUP($A676,'8.Non-elective admissions - CCG'!$D$5:$N$215,10,0)*$H676","v":5723.1908761011164},{"$f":"VLOOKUP($A676,'8.Non-elective admissions - CCG'!$D$5:$Q$215,11,0)*$H676","v":5770.9710062884187},{"$f":"VLOOKUP($A676,'8.Non-elective admissions - CCG'!$D$5:$Q$215,12,0)*$H676","v":5834.3882701213379},{"$f":"VLOOKUP($A676,'8.Non-elective admissions - CCG'!$D$5:$Q$215,13,0)*$H676","v":5834.3882701213379},{"$f":"VLOOKUP($A676,'8.Non-elective admissions - CCG'!$D$5:$Q$215,14,0)*$H676","v":5770.9710063748753}]
["05R","NHS South Warwickshire CCG","E10000034","Worcestershire",{"$f":"COUNTIF($D$5:D677,D677)","v":9},"Worcestershire9","NHS South Warwickshire CCG",2.3110482686369248E-2,1.0699966758702096E-2,{"$f":"VLOOKUP($A677,'8.Non-elective admissions - CCG'!$D$5:$N$215,3,0)*$H677","v":135.42742854212381},{"$f":"VLOOKUP($A677,'8.Non-elective admissions - CCG'!$D$5:$N$215,4,0)*$H677","v":137.3687090877788},{"$f":"VLOOKUP($A677,'8.Non-elective admissions - CCG'!$D$5:$N$215,5,0)*$H677","v":146.1738029912855},{"$f":"VLOOKUP($A677,'8.Non-elective admissions - CCG'!$D$5:$N$215,6,0)*$H677","v":137.87713970687892},{"$f":"VLOOKUP($A677,'8.Non-elective admissions - CCG'!$D$5:$N$215,7,0)*$H677","v":139.21640800461259},{"$f":"VLOOKUP($A677,'8.Non-elective admissions - CCG'!$D$5:$N$215,8,0)*$H677","v":140.74625864242972},{"$f":"VLOOKUP($A677,'8.Non-elective admissions - CCG'!$D$5:$N$215,9,0)*$H677","v":140.74625864242972},{"$f":"VLOOKUP($A677,'8.Non-elective admissions - CCG'!$D$5:$N$215,10,0)*$H677","v":137.68655736933763},{"$f":"VLOOKUP($A677,'8.Non-elective admissions - CCG'!$D$5:$Q$215,11,0)*$H677","v":138.83603530543436},{"$f":"VLOOKUP($A677,'8.Non-elective admissions - CCG'!$D$5:$Q$215,12,0)*$H677","v":140.36170602373934},{"$f":"VLOOKUP($A677,'8.Non-elective admissions - CCG'!$D$5:$Q$215,13,0)*$H677","v":140.36170602373934},{"$f":"VLOOKUP($A677,'8.Non-elective admissions - CCG'!$D$5:$Q$215,14,0)*$H677","v":138.83603530751432}]
["04Q","NHS South West Lincolnshire CCG","E10000018","Leicestershire",{"$f":"COUNTIF($D$5:D678,D678)","v":5},"Leicestershire5","NHS South West Lincolnshire CCG",5.7482769686874415E-2,1.1045529959329897E-2,{"$f":"VLOOKUP($A678,'8.Non-elective admissions - CCG'!$D$5:$N$215,3,0)*$H678","v":179.2887586533613},{"$f":"VLOOKUP($A678,'8.Non-elective admissions - CCG'!$D$5:$N$215,4,0)*$H678","v":174.34524046029009},{"$f":"VLOOKUP($A678,'8.Non-elective admissions - CCG'!$D$5:$N$215,5,0)*$H678","v":176.29965462964384},{"$f":"VLOOKUP($A678,'8.Non-elective admissions - CCG'!$D$5:$N$215,6,0)*$H678","v":163.48099698947084},{"$f":"VLOOKUP($A678,'8.Non-elective admissions - CCG'!$D$5:$N$215,7,0)*$H678","v":171.15266754544709},{"$f":"VLOOKUP($A678,'8.Non-elective admissions - CCG'!$D$5:$N$215,8,0)*$H678","v":170.70310155254813},{"$f":"VLOOKUP($A678,'8.Non-elective admissions - CCG'!$D$5:$N$215,9,0)*$H678","v":173.20030779808343},{"$f":"VLOOKUP($A678,'8.Non-elective admissions - CCG'!$D$5:$N$215,10,0)*$H678","v":168.27112867909398},{"$f":"VLOOKUP($A678,'8.Non-elective admissions - CCG'!$D$5:$Q$215,11,0)*$H678","v":164.70449060124889},{"$f":"VLOOKUP($A678,'8.Non-elective admissions - CCG'!$D$5:$Q$215,12,0)*$H678","v":164.30289001420473},{"$f":"VLOOKUP($A678,'8.Non-elective admissions - CCG'!$D$5:$Q$215,13,0)*$H678","v":166.66846701399214},{"$f":"VLOOKUP($A678,'8.Non-elective admissions - CCG'!$D$5:$Q$215,14,0)*$H678","v":161.93947047462919}]
["04Q","NHS South West Lincolnshire CCG","E10000019","Lincolnshire",{"$f":"COUNTIF($D$5:D679,D679)","v":9},"Lincolnshire9","NHS South West Lincolnshire CCG",0.93130033467304452,0.16260259133163277,{"$f":"VLOOKUP($A679,'8.Non-elective admissions - CCG'!$D$5:$N$215,3,0)*$H679","v":2904.7257438452257},{"$f":"VLOOKUP($A679,'8.Non-elective admissions - CCG'!$D$5:$N$215,4,0)*$H679","v":2824.6339150633439},{"$f":"VLOOKUP($A679,'8.Non-elective admissions - CCG'!$D$5:$N$215,5,0)*$H679","v":2856.2981264422274},{"$f":"VLOOKUP($A679,'8.Non-elective admissions - CCG'!$D$5:$N$215,6,0)*$H679","v":2648.6181518101384},{"$f":"VLOOKUP($A679,'8.Non-elective admissions - CCG'!$D$5:$N$215,7,0)*$H679","v":2772.9098203431781},{"$f":"VLOOKUP($A679,'8.Non-elective admissions - CCG'!$D$5:$N$215,8,0)*$H679","v":2765.6262297659473},{"$f":"VLOOKUP($A679,'8.Non-elective admissions - CCG'!$D$5:$N$215,9,0)*$H679","v":2806.0844231495148},{"$f":"VLOOKUP($A679,'8.Non-elective admissions - CCG'!$D$5:$N$215,10,0)*$H679","v":2726.2249071904839},{"$f":"VLOOKUP($A679,'8.Non-elective admissions - CCG'!$D$5:$Q$215,11,0)*$H679","v":2668.4404397118196},{"$f":"VLOOKUP($A679,'8.Non-elective admissions - CCG'!$D$5:$Q$215,12,0)*$H679","v":2661.9339550181198},{"$f":"VLOOKUP($A679,'8.Non-elective admissions - CCG'!$D$5:$Q$215,13,0)*$H679","v":2700.2595726527188},{"$f":"VLOOKUP($A679,'8.Non-elective admissions - CCG'!$D$5:$Q$215,14,0)*$H679","v":2623.6432912214846}]
["04Q","NHS South West Lincolnshire CCG","E10000024","Nottinghamshire",{"$f":"COUNTIF($D$5:D680,D680)","v":13},"Nottinghamshire13","NHS South West Lincolnshire CCG",6.9074071244097394E-3,1.1044445340380276E-3,{"$f":"VLOOKUP($A680,'8.Non-elective admissions - CCG'!$D$5:$N$215,3,0)*$H680","v":21.544202821033977},{"$f":"VLOOKUP($A680,'8.Non-elective admissions - CCG'!$D$5:$N$215,4,0)*$H680","v":20.950165808334738},{"$f":"VLOOKUP($A680,'8.Non-elective admissions - CCG'!$D$5:$N$215,5,0)*$H680","v":21.185017650564671},{"$f":"VLOOKUP($A680,'8.Non-elective admissions - CCG'!$D$5:$N$215,6,0)*$H680","v":19.644665861821299},{"$f":"VLOOKUP($A680,'8.Non-elective admissions - CCG'!$D$5:$N$215,7,0)*$H680","v":20.566530833588221},{"$f":"VLOOKUP($A680,'8.Non-elective admissions - CCG'!$D$5:$N$215,8,0)*$H680","v":20.512508813439254},{"$f":"VLOOKUP($A680,'8.Non-elective admissions - CCG'!$D$5:$N$215,9,0)*$H680","v":20.81258517206798},{"$f":"VLOOKUP($A680,'8.Non-elective admissions - CCG'!$D$5:$N$215,10,0)*$H680","v":20.220271211737465},{"$f":"VLOOKUP($A680,'8.Non-elective admissions - CCG'!$D$5:$Q$215,11,0)*$H680","v":19.791686761069919},{"$f":"VLOOKUP($A680,'8.Non-elective admissions - CCG'!$D$5:$Q$215,12,0)*$H680","v":19.74342849565879},{"$f":"VLOOKUP($A680,'8.Non-elective admissions - CCG'!$D$5:$Q$215,13,0)*$H680","v":20.027687648630717},{"$f":"VLOOKUP($A680,'8.Non-elective admissions - CCG'!$D$5:$Q$215,14,0)*$H680","v":19.459428593521839}]
["04Q","NHS South West Lincolnshire CCG","E06000017","Rutland",{"$f":"COUNTIF($D$5:D681,D681)","v":5},"Rutland5","NHS South West Lincolnshire CCG",4.3094885156715629E-3,1.5418682850816044E-2,{"$f":"VLOOKUP($A681,'8.Non-elective admissions - CCG'!$D$5:$N$215,3,0)*$H681","v":13.441294680379604},{"$f":"VLOOKUP($A681,'8.Non-elective admissions - CCG'!$D$5:$N$215,4,0)*$H681","v":13.070678668031851},{"$f":"VLOOKUP($A681,'8.Non-elective admissions - CCG'!$D$5:$N$215,5,0)*$H681","v":13.217201277564683},{"$f":"VLOOKUP($A681,'8.Non-elective admissions - CCG'!$D$5:$N$215,6,0)*$H681","v":12.256185338569924},{"$f":"VLOOKUP($A681,'8.Non-elective admissions - CCG'!$D$5:$N$215,7,0)*$H681","v":12.83133118378734},{"$f":"VLOOKUP($A681,'8.Non-elective admissions - CCG'!$D$5:$N$215,8,0)*$H681","v":12.797627180066083},{"$f":"VLOOKUP($A681,'8.Non-elective admissions - CCG'!$D$5:$N$215,9,0)*$H681","v":12.984842961334447},{"$f":"VLOOKUP($A681,'8.Non-elective admissions - CCG'!$D$5:$N$215,10,0)*$H681","v":12.615301950685764},{"$f":"VLOOKUP($A681,'8.Non-elective admissions - CCG'!$D$5:$Q$215,11,0)*$H681","v":12.347910766862206},{"$f":"VLOOKUP($A681,'8.Non-elective admissions - CCG'!$D$5:$Q$215,12,0)*$H681","v":12.31780273401721},{"$f":"VLOOKUP($A681,'8.Non-elective admissions - CCG'!$D$5:$Q$215,13,0)*$H681","v":12.495150258658988},{"$f":"VLOOKUP($A681,'8.Non-elective admissions - CCG'!$D$5:$Q$215,14,0)*$H681","v":12.140616954365393}]
["05T","NHS South Worcestershire CCG","E10000013","Gloucestershire",{"$f":"COUNTIF($D$5:D682,D682)","v":6},"Gloucestershire6","NHS South Worcestershire CCG",1.1464098203811449E-2,5.4717641800341122E-3,{"$f":"VLOOKUP($A682,'8.Non-elective admissions - CCG'!$D$5:$N$215,3,0)*$H682","v":71.879895737897783},{"$f":"VLOOKUP($A682,'8.Non-elective admissions - CCG'!$D$5:$N$215,4,0)*$H682","v":70.080032319899388},{"$f":"VLOOKUP($A682,'8.Non-elective admissions - CCG'!$D$5:$N$215,5,0)*$H682","v":77.015811733205311},{"$f":"VLOOKUP($A682,'8.Non-elective admissions - CCG'!$D$5:$N$215,6,0)*$H682","v":72.200890487604511},{"$f":"VLOOKUP($A682,'8.Non-elective admissions - CCG'!$D$5:$N$215,7,0)*$H682","v":69.002407088741109},{"$f":"VLOOKUP($A682,'8.Non-elective admissions - CCG'!$D$5:$N$215,8,0)*$H682","v":67.385969242003696},{"$f":"VLOOKUP($A682,'8.Non-elective admissions - CCG'!$D$5:$N$215,9,0)*$H682","v":73.920505218176231},{"$f":"VLOOKUP($A682,'8.Non-elective admissions - CCG'!$D$5:$N$215,10,0)*$H682","v":67.890389562971407},{"$f":"VLOOKUP($A682,'8.Non-elective admissions - CCG'!$D$5:$Q$215,11,0)*$H682","v":65.620498118616737},{"$f":"VLOOKUP($A682,'8.Non-elective admissions - CCG'!$D$5:$Q$215,12,0)*$H682","v":61.619527845486537},{"$f":"VLOOKUP($A682,'8.Non-elective admissions - CCG'!$D$5:$Q$215,13,0)*$H682","v":70.240529694752752},{"$f":"VLOOKUP($A682,'8.Non-elective admissions - CCG'!$D$5:$Q$215,14,0)*$H682","v":63.167181103001084}]
["05T","NHS South Worcestershire CCG","E06000019","Herefordshire, County of",{"$f":"COUNTIF($D$5:D683,D683)","v":4},"Herefordshire, County of4","NHS South Worcestershire CCG",7.6404783074650179E-3,1.2427756789899424E-2,{"$f":"VLOOKUP($A683,'8.Non-elective admissions - CCG'!$D$5:$N$215,3,0)*$H683","v":47.90579898780566},{"$f":"VLOOKUP($A683,'8.Non-elective admissions - CCG'!$D$5:$N$215,4,0)*$H683","v":46.706243893533653},{"$f":"VLOOKUP($A683,'8.Non-elective admissions - CCG'!$D$5:$N$215,5,0)*$H683","v":51.328733269549993},{"$f":"VLOOKUP($A683,'8.Non-elective admissions - CCG'!$D$5:$N$215,6,0)*$H683","v":48.119732380414682},{"$f":"VLOOKUP($A683,'8.Non-elective admissions - CCG'!$D$5:$N$215,7,0)*$H683","v":45.988038932631945},{"$f":"VLOOKUP($A683,'8.Non-elective admissions - CCG'!$D$5:$N$215,8,0)*$H683","v":44.910731491279378},{"$f":"VLOOKUP($A683,'8.Non-elective admissions - CCG'!$D$5:$N$215,9,0)*$H683","v":49.265804126534434},{"$f":"VLOOKUP($A683,'8.Non-elective admissions - CCG'!$D$5:$N$215,10,0)*$H683","v":45.246912536807834},{"$f":"VLOOKUP($A683,'8.Non-elective admissions - CCG'!$D$5:$Q$215,11,0)*$H683","v":43.734097831929759},{"$f":"VLOOKUP($A683,'8.Non-elective admissions - CCG'!$D$5:$Q$215,12,0)*$H683","v":41.067570902624475},{"$f":"VLOOKUP($A683,'8.Non-elective admissions - CCG'!$D$5:$Q$215,13,0)*$H683","v":46.813210589838164},{"$f":"VLOOKUP($A683,'8.Non-elective admissions - CCG'!$D$5:$Q$215,14,0)*$H683","v":42.099035474132251}]
["05T","NHS South Worcestershire CCG","E06000051","Shropshire",{"$f":"COUNTIF($D$5:D684,D684)","v":6},"Shropshire6","NHS South Worcestershire CCG",1.0625674035558651E-2,1.0529948204581851E-2,{"$f":"VLOOKUP($A684,'8.Non-elective admissions - CCG'!$D$5:$N$215,3,0)*$H684","v":66.622976202952742},{"$f":"VLOOKUP($A684,'8.Non-elective admissions - CCG'!$D$5:$N$215,4,0)*$H684","v":64.954745379370038},{"$f":"VLOOKUP($A684,'8.Non-elective admissions - CCG'!$D$5:$N$215,5,0)*$H684","v":71.383278170883017},{"$f":"VLOOKUP($A684,'8.Non-elective admissions - CCG'!$D$5:$N$215,6,0)*$H684","v":66.920495075948381},{"$f":"VLOOKUP($A684,'8.Non-elective admissions - CCG'!$D$5:$N$215,7,0)*$H684","v":63.955932020027525},{"$f":"VLOOKUP($A684,'8.Non-elective admissions - CCG'!$D$5:$N$215,8,0)*$H684","v":62.457711981013752},{"$f":"VLOOKUP($A684,'8.Non-elective admissions - CCG'!$D$5:$N$215,9,0)*$H684","v":68.514346181282178},{"$f":"VLOOKUP($A684,'8.Non-elective admissions - CCG'!$D$5:$N$215,10,0)*$H684","v":62.925241638578335},{"$f":"VLOOKUP($A684,'8.Non-elective admissions - CCG'!$D$5:$Q$215,11,0)*$H684","v":60.821358179537718},{"$f":"VLOOKUP($A684,'8.Non-elective admissions - CCG'!$D$5:$Q$215,12,0)*$H684","v":57.112997941127752},{"$f":"VLOOKUP($A684,'8.Non-elective admissions - CCG'!$D$5:$Q$215,13,0)*$H684","v":65.103504815867851},{"$f":"VLOOKUP($A684,'8.Non-elective admissions - CCG'!$D$5:$Q$215,14,0)*$H684","v":58.547463935928171}]
["05T","NHS South Worcestershire CCG","E10000034","Worcestershire",{"$f":"COUNTIF($D$5:D685,D685)","v":10},"Worcestershire10","NHS South Worcestershire CCG",0.9702697494531648,0.48674588045343842,{"$f":"VLOOKUP($A685,'8.Non-elective admissions - CCG'!$D$5:$N$215,3,0)*$H685","v":6083.5913290713434},{"$f":"VLOOKUP($A685,'8.Non-elective admissions - CCG'!$D$5:$N$215,4,0)*$H685","v":5931.2589784071961},{"$f":"VLOOKUP($A685,'8.Non-elective admissions - CCG'!$D$5:$N$215,5,0)*$H685","v":6518.2721768263609},{"$f":"VLOOKUP($A685,'8.Non-elective admissions - CCG'!$D$5:$N$215,6,0)*$H685","v":6110.7588820560322},{"$f":"VLOOKUP($A685,'8.Non-elective admissions - CCG'!$D$5:$N$215,7,0)*$H685","v":5840.0536219585993},{"$f":"VLOOKUP($A685,'8.Non-elective admissions - CCG'!$D$5:$N$215,8,0)*$H685","v":5703.2455872857026},{"$f":"VLOOKUP($A685,'8.Non-elective admissions - CCG'!$D$5:$N$215,9,0)*$H685","v":6256.2993444740068},{"$f":"VLOOKUP($A685,'8.Non-elective admissions - CCG'!$D$5:$N$215,10,0)*$H685","v":5745.9374562616422},{"$f":"VLOOKUP($A685,'8.Non-elective admissions - CCG'!$D$5:$Q$215,11,0)*$H685","v":5553.8240458699156},{"$f":"VLOOKUP($A685,'8.Non-elective admissions - CCG'!$D$5:$Q$215,12,0)*$H685","v":5215.1999033107604},{"$f":"VLOOKUP($A685,'8.Non-elective admissions - CCG'!$D$5:$Q$215,13,0)*$H685","v":5944.8427548995405},{"$f":"VLOOKUP($A685,'8.Non-elective admissions - CCG'!$D$5:$Q$215,14,0)*$H685","v":5346.1863194869384}]
["10X","NHS Southampton CCG","E10000014","Hampshire",{"$f":"COUNTIF($D$5:D686,D686)","v":12},"Hampshire12","NHS Southampton CCG",5.7157993214531265E-2,1.1204723174178097E-2,{"$f":"VLOOKUP($A686,'8.Non-elective admissions - CCG'!$D$5:$N$215,3,0)*$H686","v":429.42800302077342},{"$f":"VLOOKUP($A686,'8.Non-elective admissions - CCG'!$D$5:$N$215,4,0)*$H686","v":424.6838895839673},{"$f":"VLOOKUP($A686,'8.Non-elective admissions - CCG'!$D$5:$N$215,5,0)*$H686","v":443.88897530404978},{"$f":"VLOOKUP($A686,'8.Non-elective admissions - CCG'!$D$5:$N$215,6,0)*$H686","v":419.08240624894324},{"$f":"VLOOKUP($A686,'8.Non-elective admissions - CCG'!$D$5:$N$215,7,0)*$H686","v":428.51347512934092},{"$f":"VLOOKUP($A686,'8.Non-elective admissions - CCG'!$D$5:$N$215,8,0)*$H686","v":427.54178924469386},{"$f":"VLOOKUP($A686,'8.Non-elective admissions - CCG'!$D$5:$N$215,9,0)*$H686","v":444.51771322940965},{"$f":"VLOOKUP($A686,'8.Non-elective admissions - CCG'!$D$5:$N$215,10,0)*$H686","v":434.17211645757948},{"$f":"VLOOKUP($A686,'8.Non-elective admissions - CCG'!$D$5:$Q$215,11,0)*$H686","v":424.45525761110918},{"$f":"VLOOKUP($A686,'8.Non-elective admissions - CCG'!$D$5:$Q$215,12,0)*$H686","v":423.48357172646212},{"$f":"VLOOKUP($A686,'8.Non-elective admissions - CCG'!$D$5:$Q$215,13,0)*$H686","v":440.28802173153434},{"$f":"VLOOKUP($A686,'8.Non-elective admissions - CCG'!$D$5:$Q$215,14,0)*$H686","v":434.91517036936841}]
["10X","NHS Southampton CCG","E06000045","Southampton",{"$f":"COUNTIF($D$5:D687,D687)","v":1},"Southampton1","NHS Southampton CCG",0.94284200678546859,0.99555273441374248,{"$f":"VLOOKUP($A687,'8.Non-elective admissions - CCG'!$D$5:$N$215,3,0)*$H687","v":7083.5719969792253},{"$f":"VLOOKUP($A687,'8.Non-elective admissions - CCG'!$D$5:$N$215,4,0)*$H687","v":7005.3161104160317},{"$f":"VLOOKUP($A687,'8.Non-elective admissions - CCG'!$D$5:$N$215,5,0)*$H687","v":7322.1110246959488},{"$f":"VLOOKUP($A687,'8.Non-elective admissions - CCG'!$D$5:$N$215,6,0)*$H687","v":6912.9175937510554},{"$f":"VLOOKUP($A687,'8.Non-elective admissions - CCG'!$D$5:$N$215,7,0)*$H687","v":7068.4865248706583},{"$f":"VLOOKUP($A687,'8.Non-elective admissions - CCG'!$D$5:$N$215,8,0)*$H687","v":7052.4582107553051},{"$f":"VLOOKUP($A687,'8.Non-elective admissions - CCG'!$D$5:$N$215,9,0)*$H687","v":7332.4822867705889},{"$f":"VLOOKUP($A687,'8.Non-elective admissions - CCG'!$D$5:$N$215,10,0)*$H687","v":7161.8278835424198},{"$f":"VLOOKUP($A687,'8.Non-elective admissions - CCG'!$D$5:$Q$215,11,0)*$H687","v":7001.54474238889},{"$f":"VLOOKUP($A687,'8.Non-elective admissions - CCG'!$D$5:$Q$215,12,0)*$H687","v":6985.5164282735368},{"$f":"VLOOKUP($A687,'8.Non-elective admissions - CCG'!$D$5:$Q$215,13,0)*$H687","v":7262.7119782684649},{"$f":"VLOOKUP($A687,'8.Non-elective admissions - CCG'!$D$5:$Q$215,14,0)*$H687","v":7174.0848296306303}]
["99G","NHS Southend CCG","E10000012","Essex",{"$f":"COUNTIF($D$5:D688,D688)","v":10},"Essex10","NHS Southend CCG",3.5286025325779659E-2,4.4249170030916688E-3,{"$f":"VLOOKUP($A688,'8.Non-elective admissions - CCG'!$D$5:$N$215,3,0)*$H688","v":151.30647659694318},{"$f":"VLOOKUP($A688,'8.Non-elective admissions - CCG'!$D$5:$N$215,4,0)*$H688","v":163.97415968889808},{"$f":"VLOOKUP($A688,'8.Non-elective admissions - CCG'!$D$5:$N$215,5,0)*$H688","v":160.33969908034277},{"$f":"VLOOKUP($A688,'8.Non-elective admissions - CCG'!$D$5:$N$215,6,0)*$H688","v":170.74907655144776},{"$f":"VLOOKUP($A688,'8.Non-elective admissions - CCG'!$D$5:$N$215,7,0)*$H688","v":155.64882246746572},{"$f":"VLOOKUP($A688,'8.Non-elective admissions - CCG'!$D$5:$N$215,8,0)*$H688","v":167.73919946711234},{"$f":"VLOOKUP($A688,'8.Non-elective admissions - CCG'!$D$5:$N$215,9,0)*$H688","v":163.29319159114132},{"$f":"VLOOKUP($A688,'8.Non-elective admissions - CCG'!$D$5:$N$215,10,0)*$H688","v":162.54022092761193},{"$f":"VLOOKUP($A688,'8.Non-elective admissions - CCG'!$D$5:$Q$215,11,0)*$H688","v":153.22379216715274},{"$f":"VLOOKUP($A688,'8.Non-elective admissions - CCG'!$D$5:$Q$215,12,0)*$H688","v":165.09811999859232},{"$f":"VLOOKUP($A688,'8.Non-elective admissions - CCG'!$D$5:$Q$215,13,0)*$H688","v":160.74003065241183},{"$f":"VLOOKUP($A688,'8.Non-elective admissions - CCG'!$D$5:$Q$215,14,0)*$H688","v":160.00519968530898}]
["99G","NHS Southend CCG","E06000033","Southend-on-Sea",{"$f":"COUNTIF($D$5:D689,D689)","v":2},"Southend-on-Sea2","NHS Southend CCG",0.96471397467422049,0.95807716512562335,{"$f":"VLOOKUP($A689,'8.Non-elective admissions - CCG'!$D$5:$N$215,3,0)*$H689","v":4136.693523403057},{"$f":"VLOOKUP($A689,'8.Non-elective admissions - CCG'!$D$5:$N$215,4,0)*$H689","v":4483.0258403111029},{"$f":"VLOOKUP($A689,'8.Non-elective admissions - CCG'!$D$5:$N$215,5,0)*$H689","v":4383.6603009196579},{"$f":"VLOOKUP($A689,'8.Non-elective admissions - CCG'!$D$5:$N$215,6,0)*$H689","v":4668.2509234485533},{"$f":"VLOOKUP($A689,'8.Non-elective admissions - CCG'!$D$5:$N$215,7,0)*$H689","v":4255.4125263365349},{"$f":"VLOOKUP($A689,'8.Non-elective admissions - CCG'!$D$5:$N$215,8,0)*$H689","v":4585.9613921538885},{"$f":"VLOOKUP($A689,'8.Non-elective admissions - CCG'!$D$5:$N$215,9,0)*$H689","v":4464.4082874938604},{"$f":"VLOOKUP($A689,'8.Non-elective admissions - CCG'!$D$5:$N$215,10,0)*$H689","v":4443.822196685388},{"$f":"VLOOKUP($A689,'8.Non-elective admissions - CCG'!$D$5:$Q$215,11,0)*$H689","v":4189.1126073708483},{"$f":"VLOOKUP($A689,'8.Non-elective admissions - CCG'!$D$5:$Q$215,12,0)*$H689","v":4513.7547254074079},{"$f":"VLOOKUP($A689,'8.Non-elective admissions - CCG'!$D$5:$Q$215,13,0)*$H689","v":4394.6052985075885},{"$f":"VLOOKUP($A689,'8.Non-elective admissions - CCG'!$D$5:$Q$215,14,0)*$H689","v":4374.5151439366919}]
["04R","NHS Southern Derbyshire CCG","E06000015","Derby",{"$f":"COUNTIF($D$5:D690,D690)","v":1},"Derby1","NHS Southern Derbyshire CCG",0.5000651075576853,1,{"$f":"VLOOKUP($A690,'8.Non-elective admissions - CCG'!$D$5:$N$215,3,0)*$H690","v":7094.9237460284394},{"$f":"VLOOKUP($A690,'8.Non-elective admissions - CCG'!$D$5:$N$215,4,0)*$H690","v":7167.9332517318608},{"$f":"VLOOKUP($A690,'8.Non-elective admissions - CCG'!$D$5:$N$215,5,0)*$H690","v":7286.9487473305899},{"$f":"VLOOKUP($A690,'8.Non-elective admissions - CCG'!$D$5:$N$215,6,0)*$H690","v":7333.9548674410125},{"$f":"VLOOKUP($A690,'8.Non-elective admissions - CCG'!$D$5:$N$215,7,0)*$H690","v":6814.5053488401445},{"$f":"VLOOKUP($A690,'8.Non-elective admissions - CCG'!$D$5:$N$215,8,0)*$H690","v":6903.3991375000069},{"$f":"VLOOKUP($A690,'8.Non-elective admissions - CCG'!$D$5:$N$215,9,0)*$H690","v":7107.3923982145316},{"$f":"VLOOKUP($A690,'8.Non-elective admissions - CCG'!$D$5:$N$215,10,0)*$H690","v":7075.0206717052524},{"$f":"VLOOKUP($A690,'8.Non-elective admissions - CCG'!$D$5:$Q$215,11,0)*$H690","v":6518.5380759018153},{"$f":"VLOOKUP($A690,'8.Non-elective admissions - CCG'!$D$5:$Q$215,12,0)*$H690","v":6603.571033783106},{"$f":"VLOOKUP($A690,'8.Non-elective admissions - CCG'!$D$5:$Q$215,13,0)*$H690","v":6798.7044688131145},{"$f":"VLOOKUP($A690,'8.Non-elective admissions - CCG'!$D$5:$Q$215,14,0)*$H690","v":6767.7387096637003}]
["04R","NHS Southern Derbyshire CCG","E10000007","Derbyshire",{"$f":"COUNTIF($D$5:D691,D691)","v":11},"Derbyshire11","NHS Southern Derbyshire CCG",0.48267022836010803,0.32875931275657594,{"$f":"VLOOKUP($A691,'8.Non-elective admissions - CCG'!$D$5:$N$215,3,0)*$H691","v":6848.1251999732131},{"$f":"VLOOKUP($A691,'8.Non-elective admissions - CCG'!$D$5:$N$215,4,0)*$H691","v":6918.5950533137884},{"$f":"VLOOKUP($A691,'8.Non-elective admissions - CCG'!$D$5:$N$215,5,0)*$H691","v":7033.470567663494},{"$f":"VLOOKUP($A691,'8.Non-elective admissions - CCG'!$D$5:$N$215,6,0)*$H691","v":7078.8415691293449},{"$f":"VLOOKUP($A691,'8.Non-elective admissions - CCG'!$D$5:$N$215,7,0)*$H691","v":6577.4612208999752},{"$f":"VLOOKUP($A691,'8.Non-elective admissions - CCG'!$D$5:$N$215,8,0)*$H691","v":6663.2628187795108},{"$f":"VLOOKUP($A691,'8.Non-elective admissions - CCG'!$D$5:$N$215,9,0)*$H691","v":6860.1601272397784},{"$f":"VLOOKUP($A691,'8.Non-elective admissions - CCG'!$D$5:$N$215,10,0)*$H691","v":6828.9144586448301},{"$f":"VLOOKUP($A691,'8.Non-elective admissions - CCG'!$D$5:$Q$215,11,0)*$H691","v":6291.7892372777578},{"$f":"VLOOKUP($A691,'8.Non-elective admissions - CCG'!$D$5:$Q$215,12,0)*$H691","v":6373.8643042608373},{"$f":"VLOOKUP($A691,'8.Non-elective admissions - CCG'!$D$5:$Q$215,13,0)*$H691","v":6562.2099781004417},{"$f":"VLOOKUP($A691,'8.Non-elective admissions - CCG'!$D$5:$Q$215,14,0)*$H691","v":6532.3213699690141}]
["04R","NHS Southern Derbyshire CCG","E10000018","Leicestershire",{"$f":"COUNTIF($D$5:D692,D692)","v":6},"Leicestershire6","NHS Southern Derbyshire CCG",6.1796373323015335E-3,4.8774758108326354E-3,{"$f":"VLOOKUP($A692,'8.Non-elective admissions - CCG'!$D$5:$N$215,3,0)*$H692","v":87.676694470694159},{"$f":"VLOOKUP($A692,'8.Non-elective admissions - CCG'!$D$5:$N$215,4,0)*$H692","v":88.578921521210177},{"$f":"VLOOKUP($A692,'8.Non-elective admissions - CCG'!$D$5:$N$215,5,0)*$H692","v":90.049675206297948},{"$f":"VLOOKUP($A692,'8.Non-elective admissions - CCG'!$D$5:$N$215,6,0)*$H692","v":90.630561115534292},{"$f":"VLOOKUP($A692,'8.Non-elective admissions - CCG'!$D$5:$N$215,7,0)*$H692","v":84.211377715457346},{"$f":"VLOOKUP($A692,'8.Non-elective admissions - CCG'!$D$5:$N$215,8,0)*$H692","v":85.309897421611495},{"$f":"VLOOKUP($A692,'8.Non-elective admissions - CCG'!$D$5:$N$215,9,0)*$H692","v":87.830777903767455},{"$f":"VLOOKUP($A692,'8.Non-elective admissions - CCG'!$D$5:$N$215,10,0)*$H692","v":87.43073893559226},{"$f":"VLOOKUP($A692,'8.Non-elective admissions - CCG'!$D$5:$Q$215,11,0)*$H692","v":80.553913154648754},{"$f":"VLOOKUP($A692,'8.Non-elective admissions - CCG'!$D$5:$Q$215,12,0)*$H692","v":81.604722005451507},{"$f":"VLOOKUP($A692,'8.Non-elective admissions - CCG'!$D$5:$Q$215,13,0)*$H692","v":84.016115725323417},{"$f":"VLOOKUP($A692,'8.Non-elective admissions - CCG'!$D$5:$Q$215,14,0)*$H692","v":83.63345123149908}]
["04R","NHS Southern Derbyshire CCG","E10000024","Nottinghamshire",{"$f":"COUNTIF($D$5:D693,D693)","v":14},"Nottinghamshire14","NHS Southern Derbyshire CCG",6.239164242185233E-3,4.0976846981897611E-3,{"$f":"VLOOKUP($A693,'8.Non-elective admissions - CCG'!$D$5:$N$215,3,0)*$H693","v":88.52126226812409},{"$f":"VLOOKUP($A693,'8.Non-elective admissions - CCG'!$D$5:$N$215,4,0)*$H693","v":89.432180247483132},{"$f":"VLOOKUP($A693,'8.Non-elective admissions - CCG'!$D$5:$N$215,5,0)*$H693","v":90.917101337123214},{"$f":"VLOOKUP($A693,'8.Non-elective admissions - CCG'!$D$5:$N$215,6,0)*$H693","v":91.503582775888631},{"$f":"VLOOKUP($A693,'8.Non-elective admissions - CCG'!$D$5:$N$215,7,0)*$H693","v":85.022564978219137},{"$f":"VLOOKUP($A693,'8.Non-elective admissions - CCG'!$D$5:$N$215,8,0)*$H693","v":86.13166645156079},{"$f":"VLOOKUP($A693,'8.Non-elective admissions - CCG'!$D$5:$N$215,9,0)*$H693","v":88.676829948596051},{"$f":"VLOOKUP($A693,'8.Non-elective admissions - CCG'!$D$5:$N$215,10,0)*$H693","v":88.272937504508263},{"$f":"VLOOKUP($A693,'8.Non-elective admissions - CCG'!$D$5:$Q$215,11,0)*$H693","v":81.329868970707977},{"$f":"VLOOKUP($A693,'8.Non-elective admissions - CCG'!$D$5:$Q$215,12,0)*$H693","v":82.390800001891733},{"$f":"VLOOKUP($A693,'8.Non-elective admissions - CCG'!$D$5:$Q$215,13,0)*$H693","v":84.825422077885236},{"$f":"VLOOKUP($A693,'8.Non-elective admissions - CCG'!$D$5:$Q$215,14,0)*$H693","v":84.439071472139645}]
["04R","NHS Southern Derbyshire CCG","E10000028","Staffordshire",{"$f":"COUNTIF($D$5:D694,D694)","v":11},"Staffordshire11","NHS Southern Derbyshire CCG",4.8458625077198959E-3,2.995382167069884E-3,{"$f":"VLOOKUP($A694,'8.Non-elective admissions - CCG'!$D$5:$N$215,3,0)*$H694","v":68.753097259529881},{"$f":"VLOOKUP($A694,'8.Non-elective admissions - CCG'!$D$5:$N$215,4,0)*$H694","v":69.46059318565699},{"$f":"VLOOKUP($A694,'8.Non-elective admissions - CCG'!$D$5:$N$215,5,0)*$H694","v":70.613908462494322},{"$f":"VLOOKUP($A694,'8.Non-elective admissions - CCG'!$D$5:$N$215,6,0)*$H694","v":71.069419538219989},{"$f":"VLOOKUP($A694,'8.Non-elective admissions - CCG'!$D$5:$N$215,7,0)*$H694","v":66.035713109201197},{"$f":"VLOOKUP($A694,'8.Non-elective admissions - CCG'!$D$5:$N$215,8,0)*$H694","v":66.89713509431003},{"$f":"VLOOKUP($A694,'8.Non-elective admissions - CCG'!$D$5:$N$215,9,0)*$H694","v":68.873924274326981},{"$f":"VLOOKUP($A694,'8.Non-elective admissions - CCG'!$D$5:$N$215,10,0)*$H694","v":68.56022725081813},{"$f":"VLOOKUP($A694,'8.Non-elective admissions - CCG'!$D$5:$Q$215,11,0)*$H694","v":63.16765315107164},{"$f":"VLOOKUP($A694,'8.Non-elective admissions - CCG'!$D$5:$Q$215,12,0)*$H694","v":63.991661897712575},{"$f":"VLOOKUP($A694,'8.Non-elective admissions - CCG'!$D$5:$Q$215,13,0)*$H694","v":65.882595263235245},{"$f":"VLOOKUP($A694,'8.Non-elective admissions - CCG'!$D$5:$Q$215,14,0)*$H694","v":65.582522714646316}]
["01V","NHS Southport and Formby CCG","E10000017","Lancashire",{"$f":"COUNTIF($D$5:D695,D695)","v":14},"Lancashire14","NHS Southport and Formby CCG",3.0035494267879728E-2,3.0015533711415443E-3,{"$f":"VLOOKUP($A695,'8.Non-elective admissions - CCG'!$D$5:$N$215,3,0)*$H695","v":112.39281955040595},{"$f":"VLOOKUP($A695,'8.Non-elective admissions - CCG'!$D$5:$N$215,4,0)*$H695","v":110.80093835420831},{"$f":"VLOOKUP($A695,'8.Non-elective admissions - CCG'!$D$5:$N$215,5,0)*$H695","v":116.29743380523031},{"$f":"VLOOKUP($A695,'8.Non-elective admissions - CCG'!$D$5:$N$215,6,0)*$H695","v":122.27449716453837},{"$f":"VLOOKUP($A695,'8.Non-elective admissions - CCG'!$D$5:$N$215,7,0)*$H695","v":116.68789523071274},{"$f":"VLOOKUP($A695,'8.Non-elective admissions - CCG'!$D$5:$N$215,8,0)*$H695","v":116.38754028803395},{"$f":"VLOOKUP($A695,'8.Non-elective admissions - CCG'!$D$5:$N$215,9,0)*$H695","v":107.10657255925911},{"$f":"VLOOKUP($A695,'8.Non-elective admissions - CCG'!$D$5:$N$215,10,0)*$H695","v":128.88230590347192},{"$f":"VLOOKUP($A695,'8.Non-elective admissions - CCG'!$D$5:$Q$215,11,0)*$H695","v":114.34512667781813},{"$f":"VLOOKUP($A695,'8.Non-elective admissions - CCG'!$D$5:$Q$215,12,0)*$H695","v":114.04477173513934},{"$f":"VLOOKUP($A695,'8.Non-elective admissions - CCG'!$D$5:$Q$215,13,0)*$H695","v":104.88394598343601},{"$f":"VLOOKUP($A695,'8.Non-elective admissions - CCG'!$D$5:$Q$215,14,0)*$H695","v":126.26921790216637}]
["01V","NHS Southport and Formby CCG","E08000014","Sefton",{"$f":"COUNTIF($D$5:D696,D696)","v":4},"Sefton4","NHS Southport and Formby CCG",0.96996450573212023,0.41667776648322752,{"$f":"VLOOKUP($A696,'8.Non-elective admissions - CCG'!$D$5:$N$215,3,0)*$H696","v":3629.6071804495941},{"$f":"VLOOKUP($A696,'8.Non-elective admissions - CCG'!$D$5:$N$215,4,0)*$H696","v":3578.1990616457915},{"$f":"VLOOKUP($A696,'8.Non-elective admissions - CCG'!$D$5:$N$215,5,0)*$H696","v":3755.7025661947696},{"$f":"VLOOKUP($A696,'8.Non-elective admissions - CCG'!$D$5:$N$215,6,0)*$H696","v":3948.7255028354616},{"$f":"VLOOKUP($A696,'8.Non-elective admissions - CCG'!$D$5:$N$215,7,0)*$H696","v":3768.3121047692871},{"$f":"VLOOKUP($A696,'8.Non-elective admissions - CCG'!$D$5:$N$215,8,0)*$H696","v":3758.612459711966},{"$f":"VLOOKUP($A696,'8.Non-elective admissions - CCG'!$D$5:$N$215,9,0)*$H696","v":3458.8934274407407},{"$f":"VLOOKUP($A696,'8.Non-elective admissions - CCG'!$D$5:$N$215,10,0)*$H696","v":4162.1176940965279},{"$f":"VLOOKUP($A696,'8.Non-elective admissions - CCG'!$D$5:$Q$215,11,0)*$H696","v":3692.6548733221816},{"$f":"VLOOKUP($A696,'8.Non-elective admissions - CCG'!$D$5:$Q$215,12,0)*$H696","v":3682.9552282648606},{"$f":"VLOOKUP($A696,'8.Non-elective admissions - CCG'!$D$5:$Q$215,13,0)*$H696","v":3387.1160540165638},{"$f":"VLOOKUP($A696,'8.Non-elective admissions - CCG'!$D$5:$Q$215,14,0)*$H696","v":4077.7307820978335}]
["08Q","NHS Southwark CCG","E09000022","Lambeth",{"$f":"COUNTIF($D$5:D697,D697)","v":5},"Lambeth5","NHS Southwark CCG",1.7411201557013794E-2,1.5187143692861815E-2,{"$f":"VLOOKUP($A697,'8.Non-elective admissions - CCG'!$D$5:$N$215,3,0)*$H697","v":105.59893744328866},{"$f":"VLOOKUP($A697,'8.Non-elective admissions - CCG'!$D$5:$N$215,4,0)*$H697","v":106.59137593203845},{"$f":"VLOOKUP($A697,'8.Non-elective admissions - CCG'!$D$5:$N$215,5,0)*$H697","v":107.07888957563483},{"$f":"VLOOKUP($A697,'8.Non-elective admissions - CCG'!$D$5:$N$215,6,0)*$H697","v":100.67156740265375},{"$f":"VLOOKUP($A697,'8.Non-elective admissions - CCG'!$D$5:$N$215,7,0)*$H697","v":100.28852096839945},{"$f":"VLOOKUP($A697,'8.Non-elective admissions - CCG'!$D$5:$N$215,8,0)*$H697","v":101.22872585247819},{"$f":"VLOOKUP($A697,'8.Non-elective admissions - CCG'!$D$5:$N$215,9,0)*$H697","v":99.19161527030758},{"$f":"VLOOKUP($A697,'8.Non-elective admissions - CCG'!$D$5:$N$215,10,0)*$H697","v":89.214996778138683},{"$f":"VLOOKUP($A697,'8.Non-elective admissions - CCG'!$D$5:$Q$215,11,0)*$H697","v":97.763896742632454},{"$f":"VLOOKUP($A697,'8.Non-elective admissions - CCG'!$D$5:$Q$215,12,0)*$H697","v":98.704101626711193},{"$f":"VLOOKUP($A697,'8.Non-elective admissions - CCG'!$D$5:$Q$215,13,0)*$H697","v":96.701813447654615},{"$f":"VLOOKUP($A697,'8.Non-elective admissions - CCG'!$D$5:$Q$215,14,0)*$H697","v":86.986362978840916}]
["08Q","NHS Southwark CCG","E09000023","Lewisham",{"$f":"COUNTIF($D$5:D698,D698)","v":6},"Lewisham6","NHS Southwark CCG",3.5348421287955491E-2,3.5419803069584498E-2,{"$f":"VLOOKUP($A698,'8.Non-elective admissions - CCG'!$D$5:$N$215,3,0)*$H698","v":214.38817511145004},{"$f":"VLOOKUP($A698,'8.Non-elective admissions - CCG'!$D$5:$N$215,4,0)*$H698","v":216.40303512486352},{"$f":"VLOOKUP($A698,'8.Non-elective admissions - CCG'!$D$5:$N$215,5,0)*$H698","v":217.39279092092627},{"$f":"VLOOKUP($A698,'8.Non-elective admissions - CCG'!$D$5:$N$215,6,0)*$H698","v":204.38457188695864},{"$f":"VLOOKUP($A698,'8.Non-elective admissions - CCG'!$D$5:$N$215,7,0)*$H698","v":203.60690661862364},{"$f":"VLOOKUP($A698,'8.Non-elective admissions - CCG'!$D$5:$N$215,8,0)*$H698","v":205.51572136817322},{"$f":"VLOOKUP($A698,'8.Non-elective admissions - CCG'!$D$5:$N$215,9,0)*$H698","v":201.37995607748243},{"$f":"VLOOKUP($A698,'8.Non-elective admissions - CCG'!$D$5:$N$215,10,0)*$H698","v":181.12531067948393},{"$f":"VLOOKUP($A698,'8.Non-elective admissions - CCG'!$D$5:$Q$215,11,0)*$H698","v":198.48138553187007},{"$f":"VLOOKUP($A698,'8.Non-elective admissions - CCG'!$D$5:$Q$215,12,0)*$H698","v":200.39020028141968},{"$f":"VLOOKUP($A698,'8.Non-elective admissions - CCG'!$D$5:$Q$215,13,0)*$H698","v":196.32513183330479},{"$f":"VLOOKUP($A698,'8.Non-elective admissions - CCG'!$D$5:$Q$215,14,0)*$H698","v":176.60071275462562}]
["08Q","NHS Southwark CCG","E09000028","Southwark",{"$f":"COUNTIF($D$5:D699,D699)","v":5},"Southwark5","NHS Southwark CCG",0.94724037715503062,0.89136521273732439,{"$f":"VLOOKUP($A699,'8.Non-elective admissions - CCG'!$D$5:$N$215,3,0)*$H699","v":5745.0128874452603},{"$f":"VLOOKUP($A699,'8.Non-elective admissions - CCG'!$D$5:$N$215,4,0)*$H699","v":5799.0055889430978},{"$f":"VLOOKUP($A699,'8.Non-elective admissions - CCG'!$D$5:$N$215,5,0)*$H699","v":5825.5283195034381},{"$f":"VLOOKUP($A699,'8.Non-elective admissions - CCG'!$D$5:$N$215,6,0)*$H699","v":5476.9438607103866},{"$f":"VLOOKUP($A699,'8.Non-elective admissions - CCG'!$D$5:$N$215,7,0)*$H699","v":5456.1045724129763},{"$f":"VLOOKUP($A699,'8.Non-elective admissions - CCG'!$D$5:$N$215,8,0)*$H699","v":5507.2555527793484},{"$f":"VLOOKUP($A699,'8.Non-elective admissions - CCG'!$D$5:$N$215,9,0)*$H699","v":5396.4284286522097},{"$f":"VLOOKUP($A699,'8.Non-elective admissions - CCG'!$D$5:$N$215,10,0)*$H699","v":4853.6596925423773},{"$f":"VLOOKUP($A699,'8.Non-elective admissions - CCG'!$D$5:$Q$215,11,0)*$H699","v":5318.7547177254974},{"$f":"VLOOKUP($A699,'8.Non-elective admissions - CCG'!$D$5:$Q$215,12,0)*$H699","v":5369.9056980918685},{"$f":"VLOOKUP($A699,'8.Non-elective admissions - CCG'!$D$5:$Q$215,13,0)*$H699","v":5260.9730547190402},{"$f":"VLOOKUP($A699,'8.Non-elective admissions - CCG'!$D$5:$Q$215,14,0)*$H699","v":4732.4129242665331}]
["01X","NHS St Helens CCG","E08000011","Knowsley",{"$f":"COUNTIF($D$5:D700,D700)","v":5},"Knowsley5","NHS St Helens CCG",2.3819817594136664E-2,2.9126335796191175E-2,{"$f":"VLOOKUP($A700,'8.Non-elective admissions - CCG'!$D$5:$N$215,3,0)*$H700","v":147.06355382619975},{"$f":"VLOOKUP($A700,'8.Non-elective admissions - CCG'!$D$5:$N$215,4,0)*$H700","v":143.41912173429685},{"$f":"VLOOKUP($A700,'8.Non-elective admissions - CCG'!$D$5:$N$215,5,0)*$H700","v":139.79850945998808},{"$f":"VLOOKUP($A700,'8.Non-elective admissions - CCG'!$D$5:$N$215,6,0)*$H700","v":140.9895003396949},{"$f":"VLOOKUP($A700,'8.Non-elective admissions - CCG'!$D$5:$N$215,7,0)*$H700","v":133.74827579107736},{"$f":"VLOOKUP($A700,'8.Non-elective admissions - CCG'!$D$5:$N$215,8,0)*$H700","v":130.62787968624545},{"$f":"VLOOKUP($A700,'8.Non-elective admissions - CCG'!$D$5:$N$215,9,0)*$H700","v":127.72186193976079},{"$f":"VLOOKUP($A700,'8.Non-elective admissions - CCG'!$D$5:$N$215,10,0)*$H700","v":129.10341136022072},{"$f":"VLOOKUP($A700,'8.Non-elective admissions - CCG'!$D$5:$Q$215,11,0)*$H700","v":130.41350132789825},{"$f":"VLOOKUP($A700,'8.Non-elective admissions - CCG'!$D$5:$Q$215,12,0)*$H700","v":127.50748358141357},{"$f":"VLOOKUP($A700,'8.Non-elective admissions - CCG'!$D$5:$Q$215,13,0)*$H700","v":124.67292528771129},{"$f":"VLOOKUP($A700,'8.Non-elective admissions - CCG'!$D$5:$Q$215,14,0)*$H700","v":126.03065489057708}]
["01X","NHS St Helens CCG","E10000017","Lancashire",{"$f":"COUNTIF($D$5:D701,D701)","v":15},"Lancashire15","NHS St Helens CCG",5.0336606756840232E-3,0,{"$f":"VLOOKUP($A701,'8.Non-elective admissions - CCG'!$D$5:$N$215,3,0)*$H701","v":31.077821011673159},{"$f":"VLOOKUP($A701,'8.Non-elective admissions - CCG'!$D$5:$N$215,4,0)*$H701","v":30.307670928293504},{"$f":"VLOOKUP($A701,'8.Non-elective admissions - CCG'!$D$5:$N$215,5,0)*$H701","v":29.542554505589532},{"$f":"VLOOKUP($A701,'8.Non-elective admissions - CCG'!$D$5:$N$215,6,0)*$H701","v":29.794237539373732},{"$f":"VLOOKUP($A701,'8.Non-elective admissions - CCG'!$D$5:$N$215,7,0)*$H701","v":28.264004693965791},{"$f":"VLOOKUP($A701,'8.Non-elective admissions - CCG'!$D$5:$N$215,8,0)*$H701","v":27.604595145451182},{"$f":"VLOOKUP($A701,'8.Non-elective admissions - CCG'!$D$5:$N$215,9,0)*$H701","v":26.990488543017733},{"$f":"VLOOKUP($A701,'8.Non-elective admissions - CCG'!$D$5:$N$215,10,0)*$H701","v":27.282440862207405},{"$f":"VLOOKUP($A701,'8.Non-elective admissions - CCG'!$D$5:$Q$215,11,0)*$H701","v":27.559292199370027},{"$f":"VLOOKUP($A701,'8.Non-elective admissions - CCG'!$D$5:$Q$215,12,0)*$H701","v":26.945185596936575},{"$f":"VLOOKUP($A701,'8.Non-elective admissions - CCG'!$D$5:$Q$215,13,0)*$H701","v":26.346179976530177},{"$f":"VLOOKUP($A701,'8.Non-elective admissions - CCG'!$D$5:$Q$215,14,0)*$H701","v":26.633098635044167}]
["01X","NHS St Helens CCG","E08000013","St. Helens",{"$f":"COUNTIF($D$5:D702,D702)","v":3},"St. Helens3","NHS St Helens CCG",0.91018158236057078,0.9646521675094506,{"$f":"VLOOKUP($A702,'8.Non-elective admissions - CCG'!$D$5:$N$215,3,0)*$H702","v":5619.4610894941643},{"$f":"VLOOKUP($A702,'8.Non-elective admissions - CCG'!$D$5:$N$215,4,0)*$H702","v":5480.203307392997},{"$f":"VLOOKUP($A702,'8.Non-elective admissions - CCG'!$D$5:$N$215,5,0)*$H702","v":5341.8557068741902},{"$f":"VLOOKUP($A702,'8.Non-elective admissions - CCG'!$D$5:$N$215,6,0)*$H702","v":5387.3647859922185},{"$f":"VLOOKUP($A702,'8.Non-elective admissions - CCG'!$D$5:$N$215,7,0)*$H702","v":5110.6695849546049},{"$f":"VLOOKUP($A702,'8.Non-elective admissions - CCG'!$D$5:$N$215,8,0)*$H702","v":4991.43579766537},{"$f":"VLOOKUP($A702,'8.Non-elective admissions - CCG'!$D$5:$N$215,9,0)*$H702","v":4880.3936446173802},{"$f":"VLOOKUP($A702,'8.Non-elective admissions - CCG'!$D$5:$N$215,10,0)*$H702","v":4933.1841763942939},{"$f":"VLOOKUP($A702,'8.Non-elective admissions - CCG'!$D$5:$Q$215,11,0)*$H702","v":4983.244163424125},{"$f":"VLOOKUP($A702,'8.Non-elective admissions - CCG'!$D$5:$Q$215,12,0)*$H702","v":4872.2020103761351},{"$f":"VLOOKUP($A702,'8.Non-elective admissions - CCG'!$D$5:$Q$215,13,0)*$H702","v":4763.8904020752279},{"$f":"VLOOKUP($A702,'8.Non-elective admissions - CCG'!$D$5:$Q$215,14,0)*$H702","v":4815.7707522697801}]
["01X","NHS St Helens CCG","E06000007","Warrington",{"$f":"COUNTIF($D$5:D703,D703)","v":3},"Warrington3","NHS St Helens CCG",2.2409569102176112E-2,2.0351500420678695E-2,{"$f":"VLOOKUP($A703,'8.Non-elective admissions - CCG'!$D$5:$N$215,3,0)*$H703","v":138.35667963683531},{"$f":"VLOOKUP($A703,'8.Non-elective admissions - CCG'!$D$5:$N$215,4,0)*$H703","v":134.92801556420238},{"$f":"VLOOKUP($A703,'8.Non-elective admissions - CCG'!$D$5:$N$215,5,0)*$H703","v":131.52176106067159},{"$f":"VLOOKUP($A703,'8.Non-elective admissions - CCG'!$D$5:$N$215,6,0)*$H703","v":132.6422395157804},{"$f":"VLOOKUP($A703,'8.Non-elective admissions - CCG'!$D$5:$N$215,7,0)*$H703","v":125.82973050871887},{"$f":"VLOOKUP($A703,'8.Non-elective admissions - CCG'!$D$5:$N$215,8,0)*$H703","v":122.89407695633381},{"$f":"VLOOKUP($A703,'8.Non-elective admissions - CCG'!$D$5:$N$215,9,0)*$H703","v":120.16010952586831},{"$f":"VLOOKUP($A703,'8.Non-elective admissions - CCG'!$D$5:$N$215,10,0)*$H703","v":121.45986453379453},{"$f":"VLOOKUP($A703,'8.Non-elective admissions - CCG'!$D$5:$Q$215,11,0)*$H703","v":122.69239083441421},{"$f":"VLOOKUP($A703,'8.Non-elective admissions - CCG'!$D$5:$Q$215,12,0)*$H703","v":119.95842340394873},{"$f":"VLOOKUP($A703,'8.Non-elective admissions - CCG'!$D$5:$Q$215,13,0)*$H703","v":117.29168468078977},{"$f":"VLOOKUP($A703,'8.Non-elective admissions - CCG'!$D$5:$Q$215,14,0)*$H703","v":118.56903011961381}]
["01X","NHS St Helens CCG","E08000010","Wigan",{"$f":"COUNTIF($D$5:D704,D704)","v":3},"Wigan3","NHS St Helens CCG",3.8555370267432526E-2,2.3028469718069555E-2,{"$f":"VLOOKUP($A704,'8.Non-elective admissions - CCG'!$D$5:$N$215,3,0)*$H704","v":238.04085603112841},{"$f":"VLOOKUP($A704,'8.Non-elective admissions - CCG'!$D$5:$N$215,4,0)*$H704","v":232.14188438021125},{"$f":"VLOOKUP($A704,'8.Non-elective admissions - CCG'!$D$5:$N$215,5,0)*$H704","v":226.28146809956149},{"$f":"VLOOKUP($A704,'8.Non-elective admissions - CCG'!$D$5:$N$215,6,0)*$H704","v":228.20923661293313},{"$f":"VLOOKUP($A704,'8.Non-elective admissions - CCG'!$D$5:$N$215,7,0)*$H704","v":216.48840405163364},{"$f":"VLOOKUP($A704,'8.Non-elective admissions - CCG'!$D$5:$N$215,8,0)*$H704","v":211.43765054659997},{"$f":"VLOOKUP($A704,'8.Non-elective admissions - CCG'!$D$5:$N$215,9,0)*$H704","v":206.73389537397321},{"$f":"VLOOKUP($A704,'8.Non-elective admissions - CCG'!$D$5:$N$215,10,0)*$H704","v":208.9701068494843},{"$f":"VLOOKUP($A704,'8.Non-elective admissions - CCG'!$D$5:$Q$215,11,0)*$H704","v":211.09065221419309},{"$f":"VLOOKUP($A704,'8.Non-elective admissions - CCG'!$D$5:$Q$215,12,0)*$H704","v":206.3868970415663},{"$f":"VLOOKUP($A704,'8.Non-elective admissions - CCG'!$D$5:$Q$215,13,0)*$H704","v":201.79880797974184},{"$f":"VLOOKUP($A704,'8.Non-elective admissions - CCG'!$D$5:$Q$215,14,0)*$H704","v":203.99646408498549}]
["05V","NHS Stafford and Surrounds CCG","E10000028","Staffordshire",{"$f":"COUNTIF($D$5:D705,D705)","v":12},"Staffordshire12","NHS Stafford and Surrounds CCG",0.99486939011943853,0.16588782897460191,{"$f":"VLOOKUP($A705,'8.Non-elective admissions - CCG'!$D$5:$N$215,3,0)*$H705","v":3867.0573193942578},{"$f":"VLOOKUP($A705,'8.Non-elective admissions - CCG'!$D$5:$N$215,4,0)*$H705","v":3576.5554574793814},{"$f":"VLOOKUP($A705,'8.Non-elective admissions - CCG'!$D$5:$N$215,5,0)*$H705","v":3817.3138498882859},{"$f":"VLOOKUP($A705,'8.Non-elective admissions - CCG'!$D$5:$N$215,6,0)*$H705","v":3820.298458058644},{"$f":"VLOOKUP($A705,'8.Non-elective admissions - CCG'!$D$5:$N$215,7,0)*$H705","v":3793.4369845254191},{"$f":"VLOOKUP($A705,'8.Non-elective admissions - CCG'!$D$5:$N$215,8,0)*$H705","v":3703.8987394146698},{"$f":"VLOOKUP($A705,'8.Non-elective admissions - CCG'!$D$5:$N$215,9,0)*$H705","v":3556.6580696769929},{"$f":"VLOOKUP($A705,'8.Non-elective admissions - CCG'!$D$5:$N$215,10,0)*$H705","v":3554.668330896754},{"$f":"VLOOKUP($A705,'8.Non-elective admissions - CCG'!$D$5:$Q$215,11,0)*$H705","v":3566.6067635781869},{"$f":"VLOOKUP($A705,'8.Non-elective admissions - CCG'!$D$5:$Q$215,12,0)*$H705","v":3566.6067635781869},{"$f":"VLOOKUP($A705,'8.Non-elective admissions - CCG'!$D$5:$Q$215,13,0)*$H705","v":3566.6067635781869},{"$f":"VLOOKUP($A705,'8.Non-elective admissions - CCG'!$D$5:$Q$215,14,0)*$H705","v":3566.6067635781869}]
["05V","NHS Stafford and Surrounds CCG","E06000021","Stoke-on-Trent",{"$f":"COUNTIF($D$5:D706,D706)","v":2},"Stoke-on-Trent2","NHS Stafford and Surrounds CCG",5.1306098805616093E-3,2.8064034280368758E-3,{"$f":"VLOOKUP($A706,'8.Non-elective admissions - CCG'!$D$5:$N$215,3,0)*$H706","v":19.942680605742975},{"$f":"VLOOKUP($A706,'8.Non-elective admissions - CCG'!$D$5:$N$215,4,0)*$H706","v":18.444542520618985},{"$f":"VLOOKUP($A706,'8.Non-elective admissions - CCG'!$D$5:$N$215,5,0)*$H706","v":19.686150111714895},{"$f":"VLOOKUP($A706,'8.Non-elective admissions - CCG'!$D$5:$N$215,6,0)*$H706","v":19.701541941356581},{"$f":"VLOOKUP($A706,'8.Non-elective admissions - CCG'!$D$5:$N$215,7,0)*$H706","v":19.563015474581416},{"$f":"VLOOKUP($A706,'8.Non-elective admissions - CCG'!$D$5:$N$215,8,0)*$H706","v":19.10126058533087},{"$f":"VLOOKUP($A706,'8.Non-elective admissions - CCG'!$D$5:$N$215,9,0)*$H706","v":18.341930323007752},{"$f":"VLOOKUP($A706,'8.Non-elective admissions - CCG'!$D$5:$N$215,10,0)*$H706","v":18.331669103246629},{"$f":"VLOOKUP($A706,'8.Non-elective admissions - CCG'!$D$5:$Q$215,11,0)*$H706","v":18.39323642181337},{"$f":"VLOOKUP($A706,'8.Non-elective admissions - CCG'!$D$5:$Q$215,12,0)*$H706","v":18.39323642181337},{"$f":"VLOOKUP($A706,'8.Non-elective admissions - CCG'!$D$5:$Q$215,13,0)*$H706","v":18.39323642181337},{"$f":"VLOOKUP($A706,'8.Non-elective admissions - CCG'!$D$5:$Q$215,14,0)*$H706","v":18.39323642181337}]
["01W","NHS Stockport CCG","E06000049","Cheshire East",{"$f":"COUNTIF($D$5:D707,D707)","v":6},"Cheshire East6","NHS Stockport CCG",1.6356924012519709E-2,1.2738509216050164E-2,{"$f":"VLOOKUP($A707,'8.Non-elective admissions - CCG'!$D$5:$N$215,3,0)*$H707","v":158.15509827705307},{"$f":"VLOOKUP($A707,'8.Non-elective admissions - CCG'!$D$5:$N$215,4,0)*$H707","v":156.0286981554255},{"$f":"VLOOKUP($A707,'8.Non-elective admissions - CCG'!$D$5:$N$215,5,0)*$H707","v":161.00120305523149},{"$f":"VLOOKUP($A707,'8.Non-elective admissions - CCG'!$D$5:$N$215,6,0)*$H707","v":156.22498124357574},{"$f":"VLOOKUP($A707,'8.Non-elective admissions - CCG'!$D$5:$N$215,7,0)*$H707","v":133.92241165715842},{"$f":"VLOOKUP($A707,'8.Non-elective admissions - CCG'!$D$5:$N$215,8,0)*$H707","v":136.20654001061175},{"$f":"VLOOKUP($A707,'8.Non-elective admissions - CCG'!$D$5:$N$215,9,0)*$H707","v":141.04492566338254},{"$f":"VLOOKUP($A707,'8.Non-elective admissions - CCG'!$D$5:$N$215,10,0)*$H707","v":139.78660345720073},{"$f":"VLOOKUP($A707,'8.Non-elective admissions - CCG'!$D$5:$Q$215,11,0)*$H707","v":120.55701434847273},{"$f":"VLOOKUP($A707,'8.Non-elective admissions - CCG'!$D$5:$Q$215,12,0)*$H707","v":122.6131877015127},{"$f":"VLOOKUP($A707,'8.Non-elective admissions - CCG'!$D$5:$Q$215,13,0)*$H707","v":126.96870461248058},{"$f":"VLOOKUP($A707,'8.Non-elective admissions - CCG'!$D$5:$Q$215,14,0)*$H707","v":125.83596240578949}]
["01W","NHS Stockport CCG","E10000007","Derbyshire",{"$f":"COUNTIF($D$5:D708,D708)","v":12},"Derbyshire12","NHS Stockport CCG",1.123732908518226E-3,0,{"$f":"VLOOKUP($A708,'8.Non-elective admissions - CCG'!$D$5:$N$215,3,0)*$H708","v":10.865373492462728},{"$f":"VLOOKUP($A708,'8.Non-elective admissions - CCG'!$D$5:$N$215,4,0)*$H708","v":10.719288214355359},{"$f":"VLOOKUP($A708,'8.Non-elective admissions - CCG'!$D$5:$N$215,5,0)*$H708","v":11.060903018544899},{"$f":"VLOOKUP($A708,'8.Non-elective admissions - CCG'!$D$5:$N$215,6,0)*$H708","v":10.732773009257578},{"$f":"VLOOKUP($A708,'8.Non-elective admissions - CCG'!$D$5:$N$215,7,0)*$H708","v":9.2005698046946573},{"$f":"VLOOKUP($A708,'8.Non-elective admissions - CCG'!$D$5:$N$215,8,0)*$H708","v":9.3574911302501498},{"$f":"VLOOKUP($A708,'8.Non-elective admissions - CCG'!$D$5:$N$215,9,0)*$H708","v":9.6898918418973654},{"$f":"VLOOKUP($A708,'8.Non-elective admissions - CCG'!$D$5:$N$215,10,0)*$H708","v":9.6034441655785496},{"$f":"VLOOKUP($A708,'8.Non-elective admissions - CCG'!$D$5:$Q$215,11,0)*$H708","v":8.2823570172723233},{"$f":"VLOOKUP($A708,'8.Non-elective admissions - CCG'!$D$5:$Q$215,12,0)*$H708","v":8.4236176638743814},{"$f":"VLOOKUP($A708,'8.Non-elective admissions - CCG'!$D$5:$Q$215,13,0)*$H708","v":8.7228449319546151},{"$f":"VLOOKUP($A708,'8.Non-elective admissions - CCG'!$D$5:$Q$215,14,0)*$H708","v":8.645024695487658}]
["01W","NHS Stockport CCG","E08000003","Manchester",{"$f":"COUNTIF($D$5:D709,D709)","v":8},{"$f":"D709&E709","v":"Manchester8"},{"$f":"B709","v":"NHS Stockport CCG"},1.2126400121627561E-2,6.6303674080124613E-3,{"$f":"VLOOKUP($A709,'8.Non-elective admissions - CCG'!$D$5:$N$215,3,0)*$H709","v":117.25016277601689},{"$f":"VLOOKUP($A709,'8.Non-elective admissions - CCG'!$D$5:$N$215,4,0)*$H709","v":115.6737307602053},{"$f":"VLOOKUP($A709,'8.Non-elective admissions - CCG'!$D$5:$N$215,5,0)*$H709","v":119.36015639718009},{"$f":"VLOOKUP($A709,'8.Non-elective admissions - CCG'!$D$5:$N$215,6,0)*$H709","v":115.81924756166484},{"$f":"VLOOKUP($A709,'8.Non-elective admissions - CCG'!$D$5:$N$215,7,0)*$H709","v":99.284972392425573},{"$f":"VLOOKUP($A709,'8.Non-elective admissions - CCG'!$D$5:$N$215,8,0)*$H709","v":100.9783381084935},{"$f":"VLOOKUP($A709,'8.Non-elective admissions - CCG'!$D$5:$N$215,9,0)*$H709","v":104.56533284682773},{"$f":"VLOOKUP($A709,'8.Non-elective admissions - CCG'!$D$5:$N$215,10,0)*$H709","v":103.63246071619909},{"$f":"VLOOKUP($A709,'8.Non-elective admissions - CCG'!$D$5:$Q$215,11,0)*$H709","v":89.376376165800437},{"$f":"VLOOKUP($A709,'8.Non-elective admissions - CCG'!$D$5:$Q$215,12,0)*$H709","v":90.900744731632642},{"$f":"VLOOKUP($A709,'8.Non-elective admissions - CCG'!$D$5:$Q$215,13,0)*$H709","v":94.129758986298469},{"$f":"VLOOKUP($A709,'8.Non-elective admissions - CCG'!$D$5:$Q$215,14,0)*$H709","v":93.289987081600628}]
["01W","NHS Stockport CCG","E08000007","Stockport",{"$f":"COUNTIF($D$5:D710,D710)","v":4},"Stockport4","NHS Stockport CCG",0.95504076836890173,0.96405157889469029,{"$f":"VLOOKUP($A710,'8.Non-elective admissions - CCG'!$D$5:$N$215,3,0)*$H710","v":9234.2891893589112},{"$f":"VLOOKUP($A710,'8.Non-elective admissions - CCG'!$D$5:$N$215,4,0)*$H710","v":9110.1338894709534},{"$f":"VLOOKUP($A710,'8.Non-elective admissions - CCG'!$D$5:$N$215,5,0)*$H710","v":9400.4662830551006},{"$f":"VLOOKUP($A710,'8.Non-elective admissions - CCG'!$D$5:$N$215,6,0)*$H710","v":9121.5943786913813},{"$f":"VLOOKUP($A710,'8.Non-elective admissions - CCG'!$D$5:$N$215,7,0)*$H710","v":7819.401914013436},{"$f":"VLOOKUP($A710,'8.Non-elective admissions - CCG'!$D$5:$N$215,8,0)*$H710","v":7952.7665794031855},{"$f":"VLOOKUP($A710,'8.Non-elective admissions - CCG'!$D$5:$N$215,9,0)*$H710","v":8235.2680783372434},{"$f":"VLOOKUP($A710,'8.Non-elective admissions - CCG'!$D$5:$N$215,10,0)*$H710","v":8161.7977237811101},{"$f":"VLOOKUP($A710,'8.Non-elective admissions - CCG'!$D$5:$Q$215,11,0)*$H710","v":7039.0290697382661},{"$f":"VLOOKUP($A710,'8.Non-elective admissions - CCG'!$D$5:$Q$215,12,0)*$H710","v":7159.0840004504153},{"$f":"VLOOKUP($A710,'8.Non-elective admissions - CCG'!$D$5:$Q$215,13,0)*$H710","v":7413.391975110605},{"$f":"VLOOKUP($A710,'8.Non-elective admissions - CCG'!$D$5:$Q$215,14,0)*$H710","v":7347.2539294356284}]
["01W","NHS Stockport CCG","E08000008","Tameside",{"$f":"COUNTIF($D$5:D711,D711)","v":4},"Tameside4","NHS Stockport CCG",1.5352174588432823E-2,1.9887056929643918E-2,{"$f":"VLOOKUP($A711,'8.Non-elective admissions - CCG'!$D$5:$N$215,3,0)*$H711","v":148.44017609555698},{"$f":"VLOOKUP($A711,'8.Non-elective admissions - CCG'!$D$5:$N$215,4,0)*$H711","v":146.44439339906069},{"$f":"VLOOKUP($A711,'8.Non-elective admissions - CCG'!$D$5:$N$215,5,0)*$H711","v":151.11145447394426},{"$f":"VLOOKUP($A711,'8.Non-elective admissions - CCG'!$D$5:$N$215,6,0)*$H711","v":146.62861949412189},{"$f":"VLOOKUP($A711,'8.Non-elective admissions - CCG'!$D$5:$N$215,7,0)*$H711","v":125.69601983178437},{"$f":"VLOOKUP($A711,'8.Non-elective admissions - CCG'!$D$5:$N$215,8,0)*$H711","v":127.83984205885865},{"$f":"VLOOKUP($A711,'8.Non-elective admissions - CCG'!$D$5:$N$215,9,0)*$H711","v":132.38102236945076},{"$f":"VLOOKUP($A711,'8.Non-elective admissions - CCG'!$D$5:$N$215,10,0)*$H711","v":131.19999455621283},{"$f":"VLOOKUP($A711,'8.Non-elective admissions - CCG'!$D$5:$Q$215,11,0)*$H711","v":113.15161278008806},{"$f":"VLOOKUP($A711,'8.Non-elective admissions - CCG'!$D$5:$Q$215,12,0)*$H711","v":115.08148249616617},{"$f":"VLOOKUP($A711,'8.Non-elective admissions - CCG'!$D$5:$Q$215,13,0)*$H711","v":119.16945502626231},{"$f":"VLOOKUP($A711,'8.Non-elective admissions - CCG'!$D$5:$Q$215,14,0)*$H711","v":118.10629326629463}]
["05W","NHS Stoke on Trent CCG","E10000028","Staffordshire",{"$f":"COUNTIF($D$5:D712,D712)","v":13},"Staffordshire13","NHS Stoke on Trent CCG",8.8742702488238956E-2,2.8805112732156489E-2,{"$f":"VLOOKUP($A712,'8.Non-elective admissions - CCG'!$D$5:$N$215,3,0)*$H712","v":715.79863827013537},{"$f":"VLOOKUP($A712,'8.Non-elective admissions - CCG'!$D$5:$N$215,4,0)*$H712","v":709.05419288102928},{"$f":"VLOOKUP($A712,'8.Non-elective admissions - CCG'!$D$5:$N$215,5,0)*$H712","v":793.62598835232097},{"$f":"VLOOKUP($A712,'8.Non-elective admissions - CCG'!$D$5:$N$215,6,0)*$H712","v":788.0351980955619},{"$f":"VLOOKUP($A712,'8.Non-elective admissions - CCG'!$D$5:$N$215,7,0)*$H712","v":641.78722439494413},{"$f":"VLOOKUP($A712,'8.Non-elective admissions - CCG'!$D$5:$N$215,8,0)*$H712","v":655.89731409057413},{"$f":"VLOOKUP($A712,'8.Non-elective admissions - CCG'!$D$5:$N$215,9,0)*$H712","v":659.26953678512723},{"$f":"VLOOKUP($A712,'8.Non-elective admissions - CCG'!$D$5:$N$215,10,0)*$H712","v":675.5981940429632},{"$f":"VLOOKUP($A712,'8.Non-elective admissions - CCG'!$D$5:$Q$215,11,0)*$H712","v":603.00666340758369},{"$f":"VLOOKUP($A712,'8.Non-elective admissions - CCG'!$D$5:$Q$215,12,0)*$H712","v":616.93926769823724},{"$f":"VLOOKUP($A712,'8.Non-elective admissions - CCG'!$D$5:$Q$215,13,0)*$H712","v":620.1340049878138},{"$f":"VLOOKUP($A712,'8.Non-elective admissions - CCG'!$D$5:$Q$215,14,0)*$H712","v":635.04277900583793}]
["05W","NHS Stoke on Trent CCG","E06000021","Stoke-on-Trent",{"$f":"COUNTIF($D$5:D713,D713)","v":3},"Stoke-on-Trent3","NHS Stoke on Trent CCG",0.91125729751176088,0.97031021319613142,{"$f":"VLOOKUP($A713,'8.Non-elective admissions - CCG'!$D$5:$N$215,3,0)*$H713","v":7350.2013617298635},{"$f":"VLOOKUP($A713,'8.Non-elective admissions - CCG'!$D$5:$N$215,4,0)*$H713","v":7280.9458071189692},{"$f":"VLOOKUP($A713,'8.Non-elective admissions - CCG'!$D$5:$N$215,5,0)*$H713","v":8149.3740116476774},{"$f":"VLOOKUP($A713,'8.Non-elective admissions - CCG'!$D$5:$N$215,6,0)*$H713","v":8091.9648019044362},{"$f":"VLOOKUP($A713,'8.Non-elective admissions - CCG'!$D$5:$N$215,7,0)*$H713","v":6590.212775605055},{"$f":"VLOOKUP($A713,'8.Non-elective admissions - CCG'!$D$5:$N$215,8,0)*$H713","v":6735.1026859094245},{"$f":"VLOOKUP($A713,'8.Non-elective admissions - CCG'!$D$5:$N$215,9,0)*$H713","v":6769.7304632148716},{"$f":"VLOOKUP($A713,'8.Non-elective admissions - CCG'!$D$5:$N$215,10,0)*$H713","v":6937.4018059570353},{"$f":"VLOOKUP($A713,'8.Non-elective admissions - CCG'!$D$5:$Q$215,11,0)*$H713","v":6191.9933365924153},{"$f":"VLOOKUP($A713,'8.Non-elective admissions - CCG'!$D$5:$Q$215,12,0)*$H713","v":6335.0607323017621},{"$f":"VLOOKUP($A713,'8.Non-elective admissions - CCG'!$D$5:$Q$215,13,0)*$H713","v":6367.8659950121846},{"$f":"VLOOKUP($A713,'8.Non-elective admissions - CCG'!$D$5:$Q$215,14,0)*$H713","v":6520.9572209941607}]
["00P","NHS Sunderland CCG","E06000047","County Durham",{"$f":"COUNTIF($D$5:D714,D714)","v":5},"County Durham5","NHS Sunderland CCG",1.2057710551466568E-2,6.4439644611307759E-3,{"$f":"VLOOKUP($A714,'8.Non-elective admissions - CCG'!$D$5:$N$215,3,0)*$H714","v":106.20431453731753},{"$f":"VLOOKUP($A714,'8.Non-elective admissions - CCG'!$D$5:$N$215,4,0)*$H714","v":84.705416624052646},{"$f":"VLOOKUP($A714,'8.Non-elective admissions - CCG'!$D$5:$N$215,5,0)*$H714","v":86.092053337471299},{"$f":"VLOOKUP($A714,'8.Non-elective admissions - CCG'!$D$5:$N$215,6,0)*$H714","v":94.640970118461098},{"$f":"VLOOKUP($A714,'8.Non-elective admissions - CCG'!$D$5:$N$215,7,0)*$H714","v":94.460104460189086},{"$f":"VLOOKUP($A714,'8.Non-elective admissions - CCG'!$D$5:$N$215,8,0)*$H714","v":93.326679668351233},{"$f":"VLOOKUP($A714,'8.Non-elective admissions - CCG'!$D$5:$N$215,9,0)*$H714","v":94.170719406953893},{"$f":"VLOOKUP($A714,'8.Non-elective admissions - CCG'!$D$5:$N$215,10,0)*$H714","v":90.818675873646185},{"$f":"VLOOKUP($A714,'8.Non-elective admissions - CCG'!$D$5:$Q$215,11,0)*$H714","v":93.76075724820403},{"$f":"VLOOKUP($A714,'8.Non-elective admissions - CCG'!$D$5:$Q$215,12,0)*$H714","v":92.591159324711768},{"$f":"VLOOKUP($A714,'8.Non-elective admissions - CCG'!$D$5:$Q$215,13,0)*$H714","v":93.435199063314428},{"$f":"VLOOKUP($A714,'8.Non-elective admissions - CCG'!$D$5:$Q$215,14,0)*$H714","v":90.095213240558195}]
["00P","NHS Sunderland CCG","E08000023","South Tyneside",{"$f":"COUNTIF($D$5:D715,D715)","v":3},"South Tyneside3","NHS Sunderland CCG",3.4984641319259538E-3,6.4073581273979144E-3,{"$f":"VLOOKUP($A715,'8.Non-elective admissions - CCG'!$D$5:$N$215,3,0)*$H715","v":30.814472074003803},{"$f":"VLOOKUP($A715,'8.Non-elective admissions - CCG'!$D$5:$N$215,4,0)*$H715","v":24.576710526779827},{"$f":"VLOOKUP($A715,'8.Non-elective admissions - CCG'!$D$5:$N$215,5,0)*$H715","v":24.979033901951311},{"$f":"VLOOKUP($A715,'8.Non-elective admissions - CCG'!$D$5:$N$215,6,0)*$H715","v":27.459444971486811},{"$f":"VLOOKUP($A715,'8.Non-elective admissions - CCG'!$D$5:$N$215,7,0)*$H715","v":27.406968009507921},{"$f":"VLOOKUP($A715,'8.Non-elective admissions - CCG'!$D$5:$N$215,8,0)*$H715","v":27.078112381106884},{"$f":"VLOOKUP($A715,'8.Non-elective admissions - CCG'!$D$5:$N$215,9,0)*$H715","v":27.323004870341698},{"$f":"VLOOKUP($A715,'8.Non-elective admissions - CCG'!$D$5:$N$215,10,0)*$H715","v":26.350431841666285},{"$f":"VLOOKUP($A715,'8.Non-elective admissions - CCG'!$D$5:$Q$215,11,0)*$H715","v":27.204057089856217},{"$f":"VLOOKUP($A715,'8.Non-elective admissions - CCG'!$D$5:$Q$215,12,0)*$H715","v":26.864706069059398},{"$f":"VLOOKUP($A715,'8.Non-elective admissions - CCG'!$D$5:$Q$215,13,0)*$H715","v":27.109598558294216},{"$f":"VLOOKUP($A715,'8.Non-elective admissions - CCG'!$D$5:$Q$215,14,0)*$H715","v":26.140523993750726}]
["00P","NHS Sunderland CCG","E08000024","Sunderland",{"$f":"COUNTIF($D$5:D716,D716)","v":5},"Sunderland5","NHS Sunderland CCG",0.98444382531660757,0.96312653323166408,{"$f":"VLOOKUP($A716,'8.Non-elective admissions - CCG'!$D$5:$N$215,3,0)*$H716","v":8670.981213388679},{"$f":"VLOOKUP($A716,'8.Non-elective admissions - CCG'!$D$5:$N$215,4,0)*$H716","v":6915.7178728491681},{"$f":"VLOOKUP($A716,'8.Non-elective admissions - CCG'!$D$5:$N$215,5,0)*$H716","v":7028.928912760578},{"$f":"VLOOKUP($A716,'8.Non-elective admissions - CCG'!$D$5:$N$215,6,0)*$H716","v":7726.8995849100529},{"$f":"VLOOKUP($A716,'8.Non-elective admissions - CCG'!$D$5:$N$215,7,0)*$H716","v":7712.1329275303033},{"$f":"VLOOKUP($A716,'8.Non-elective admissions - CCG'!$D$5:$N$215,8,0)*$H716","v":7619.5952079505423},{"$f":"VLOOKUP($A716,'8.Non-elective admissions - CCG'!$D$5:$N$215,9,0)*$H716","v":7688.5062757227051},{"$f":"VLOOKUP($A716,'8.Non-elective admissions - CCG'!$D$5:$N$215,10,0)*$H716","v":7414.8308922846882},{"$f":"VLOOKUP($A716,'8.Non-elective admissions - CCG'!$D$5:$Q$215,11,0)*$H716","v":7655.0351856619409},{"$f":"VLOOKUP($A716,'8.Non-elective admissions - CCG'!$D$5:$Q$215,12,0)*$H716","v":7559.5441346062298},{"$f":"VLOOKUP($A716,'8.Non-elective admissions - CCG'!$D$5:$Q$215,13,0)*$H716","v":7628.4552023783917},{"$f":"VLOOKUP($A716,'8.Non-elective admissions - CCG'!$D$5:$Q$215,14,0)*$H716","v":7355.7642627656915}]
["99H","NHS Surrey Downs CCG","E09000021","Kingston upon Thames",{"$f":"COUNTIF($D$5:D717,D717)","v":4},"Kingston upon Thames4","NHS Surrey Downs CCG",9.2394143570921471E-3,1.5536047120566257E-2,{"$f":"VLOOKUP($A717,'8.Non-elective admissions - CCG'!$D$5:$N$215,3,0)*$H717","v":50.049907572368163},{"$f":"VLOOKUP($A717,'8.Non-elective admissions - CCG'!$D$5:$N$215,4,0)*$H717","v":50.511878290222768},{"$f":"VLOOKUP($A717,'8.Non-elective admissions - CCG'!$D$5:$N$215,5,0)*$H717","v":55.612035015337632},{"$f":"VLOOKUP($A717,'8.Non-elective admissions - CCG'!$D$5:$N$215,6,0)*$H717","v":57.847973289753931},{"$f":"VLOOKUP($A717,'8.Non-elective admissions - CCG'!$D$5:$N$215,7,0)*$H717","v":53.496209127563532},{"$f":"VLOOKUP($A717,'8.Non-elective admissions - CCG'!$D$5:$N$215,8,0)*$H717","v":51.546692698217086},{"$f":"VLOOKUP($A717,'8.Non-elective admissions - CCG'!$D$5:$N$215,9,0)*$H717","v":53.801109801347572},{"$f":"VLOOKUP($A717,'8.Non-elective admissions - CCG'!$D$5:$N$215,10,0)*$H717","v":52.19345170321354},{"$f":"VLOOKUP($A717,'8.Non-elective admissions - CCG'!$D$5:$Q$215,11,0)*$H717","v":47.795490469237677},{"$f":"VLOOKUP($A717,'8.Non-elective admissions - CCG'!$D$5:$Q$215,12,0)*$H717","v":50.151541130296174},{"$f":"VLOOKUP($A717,'8.Non-elective admissions - CCG'!$D$5:$Q$215,13,0)*$H717","v":52.479873548283393},{"$f":"VLOOKUP($A717,'8.Non-elective admissions - CCG'!$D$5:$Q$215,14,0)*$H717","v":51.574410941288363}]
["99H","NHS Surrey Downs CCG","E09000027","Richmond upon Thames",{"$f":"COUNTIF($D$5:D718,D718)","v":5},"Richmond upon Thames5","NHS Surrey Downs CCG",0,9.9927195900129931E-4,{"$f":"VLOOKUP($A718,'8.Non-elective admissions - CCG'!$D$5:$N$215,3,0)*$H718","v":0},{"$f":"VLOOKUP($A718,'8.Non-elective admissions - CCG'!$D$5:$N$215,4,0)*$H718","v":0},{"$f":"VLOOKUP($A718,'8.Non-elective admissions - CCG'!$D$5:$N$215,5,0)*$H718","v":0},{"$f":"VLOOKUP($A718,'8.Non-elective admissions - CCG'!$D$5:$N$215,6,0)*$H718","v":0},{"$f":"VLOOKUP($A718,'8.Non-elective admissions - CCG'!$D$5:$N$215,7,0)*$H718","v":0},{"$f":"VLOOKUP($A718,'8.Non-elective admissions - CCG'!$D$5:$N$215,8,0)*$H718","v":0},{"$f":"VLOOKUP($A718,'8.Non-elective admissions - CCG'!$D$5:$N$215,9,0)*$H718","v":0},{"$f":"VLOOKUP($A718,'8.Non-elective admissions - CCG'!$D$5:$N$215,10,0)*$H718","v":0},{"$f":"VLOOKUP($A718,'8.Non-elective admissions - CCG'!$D$5:$Q$215,11,0)*$H718","v":0},{"$f":"VLOOKUP($A718,'8.Non-elective admissions - CCG'!$D$5:$Q$215,12,0)*$H718","v":0},{"$f":"VLOOKUP($A718,'8.Non-elective admissions - CCG'!$D$5:$Q$215,13,0)*$H718","v":0},{"$f":"VLOOKUP($A718,'8.Non-elective admissions - CCG'!$D$5:$Q$215,14,0)*$H718","v":0}]
["99H","NHS Surrey Downs CCG","E10000030","Surrey",{"$f":"COUNTIF($D$5:D719,D719)","v":17},"Surrey17","NHS Surrey Downs CCG",0.97165887506195336,0.23926459795327668,{"$f":"VLOOKUP($A719,'8.Non-elective admissions - CCG'!$D$5:$N$215,3,0)*$H719","v":5263.4761262106013},{"$f":"VLOOKUP($A719,'8.Non-elective admissions - CCG'!$D$5:$N$215,4,0)*$H719","v":5312.0590699636987},{"$f":"VLOOKUP($A719,'8.Non-elective admissions - CCG'!$D$5:$N$215,5,0)*$H719","v":5848.4147689978972},{"$f":"VLOOKUP($A719,'8.Non-elective admissions - CCG'!$D$5:$N$215,6,0)*$H719","v":6083.5562167628896},{"$f":"VLOOKUP($A719,'8.Non-elective admissions - CCG'!$D$5:$N$215,7,0)*$H719","v":5625.9048866087096},{"$f":"VLOOKUP($A719,'8.Non-elective admissions - CCG'!$D$5:$N$215,8,0)*$H719","v":5420.8848639706375},{"$f":"VLOOKUP($A719,'8.Non-elective admissions - CCG'!$D$5:$N$215,9,0)*$H719","v":5657.969629485754},{"$f":"VLOOKUP($A719,'8.Non-elective admissions - CCG'!$D$5:$N$215,10,0)*$H719","v":5488.9009852249746},{"$f":"VLOOKUP($A719,'8.Non-elective admissions - CCG'!$D$5:$Q$215,11,0)*$H719","v":5026.3913606954848},{"$f":"VLOOKUP($A719,'8.Non-elective admissions - CCG'!$D$5:$Q$215,12,0)*$H719","v":5274.1643738362827},{"$f":"VLOOKUP($A719,'8.Non-elective admissions - CCG'!$D$5:$Q$215,13,0)*$H719","v":5519.0224103518949},{"$f":"VLOOKUP($A719,'8.Non-elective admissions - CCG'!$D$5:$Q$215,14,0)*$H719","v":5423.7998405958233}]
["99H","NHS Surrey Downs CCG","E09000029","Sutton",{"$f":"COUNTIF($D$5:D720,D720)","v":5},"Sutton5","NHS Surrey Downs CCG",1.3957911939238879E-2,2.0326154806491883E-2,{"$f":"VLOOKUP($A720,'8.Non-elective admissions - CCG'!$D$5:$N$215,3,0)*$H720","v":75.61000897485701},{"$f":"VLOOKUP($A720,'8.Non-elective admissions - CCG'!$D$5:$N$215,4,0)*$H720","v":76.307904571818952},{"$f":"VLOOKUP($A720,'8.Non-elective admissions - CCG'!$D$5:$N$215,5,0)*$H720","v":84.012671962278816},{"$f":"VLOOKUP($A720,'8.Non-elective admissions - CCG'!$D$5:$N$215,6,0)*$H720","v":87.390486651574619},{"$f":"VLOOKUP($A720,'8.Non-elective admissions - CCG'!$D$5:$N$215,7,0)*$H720","v":80.816310128193109},{"$f":"VLOOKUP($A720,'8.Non-elective admissions - CCG'!$D$5:$N$215,8,0)*$H720","v":77.871190709013703},{"$f":"VLOOKUP($A720,'8.Non-elective admissions - CCG'!$D$5:$N$215,9,0)*$H720","v":81.276921222187994},{"$f":"VLOOKUP($A720,'8.Non-elective admissions - CCG'!$D$5:$N$215,10,0)*$H720","v":78.848244544760433},{"$f":"VLOOKUP($A720,'8.Non-elective admissions - CCG'!$D$5:$Q$215,11,0)*$H720","v":72.204278461682719},{"$f":"VLOOKUP($A720,'8.Non-elective admissions - CCG'!$D$5:$Q$215,12,0)*$H720","v":75.763546006188633},{"$f":"VLOOKUP($A720,'8.Non-elective admissions - CCG'!$D$5:$Q$215,13,0)*$H720","v":79.280939814876831},{"$f":"VLOOKUP($A720,'8.Non-elective admissions - CCG'!$D$5:$Q$215,14,0)*$H720","v":77.91306444483142}]
["99H","NHS Surrey Downs CCG","E10000032","West Sussex",{"$f":"COUNTIF($D$5:D721,D721)","v":9},"West Sussex9","NHS Surrey Downs CCG",5.1437986417156717E-3,1.7940215632982429E-3,{"$f":"VLOOKUP($A721,'8.Non-elective admissions - CCG'!$D$5:$N$215,3,0)*$H721","v":27.863957242173793},{"$f":"VLOOKUP($A721,'8.Non-elective admissions - CCG'!$D$5:$N$215,4,0)*$H721","v":28.121147174259576},{"$f":"VLOOKUP($A721,'8.Non-elective admissions - CCG'!$D$5:$N$215,5,0)*$H721","v":30.960524024486627},{"$f":"VLOOKUP($A721,'8.Non-elective admissions - CCG'!$D$5:$N$215,6,0)*$H721","v":32.205323295781824},{"$f":"VLOOKUP($A721,'8.Non-elective admissions - CCG'!$D$5:$N$215,7,0)*$H721","v":29.782594135533738},{"$f":"VLOOKUP($A721,'8.Non-elective admissions - CCG'!$D$5:$N$215,8,0)*$H721","v":28.697252622131732},{"$f":"VLOOKUP($A721,'8.Non-elective admissions - CCG'!$D$5:$N$215,9,0)*$H721","v":29.952339490710358},{"$f":"VLOOKUP($A721,'8.Non-elective admissions - CCG'!$D$5:$N$215,10,0)*$H721","v":29.05731852705183},{"$f":"VLOOKUP($A721,'8.Non-elective admissions - CCG'!$D$5:$Q$215,11,0)*$H721","v":26.60887037359517},{"$f":"VLOOKUP($A721,'8.Non-elective admissions - CCG'!$D$5:$Q$215,12,0)*$H721","v":27.920539027232667},{"$f":"VLOOKUP($A721,'8.Non-elective admissions - CCG'!$D$5:$Q$215,13,0)*$H721","v":29.216776284945016},{"$f":"VLOOKUP($A721,'8.Non-elective admissions - CCG'!$D$5:$Q$215,14,0)*$H721","v":28.71268401805688}]
["10C","NHS Surrey Heath CCG","E06000036","Bracknell Forest",{"$f":"COUNTIF($D$5:D722,D722)","v":3},"Bracknell Forest3","NHS Surrey Heath CCG",1.2230053747867788E-3,9.5462196132943674E-4,{"$f":"VLOOKUP($A722,'8.Non-elective admissions - CCG'!$D$5:$N$215,3,0)*$H722","v":2.2698979756042612},{"$f":"VLOOKUP($A722,'8.Non-elective admissions - CCG'!$D$5:$N$215,4,0)*$H722","v":2.2955810884747838},{"$f":"VLOOKUP($A722,'8.Non-elective admissions - CCG'!$D$5:$N$215,5,0)*$H722","v":2.4655788355701458},{"$f":"VLOOKUP($A722,'8.Non-elective admissions - CCG'!$D$5:$N$215,6,0)*$H722","v":2.3616233787132699},{"$f":"VLOOKUP($A722,'8.Non-elective admissions - CCG'!$D$5:$N$215,7,0)*$H722","v":2.3016961153487174},{"$f":"VLOOKUP($A722,'8.Non-elective admissions - CCG'!$D$5:$N$215,8,0)*$H722","v":2.2833510347269161},{"$f":"VLOOKUP($A722,'8.Non-elective admissions - CCG'!$D$5:$N$215,9,0)*$H722","v":2.3824144700846448},{"$f":"VLOOKUP($A722,'8.Non-elective admissions - CCG'!$D$5:$N$215,10,0)*$H722","v":2.2625599433555408},{"$f":"VLOOKUP($A722,'8.Non-elective admissions - CCG'!$D$5:$Q$215,11,0)*$H722","v":2.1720575456213189},{"$f":"VLOOKUP($A722,'8.Non-elective admissions - CCG'!$D$5:$Q$215,12,0)*$H722","v":2.1561584757490908},{"$f":"VLOOKUP($A722,'8.Non-elective admissions - CCG'!$D$5:$Q$215,13,0)*$H722","v":2.2552219111068199},{"$f":"VLOOKUP($A722,'8.Non-elective admissions - CCG'!$D$5:$Q$215,14,0)*$H722","v":2.1671655241221721}]
["10C","NHS Surrey Heath CCG","E10000014","Hampshire",{"$f":"COUNTIF($D$5:D723,D723)","v":13},"Hampshire13","NHS Surrey Heath CCG",6.6085202707776803E-3,0,{"$f":"VLOOKUP($A723,'8.Non-elective admissions - CCG'!$D$5:$N$215,3,0)*$H723","v":12.265413622563374},{"$f":"VLOOKUP($A723,'8.Non-elective admissions - CCG'!$D$5:$N$215,4,0)*$H723","v":12.404192548249705},{"$f":"VLOOKUP($A723,'8.Non-elective admissions - CCG'!$D$5:$N$215,5,0)*$H723","v":13.322776865887803},{"$f":"VLOOKUP($A723,'8.Non-elective admissions - CCG'!$D$5:$N$215,6,0)*$H723","v":12.7610526428717},{"$f":"VLOOKUP($A723,'8.Non-elective admissions - CCG'!$D$5:$N$215,7,0)*$H723","v":12.437235149603595},{"$f":"VLOOKUP($A723,'8.Non-elective admissions - CCG'!$D$5:$N$215,8,0)*$H723","v":12.338107345541928},{"$f":"VLOOKUP($A723,'8.Non-elective admissions - CCG'!$D$5:$N$215,9,0)*$H723","v":12.873397487474922},{"$f":"VLOOKUP($A723,'8.Non-elective admissions - CCG'!$D$5:$N$215,10,0)*$H723","v":12.225762500938709},{"$f":"VLOOKUP($A723,'8.Non-elective admissions - CCG'!$D$5:$Q$215,11,0)*$H723","v":11.73673200090116},{"$f":"VLOOKUP($A723,'8.Non-elective admissions - CCG'!$D$5:$Q$215,12,0)*$H723","v":11.65082123738105},{"$f":"VLOOKUP($A723,'8.Non-elective admissions - CCG'!$D$5:$Q$215,13,0)*$H723","v":12.186111379314042},{"$f":"VLOOKUP($A723,'8.Non-elective admissions - CCG'!$D$5:$Q$215,14,0)*$H723","v":11.71029791981805}]
["10C","NHS Surrey Heath CCG","E10000030","Surrey",{"$f":"COUNTIF($D$5:D724,D724)","v":18},"Surrey18","NHS Surrey Heath CCG",0.99216847435443556,7.6263946498222934E-2,{"$f":"VLOOKUP($A724,'8.Non-elective admissions - CCG'!$D$5:$N$215,3,0)*$H724","v":1841.4646884018323},{"$f":"VLOOKUP($A724,'8.Non-elective admissions - CCG'!$D$5:$N$215,4,0)*$H724","v":1862.3002263632754},{"$f":"VLOOKUP($A724,'8.Non-elective admissions - CCG'!$D$5:$N$215,5,0)*$H724","v":2000.2116442985421},{"$f":"VLOOKUP($A724,'8.Non-elective admissions - CCG'!$D$5:$N$215,6,0)*$H724","v":1915.877323978415},{"$f":"VLOOKUP($A724,'8.Non-elective admissions - CCG'!$D$5:$N$215,7,0)*$H724","v":1867.2610687350477},{"$f":"VLOOKUP($A724,'8.Non-elective admissions - CCG'!$D$5:$N$215,8,0)*$H724","v":1852.3785416197311},{"$f":"VLOOKUP($A724,'8.Non-elective admissions - CCG'!$D$5:$N$215,9,0)*$H724","v":1932.7441880424406},{"$f":"VLOOKUP($A724,'8.Non-elective admissions - CCG'!$D$5:$N$215,10,0)*$H724","v":1835.5116775557058},{"$f":"VLOOKUP($A724,'8.Non-elective admissions - CCG'!$D$5:$Q$215,11,0)*$H724","v":1762.0912104534775},{"$f":"VLOOKUP($A724,'8.Non-elective admissions - CCG'!$D$5:$Q$215,12,0)*$H724","v":1749.1930202868698},{"$f":"VLOOKUP($A724,'8.Non-elective admissions - CCG'!$D$5:$Q$215,13,0)*$H724","v":1829.5586667095793},{"$f":"VLOOKUP($A724,'8.Non-elective admissions - CCG'!$D$5:$Q$215,14,0)*$H724","v":1758.1225365560599}]
["08T","NHS Sutton CCG","E09000008","Croydon",{"$f":"COUNTIF($D$5:D725,D725)","v":6},"Croydon6","NHS Sutton CCG",7.5977271024837067E-3,3.5806955122790114E-3,{"$f":"VLOOKUP($A725,'8.Non-elective admissions - CCG'!$D$5:$N$215,3,0)*$H725","v":29.418399340816912},{"$f":"VLOOKUP($A725,'8.Non-elective admissions - CCG'!$D$5:$N$215,4,0)*$H725","v":29.843872058555998},{"$f":"VLOOKUP($A725,'8.Non-elective admissions - CCG'!$D$5:$N$215,5,0)*$H725","v":33.604746974285433},{"$f":"VLOOKUP($A725,'8.Non-elective admissions - CCG'!$D$5:$N$215,6,0)*$H725","v":32.411903819195494},{"$f":"VLOOKUP($A725,'8.Non-elective admissions - CCG'!$D$5:$N$215,7,0)*$H725","v":28.92454707915547},{"$f":"VLOOKUP($A725,'8.Non-elective admissions - CCG'!$D$5:$N$215,8,0)*$H725","v":29.327226615587108},{"$f":"VLOOKUP($A725,'8.Non-elective admissions - CCG'!$D$5:$N$215,9,0)*$H725","v":31.454590204282546},{"$f":"VLOOKUP($A725,'8.Non-elective admissions - CCG'!$D$5:$N$215,10,0)*$H725","v":30.482081135164631},{"$f":"VLOOKUP($A725,'8.Non-elective admissions - CCG'!$D$5:$Q$215,11,0)*$H725","v":27.822876649295335},{"$f":"VLOOKUP($A725,'8.Non-elective admissions - CCG'!$D$5:$Q$215,12,0)*$H725","v":28.225556185726969},{"$f":"VLOOKUP($A725,'8.Non-elective admissions - CCG'!$D$5:$Q$215,13,0)*$H725","v":30.269344776295089},{"$f":"VLOOKUP($A725,'8.Non-elective admissions - CCG'!$D$5:$Q$215,14,0)*$H725","v":29.319628888484623}]
["08T","NHS Sutton CCG","E09000021","Kingston upon Thames",{"$f":"COUNTIF($D$5:D726,D726)","v":5},"Kingston upon Thames5","NHS Sutton CCG",1.0808034328885273E-3,1.1374706481893382E-3,{"$f":"VLOOKUP($A726,'8.Non-elective admissions - CCG'!$D$5:$N$215,3,0)*$H726","v":4.184870892144378},{"$f":"VLOOKUP($A726,'8.Non-elective admissions - CCG'!$D$5:$N$215,4,0)*$H726","v":4.2453958843861352},{"$f":"VLOOKUP($A726,'8.Non-elective admissions - CCG'!$D$5:$N$215,5,0)*$H726","v":4.7803935836659566},{"$f":"VLOOKUP($A726,'8.Non-elective admissions - CCG'!$D$5:$N$215,6,0)*$H726","v":4.6107074447024576},{"$f":"VLOOKUP($A726,'8.Non-elective admissions - CCG'!$D$5:$N$215,7,0)*$H726","v":4.1146186690066235},{"$f":"VLOOKUP($A726,'8.Non-elective admissions - CCG'!$D$5:$N$215,8,0)*$H726","v":4.1719012509497153},{"$f":"VLOOKUP($A726,'8.Non-elective admissions - CCG'!$D$5:$N$215,9,0)*$H726","v":4.4745262121585032},{"$f":"VLOOKUP($A726,'8.Non-elective admissions - CCG'!$D$5:$N$215,10,0)*$H726","v":4.3361833727487715},{"$f":"VLOOKUP($A726,'8.Non-elective admissions - CCG'!$D$5:$Q$215,11,0)*$H726","v":3.9579021712377869},{"$f":"VLOOKUP($A726,'8.Non-elective admissions - CCG'!$D$5:$Q$215,12,0)*$H726","v":4.0151847531808791},{"$f":"VLOOKUP($A726,'8.Non-elective admissions - CCG'!$D$5:$Q$215,13,0)*$H726","v":4.3059208766278925},{"$f":"VLOOKUP($A726,'8.Non-elective admissions - CCG'!$D$5:$Q$215,14,0)*$H726","v":4.1708204475168271}]
["08T","NHS Sutton CCG","E09000024","Merton",{"$f":"COUNTIF($D$5:D727,D727)","v":5},"Merton5","NHS Sutton CCG",3.3991803015548584E-2,2.7634234610432538E-2,{"$f":"VLOOKUP($A727,'8.Non-elective admissions - CCG'!$D$5:$N$215,3,0)*$H727","v":131.61626127620411},{"$f":"VLOOKUP($A727,'8.Non-elective admissions - CCG'!$D$5:$N$215,4,0)*$H727","v":133.51980224507483},{"$f":"VLOOKUP($A727,'8.Non-elective admissions - CCG'!$D$5:$N$215,5,0)*$H727","v":150.34574473777138},{"$f":"VLOOKUP($A727,'8.Non-elective admissions - CCG'!$D$5:$N$215,6,0)*$H727","v":145.00903166433025},{"$f":"VLOOKUP($A727,'8.Non-elective admissions - CCG'!$D$5:$N$215,7,0)*$H727","v":129.40679408019346},{"$f":"VLOOKUP($A727,'8.Non-elective admissions - CCG'!$D$5:$N$215,8,0)*$H727","v":131.20835964001753},{"$f":"VLOOKUP($A727,'8.Non-elective admissions - CCG'!$D$5:$N$215,9,0)*$H727","v":140.72606448437114},{"$f":"VLOOKUP($A727,'8.Non-elective admissions - CCG'!$D$5:$N$215,10,0)*$H727","v":136.37511369838091},{"$f":"VLOOKUP($A727,'8.Non-elective admissions - CCG'!$D$5:$Q$215,11,0)*$H727","v":124.47798264293891},{"$f":"VLOOKUP($A727,'8.Non-elective admissions - CCG'!$D$5:$Q$215,12,0)*$H727","v":126.279548202763},{"$f":"VLOOKUP($A727,'8.Non-elective admissions - CCG'!$D$5:$Q$215,13,0)*$H727","v":135.42334321394557},{"$f":"VLOOKUP($A727,'8.Non-elective admissions - CCG'!$D$5:$Q$215,14,0)*$H727","v":131.17436783700199}]
["08T","NHS Sutton CCG","E10000030","Surrey",{"$f":"COUNTIF($D$5:D728,D728)","v":19},"Surrey19","NHS Sutton CCG",1.1701569840233709E-2,1.8034584841712916E-3,{"$f":"VLOOKUP($A728,'8.Non-elective admissions - CCG'!$D$5:$N$215,3,0)*$H728","v":45.308478421384919},{"$f":"VLOOKUP($A728,'8.Non-elective admissions - CCG'!$D$5:$N$215,4,0)*$H728","v":45.963766332438013},{"$f":"VLOOKUP($A728,'8.Non-elective admissions - CCG'!$D$5:$N$215,5,0)*$H728","v":51.756043403353694},{"$f":"VLOOKUP($A728,'8.Non-elective admissions - CCG'!$D$5:$N$215,6,0)*$H728","v":49.918896938437001},{"$f":"VLOOKUP($A728,'8.Non-elective admissions - CCG'!$D$5:$N$215,7,0)*$H728","v":44.547876381769733},{"$f":"VLOOKUP($A728,'8.Non-elective admissions - CCG'!$D$5:$N$215,8,0)*$H728","v":45.168059583302117},{"$f":"VLOOKUP($A728,'8.Non-elective admissions - CCG'!$D$5:$N$215,9,0)*$H728","v":48.444499138567558},{"$f":"VLOOKUP($A728,'8.Non-elective admissions - CCG'!$D$5:$N$215,10,0)*$H728","v":46.946698199017639},{"$f":"VLOOKUP($A728,'8.Non-elective admissions - CCG'!$D$5:$Q$215,11,0)*$H728","v":42.851148754935842},{"$f":"VLOOKUP($A728,'8.Non-elective admissions - CCG'!$D$5:$Q$215,12,0)*$H728","v":43.471331956468227},{"$f":"VLOOKUP($A728,'8.Non-elective admissions - CCG'!$D$5:$Q$215,13,0)*$H728","v":46.619054243491099},{"$f":"VLOOKUP($A728,'8.Non-elective admissions - CCG'!$D$5:$Q$215,14,0)*$H728","v":45.156358013461883}]
["08T","NHS Sutton CCG","E09000029","Sutton",{"$f":"COUNTIF($D$5:D729,D729)","v":6},"Sutton6","NHS Sutton CCG",0.94562809660884539,0.86189138576779023,{"$f":"VLOOKUP($A729,'8.Non-elective admissions - CCG'!$D$5:$N$215,3,0)*$H729","v":3661.4719900694495},{"$f":"VLOOKUP($A729,'8.Non-elective admissions - CCG'!$D$5:$N$215,4,0)*$H729","v":3714.4271634795446},{"$f":"VLOOKUP($A729,'8.Non-elective admissions - CCG'!$D$5:$N$215,5,0)*$H729","v":4182.513071300923},{"$f":"VLOOKUP($A729,'8.Non-elective admissions - CCG'!$D$5:$N$215,6,0)*$H729","v":4034.0494601333344},{"$f":"VLOOKUP($A729,'8.Non-elective admissions - CCG'!$D$5:$N$215,7,0)*$H729","v":3600.0061637898743},{"$f":"VLOOKUP($A729,'8.Non-elective admissions - CCG'!$D$5:$N$215,8,0)*$H729","v":3650.1244529101432},{"$f":"VLOOKUP($A729,'8.Non-elective admissions - CCG'!$D$5:$N$215,9,0)*$H729","v":3914.90031996062},{"$f":"VLOOKUP($A729,'8.Non-elective admissions - CCG'!$D$5:$N$215,10,0)*$H729","v":3793.8599235946876},{"$f":"VLOOKUP($A729,'8.Non-elective admissions - CCG'!$D$5:$Q$215,11,0)*$H729","v":3462.890089781592},{"$f":"VLOOKUP($A729,'8.Non-elective admissions - CCG'!$D$5:$Q$215,12,0)*$H729","v":3513.0083789018609},{"$f":"VLOOKUP($A729,'8.Non-elective admissions - CCG'!$D$5:$Q$215,13,0)*$H729","v":3767.3823368896401},{"$f":"VLOOKUP($A729,'8.Non-elective admissions - CCG'!$D$5:$Q$215,14,0)*$H729","v":3649.1788248135344}]
["10D","NHS Swale CCG","E10000016","Kent",{"$f":"COUNTIF($D$5:D730,D730)","v":12},"Kent12","NHS Swale CCG",0.99797383564939035,7.0317608183066843E-2,{"$f":"VLOOKUP($A730,'8.Non-elective admissions - CCG'!$D$5:$N$215,3,0)*$H730","v":2300.3296911718448},{"$f":"VLOOKUP($A730,'8.Non-elective admissions - CCG'!$D$5:$N$215,4,0)*$H730","v":2302.3256388431437},{"$f":"VLOOKUP($A730,'8.Non-elective admissions - CCG'!$D$5:$N$215,5,0)*$H730","v":2326.2770108987288},{"$f":"VLOOKUP($A730,'8.Non-elective admissions - CCG'!$D$5:$N$215,6,0)*$H730","v":2231.469496512037},{"$f":"VLOOKUP($A730,'8.Non-elective admissions - CCG'!$D$5:$N$215,7,0)*$H730","v":2189.5545954147624},{"$f":"VLOOKUP($A730,'8.Non-elective admissions - CCG'!$D$5:$N$215,8,0)*$H730","v":2095.7450548637198},{"$f":"VLOOKUP($A730,'8.Non-elective admissions - CCG'!$D$5:$N$215,9,0)*$H730","v":2050.8362322594971},{"$f":"VLOOKUP($A730,'8.Non-elective admissions - CCG'!$D$5:$N$215,10,0)*$H730","v":2001.935514312677},{"$f":"VLOOKUP($A730,'8.Non-elective admissions - CCG'!$D$5:$Q$215,11,0)*$H730","v":2199.5343337712561},{"$f":"VLOOKUP($A730,'8.Non-elective admissions - CCG'!$D$5:$Q$215,12,0)*$H730","v":2110.7146623984604},{"$f":"VLOOKUP($A730,'8.Non-elective admissions - CCG'!$D$5:$Q$215,13,0)*$H730","v":2065.8058397942382},{"$f":"VLOOKUP($A730,'8.Non-elective admissions - CCG'!$D$5:$Q$215,14,0)*$H730","v":2020.8970171900155}]
["10D","NHS Swale CCG","E06000035","Medway",{"$f":"COUNTIF($D$5:D731,D731)","v":3},"Medway3","NHS Swale CCG",2.0261643506096997E-3,0,{"$f":"VLOOKUP($A731,'8.Non-elective admissions - CCG'!$D$5:$N$215,3,0)*$H731","v":4.670308828155358},{"$f":"VLOOKUP($A731,'8.Non-elective admissions - CCG'!$D$5:$N$215,4,0)*$H731","v":4.6743611568565768},{"$f":"VLOOKUP($A731,'8.Non-elective admissions - CCG'!$D$5:$N$215,5,0)*$H731","v":4.7229891012712102},{"$f":"VLOOKUP($A731,'8.Non-elective admissions - CCG'!$D$5:$N$215,6,0)*$H731","v":4.5305034879632888},{"$f":"VLOOKUP($A731,'8.Non-elective admissions - CCG'!$D$5:$N$215,7,0)*$H731","v":4.4454045852376813},{"$f":"VLOOKUP($A731,'8.Non-elective admissions - CCG'!$D$5:$N$215,8,0)*$H731","v":4.2549451362803694},{"$f":"VLOOKUP($A731,'8.Non-elective admissions - CCG'!$D$5:$N$215,9,0)*$H731","v":4.1637677405029327},{"$f":"VLOOKUP($A731,'8.Non-elective admissions - CCG'!$D$5:$N$215,10,0)*$H731","v":4.0644856873230575},{"$f":"VLOOKUP($A731,'8.Non-elective admissions - CCG'!$D$5:$Q$215,11,0)*$H731","v":4.4656662287437783},{"$f":"VLOOKUP($A731,'8.Non-elective admissions - CCG'!$D$5:$Q$215,12,0)*$H731","v":4.2853376015395153},{"$f":"VLOOKUP($A731,'8.Non-elective admissions - CCG'!$D$5:$Q$215,13,0)*$H731","v":4.1941602057620786},{"$f":"VLOOKUP($A731,'8.Non-elective admissions - CCG'!$D$5:$Q$215,14,0)*$H731","v":4.1029828099846419}]
["12D","NHS Swindon CCG","E10000025","Oxfordshire",{"$f":"COUNTIF($D$5:D732,D732)","v":8},"Oxfordshire8","NHS Swindon CCG",2.4793133938351496E-2,7.9659201090013752E-3,{"$f":"VLOOKUP($A732,'8.Non-elective admissions - CCG'!$D$5:$N$215,3,0)*$H732","v":120.59380347614167},{"$f":"VLOOKUP($A732,'8.Non-elective admissions - CCG'!$D$5:$N$215,4,0)*$H732","v":122.62684045908649},{"$f":"VLOOKUP($A732,'8.Non-elective admissions - CCG'!$D$5:$N$215,5,0)*$H732","v":141.02334584134331},{"$f":"VLOOKUP($A732,'8.Non-elective admissions - CCG'!$D$5:$N$215,6,0)*$H732","v":131.08129913206434},{"$f":"VLOOKUP($A732,'8.Non-elective admissions - CCG'!$D$5:$N$215,7,0)*$H732","v":114.17238178610864},{"$f":"VLOOKUP($A732,'8.Non-elective admissions - CCG'!$D$5:$N$215,8,0)*$H732","v":116.25500503693016},{"$f":"VLOOKUP($A732,'8.Non-elective admissions - CCG'!$D$5:$N$215,9,0)*$H732","v":135.22175249976905},{"$f":"VLOOKUP($A732,'8.Non-elective admissions - CCG'!$D$5:$N$215,10,0)*$H732","v":122.27973658394957},{"$f":"VLOOKUP($A732,'8.Non-elective admissions - CCG'!$D$5:$Q$215,11,0)*$H732","v":107.50302875669209},{"$f":"VLOOKUP($A732,'8.Non-elective admissions - CCG'!$D$5:$Q$215,12,0)*$H732","v":109.63523827539031},{"$f":"VLOOKUP($A732,'8.Non-elective admissions - CCG'!$D$5:$Q$215,13,0)*$H732","v":129.19702095274965},{"$f":"VLOOKUP($A732,'8.Non-elective admissions - CCG'!$D$5:$Q$215,14,0)*$H732","v":115.90790116179325}]
["12D","NHS Swindon CCG","E06000030","Swindon",{"$f":"COUNTIF($D$5:D733,D733)","v":2},"Swindon2","NHS Swindon CCG",0.96634714786579334,0.98416702134808809,{"$f":"VLOOKUP($A733,'8.Non-elective admissions - CCG'!$D$5:$N$215,3,0)*$H733","v":4700.3125272192192},{"$f":"VLOOKUP($A733,'8.Non-elective admissions - CCG'!$D$5:$N$215,4,0)*$H733","v":4779.552993344214},{"$f":"VLOOKUP($A733,'8.Non-elective admissions - CCG'!$D$5:$N$215,5,0)*$H733","v":5496.5825770606325},{"$f":"VLOOKUP($A733,'8.Non-elective admissions - CCG'!$D$5:$N$215,6,0)*$H733","v":5109.0773707664493},{"$f":"VLOOKUP($A733,'8.Non-elective admissions - CCG'!$D$5:$N$215,7,0)*$H733","v":4450.0286159219786},{"$f":"VLOOKUP($A733,'8.Non-elective admissions - CCG'!$D$5:$N$215,8,0)*$H733","v":4531.2017763427048},{"$f":"VLOOKUP($A733,'8.Non-elective admissions - CCG'!$D$5:$N$215,9,0)*$H733","v":5270.4573444600373},{"$f":"VLOOKUP($A733,'8.Non-elective admissions - CCG'!$D$5:$N$215,10,0)*$H733","v":4766.0241332740925},{"$f":"VLOOKUP($A733,'8.Non-elective admissions - CCG'!$D$5:$Q$215,11,0)*$H733","v":4190.0812331460802},{"$f":"VLOOKUP($A733,'8.Non-elective admissions - CCG'!$D$5:$Q$215,12,0)*$H733","v":4273.1870878625377},{"$f":"VLOOKUP($A733,'8.Non-elective admissions - CCG'!$D$5:$Q$215,13,0)*$H733","v":5035.6349875286487},{"$f":"VLOOKUP($A733,'8.Non-elective admissions - CCG'!$D$5:$Q$215,14,0)*$H733","v":4517.6729162725842}]
["12D","NHS Swindon CCG","E06000054","Wiltshire",{"$f":"COUNTIF($D$5:D734,D734)","v":7},"Wiltshire7","NHS Swindon CCG",8.8597181958552009E-3,4.2105703294865364E-3,{"$f":"VLOOKUP($A734,'8.Non-elective admissions - CCG'!$D$5:$N$215,3,0)*$H734","v":43.093669304639697},{"$f":"VLOOKUP($A734,'8.Non-elective admissions - CCG'!$D$5:$N$215,4,0)*$H734","v":43.820166196699823},{"$f":"VLOOKUP($A734,'8.Non-elective admissions - CCG'!$D$5:$N$215,5,0)*$H734","v":50.394077098024383},{"$f":"VLOOKUP($A734,'8.Non-elective admissions - CCG'!$D$5:$N$215,6,0)*$H734","v":46.841330101486449},{"$f":"VLOOKUP($A734,'8.Non-elective admissions - CCG'!$D$5:$N$215,7,0)*$H734","v":40.799002291913197},{"$f":"VLOOKUP($A734,'8.Non-elective admissions - CCG'!$D$5:$N$215,8,0)*$H734","v":41.543218620365039},{"$f":"VLOOKUP($A734,'8.Non-elective admissions - CCG'!$D$5:$N$215,9,0)*$H734","v":48.320903040194267},{"$f":"VLOOKUP($A734,'8.Non-elective admissions - CCG'!$D$5:$N$215,10,0)*$H734","v":43.696130141957852},{"$f":"VLOOKUP($A734,'8.Non-elective admissions - CCG'!$D$5:$Q$215,11,0)*$H734","v":38.41573809722815},{"$f":"VLOOKUP($A734,'8.Non-elective admissions - CCG'!$D$5:$Q$215,12,0)*$H734","v":39.1776738620717},{"$f":"VLOOKUP($A734,'8.Non-elective admissions - CCG'!$D$5:$Q$215,13,0)*$H734","v":46.167991518601454},{"$f":"VLOOKUP($A734,'8.Non-elective admissions - CCG'!$D$5:$Q$215,14,0)*$H734","v":41.419182565623068}]
["01Y","NHS Tameside and Glossop CCG","E10000007","Derbyshire",{"$f":"COUNTIF($D$5:D735,D735)","v":13},"Derbyshire13","NHS Tameside and Glossop CCG",0.14167034836429399,4.3473468146571381E-2,{"$f":"VLOOKUP($A735,'8.Non-elective admissions - CCG'!$D$5:$N$215,3,0)*$H735","v":1002.8843960708372},{"$f":"VLOOKUP($A735,'8.Non-elective admissions - CCG'!$D$5:$N$215,4,0)*$H735","v":995.09252691080098},{"$f":"VLOOKUP($A735,'8.Non-elective admissions - CCG'!$D$5:$N$215,5,0)*$H735","v":1064.9360086543979},{"$f":"VLOOKUP($A735,'8.Non-elective admissions - CCG'!$D$5:$N$215,6,0)*$H735","v":1006.9928361734017},{"$f":"VLOOKUP($A735,'8.Non-elective admissions - CCG'!$D$5:$N$215,7,0)*$H735","v":978.45289365956512},{"$f":"VLOOKUP($A735,'8.Non-elective admissions - CCG'!$D$5:$N$215,8,0)*$H735","v":970.34729992511575},{"$f":"VLOOKUP($A735,'8.Non-elective admissions - CCG'!$D$5:$N$215,9,0)*$H735","v":966.35564693294702},{"$f":"VLOOKUP($A735,'8.Non-elective admissions - CCG'!$D$5:$N$215,10,0)*$H735","v":968.61932030794787},{"$f":"VLOOKUP($A735,'8.Non-elective admissions - CCG'!$D$5:$Q$215,11,0)*$H735","v":1015.1312528352375},{"$f":"VLOOKUP($A735,'8.Non-elective admissions - CCG'!$D$5:$Q$215,12,0)*$H735","v":1006.7296187275066},{"$f":"VLOOKUP($A735,'8.Non-elective admissions - CCG'!$D$5:$Q$215,13,0)*$H735","v":1002.6156812389688},{"$f":"VLOOKUP($A735,'8.Non-elective admissions - CCG'!$D$5:$Q$215,14,0)*$H735","v":1004.9831472302589}]
["01Y","NHS Tameside and Glossop CCG","E08000003","Manchester",{"$f":"COUNTIF($D$5:D736,D736)","v":9},"Manchester9","NHS Tameside and Glossop CCG",4.2363608586682292E-3,1.8541174599675076E-3,{"$f":"VLOOKUP($A736,'8.Non-elective admissions - CCG'!$D$5:$N$215,3,0)*$H736","v":29.989198518512396},{"$f":"VLOOKUP($A736,'8.Non-elective admissions - CCG'!$D$5:$N$215,4,0)*$H736","v":29.756198671285642},{"$f":"VLOOKUP($A736,'8.Non-elective admissions - CCG'!$D$5:$N$215,5,0)*$H736","v":31.844724574609078},{"$f":"VLOOKUP($A736,'8.Non-elective admissions - CCG'!$D$5:$N$215,6,0)*$H736","v":30.112052983413772},{"$f":"VLOOKUP($A736,'8.Non-elective admissions - CCG'!$D$5:$N$215,7,0)*$H736","v":29.258624607114733},{"$f":"VLOOKUP($A736,'8.Non-elective admissions - CCG'!$D$5:$N$215,8,0)*$H736","v":29.016243470699443},{"$f":"VLOOKUP($A736,'8.Non-elective admissions - CCG'!$D$5:$N$215,9,0)*$H736","v":28.8968812845211},{"$f":"VLOOKUP($A736,'8.Non-elective admissions - CCG'!$D$5:$N$215,10,0)*$H736","v":28.964571788521301},{"$f":"VLOOKUP($A736,'8.Non-elective admissions - CCG'!$D$5:$Q$215,11,0)*$H736","v":30.355415622073203},{"$f":"VLOOKUP($A736,'8.Non-elective admissions - CCG'!$D$5:$Q$215,12,0)*$H736","v":30.104182006191067},{"$f":"VLOOKUP($A736,'8.Non-elective admissions - CCG'!$D$5:$Q$215,13,0)*$H736","v":29.981163153250616},{"$f":"VLOOKUP($A736,'8.Non-elective admissions - CCG'!$D$5:$Q$215,14,0)*$H736","v":30.051957362310791}]
["01Y","NHS Tameside and Glossop CCG","E08000004","Oldham",{"$f":"COUNTIF($D$5:D737,D737)","v":4},"Oldham4","NHS Tameside and Glossop CCG",1.6350866472052818E-3,1.6526994090347569E-3,{"$f":"VLOOKUP($A737,'8.Non-elective admissions - CCG'!$D$5:$N$215,3,0)*$H737","v":11.57477837556619},{"$f":"VLOOKUP($A737,'8.Non-elective admissions - CCG'!$D$5:$N$215,4,0)*$H737","v":11.4848486099699},{"$f":"VLOOKUP($A737,'8.Non-elective admissions - CCG'!$D$5:$N$215,5,0)*$H737","v":12.290946327042104},{"$f":"VLOOKUP($A737,'8.Non-elective admissions - CCG'!$D$5:$N$215,6,0)*$H737","v":11.622195888335144},{"$f":"VLOOKUP($A737,'8.Non-elective admissions - CCG'!$D$5:$N$215,7,0)*$H737","v":11.292802479939022},{"$f":"VLOOKUP($A737,'8.Non-elective admissions - CCG'!$D$5:$N$215,8,0)*$H737","v":11.199251865883998},{"$f":"VLOOKUP($A737,'8.Non-elective admissions - CCG'!$D$5:$N$215,9,0)*$H737","v":11.153182250166042},{"$f":"VLOOKUP($A737,'8.Non-elective admissions - CCG'!$D$5:$N$215,10,0)*$H737","v":11.179308409604715},{"$f":"VLOOKUP($A737,'8.Non-elective admissions - CCG'!$D$5:$Q$215,11,0)*$H737","v":11.716125327817728},{"$f":"VLOOKUP($A737,'8.Non-elective admissions - CCG'!$D$5:$Q$215,12,0)*$H737","v":11.619157967301817},{"$f":"VLOOKUP($A737,'8.Non-elective admissions - CCG'!$D$5:$Q$215,13,0)*$H737","v":11.571677006517785},{"$f":"VLOOKUP($A737,'8.Non-elective admissions - CCG'!$D$5:$Q$215,14,0)*$H737","v":11.599001087207675}]
["01Y","NHS Tameside and Glossop CCG","E08000007","Stockport",{"$f":"COUNTIF($D$5:D738,D738)","v":5},"Stockport5","NHS Tameside and Glossop CCG",2.2172765897707988E-3,1.791582564598729E-3,{"$f":"VLOOKUP($A738,'8.Non-elective admissions - CCG'!$D$5:$N$215,3,0)*$H738","v":15.696100978987484},{"$f":"VLOOKUP($A738,'8.Non-elective admissions - CCG'!$D$5:$N$215,4,0)*$H738","v":15.57415076655009},{"$f":"VLOOKUP($A738,'8.Non-elective admissions - CCG'!$D$5:$N$215,5,0)*$H738","v":16.667268125307096},{"$f":"VLOOKUP($A738,'8.Non-elective admissions - CCG'!$D$5:$N$215,6,0)*$H738","v":15.760402000090838},{"$f":"VLOOKUP($A738,'8.Non-elective admissions - CCG'!$D$5:$N$215,7,0)*$H738","v":15.313724575068827},{"$f":"VLOOKUP($A738,'8.Non-elective admissions - CCG'!$D$5:$N$215,8,0)*$H738","v":15.186864272676029},{"$f":"VLOOKUP($A738,'8.Non-elective admissions - CCG'!$D$5:$N$215,9,0)*$H738","v":15.124391081664557},{"$f":"VLOOKUP($A738,'8.Non-elective admissions - CCG'!$D$5:$N$215,10,0)*$H738","v":15.159819737267},{"$f":"VLOOKUP($A738,'8.Non-elective admissions - CCG'!$D$5:$Q$215,11,0)*$H738","v":15.887776012722528},{"$f":"VLOOKUP($A738,'8.Non-elective admissions - CCG'!$D$5:$Q$215,12,0)*$H738","v":15.756282395053223},{"$f":"VLOOKUP($A738,'8.Non-elective admissions - CCG'!$D$5:$Q$215,13,0)*$H738","v":15.691895334596087},{"$f":"VLOOKUP($A738,'8.Non-elective admissions - CCG'!$D$5:$Q$215,14,0)*$H738","v":15.728948444016469}]
["01Y","NHS Tameside and Glossop CCG","E08000008","Tameside",{"$f":"COUNTIF($D$5:D739,D739)","v":5},"Tameside5","NHS Tameside and Glossop CCG",0.85024092754006164,0.88161956424011745,{"$f":"VLOOKUP($A739,'8.Non-elective admissions - CCG'!$D$5:$N$215,3,0)*$H739","v":6018.8555260560961},{"$f":"VLOOKUP($A739,'8.Non-elective admissions - CCG'!$D$5:$N$215,4,0)*$H739","v":5972.0922750413929},{"$f":"VLOOKUP($A739,'8.Non-elective admissions - CCG'!$D$5:$N$215,5,0)*$H739","v":6391.2610523186431},{"$f":"VLOOKUP($A739,'8.Non-elective admissions - CCG'!$D$5:$N$215,6,0)*$H739","v":6043.5125129547578},{"$f":"VLOOKUP($A739,'8.Non-elective admissions - CCG'!$D$5:$N$215,7,0)*$H739","v":5872.2287723903119},{"$f":"VLOOKUP($A739,'8.Non-elective admissions - CCG'!$D$5:$N$215,8,0)*$H739","v":5823.582689320624},{"$f":"VLOOKUP($A739,'8.Non-elective admissions - CCG'!$D$5:$N$215,9,0)*$H739","v":5799.6266054847001},{"$f":"VLOOKUP($A739,'8.Non-elective admissions - CCG'!$D$5:$N$215,10,0)*$H739","v":5813.2121424176603},{"$f":"VLOOKUP($A739,'8.Non-elective admissions - CCG'!$D$5:$Q$215,11,0)*$H739","v":6092.3555842901487},{"$f":"VLOOKUP($A739,'8.Non-elective admissions - CCG'!$D$5:$Q$215,12,0)*$H739","v":6041.9328016889467},{"$f":"VLOOKUP($A739,'8.Non-elective admissions - CCG'!$D$5:$Q$215,13,0)*$H739","v":6017.2428219826652},{"$f":"VLOOKUP($A739,'8.Non-elective admissions - CCG'!$D$5:$Q$215,14,0)*$H739","v":6031.4512749412052}]
["05X","NHS Telford and Wrekin CCG","E06000051","Shropshire",{"$f":"COUNTIF($D$5:D740,D740)","v":7},"Shropshire7","NHS Telford and Wrekin CCG",2.3539916623537643E-2,1.3866832840841323E-2,{"$f":"VLOOKUP($A740,'8.Non-elective admissions - CCG'!$D$5:$N$215,3,0)*$H740","v":96.8667569058574},{"$f":"VLOOKUP($A740,'8.Non-elective admissions - CCG'!$D$5:$N$215,4,0)*$H740","v":95.642681241433436},{"$f":"VLOOKUP($A740,'8.Non-elective admissions - CCG'!$D$5:$N$215,5,0)*$H740","v":105.85900505604877},{"$f":"VLOOKUP($A740,'8.Non-elective admissions - CCG'!$D$5:$N$215,6,0)*$H740","v":103.69333272668331},{"$f":"VLOOKUP($A740,'8.Non-elective admissions - CCG'!$D$5:$N$215,7,0)*$H740","v":89.169204169960594},{"$f":"VLOOKUP($A740,'8.Non-elective admissions - CCG'!$D$5:$N$215,8,0)*$H740","v":90.440359667631625},{"$f":"VLOOKUP($A740,'8.Non-elective admissions - CCG'!$D$5:$N$215,9,0)*$H740","v":96.137019490527734},{"$f":"VLOOKUP($A740,'8.Non-elective admissions - CCG'!$D$5:$N$215,10,0)*$H740","v":98.279151903269664},{"$f":"VLOOKUP($A740,'8.Non-elective admissions - CCG'!$D$5:$Q$215,11,0)*$H740","v":76.669508442862096},{"$f":"VLOOKUP($A740,'8.Non-elective admissions - CCG'!$D$5:$Q$215,12,0)*$H740","v":77.822964357415444},{"$f":"VLOOKUP($A740,'8.Non-elective admissions - CCG'!$D$5:$Q$215,13,0)*$H740","v":82.672187181864203},{"$f":"VLOOKUP($A740,'8.Non-elective admissions - CCG'!$D$5:$Q$215,14,0)*$H740","v":84.414141012005985}]
["05X","NHS Telford and Wrekin CCG","E10000028","Staffordshire",{"$f":"COUNTIF($D$5:D741,D741)","v":14},"Staffordshire14","NHS Telford and Wrekin CCG",9.9130405109509809E-3,2.004203883763074E-3,{"$f":"VLOOKUP($A741,'8.Non-elective admissions - CCG'!$D$5:$N$215,3,0)*$H741","v":40.792161702563284},{"$f":"VLOOKUP($A741,'8.Non-elective admissions - CCG'!$D$5:$N$215,4,0)*$H741","v":40.276683595993838},{"$f":"VLOOKUP($A741,'8.Non-elective admissions - CCG'!$D$5:$N$215,5,0)*$H741","v":44.578943177746559},{"$f":"VLOOKUP($A741,'8.Non-elective admissions - CCG'!$D$5:$N$215,6,0)*$H741","v":43.666943450739069},{"$f":"VLOOKUP($A741,'8.Non-elective admissions - CCG'!$D$5:$N$215,7,0)*$H741","v":37.550597455482318},{"$f":"VLOOKUP($A741,'8.Non-elective admissions - CCG'!$D$5:$N$215,8,0)*$H741","v":38.085901643073669},{"$f":"VLOOKUP($A741,'8.Non-elective admissions - CCG'!$D$5:$N$215,9,0)*$H741","v":40.484857446723808},{"$f":"VLOOKUP($A741,'8.Non-elective admissions - CCG'!$D$5:$N$215,10,0)*$H741","v":41.386944133220346},{"$f":"VLOOKUP($A741,'8.Non-elective admissions - CCG'!$D$5:$Q$215,11,0)*$H741","v":32.286772944167346},{"$f":"VLOOKUP($A741,'8.Non-elective admissions - CCG'!$D$5:$Q$215,12,0)*$H741","v":32.772511929203944},{"$f":"VLOOKUP($A741,'8.Non-elective admissions - CCG'!$D$5:$Q$215,13,0)*$H741","v":34.814598274459847},{"$f":"VLOOKUP($A741,'8.Non-elective admissions - CCG'!$D$5:$Q$215,14,0)*$H741","v":35.548163272270216}]
["05X","NHS Telford and Wrekin CCG","E06000020","Telford and Wrekin",{"$f":"COUNTIF($D$5:D742,D742)","v":2},"Telford and Wrekin2","NHS Telford and Wrekin CCG",0.96654704286551152,0.96974590439888375,{"$f":"VLOOKUP($A742,'8.Non-elective admissions - CCG'!$D$5:$N$215,3,0)*$H742","v":3977.3410813915798},{"$f":"VLOOKUP($A742,'8.Non-elective admissions - CCG'!$D$5:$N$215,4,0)*$H742","v":3927.0806351625733},{"$f":"VLOOKUP($A742,'8.Non-elective admissions - CCG'!$D$5:$N$215,5,0)*$H742","v":4346.5620517662055},{"$f":"VLOOKUP($A742,'8.Non-elective admissions - CCG'!$D$5:$N$215,6,0)*$H742","v":4257.6397238225782},{"$f":"VLOOKUP($A742,'8.Non-elective admissions - CCG'!$D$5:$N$215,7,0)*$H742","v":3661.2801983745576},{"$f":"VLOOKUP($A742,'8.Non-elective admissions - CCG'!$D$5:$N$215,8,0)*$H742","v":3713.4737386892953},{"$f":"VLOOKUP($A742,'8.Non-elective admissions - CCG'!$D$5:$N$215,9,0)*$H742","v":3947.3781230627492},{"$f":"VLOOKUP($A742,'8.Non-elective admissions - CCG'!$D$5:$N$215,10,0)*$H742","v":4035.3339039635107},{"$f":"VLOOKUP($A742,'8.Non-elective admissions - CCG'!$D$5:$Q$215,11,0)*$H742","v":3148.0437186129711},{"$f":"VLOOKUP($A742,'8.Non-elective admissions - CCG'!$D$5:$Q$215,12,0)*$H742","v":3195.404523713381},{"$f":"VLOOKUP($A742,'8.Non-elective admissions - CCG'!$D$5:$Q$215,13,0)*$H742","v":3394.5132145436764},{"$f":"VLOOKUP($A742,'8.Non-elective admissions - CCG'!$D$5:$Q$215,14,0)*$H742","v":3466.0376957157241}]
["10E","NHS Thanet CCG","E10000016","Kent",{"$f":"COUNTIF($D$5:D743,D743)","v":13},"Kent13","NHS Thanet CCG",1,9.3101225100179458E-2,{"$f":"VLOOKUP($A743,'8.Non-elective admissions - CCG'!$D$5:$N$215,3,0)*$H743","v":4098},{"$f":"VLOOKUP($A743,'8.Non-elective admissions - CCG'!$D$5:$N$215,4,0)*$H743","v":4056},{"$f":"VLOOKUP($A743,'8.Non-elective admissions - CCG'!$D$5:$N$215,5,0)*$H743","v":3837},{"$f":"VLOOKUP($A743,'8.Non-elective admissions - CCG'!$D$5:$N$215,6,0)*$H743","v":4037},{"$f":"VLOOKUP($A743,'8.Non-elective admissions - CCG'!$D$5:$N$215,7,0)*$H743","v":4204.0775557070001},{"$f":"VLOOKUP($A743,'8.Non-elective admissions - CCG'!$D$5:$N$215,8,0)*$H743","v":4251.2480707510003},{"$f":"VLOOKUP($A743,'8.Non-elective admissions - CCG'!$D$5:$N$215,9,0)*$H743","v":4200.2480707510003},{"$f":"VLOOKUP($A743,'8.Non-elective admissions - CCG'!$D$5:$N$215,10,0)*$H743","v":4035.8636882550004},{"$f":"VLOOKUP($A743,'8.Non-elective admissions - CCG'!$D$5:$Q$215,11,0)*$H743","v":4125.0775557070001},{"$f":"VLOOKUP($A743,'8.Non-elective admissions - CCG'!$D$5:$Q$215,12,0)*$H743","v":3994.2480707510003},{"$f":"VLOOKUP($A743,'8.Non-elective admissions - CCG'!$D$5:$Q$215,13,0)*$H743","v":3880.2480707509999},{"$f":"VLOOKUP($A743,'8.Non-elective admissions - CCG'!$D$5:$Q$215,14,0)*$H743","v":3791.8636882550004}]
["07G","NHS Thurrock CCG","E10000012","Essex",{"$f":"COUNTIF($D$5:D744,D744)","v":11},"Essex11","NHS Thurrock CCG",1.4591066938091249E-2,1.6551838429062773E-3,{"$f":"VLOOKUP($A744,'8.Non-elective admissions - CCG'!$D$5:$N$215,3,0)*$H744","v":49.755538258891157},{"$f":"VLOOKUP($A744,'8.Non-elective admissions - CCG'!$D$5:$N$215,4,0)*$H744","v":51.75451442940966},{"$f":"VLOOKUP($A744,'8.Non-elective admissions - CCG'!$D$5:$N$215,5,0)*$H744","v":48.354795832834398},{"$f":"VLOOKUP($A744,'8.Non-elective admissions - CCG'!$D$5:$N$215,6,0)*$H744","v":50.543455873548083},{"$f":"VLOOKUP($A744,'8.Non-elective admissions - CCG'!$D$5:$N$215,7,0)*$H744","v":50.880521843622809},{"$f":"VLOOKUP($A744,'8.Non-elective admissions - CCG'!$D$5:$N$215,8,0)*$H744","v":51.338377583788535},{"$f":"VLOOKUP($A744,'8.Non-elective admissions - CCG'!$D$5:$N$215,9,0)*$H744","v":51.239898379630851},{"$f":"VLOOKUP($A744,'8.Non-elective admissions - CCG'!$D$5:$N$215,10,0)*$H744","v":50.44674853518088},{"$f":"VLOOKUP($A744,'8.Non-elective admissions - CCG'!$D$5:$Q$215,11,0)*$H744","v":50.979002374546212},{"$f":"VLOOKUP($A744,'8.Non-elective admissions - CCG'!$D$5:$Q$215,12,0)*$H744","v":51.421278265008489},{"$f":"VLOOKUP($A744,'8.Non-elective admissions - CCG'!$D$5:$Q$215,13,0)*$H744","v":51.321825043180041},{"$f":"VLOOKUP($A744,'8.Non-elective admissions - CCG'!$D$5:$Q$215,14,0)*$H744","v":50.517070776101669}]
["07G","NHS Thurrock CCG","E09000016","Havering",{"$f":"COUNTIF($D$5:D745,D745)","v":4},"Havering4","NHS Thurrock CCG",1.2872709855107174E-3,0,{"$f":"VLOOKUP($A745,'8.Non-elective admissions - CCG'!$D$5:$N$215,3,0)*$H745","v":4.3895940605915467},{"$f":"VLOOKUP($A745,'8.Non-elective admissions - CCG'!$D$5:$N$215,4,0)*$H745","v":4.565950185606515},{"$f":"VLOOKUP($A745,'8.Non-elective admissions - CCG'!$D$5:$N$215,5,0)*$H745","v":4.2660160459825178},{"$f":"VLOOKUP($A745,'8.Non-elective admissions - CCG'!$D$5:$N$215,6,0)*$H745","v":4.4591066938091251},{"$f":"VLOOKUP($A745,'8.Non-elective admissions - CCG'!$D$5:$N$215,7,0)*$H745","v":4.4888437408202311},{"$f":"VLOOKUP($A745,'8.Non-elective admissions - CCG'!$D$5:$N$215,8,0)*$H745","v":4.5292372509292305},{"$f":"VLOOKUP($A745,'8.Non-elective admissions - CCG'!$D$5:$N$215,9,0)*$H745","v":4.5205490979157297},{"$f":"VLOOKUP($A745,'8.Non-elective admissions - CCG'!$D$5:$N$215,10,0)*$H745","v":4.4505748605104181},{"$f":"VLOOKUP($A745,'8.Non-elective admissions - CCG'!$D$5:$Q$215,11,0)*$H745","v":4.4975320108852834},{"$f":"VLOOKUP($A745,'8.Non-elective admissions - CCG'!$D$5:$Q$215,12,0)*$H745","v":4.5365510164041138},{"$f":"VLOOKUP($A745,'8.Non-elective admissions - CCG'!$D$5:$Q$215,13,0)*$H745","v":4.5277769324102213},{"$f":"VLOOKUP($A745,'8.Non-elective admissions - CCG'!$D$5:$Q$215,14,0)*$H745","v":4.4567789154131541}]
["07G","NHS Thurrock CCG","E06000034","Thurrock",{"$f":"COUNTIF($D$5:D746,D746)","v":4},"Thurrock4","NHS Thurrock CCG",0.98412166207639817,0.99434372031965534,{"$f":"VLOOKUP($A746,'8.Non-elective admissions - CCG'!$D$5:$N$215,3,0)*$H746","v":3355.8548676805176},{"$f":"VLOOKUP($A746,'8.Non-elective admissions - CCG'!$D$5:$N$215,4,0)*$H746","v":3490.6795353849843},{"$f":"VLOOKUP($A746,'8.Non-elective admissions - CCG'!$D$5:$N$215,5,0)*$H746","v":3261.3791881211837},{"$f":"VLOOKUP($A746,'8.Non-elective admissions - CCG'!$D$5:$N$215,6,0)*$H746","v":3408.9974374326434},{"$f":"VLOOKUP($A746,'8.Non-elective admissions - CCG'!$D$5:$N$215,7,0)*$H746","v":3431.7314790285573},{"$f":"VLOOKUP($A746,'8.Non-elective admissions - CCG'!$D$5:$N$215,8,0)*$H746","v":3462.6124114452828},{"$f":"VLOOKUP($A746,'8.Non-elective admissions - CCG'!$D$5:$N$215,9,0)*$H746","v":3455.970298261454},{"$f":"VLOOKUP($A746,'8.Non-elective admissions - CCG'!$D$5:$N$215,10,0)*$H746","v":3402.4748310343089},{"$f":"VLOOKUP($A746,'8.Non-elective admissions - CCG'!$D$5:$Q$215,11,0)*$H746","v":3438.3736816985688},{"$f":"VLOOKUP($A746,'8.Non-elective admissions - CCG'!$D$5:$Q$215,12,0)*$H746","v":3468.2038021595877},{"$f":"VLOOKUP($A746,'8.Non-elective admissions - CCG'!$D$5:$Q$215,13,0)*$H746","v":3461.4959945414103},{"$f":"VLOOKUP($A746,'8.Non-elective admissions - CCG'!$D$5:$Q$215,14,0)*$H746","v":3407.2178454354857}]
["08V","NHS Tower Hamlets CCG","E09000001","City of London",{"$f":"COUNTIF($D$5:D747,D747)","v":5},"City of London5","NHS Tower Hamlets CCG",3.6931540512992363E-3,0.14583046175051689,{"$f":"VLOOKUP($A747,'8.Non-elective admissions - CCG'!$D$5:$N$215,3,0)*$H747","v":20.714901073737416},{"$f":"VLOOKUP($A747,'8.Non-elective admissions - CCG'!$D$5:$N$215,4,0)*$H747","v":18.709518423881931},{"$f":"VLOOKUP($A747,'8.Non-elective admissions - CCG'!$D$5:$N$215,5,0)*$H747","v":20.031667574247056},{"$f":"VLOOKUP($A747,'8.Non-elective admissions - CCG'!$D$5:$N$215,6,0)*$H747","v":18.484236026752679},{"$f":"VLOOKUP($A747,'8.Non-elective admissions - CCG'!$D$5:$N$215,7,0)*$H747","v":20.290188357838005},{"$f":"VLOOKUP($A747,'8.Non-elective admissions - CCG'!$D$5:$N$215,8,0)*$H747","v":18.052137002750666},{"$f":"VLOOKUP($A747,'8.Non-elective admissions - CCG'!$D$5:$N$215,9,0)*$H747","v":19.304116226141108},{"$f":"VLOOKUP($A747,'8.Non-elective admissions - CCG'!$D$5:$N$215,10,0)*$H747","v":17.479698124799285},{"$f":"VLOOKUP($A747,'8.Non-elective admissions - CCG'!$D$5:$Q$215,11,0)*$H747","v":20.766605230455607},{"$f":"VLOOKUP($A747,'8.Non-elective admissions - CCG'!$D$5:$Q$215,12,0)*$H747","v":18.473156564598781},{"$f":"VLOOKUP($A747,'8.Non-elective admissions - CCG'!$D$5:$Q$215,13,0)*$H747","v":19.758374174450914},{"$f":"VLOOKUP($A747,'8.Non-elective admissions - CCG'!$D$5:$Q$215,14,0)*$H747","v":17.885945070442201}]
["08V","NHS Tower Hamlets CCG","E09000012","Hackney",{"$f":"COUNTIF($D$5:D748,D748)","v":6},"Hackney6","NHS Tower Hamlets CCG",4.8520643963194127E-3,5.0290709243721787E-3,{"$f":"VLOOKUP($A748,'8.Non-elective admissions - CCG'!$D$5:$N$215,3,0)*$H748","v":27.215229198955587},{"$f":"VLOOKUP($A748,'8.Non-elective admissions - CCG'!$D$5:$N$215,4,0)*$H748","v":24.580558231754146},{"$f":"VLOOKUP($A748,'8.Non-elective admissions - CCG'!$D$5:$N$215,5,0)*$H748","v":26.317597285636495},{"$f":"VLOOKUP($A748,'8.Non-elective admissions - CCG'!$D$5:$N$215,6,0)*$H748","v":24.284582303578659},{"$f":"VLOOKUP($A748,'8.Non-elective admissions - CCG'!$D$5:$N$215,7,0)*$H748","v":26.657241793378855},{"$f":"VLOOKUP($A748,'8.Non-elective admissions - CCG'!$D$5:$N$215,8,0)*$H748","v":23.716890769209289},{"$f":"VLOOKUP($A748,'8.Non-elective admissions - CCG'!$D$5:$N$215,9,0)*$H748","v":25.361740599561571},{"$f":"VLOOKUP($A748,'8.Non-elective admissions - CCG'!$D$5:$N$215,10,0)*$H748","v":22.964820787779779},{"$f":"VLOOKUP($A748,'8.Non-elective admissions - CCG'!$D$5:$Q$215,11,0)*$H748","v":27.283158100504057},{"$f":"VLOOKUP($A748,'8.Non-elective admissions - CCG'!$D$5:$Q$215,12,0)*$H748","v":24.270026110389704},{"$f":"VLOOKUP($A748,'8.Non-elective admissions - CCG'!$D$5:$Q$215,13,0)*$H748","v":25.958544520308859},{"$f":"VLOOKUP($A748,'8.Non-elective admissions - CCG'!$D$5:$Q$215,14,0)*$H748","v":23.498547871374917}]
["08V","NHS Tower Hamlets CCG","E09000025","Newham",{"$f":"COUNTIF($D$5:D749,D749)","v":4},"Newham4","NHS Tower Hamlets CCG",1.4800541755679358E-3,1.1709795907094919E-3,{"$f":"VLOOKUP($A749,'8.Non-elective admissions - CCG'!$D$5:$N$215,3,0)*$H749","v":8.3016238707605527},{"$f":"VLOOKUP($A749,'8.Non-elective admissions - CCG'!$D$5:$N$215,4,0)*$H749","v":7.4979544534271625},{"$f":"VLOOKUP($A749,'8.Non-elective admissions - CCG'!$D$5:$N$215,5,0)*$H749","v":8.0278138482804842},{"$f":"VLOOKUP($A749,'8.Non-elective admissions - CCG'!$D$5:$N$215,6,0)*$H749","v":7.4076711487175189},{"$f":"VLOOKUP($A749,'8.Non-elective admissions - CCG'!$D$5:$N$215,7,0)*$H749","v":8.1314176405702394},{"$f":"VLOOKUP($A749,'8.Non-elective admissions - CCG'!$D$5:$N$215,8,0)*$H749","v":7.2345048101760705},{"$f":"VLOOKUP($A749,'8.Non-elective admissions - CCG'!$D$5:$N$215,9,0)*$H749","v":7.7362431756936001},{"$f":"VLOOKUP($A749,'8.Non-elective admissions - CCG'!$D$5:$N$215,10,0)*$H749","v":7.0050964129630398},{"$f":"VLOOKUP($A749,'8.Non-elective admissions - CCG'!$D$5:$Q$215,11,0)*$H749","v":8.3223446292185024},{"$f":"VLOOKUP($A749,'8.Non-elective admissions - CCG'!$D$5:$Q$215,12,0)*$H749","v":7.403230986190815},{"$f":"VLOOKUP($A749,'8.Non-elective admissions - CCG'!$D$5:$Q$215,13,0)*$H749","v":7.9182898392884562},{"$f":"VLOOKUP($A749,'8.Non-elective admissions - CCG'!$D$5:$Q$215,14,0)*$H749","v":7.1679023722755133}]
["08V","NHS Tower Hamlets CCG","E09000030","Tower Hamlets",{"$f":"COUNTIF($D$5:D750,D750)","v":5},"Tower Hamlets5","NHS Tower Hamlets CCG",0.98997472737681336,0.9776582725752796,{"$f":"VLOOKUP($A750,'8.Non-elective admissions - CCG'!$D$5:$N$215,3,0)*$H750","v":5552.7682458565459},{"$f":"VLOOKUP($A750,'8.Non-elective admissions - CCG'!$D$5:$N$215,4,0)*$H750","v":5015.2119688909361},{"$f":"VLOOKUP($A750,'8.Non-elective admissions - CCG'!$D$5:$N$215,5,0)*$H750","v":5369.6229212918361},{"$f":"VLOOKUP($A750,'8.Non-elective admissions - CCG'!$D$5:$N$215,6,0)*$H750","v":4954.8235105209505},{"$f":"VLOOKUP($A750,'8.Non-elective admissions - CCG'!$D$5:$N$215,7,0)*$H750","v":5438.9211522082123},{"$f":"VLOOKUP($A750,'8.Non-elective admissions - CCG'!$D$5:$N$215,8,0)*$H750","v":4838.9964674178636},{"$f":"VLOOKUP($A750,'8.Non-elective admissions - CCG'!$D$5:$N$215,9,0)*$H750","v":5174.5978999986037},{"$f":"VLOOKUP($A750,'8.Non-elective admissions - CCG'!$D$5:$N$215,10,0)*$H750","v":4685.5503846744577},{"$f":"VLOOKUP($A750,'8.Non-elective admissions - CCG'!$D$5:$Q$215,11,0)*$H750","v":5566.6278920398217},{"$f":"VLOOKUP($A750,'8.Non-elective admissions - CCG'!$D$5:$Q$215,12,0)*$H750","v":4951.8535863388206},{"$f":"VLOOKUP($A750,'8.Non-elective admissions - CCG'!$D$5:$Q$215,13,0)*$H750","v":5296.3647914659514},{"$f":"VLOOKUP($A750,'8.Non-elective admissions - CCG'!$D$5:$Q$215,14,0)*$H750","v":4794.4476046859072}]
["02A","NHS Trafford CCG","E06000049","Cheshire East",{"$f":"COUNTIF($D$5:D751,D751)","v":7},"Cheshire East7","NHS Trafford CCG",1.6686401004555051E-3,1.0192866537797262E-3,{"$f":"VLOOKUP($A751,'8.Non-elective admissions - CCG'!$D$5:$N$215,3,0)*$H751","v":9.5696509761123227},{"$f":"VLOOKUP($A751,'8.Non-elective admissions - CCG'!$D$5:$N$215,4,0)*$H751","v":9.6030237781214325},{"$f":"VLOOKUP($A751,'8.Non-elective admissions - CCG'!$D$5:$N$215,5,0)*$H751","v":9.9050476363038786},{"$f":"VLOOKUP($A751,'8.Non-elective admissions - CCG'!$D$5:$N$215,6,0)*$H751","v":9.3043372001398961},{"$f":"VLOOKUP($A751,'8.Non-elective admissions - CCG'!$D$5:$N$215,7,0)*$H751","v":8.4333070677021222},{"$f":"VLOOKUP($A751,'8.Non-elective admissions - CCG'!$D$5:$N$215,8,0)*$H751","v":8.4616739494098656},{"$f":"VLOOKUP($A751,'8.Non-elective admissions - CCG'!$D$5:$N$215,9,0)*$H751","v":8.4533307489075895},{"$f":"VLOOKUP($A751,'8.Non-elective admissions - CCG'!$D$5:$N$215,10,0)*$H751","v":8.3949283453916461},{"$f":"VLOOKUP($A751,'8.Non-elective admissions - CCG'!$D$5:$Q$215,11,0)*$H751","v":7.7024427037026113},{"$f":"VLOOKUP($A751,'8.Non-elective admissions - CCG'!$D$5:$Q$215,12,0)*$H751","v":7.7308095854103556},{"$f":"VLOOKUP($A751,'8.Non-elective admissions - CCG'!$D$5:$Q$215,13,0)*$H751","v":7.7224663849080777},{"$f":"VLOOKUP($A751,'8.Non-elective admissions - CCG'!$D$5:$Q$215,14,0)*$H751","v":7.6640639813921352}]
["02A","NHS Trafford CCG","E08000003","Manchester",{"$f":"COUNTIF($D$5:D752,D752)","v":10},"Manchester10","NHS Trafford CCG",4.4050413156974368E-2,1.8891758212963277E-2,{"$f":"VLOOKUP($A752,'8.Non-elective admissions - CCG'!$D$5:$N$215,3,0)*$H752","v":252.629119455248},{"$f":"VLOOKUP($A752,'8.Non-elective admissions - CCG'!$D$5:$N$215,4,0)*$H752","v":253.51012771838748},{"$f":"VLOOKUP($A752,'8.Non-elective admissions - CCG'!$D$5:$N$215,5,0)*$H752","v":261.48325249979985},{"$f":"VLOOKUP($A752,'8.Non-elective admissions - CCG'!$D$5:$N$215,6,0)*$H752","v":245.62510376328908},{"$f":"VLOOKUP($A752,'8.Non-elective admissions - CCG'!$D$5:$N$215,7,0)*$H752","v":222.63078809534846},{"$f":"VLOOKUP($A752,'8.Non-elective admissions - CCG'!$D$5:$N$215,8,0)*$H752","v":223.37964511901703},{"$f":"VLOOKUP($A752,'8.Non-elective admissions - CCG'!$D$5:$N$215,9,0)*$H752","v":223.15939305323215},{"$f":"VLOOKUP($A752,'8.Non-elective admissions - CCG'!$D$5:$N$215,10,0)*$H752","v":221.61762859273804},{"$f":"VLOOKUP($A752,'8.Non-elective admissions - CCG'!$D$5:$Q$215,11,0)*$H752","v":203.33670713259369},{"$f":"VLOOKUP($A752,'8.Non-elective admissions - CCG'!$D$5:$Q$215,12,0)*$H752","v":204.08556415626225},{"$f":"VLOOKUP($A752,'8.Non-elective admissions - CCG'!$D$5:$Q$215,13,0)*$H752","v":203.86531209047737},{"$f":"VLOOKUP($A752,'8.Non-elective admissions - CCG'!$D$5:$Q$215,14,0)*$H752","v":202.32354762998327}]
["02A","NHS Trafford CCG","E08000006","Salford",{"$f":"COUNTIF($D$5:D753,D753)","v":6},"Salford6","NHS Trafford CCG",1.4663806943396862E-3,1.3868409516598255E-3,{"$f":"VLOOKUP($A753,'8.Non-elective admissions - CCG'!$D$5:$N$215,3,0)*$H753","v":8.4096932820381003},{"$f":"VLOOKUP($A753,'8.Non-elective admissions - CCG'!$D$5:$N$215,4,0)*$H753","v":8.4390208959248945},{"$f":"VLOOKUP($A753,'8.Non-elective admissions - CCG'!$D$5:$N$215,5,0)*$H753","v":8.7044358016003773},{"$f":"VLOOKUP($A753,'8.Non-elective admissions - CCG'!$D$5:$N$215,6,0)*$H753","v":8.1765387516380912},{"$f":"VLOOKUP($A753,'8.Non-elective admissions - CCG'!$D$5:$N$215,7,0)*$H753","v":7.4110880291927739},{"$f":"VLOOKUP($A753,'8.Non-elective admissions - CCG'!$D$5:$N$215,8,0)*$H753","v":7.4360165009965487},{"$f":"VLOOKUP($A753,'8.Non-elective admissions - CCG'!$D$5:$N$215,9,0)*$H753","v":7.4286845975248506},{"$f":"VLOOKUP($A753,'8.Non-elective admissions - CCG'!$D$5:$N$215,10,0)*$H753","v":7.3773612732229612},{"$f":"VLOOKUP($A753,'8.Non-elective admissions - CCG'!$D$5:$Q$215,11,0)*$H753","v":6.7688132850719915},{"$f":"VLOOKUP($A753,'8.Non-elective admissions - CCG'!$D$5:$Q$215,12,0)*$H753","v":6.7937417568757663},{"$f":"VLOOKUP($A753,'8.Non-elective admissions - CCG'!$D$5:$Q$215,13,0)*$H753","v":6.7864098534040682},{"$f":"VLOOKUP($A753,'8.Non-elective admissions - CCG'!$D$5:$Q$215,14,0)*$H753","v":6.7350865291021789}]
["02A","NHS Trafford CCG","E08000009","Trafford",{"$f":"COUNTIF($D$5:D754,D754)","v":4},"Trafford4","NHS Trafford CCG",0.95281456604823045,0.93500248097915961,{"$f":"VLOOKUP($A754,'8.Non-elective admissions - CCG'!$D$5:$N$215,3,0)*$H754","v":5464.3915362866019},{"$f":"VLOOKUP($A754,'8.Non-elective admissions - CCG'!$D$5:$N$215,4,0)*$H754","v":5483.4478276075661},{"$f":"VLOOKUP($A754,'8.Non-elective admissions - CCG'!$D$5:$N$215,5,0)*$H754","v":5655.9072640622962},{"$f":"VLOOKUP($A754,'8.Non-elective admissions - CCG'!$D$5:$N$215,6,0)*$H754","v":5312.8940202849326},{"$f":"VLOOKUP($A754,'8.Non-elective admissions - CCG'!$D$5:$N$215,7,0)*$H754","v":4815.5248168077569},{"$f":"VLOOKUP($A754,'8.Non-elective admissions - CCG'!$D$5:$N$215,8,0)*$H754","v":4831.7226644305765},{"$f":"VLOOKUP($A754,'8.Non-elective admissions - CCG'!$D$5:$N$215,9,0)*$H754","v":4826.9585916003352},{"$f":"VLOOKUP($A754,'8.Non-elective admissions - CCG'!$D$5:$N$215,10,0)*$H754","v":4793.6100817886472},{"$f":"VLOOKUP($A754,'8.Non-elective admissions - CCG'!$D$5:$Q$215,11,0)*$H754","v":4398.1920368786314},{"$f":"VLOOKUP($A754,'8.Non-elective admissions - CCG'!$D$5:$Q$215,12,0)*$H754","v":4414.3898845014519},{"$f":"VLOOKUP($A754,'8.Non-elective admissions - CCG'!$D$5:$Q$215,13,0)*$H754","v":4409.6258116712106},{"$f":"VLOOKUP($A754,'8.Non-elective admissions - CCG'!$D$5:$Q$215,14,0)*$H754","v":4376.2773018595226}]
["03Q","NHS Vale of York CCG","E06000011","East Riding of Yorkshire",{"$f":"COUNTIF($D$5:D755,D755)","v":4},"East Riding of Yorkshire4","NHS Vale of York CCG",6.4298107573740063E-2,6.499495982426394E-2,{"$f":"VLOOKUP($A755,'8.Non-elective admissions - CCG'!$D$5:$N$215,3,0)*$H755","v":609.61035790662959},{"$f":"VLOOKUP($A755,'8.Non-elective admissions - CCG'!$D$5:$N$215,4,0)*$H755","v":539.97550740426902},{"$f":"VLOOKUP($A755,'8.Non-elective admissions - CCG'!$D$5:$N$215,5,0)*$H755","v":530.0735988379131},{"$f":"VLOOKUP($A755,'8.Non-elective admissions - CCG'!$D$5:$N$215,6,0)*$H755","v":525.70132752289874},{"$f":"VLOOKUP($A755,'8.Non-elective admissions - CCG'!$D$5:$N$215,7,0)*$H755","v":529.06325031341089},{"$f":"VLOOKUP($A755,'8.Non-elective admissions - CCG'!$D$5:$N$215,8,0)*$H755","v":516.30116262779234},{"$f":"VLOOKUP($A755,'8.Non-elective admissions - CCG'!$D$5:$N$215,9,0)*$H755","v":505.13938737407807},{"$f":"VLOOKUP($A755,'8.Non-elective admissions - CCG'!$D$5:$N$215,10,0)*$H755","v":489.41632878144742},{"$f":"VLOOKUP($A755,'8.Non-elective admissions - CCG'!$D$5:$Q$215,11,0)*$H755","v":476.77548925913112},{"$f":"VLOOKUP($A755,'8.Non-elective admissions - CCG'!$D$5:$Q$215,12,0)*$H755","v":482.01478035087456},{"$f":"VLOOKUP($A755,'8.Non-elective admissions - CCG'!$D$5:$Q$215,13,0)*$H755","v":482.01478035087462},{"$f":"VLOOKUP($A755,'8.Non-elective admissions - CCG'!$D$5:$Q$215,14,0)*$H755","v":476.77548925900891}]
["03Q","NHS Vale of York CCG","E08000035","Leeds",{"$f":"COUNTIF($D$5:D756,D756)","v":7},"Leeds7","NHS Vale of York CCG",5.686501691827924E-3,2.3847223061582157E-3,{"$f":"VLOOKUP($A756,'8.Non-elective admissions - CCG'!$D$5:$N$215,3,0)*$H756","v":53.913722540220547},{"$f":"VLOOKUP($A756,'8.Non-elective admissions - CCG'!$D$5:$N$215,4,0)*$H756","v":47.755241207970904},{"$f":"VLOOKUP($A756,'8.Non-elective admissions - CCG'!$D$5:$N$215,5,0)*$H756","v":46.879519947429408},{"$f":"VLOOKUP($A756,'8.Non-elective admissions - CCG'!$D$5:$N$215,6,0)*$H756","v":46.492837832385106},{"$f":"VLOOKUP($A756,'8.Non-elective admissions - CCG'!$D$5:$N$215,7,0)*$H756","v":46.790165084421524},{"$f":"VLOOKUP($A756,'8.Non-elective admissions - CCG'!$D$5:$N$215,8,0)*$H756","v":45.661490603103424},{"$f":"VLOOKUP($A756,'8.Non-elective admissions - CCG'!$D$5:$N$215,9,0)*$H756","v":44.674347182260796},{"$f":"VLOOKUP($A756,'8.Non-elective admissions - CCG'!$D$5:$N$215,10,0)*$H756","v":43.283805490420725},{"$f":"VLOOKUP($A756,'8.Non-elective admissions - CCG'!$D$5:$Q$215,11,0)*$H756","v":42.165854153402925},{"$f":"VLOOKUP($A756,'8.Non-elective admissions - CCG'!$D$5:$Q$215,12,0)*$H756","v":42.629215188142702},{"$f":"VLOOKUP($A756,'8.Non-elective admissions - CCG'!$D$5:$Q$215,13,0)*$H756","v":42.629215188142709},{"$f":"VLOOKUP($A756,'8.Non-elective admissions - CCG'!$D$5:$Q$215,14,0)*$H756","v":42.165854153392111}]
["03Q","NHS Vale of York CCG","E10000023","North Yorkshire",{"$f":"COUNTIF($D$5:D757,D757)","v":14},"North Yorkshire14","NHS Vale of York CCG",0.32419688611432951,0.18441934891529602,{"$f":"VLOOKUP($A757,'8.Non-elective admissions - CCG'!$D$5:$N$215,3,0)*$H757","v":3073.7106772499583},{"$f":"VLOOKUP($A757,'8.Non-elective admissions - CCG'!$D$5:$N$215,4,0)*$H757","v":2722.605449588139},{"$f":"VLOOKUP($A757,'8.Non-elective admissions - CCG'!$D$5:$N$215,5,0)*$H757","v":2672.6791291265326},{"$f":"VLOOKUP($A757,'8.Non-elective admissions - CCG'!$D$5:$N$215,6,0)*$H757","v":2650.6337408707582},{"$f":"VLOOKUP($A757,'8.Non-elective admissions - CCG'!$D$5:$N$215,7,0)*$H757","v":2667.5848602919768},{"$f":"VLOOKUP($A757,'8.Non-elective admissions - CCG'!$D$5:$N$215,8,0)*$H757","v":2603.2372574756641},{"$f":"VLOOKUP($A757,'8.Non-elective admissions - CCG'!$D$5:$N$215,9,0)*$H757","v":2546.9585749870366},{"$f":"VLOOKUP($A757,'8.Non-elective admissions - CCG'!$D$5:$N$215,10,0)*$H757","v":2467.681488486814},{"$f":"VLOOKUP($A757,'8.Non-elective admissions - CCG'!$D$5:$Q$215,11,0)*$H757","v":2403.9452298993278},{"$f":"VLOOKUP($A757,'8.Non-elective admissions - CCG'!$D$5:$Q$215,12,0)*$H757","v":2430.3622104526321},{"$f":"VLOOKUP($A757,'8.Non-elective admissions - CCG'!$D$5:$Q$215,13,0)*$H757","v":2430.3622104526326},{"$f":"VLOOKUP($A757,'8.Non-elective admissions - CCG'!$D$5:$Q$215,14,0)*$H757","v":2403.9452298987117}]
["03Q","NHS Vale of York CCG","E06000014","York",{"$f":"COUNTIF($D$5:D758,D758)","v":2},"York2","NHS Vale of York CCG",0.60581850462010245,1,{"$f":"VLOOKUP($A758,'8.Non-elective admissions - CCG'!$D$5:$N$215,3,0)*$H758","v":5743.7652423031914},{"$f":"VLOOKUP($A758,'8.Non-elective admissions - CCG'!$D$5:$N$215,4,0)*$H758","v":5087.6638017996202},{"$f":"VLOOKUP($A758,'8.Non-elective admissions - CCG'!$D$5:$N$215,5,0)*$H758","v":4994.3677520881247},{"$f":"VLOOKUP($A758,'8.Non-elective admissions - CCG'!$D$5:$N$215,6,0)*$H758","v":4953.1720937739574},{"$f":"VLOOKUP($A758,'8.Non-elective admissions - CCG'!$D$5:$N$215,7,0)*$H758","v":4984.8482210263892},{"$f":"VLOOKUP($A758,'8.Non-elective admissions - CCG'!$D$5:$N$215,8,0)*$H758","v":4864.6034864723397},{"$f":"VLOOKUP($A758,'8.Non-elective admissions - CCG'!$D$5:$N$215,9,0)*$H758","v":4759.4369388355244},{"$f":"VLOOKUP($A758,'8.Non-elective admissions - CCG'!$D$5:$N$215,10,0)*$H758","v":4611.2938564949181},{"$f":"VLOOKUP($A758,'8.Non-elective admissions - CCG'!$D$5:$Q$215,11,0)*$H758","v":4492.1915254073392},{"$f":"VLOOKUP($A758,'8.Non-elective admissions - CCG'!$D$5:$Q$215,12,0)*$H758","v":4541.5562674540506},{"$f":"VLOOKUP($A758,'8.Non-elective admissions - CCG'!$D$5:$Q$215,13,0)*$H758","v":4541.5562674540515},{"$f":"VLOOKUP($A758,'8.Non-elective admissions - CCG'!$D$5:$Q$215,14,0)*$H758","v":4492.1915254061869}]
["02D","NHS Vale Royal CCG","E06000049","Cheshire East",{"$f":"COUNTIF($D$5:D759,D759)","v":8},"Cheshire East8","NHS Vale Royal CCG",6.4936331194789497E-3,1.7142548268113578E-3,{"$f":"VLOOKUP($A759,'8.Non-elective admissions - CCG'!$D$5:$N$215,3,0)*$H759","v":13.584680485949963},{"$f":"VLOOKUP($A759,'8.Non-elective admissions - CCG'!$D$5:$N$215,4,0)*$H759","v":14.058715703671925},{"$f":"VLOOKUP($A759,'8.Non-elective admissions - CCG'!$D$5:$N$215,5,0)*$H759","v":14.428852791482226},{"$f":"VLOOKUP($A759,'8.Non-elective admissions - CCG'!$D$5:$N$215,6,0)*$H759","v":14.331448294690041},{"$f":"VLOOKUP($A759,'8.Non-elective admissions - CCG'!$D$5:$N$215,7,0)*$H759","v":18.23412179949689},{"$f":"VLOOKUP($A759,'8.Non-elective admissions - CCG'!$D$5:$N$215,8,0)*$H759","v":18.610752520426669},{"$f":"VLOOKUP($A759,'8.Non-elective admissions - CCG'!$D$5:$N$215,9,0)*$H759","v":19.779606481932881},{"$f":"VLOOKUP($A759,'8.Non-elective admissions - CCG'!$D$5:$N$215,10,0)*$H759","v":18.902966010803222},{"$f":"VLOOKUP($A759,'8.Non-elective admissions - CCG'!$D$5:$Q$215,11,0)*$H759","v":17.571771221310037},{"$f":"VLOOKUP($A759,'8.Non-elective admissions - CCG'!$D$5:$Q$215,12,0)*$H759","v":17.87697197792555},{"$f":"VLOOKUP($A759,'8.Non-elective admissions - CCG'!$D$5:$Q$215,13,0)*$H759","v":19.058813205670717},{"$f":"VLOOKUP($A759,'8.Non-elective admissions - CCG'!$D$5:$Q$215,14,0)*$H759","v":18.143210935824186}]
["02D","NHS Vale Royal CCG","E06000050","Cheshire West and Chester",{"$f":"COUNTIF($D$5:D760,D760)","v":4},"Cheshire West and Chester4","NHS Vale Royal CCG",0.99350636688052107,0.29185522954068943,{"$f":"VLOOKUP($A760,'8.Non-elective admissions - CCG'!$D$5:$N$215,3,0)*$H760","v":2078.4153195140502},{"$f":"VLOOKUP($A760,'8.Non-elective admissions - CCG'!$D$5:$N$215,4,0)*$H760","v":2150.9412842963279},{"$f":"VLOOKUP($A760,'8.Non-elective admissions - CCG'!$D$5:$N$215,5,0)*$H760","v":2207.5711472085177},{"$f":"VLOOKUP($A760,'8.Non-elective admissions - CCG'!$D$5:$N$215,6,0)*$H760","v":2192.6685517053102},{"$f":"VLOOKUP($A760,'8.Non-elective admissions - CCG'!$D$5:$N$215,7,0)*$H760","v":2789.7658782005033},{"$f":"VLOOKUP($A760,'8.Non-elective admissions - CCG'!$D$5:$N$215,8,0)*$H760","v":2847.3892474795734},{"$f":"VLOOKUP($A760,'8.Non-elective admissions - CCG'!$D$5:$N$215,9,0)*$H760","v":3026.2203935180673},{"$f":"VLOOKUP($A760,'8.Non-elective admissions - CCG'!$D$5:$N$215,10,0)*$H760","v":2892.0970339891969},{"$f":"VLOOKUP($A760,'8.Non-elective admissions - CCG'!$D$5:$Q$215,11,0)*$H760","v":2688.42822877869},{"$f":"VLOOKUP($A760,'8.Non-elective admissions - CCG'!$D$5:$Q$215,12,0)*$H760","v":2735.1230280220743},{"$f":"VLOOKUP($A760,'8.Non-elective admissions - CCG'!$D$5:$Q$215,13,0)*$H760","v":2915.9411867943295},{"$f":"VLOOKUP($A760,'8.Non-elective admissions - CCG'!$D$5:$Q$215,14,0)*$H760","v":2775.8567890641757}]
["03R","NHS Wakefield CCG","E08000016","Barnsley",{"$f":"COUNTIF($D$5:D761,D761)","v":6},"Barnsley6","NHS Wakefield CCG",3.5649681351404001E-3,5.2711060270015592E-3,{"$f":"VLOOKUP($A761,'8.Non-elective admissions - CCG'!$D$5:$N$215,3,0)*$H761","v":38.733378788300449},{"$f":"VLOOKUP($A761,'8.Non-elective admissions - CCG'!$D$5:$N$215,4,0)*$H761","v":35.756630395458217},{"$f":"VLOOKUP($A761,'8.Non-elective admissions - CCG'!$D$5:$N$215,5,0)*$H761","v":37.200442490190078},{"$f":"VLOOKUP($A761,'8.Non-elective admissions - CCG'!$D$5:$N$215,6,0)*$H761","v":37.663888347758331},{"$f":"VLOOKUP($A761,'8.Non-elective admissions - CCG'!$D$5:$N$215,7,0)*$H761","v":39.022269986266302},{"$f":"VLOOKUP($A761,'8.Non-elective admissions - CCG'!$D$5:$N$215,8,0)*$H761","v":38.885118066907189},{"$f":"VLOOKUP($A761,'8.Non-elective admissions - CCG'!$D$5:$N$215,9,0)*$H761","v":40.389534619936434},{"$f":"VLOOKUP($A761,'8.Non-elective admissions - CCG'!$D$5:$N$215,10,0)*$H761","v":38.888484327354746},{"$f":"VLOOKUP($A761,'8.Non-elective admissions - CCG'!$D$5:$Q$215,11,0)*$H761","v":39.400156608591182},{"$f":"VLOOKUP($A761,'8.Non-elective admissions - CCG'!$D$5:$Q$215,12,0)*$H761","v":39.263004689232069},{"$f":"VLOOKUP($A761,'8.Non-elective admissions - CCG'!$D$5:$Q$215,13,0)*$H761","v":40.788811051072159},{"$f":"VLOOKUP($A761,'8.Non-elective admissions - CCG'!$D$5:$Q$215,14,0)*$H761","v":39.266370949679626}]
["03R","NHS Wakefield CCG","E08000017","Doncaster",{"$f":"COUNTIF($D$5:D762,D762)","v":5},"Doncaster5","NHS Wakefield CCG",1.2245011549272256E-3,1.4285435998000042E-3,{"$f":"VLOOKUP($A762,'8.Non-elective admissions - CCG'!$D$5:$N$215,3,0)*$H762","v":13.304205048284306},{"$f":"VLOOKUP($A762,'8.Non-elective admissions - CCG'!$D$5:$N$215,4,0)*$H762","v":12.281746583920073},{"$f":"VLOOKUP($A762,'8.Non-elective admissions - CCG'!$D$5:$N$215,5,0)*$H762","v":12.7776695516656},{"$f":"VLOOKUP($A762,'8.Non-elective admissions - CCG'!$D$5:$N$215,6,0)*$H762","v":12.936854701806139},{"$f":"VLOOKUP($A762,'8.Non-elective admissions - CCG'!$D$5:$N$215,7,0)*$H762","v":13.403433875064145},{"$f":"VLOOKUP($A762,'8.Non-elective admissions - CCG'!$D$5:$N$215,8,0)*$H762","v":13.356324706822141},{"$f":"VLOOKUP($A762,'8.Non-elective admissions - CCG'!$D$5:$N$215,9,0)*$H762","v":13.873064194201429},{"$f":"VLOOKUP($A762,'8.Non-elective admissions - CCG'!$D$5:$N$215,10,0)*$H762","v":13.357480955531683},{"$f":"VLOOKUP($A762,'8.Non-elective admissions - CCG'!$D$5:$Q$215,11,0)*$H762","v":13.533230997486431},{"$f":"VLOOKUP($A762,'8.Non-elective admissions - CCG'!$D$5:$Q$215,12,0)*$H762","v":13.486121829244427},{"$f":"VLOOKUP($A762,'8.Non-elective admissions - CCG'!$D$5:$Q$215,13,0)*$H762","v":14.010208323553279},{"$f":"VLOOKUP($A762,'8.Non-elective admissions - CCG'!$D$5:$Q$215,14,0)*$H762","v":13.48727807795397}]
["03R","NHS Wakefield CCG","E08000034","Kirklees",{"$f":"COUNTIF($D$5:D763,D763)","v":7},"Kirklees7","NHS Wakefield CCG",1.4170817911112348E-2,1.1602603977970544E-2,{"$f":"VLOOKUP($A763,'8.Non-elective admissions - CCG'!$D$5:$N$215,3,0)*$H763","v":153.96593660423565},{"$f":"VLOOKUP($A763,'8.Non-elective admissions - CCG'!$D$5:$N$215,4,0)*$H763","v":142.13330364845686},{"$f":"VLOOKUP($A763,'8.Non-elective admissions - CCG'!$D$5:$N$215,5,0)*$H763","v":147.87248490245736},{"$f":"VLOOKUP($A763,'8.Non-elective admissions - CCG'!$D$5:$N$215,6,0)*$H763","v":149.71469123090196},{"$f":"VLOOKUP($A763,'8.Non-elective admissions - CCG'!$D$5:$N$215,7,0)*$H763","v":155.11428475415144},{"$f":"VLOOKUP($A763,'8.Non-elective admissions - CCG'!$D$5:$N$215,8,0)*$H763","v":154.56910319804169},{"$f":"VLOOKUP($A763,'8.Non-elective admissions - CCG'!$D$5:$N$215,9,0)*$H763","v":160.54918835653109},{"$f":"VLOOKUP($A763,'8.Non-elective admissions - CCG'!$D$5:$N$215,10,0)*$H763","v":154.58248414901666},{"$f":"VLOOKUP($A763,'8.Non-elective admissions - CCG'!$D$5:$Q$215,11,0)*$H763","v":156.61639145272935},{"$f":"VLOOKUP($A763,'8.Non-elective admissions - CCG'!$D$5:$Q$215,12,0)*$H763","v":156.07120989661959},{"$f":"VLOOKUP($A763,'8.Non-elective admissions - CCG'!$D$5:$Q$215,13,0)*$H763","v":162.13631996257567},{"$f":"VLOOKUP($A763,'8.Non-elective admissions - CCG'!$D$5:$Q$215,14,0)*$H763","v":156.08459084759457}]
["03R","NHS Wakefield CCG","E08000035","Leeds",{"$f":"COUNTIF($D$5:D764,D764)","v":8},"Leeds8","NHS Wakefield CCG",1.4808115103108562E-2,6.4313772889345493E-3,{"$f":"VLOOKUP($A764,'8.Non-elective admissions - CCG'!$D$5:$N$215,3,0)*$H764","v":160.89017059527453},{"$f":"VLOOKUP($A764,'8.Non-elective admissions - CCG'!$D$5:$N$215,4,0)*$H764","v":148.52539448417886},{"$f":"VLOOKUP($A764,'8.Non-elective admissions - CCG'!$D$5:$N$215,5,0)*$H764","v":154.52268110093783},{"$f":"VLOOKUP($A764,'8.Non-elective admissions - CCG'!$D$5:$N$215,6,0)*$H764","v":156.44773606434197},{"$f":"VLOOKUP($A764,'8.Non-elective admissions - CCG'!$D$5:$N$215,7,0)*$H764","v":162.090162839128},{"$f":"VLOOKUP($A764,'8.Non-elective admissions - CCG'!$D$5:$N$215,8,0)*$H764","v":161.52046310227411},{"$f":"VLOOKUP($A764,'8.Non-elective admissions - CCG'!$D$5:$N$215,9,0)*$H764","v":167.76948767578591},{"$f":"VLOOKUP($A764,'8.Non-elective admissions - CCG'!$D$5:$N$215,10,0)*$H764","v":161.53444582814566},{"$f":"VLOOKUP($A764,'8.Non-elective admissions - CCG'!$D$5:$Q$215,11,0)*$H764","v":163.65982304005749},{"$f":"VLOOKUP($A764,'8.Non-elective admissions - CCG'!$D$5:$Q$215,12,0)*$H764","v":163.09012330320363},{"$f":"VLOOKUP($A764,'8.Non-elective admissions - CCG'!$D$5:$Q$215,13,0)*$H764","v":169.42799656733408},{"$f":"VLOOKUP($A764,'8.Non-elective admissions - CCG'!$D$5:$Q$215,14,0)*$H764","v":163.10410602907515}]
["03R","NHS Wakefield CCG","E10000023","North Yorkshire",{"$f":"COUNTIF($D$5:D765,D765)","v":15},"North Yorkshire15","NHS Wakefield CCG",2.0284974814237609E-2,1.195043414391018E-2,{"$f":"VLOOKUP($A765,'8.Non-elective admissions - CCG'!$D$5:$N$215,3,0)*$H765","v":220.39625135669161},{"$f":"VLOOKUP($A765,'8.Non-elective admissions - CCG'!$D$5:$N$215,4,0)*$H765","v":203.45829738680322},{"$f":"VLOOKUP($A765,'8.Non-elective admissions - CCG'!$D$5:$N$215,5,0)*$H765","v":211.67371218656945},{"$f":"VLOOKUP($A765,'8.Non-elective admissions - CCG'!$D$5:$N$215,6,0)*$H765","v":214.31075891242034},{"$f":"VLOOKUP($A765,'8.Non-elective admissions - CCG'!$D$5:$N$215,7,0)*$H765","v":222.04006708032401},{"$f":"VLOOKUP($A765,'8.Non-elective admissions - CCG'!$D$5:$N$215,8,0)*$H765","v":221.2596608818786},{"$f":"VLOOKUP($A765,'8.Non-elective admissions - CCG'!$D$5:$N$215,9,0)*$H765","v":229.81992025348688},{"$f":"VLOOKUP($A765,'8.Non-elective admissions - CCG'!$D$5:$N$215,10,0)*$H765","v":221.27881519288738},{"$f":"VLOOKUP($A765,'8.Non-elective admissions - CCG'!$D$5:$Q$215,11,0)*$H765","v":224.19027441063318},{"$f":"VLOOKUP($A765,'8.Non-elective admissions - CCG'!$D$5:$Q$215,12,0)*$H765","v":223.4098682121878},{"$f":"VLOOKUP($A765,'8.Non-elective admissions - CCG'!$D$5:$Q$215,13,0)*$H765","v":232.0918374326815},{"$f":"VLOOKUP($A765,'8.Non-elective admissions - CCG'!$D$5:$Q$215,14,0)*$H765","v":223.42902252319658}]
["03R","NHS Wakefield CCG","E08000036","Wakefield",{"$f":"COUNTIF($D$5:D766,D766)","v":5},"Wakefield5","NHS Wakefield CCG",0.9459466228814738,0.98143710154301012,{"$f":"VLOOKUP($A766,'8.Non-elective admissions - CCG'!$D$5:$N$215,3,0)*$H766","v":10277.710057607213},{"$f":"VLOOKUP($A766,'8.Non-elective admissions - CCG'!$D$5:$N$215,4,0)*$H766","v":9487.8446275011829},{"$f":"VLOOKUP($A766,'8.Non-elective admissions - CCG'!$D$5:$N$215,5,0)*$H766","v":9870.95300976818},{"$f":"VLOOKUP($A766,'8.Non-elective admissions - CCG'!$D$5:$N$215,6,0)*$H766","v":9993.9260707427711},{"$f":"VLOOKUP($A766,'8.Non-elective admissions - CCG'!$D$5:$N$215,7,0)*$H766","v":10354.365904935064},{"$f":"VLOOKUP($A766,'8.Non-elective admissions - CCG'!$D$5:$N$215,8,0)*$H766","v":10317.973323004077},{"$f":"VLOOKUP($A766,'8.Non-elective admissions - CCG'!$D$5:$N$215,9,0)*$H766","v":10717.162797860057},{"$f":"VLOOKUP($A766,'8.Non-elective admissions - CCG'!$D$5:$N$215,10,0)*$H766","v":10318.866543527063},{"$f":"VLOOKUP($A766,'8.Non-elective admissions - CCG'!$D$5:$Q$215,11,0)*$H766","v":10454.636246960501},{"$f":"VLOOKUP($A766,'8.Non-elective admissions - CCG'!$D$5:$Q$215,12,0)*$H766","v":10418.243665029511},{"$f":"VLOOKUP($A766,'8.Non-elective admissions - CCG'!$D$5:$Q$215,13,0)*$H766","v":10823.108819622783},{"$f":"VLOOKUP($A766,'8.Non-elective admissions - CCG'!$D$5:$Q$215,14,0)*$H766","v":10419.1368855525}]
["05Y","NHS Walsall CCG","E08000025","Birmingham",{"$f":"COUNTIF($D$5:D767,D767)","v":7},"Birmingham7","NHS Walsall CCG",6.4390421560593649E-3,1.486803775539723E-3,{"$f":"VLOOKUP($A767,'8.Non-elective admissions - CCG'!$D$5:$N$215,3,0)*$H767","v":46.908422106892473},{"$f":"VLOOKUP($A767,'8.Non-elective admissions - CCG'!$D$5:$N$215,4,0)*$H767","v":45.485393790403357},{"$f":"VLOOKUP($A767,'8.Non-elective admissions - CCG'!$D$5:$N$215,5,0)*$H767","v":47.236813256851498},{"$f":"VLOOKUP($A767,'8.Non-elective admissions - CCG'!$D$5:$N$215,6,0)*$H767","v":46.631543294181924},{"$f":"VLOOKUP($A767,'8.Non-elective admissions - CCG'!$D$5:$N$215,7,0)*$H767","v":44.770660111080765},{"$f":"VLOOKUP($A767,'8.Non-elective admissions - CCG'!$D$5:$N$215,8,0)*$H767","v":46.451250113812257},{"$f":"VLOOKUP($A767,'8.Non-elective admissions - CCG'!$D$5:$N$215,9,0)*$H767","v":45.903931530547212},{"$f":"VLOOKUP($A767,'8.Non-elective admissions - CCG'!$D$5:$N$215,10,0)*$H767","v":45.343734862970045},{"$f":"VLOOKUP($A767,'8.Non-elective admissions - CCG'!$D$5:$Q$215,11,0)*$H767","v":44.963831375762545},{"$f":"VLOOKUP($A767,'8.Non-elective admissions - CCG'!$D$5:$Q$215,12,0)*$H767","v":46.644421378494037},{"$f":"VLOOKUP($A767,'8.Non-elective admissions - CCG'!$D$5:$Q$215,13,0)*$H767","v":46.103541837385052},{"$f":"VLOOKUP($A767,'8.Non-elective admissions - CCG'!$D$5:$Q$215,14,0)*$H767","v":45.530467085495772}]
["05Y","NHS Walsall CCG","E08000028","Sandwell",{"$f":"COUNTIF($D$5:D768,D768)","v":5},"Sandwell5","NHS Walsall CCG",1.6053901484111809E-2,1.3186826336557248E-2,{"$f":"VLOOKUP($A768,'8.Non-elective admissions - CCG'!$D$5:$N$215,3,0)*$H768","v":116.95267231175453},{"$f":"VLOOKUP($A768,'8.Non-elective admissions - CCG'!$D$5:$N$215,4,0)*$H768","v":113.40476008376582},{"$f":"VLOOKUP($A768,'8.Non-elective admissions - CCG'!$D$5:$N$215,5,0)*$H768","v":117.77142128744423},{"$f":"VLOOKUP($A768,'8.Non-elective admissions - CCG'!$D$5:$N$215,6,0)*$H768","v":116.26235454793772},{"$f":"VLOOKUP($A768,'8.Non-elective admissions - CCG'!$D$5:$N$215,7,0)*$H768","v":111.6227770190294},{"$f":"VLOOKUP($A768,'8.Non-elective admissions - CCG'!$D$5:$N$215,8,0)*$H768","v":115.81284530638258},{"$f":"VLOOKUP($A768,'8.Non-elective admissions - CCG'!$D$5:$N$215,9,0)*$H768","v":114.44826368023308},{"$f":"VLOOKUP($A768,'8.Non-elective admissions - CCG'!$D$5:$N$215,10,0)*$H768","v":113.05157425111535},{"$f":"VLOOKUP($A768,'8.Non-elective admissions - CCG'!$D$5:$Q$215,11,0)*$H768","v":112.10439406355276},{"$f":"VLOOKUP($A768,'8.Non-elective admissions - CCG'!$D$5:$Q$215,12,0)*$H768","v":116.29446235090595},{"$f":"VLOOKUP($A768,'8.Non-elective admissions - CCG'!$D$5:$Q$215,13,0)*$H768","v":114.94593462624054},{"$f":"VLOOKUP($A768,'8.Non-elective admissions - CCG'!$D$5:$Q$215,14,0)*$H768","v":113.5171373941546}]
["05Y","NHS Walsall CCG","E10000028","Staffordshire",{"$f":"COUNTIF($D$5:D769,D769)","v":15},"Staffordshire15","NHS Walsall CCG",1.5485750705635983E-2,4.8891996062883471E-3,{"$f":"VLOOKUP($A769,'8.Non-elective admissions - CCG'!$D$5:$N$215,3,0)*$H769","v":112.81369389055814},{"$f":"VLOOKUP($A769,'8.Non-elective admissions - CCG'!$D$5:$N$215,4,0)*$H769","v":109.39134298461259},{"$f":"VLOOKUP($A769,'8.Non-elective admissions - CCG'!$D$5:$N$215,5,0)*$H769","v":113.60346717654558},{"$f":"VLOOKUP($A769,'8.Non-elective admissions - CCG'!$D$5:$N$215,6,0)*$H769","v":112.1478066102158},{"$f":"VLOOKUP($A769,'8.Non-elective admissions - CCG'!$D$5:$N$215,7,0)*$H769","v":107.67242465628699},{"$f":"VLOOKUP($A769,'8.Non-elective admissions - CCG'!$D$5:$N$215,8,0)*$H769","v":111.71420559045798},{"$f":"VLOOKUP($A769,'8.Non-elective admissions - CCG'!$D$5:$N$215,9,0)*$H769","v":110.39791678047892},{"$f":"VLOOKUP($A769,'8.Non-elective admissions - CCG'!$D$5:$N$215,10,0)*$H769","v":109.05065646908859},{"$f":"VLOOKUP($A769,'8.Non-elective admissions - CCG'!$D$5:$Q$215,11,0)*$H769","v":108.13699717745607},{"$f":"VLOOKUP($A769,'8.Non-elective admissions - CCG'!$D$5:$Q$215,12,0)*$H769","v":112.17877811162707},{"$f":"VLOOKUP($A769,'8.Non-elective admissions - CCG'!$D$5:$Q$215,13,0)*$H769","v":110.87797505235363},{"$f":"VLOOKUP($A769,'8.Non-elective admissions - CCG'!$D$5:$Q$215,14,0)*$H769","v":109.49974323955203}]
["05Y","NHS Walsall CCG","E08000030","Walsall",{"$f":"COUNTIF($D$5:D770,D770)","v":4},"Walsall4","NHS Walsall CCG",0.92272056815077852,0.90878308092945848,{"$f":"VLOOKUP($A770,'8.Non-elective admissions - CCG'!$D$5:$N$215,3,0)*$H770","v":6722.0193389784217},{"$f":"VLOOKUP($A770,'8.Non-elective admissions - CCG'!$D$5:$N$215,4,0)*$H770","v":6518.0980934170993},{"$f":"VLOOKUP($A770,'8.Non-elective admissions - CCG'!$D$5:$N$215,5,0)*$H770","v":6769.0780879541117},{"$f":"VLOOKUP($A770,'8.Non-elective admissions - CCG'!$D$5:$N$215,6,0)*$H770","v":6682.3423545479382},{"$f":"VLOOKUP($A770,'8.Non-elective admissions - CCG'!$D$5:$N$215,7,0)*$H770","v":6415.6761103523631},{"$f":"VLOOKUP($A770,'8.Non-elective admissions - CCG'!$D$5:$N$215,8,0)*$H770","v":6656.5061786397164},{"$f":"VLOOKUP($A770,'8.Non-elective admissions - CCG'!$D$5:$N$215,9,0)*$H770","v":6578.0749303469001},{"$f":"VLOOKUP($A770,'8.Non-elective admissions - CCG'!$D$5:$N$215,10,0)*$H770","v":6497.7982409177821},{"$f":"VLOOKUP($A770,'8.Non-elective admissions - CCG'!$D$5:$Q$215,11,0)*$H770","v":6443.3577273968867},{"$f":"VLOOKUP($A770,'8.Non-elective admissions - CCG'!$D$5:$Q$215,12,0)*$H770","v":6684.18779568424},{"$f":"VLOOKUP($A770,'8.Non-elective admissions - CCG'!$D$5:$Q$215,13,0)*$H770","v":6606.6792679595746},{"$f":"VLOOKUP($A770,'8.Non-elective admissions - CCG'!$D$5:$Q$215,14,0)*$H770","v":6524.5571373941548}]
["05Y","NHS Walsall CCG","E08000031","Wolverhampton",{"$f":"COUNTIF($D$5:D771,D771)","v":4},"Wolverhampton4","NHS Walsall CCG",3.9300737503414368E-2,4.0571024671213402E-2,{"$f":"VLOOKUP($A771,'8.Non-elective admissions - CCG'!$D$5:$N$215,3,0)*$H771","v":286.30587271237368},{"$f":"VLOOKUP($A771,'8.Non-elective admissions - CCG'!$D$5:$N$215,4,0)*$H771","v":277.6204097241191},{"$f":"VLOOKUP($A771,'8.Non-elective admissions - CCG'!$D$5:$N$215,5,0)*$H771","v":288.31021032504782},{"$f":"VLOOKUP($A771,'8.Non-elective admissions - CCG'!$D$5:$N$215,6,0)*$H771","v":284.61594099972683},{"$f":"VLOOKUP($A771,'8.Non-elective admissions - CCG'!$D$5:$N$215,7,0)*$H771","v":273.25802786124012},{"$f":"VLOOKUP($A771,'8.Non-elective admissions - CCG'!$D$5:$N$215,8,0)*$H771","v":283.51552034963123},{"$f":"VLOOKUP($A771,'8.Non-elective admissions - CCG'!$D$5:$N$215,9,0)*$H771","v":280.17495766184101},{"$f":"VLOOKUP($A771,'8.Non-elective admissions - CCG'!$D$5:$N$215,10,0)*$H771","v":276.75579349904399},{"$f":"VLOOKUP($A771,'8.Non-elective admissions - CCG'!$D$5:$Q$215,11,0)*$H771","v":274.43704998634252},{"$f":"VLOOKUP($A771,'8.Non-elective admissions - CCG'!$D$5:$Q$215,12,0)*$H771","v":284.69454247473368},{"$f":"VLOOKUP($A771,'8.Non-elective admissions - CCG'!$D$5:$Q$215,13,0)*$H771","v":281.39328052444688},{"$f":"VLOOKUP($A771,'8.Non-elective admissions - CCG'!$D$5:$Q$215,14,0)*$H771","v":277.89551488664301}]
["08W","NHS Waltham Forest CCG","E10000012","Essex",{"$f":"COUNTIF($D$5:D772,D772)","v":12},"Essex12","NHS Waltham Forest CCG",4.7531696243070408E-3,9.5561906728318911E-4,{"$f":"VLOOKUP($A772,'8.Non-elective admissions - CCG'!$D$5:$N$215,3,0)*$H772","v":34.9690689260269},{"$f":"VLOOKUP($A772,'8.Non-elective admissions - CCG'!$D$5:$N$215,4,0)*$H772","v":33.452807815872951},{"$f":"VLOOKUP($A772,'8.Non-elective admissions - CCG'!$D$5:$N$215,5,0)*$H772","v":36.414032491816236},{"$f":"VLOOKUP($A772,'8.Non-elective admissions - CCG'!$D$5:$N$215,6,0)*$H772","v":34.161030089894702},{"$f":"VLOOKUP($A772,'8.Non-elective admissions - CCG'!$D$5:$N$215,7,0)*$H772","v":35.957728207882766},{"$f":"VLOOKUP($A772,'8.Non-elective admissions - CCG'!$D$5:$N$215,8,0)*$H772","v":34.431960758480201},{"$f":"VLOOKUP($A772,'8.Non-elective admissions - CCG'!$D$5:$N$215,9,0)*$H772","v":37.42170445216933},{"$f":"VLOOKUP($A772,'8.Non-elective admissions - CCG'!$D$5:$N$215,10,0)*$H772","v":35.140183032501952},{"$f":"VLOOKUP($A772,'8.Non-elective admissions - CCG'!$D$5:$Q$215,11,0)*$H772","v":37.687881951130528},{"$f":"VLOOKUP($A772,'8.Non-elective admissions - CCG'!$D$5:$Q$215,12,0)*$H772","v":35.482411245452056},{"$f":"VLOOKUP($A772,'8.Non-elective admissions - CCG'!$D$5:$Q$215,13,0)*$H772","v":38.006344315959097},{"$f":"VLOOKUP($A772,'8.Non-elective admissions - CCG'!$D$5:$Q$215,14,0)*$H772","v":32.259762240171888}]
["08W","NHS Waltham Forest CCG","E09000025","Newham",{"$f":"COUNTIF($D$5:D773,D773)","v":5},{"$f":"D773&E773","v":"Newham5"},{"$f":"B773","v":"NHS Waltham Forest CCG"},1.7587065432937071E-2,1.4377640918003809E-2,{"$f":"VLOOKUP($A773,'8.Non-elective admissions - CCG'!$D$5:$N$215,3,0)*$H773","v":129.38804039011802},{"$f":"VLOOKUP($A773,'8.Non-elective admissions - CCG'!$D$5:$N$215,4,0)*$H773","v":123.7777665170111},{"$f":"VLOOKUP($A773,'8.Non-elective admissions - CCG'!$D$5:$N$215,5,0)*$H773","v":134.73450828173091},{"$f":"VLOOKUP($A773,'8.Non-elective admissions - CCG'!$D$5:$N$215,6,0)*$H773","v":126.39823926651873},{"$f":"VLOOKUP($A773,'8.Non-elective admissions - CCG'!$D$5:$N$215,7,0)*$H773","v":133.04615000016895},{"$f":"VLOOKUP($A773,'8.Non-elective admissions - CCG'!$D$5:$N$215,8,0)*$H773","v":127.40070199619613},{"$f":"VLOOKUP($A773,'8.Non-elective admissions - CCG'!$D$5:$N$215,9,0)*$H773","v":138.46296615351355},{"$f":"VLOOKUP($A773,'8.Non-elective admissions - CCG'!$D$5:$N$215,10,0)*$H773","v":130.02117474570377},{"$f":"VLOOKUP($A773,'8.Non-elective admissions - CCG'!$D$5:$Q$215,11,0)*$H773","v":139.44784181775805},{"$f":"VLOOKUP($A773,'8.Non-elective admissions - CCG'!$D$5:$Q$215,12,0)*$H773","v":131.28744345687522},{"$f":"VLOOKUP($A773,'8.Non-elective admissions - CCG'!$D$5:$Q$215,13,0)*$H773","v":140.62617520176482},{"$f":"VLOOKUP($A773,'8.Non-elective admissions - CCG'!$D$5:$Q$215,14,0)*$H773","v":119.36341309334389}]
["08W","NHS Waltham Forest CCG","E09000026","Redbridge",{"$f":"COUNTIF($D$5:D774,D774)","v":5},"Redbridge5","NHS Waltham Forest CCG",3.3532311080932263E-2,3.2344152733742387E-2,{"$f":"VLOOKUP($A774,'8.Non-elective admissions - CCG'!$D$5:$N$215,3,0)*$H774","v":246.69721262241865},{"$f":"VLOOKUP($A774,'8.Non-elective admissions - CCG'!$D$5:$N$215,4,0)*$H774","v":236.00040538760126},{"$f":"VLOOKUP($A774,'8.Non-elective admissions - CCG'!$D$5:$N$215,5,0)*$H774","v":256.89103519102207},{"$f":"VLOOKUP($A774,'8.Non-elective admissions - CCG'!$D$5:$N$215,6,0)*$H774","v":240.99671973866018},{"$f":"VLOOKUP($A774,'8.Non-elective admissions - CCG'!$D$5:$N$215,7,0)*$H774","v":253.67193332725256},{"$f":"VLOOKUP($A774,'8.Non-elective admissions - CCG'!$D$5:$N$215,8,0)*$H774","v":242.90806147027331},{"$f":"VLOOKUP($A774,'8.Non-elective admissions - CCG'!$D$5:$N$215,9,0)*$H774","v":263.99988514017969},{"$f":"VLOOKUP($A774,'8.Non-elective admissions - CCG'!$D$5:$N$215,10,0)*$H774","v":247.90437582133222},{"$f":"VLOOKUP($A774,'8.Non-elective admissions - CCG'!$D$5:$Q$215,11,0)*$H774","v":265.87769456071192},{"$f":"VLOOKUP($A774,'8.Non-elective admissions - CCG'!$D$5:$Q$215,12,0)*$H774","v":250.31870221915935},{"$f":"VLOOKUP($A774,'8.Non-elective admissions - CCG'!$D$5:$Q$215,13,0)*$H774","v":268.12435940313435},{"$f":"VLOOKUP($A774,'8.Non-elective admissions - CCG'!$D$5:$Q$215,14,0)*$H774","v":227.58379530628727}]
["08W","NHS Waltham Forest CCG","E09000031","Waltham Forest",{"$f":"COUNTIF($D$5:D775,D775)","v":4},"Waltham Forest4","NHS Waltham Forest CCG",0.94412745386182373,0.97097909508142055,{"$f":"VLOOKUP($A775,'8.Non-elective admissions - CCG'!$D$5:$N$215,3,0)*$H775","v":6945.9456780614373},{"$f":"VLOOKUP($A775,'8.Non-elective admissions - CCG'!$D$5:$N$215,4,0)*$H775","v":6644.7690202795156},{"$f":"VLOOKUP($A775,'8.Non-elective admissions - CCG'!$D$5:$N$215,5,0)*$H775","v":7232.960424035432},{"$f":"VLOOKUP($A775,'8.Non-elective admissions - CCG'!$D$5:$N$215,6,0)*$H775","v":6785.4440109049274},{"$f":"VLOOKUP($A775,'8.Non-elective admissions - CCG'!$D$5:$N$215,7,0)*$H775","v":7142.3241884646968},{"$f":"VLOOKUP($A775,'8.Non-elective admissions - CCG'!$D$5:$N$215,8,0)*$H775","v":6839.2592757750508},{"$f":"VLOOKUP($A775,'8.Non-elective admissions - CCG'!$D$5:$N$215,9,0)*$H775","v":7433.1154442541383},{"$f":"VLOOKUP($A775,'8.Non-elective admissions - CCG'!$D$5:$N$215,10,0)*$H775","v":6979.9342664004625},{"$f":"VLOOKUP($A775,'8.Non-elective admissions - CCG'!$D$5:$Q$215,11,0)*$H775","v":7485.9865816704005},{"$f":"VLOOKUP($A775,'8.Non-elective admissions - CCG'!$D$5:$Q$215,12,0)*$H775","v":7047.9114430785139},{"$f":"VLOOKUP($A775,'8.Non-elective admissions - CCG'!$D$5:$Q$215,13,0)*$H775","v":7549.2431210791428},{"$f":"VLOOKUP($A775,'8.Non-elective admissions - CCG'!$D$5:$Q$215,14,0)*$H775","v":6407.7930293601976}]
["08X","NHS Wandsworth CCG","E09000008","Croydon",{"$f":"COUNTIF($D$5:D776,D776)","v":7},"Croydon7","NHS Wandsworth CCG",2.9849042139344457E-3,2.7687349806213763E-3,{"$f":"VLOOKUP($A776,'8.Non-elective admissions - CCG'!$D$5:$N$215,3,0)*$H776","v":18.679530570801763},{"$f":"VLOOKUP($A776,'8.Non-elective admissions - CCG'!$D$5:$N$215,4,0)*$H776","v":18.655651337090287},{"$f":"VLOOKUP($A776,'8.Non-elective admissions - CCG'!$D$5:$N$215,5,0)*$H776","v":18.807881452000942},{"$f":"VLOOKUP($A776,'8.Non-elective admissions - CCG'!$D$5:$N$215,6,0)*$H776","v":17.906440379392741},{"$f":"VLOOKUP($A776,'8.Non-elective admissions - CCG'!$D$5:$N$215,7,0)*$H776","v":20.064526126067346},{"$f":"VLOOKUP($A776,'8.Non-elective admissions - CCG'!$D$5:$N$215,8,0)*$H776","v":19.963039382793571},{"$f":"VLOOKUP($A776,'8.Non-elective admissions - CCG'!$D$5:$N$215,9,0)*$H776","v":20.473458003376361},{"$f":"VLOOKUP($A776,'8.Non-elective admissions - CCG'!$D$5:$N$215,10,0)*$H776","v":20.443608961237018},{"$f":"VLOOKUP($A776,'8.Non-elective admissions - CCG'!$D$5:$Q$215,11,0)*$H776","v":20.357046739032921},{"$f":"VLOOKUP($A776,'8.Non-elective admissions - CCG'!$D$5:$Q$215,12,0)*$H776","v":20.258544899973081},{"$f":"VLOOKUP($A776,'8.Non-elective admissions - CCG'!$D$5:$Q$215,13,0)*$H776","v":20.777918233197678},{"$f":"VLOOKUP($A776,'8.Non-elective admissions - CCG'!$D$5:$Q$215,14,0)*$H776","v":20.736129574202593}]
["08X","NHS Wandsworth CCG","E09000021","Kingston upon Thames",{"$f":"COUNTIF($D$5:D777,D777)","v":6},"Kingston upon Thames6","NHS Wandsworth CCG",2.4303318463182099E-3,5.0341522746597447E-3,{"$f":"VLOOKUP($A777,'8.Non-elective admissions - CCG'!$D$5:$N$215,3,0)*$H777","v":15.209016694259358},{"$f":"VLOOKUP($A777,'8.Non-elective admissions - CCG'!$D$5:$N$215,4,0)*$H777","v":15.189574039488813},{"$f":"VLOOKUP($A777,'8.Non-elective admissions - CCG'!$D$5:$N$215,5,0)*$H777","v":15.31352096365104},{"$f":"VLOOKUP($A777,'8.Non-elective admissions - CCG'!$D$5:$N$215,6,0)*$H777","v":14.579560746062942},{"$f":"VLOOKUP($A777,'8.Non-elective admissions - CCG'!$D$5:$N$215,7,0)*$H777","v":16.336690670951008},{"$f":"VLOOKUP($A777,'8.Non-elective admissions - CCG'!$D$5:$N$215,8,0)*$H777","v":16.254059388176188},{"$f":"VLOOKUP($A777,'8.Non-elective admissions - CCG'!$D$5:$N$215,9,0)*$H777","v":16.669646133896602},{"$f":"VLOOKUP($A777,'8.Non-elective admissions - CCG'!$D$5:$N$215,10,0)*$H777","v":16.64534281543342},{"$f":"VLOOKUP($A777,'8.Non-elective admissions - CCG'!$D$5:$Q$215,11,0)*$H777","v":16.574863191890191},{"$f":"VLOOKUP($A777,'8.Non-elective admissions - CCG'!$D$5:$Q$215,12,0)*$H777","v":16.494662240961691},{"$f":"VLOOKUP($A777,'8.Non-elective admissions - CCG'!$D$5:$Q$215,13,0)*$H777","v":16.917539982221058},{"$f":"VLOOKUP($A777,'8.Non-elective admissions - CCG'!$D$5:$Q$215,14,0)*$H777","v":16.883515336372604}]
["08X","NHS Wandsworth CCG","E09000022","Lambeth",{"$f":"COUNTIF($D$5:D778,D778)","v":6},"Lambeth6","NHS Wandsworth CCG",3.5231656295619689E-2,3.7164913568634654E-2,{"$f":"VLOOKUP($A778,'8.Non-elective admissions - CCG'!$D$5:$N$215,3,0)*$H778","v":220.47970509798802},{"$f":"VLOOKUP($A778,'8.Non-elective admissions - CCG'!$D$5:$N$215,4,0)*$H778","v":220.19785184762304},{"$f":"VLOOKUP($A778,'8.Non-elective admissions - CCG'!$D$5:$N$215,5,0)*$H778","v":221.99466631869967},{"$f":"VLOOKUP($A778,'8.Non-elective admissions - CCG'!$D$5:$N$215,6,0)*$H778","v":211.35470611742252},{"$f":"VLOOKUP($A778,'8.Non-elective admissions - CCG'!$D$5:$N$215,7,0)*$H778","v":236.82719361915554},{"$f":"VLOOKUP($A778,'8.Non-elective admissions - CCG'!$D$5:$N$215,8,0)*$H778","v":235.62931730510448},{"$f":"VLOOKUP($A778,'8.Non-elective admissions - CCG'!$D$5:$N$215,9,0)*$H778","v":241.65393053165545},{"$f":"VLOOKUP($A778,'8.Non-elective admissions - CCG'!$D$5:$N$215,10,0)*$H778","v":241.30161396869926},{"$f":"VLOOKUP($A778,'8.Non-elective admissions - CCG'!$D$5:$Q$215,11,0)*$H778","v":240.27989593612628},{"$f":"VLOOKUP($A778,'8.Non-elective admissions - CCG'!$D$5:$Q$215,12,0)*$H778","v":239.11725127837082},{"$f":"VLOOKUP($A778,'8.Non-elective admissions - CCG'!$D$5:$Q$215,13,0)*$H778","v":245.24755947380865},{"$f":"VLOOKUP($A778,'8.Non-elective admissions - CCG'!$D$5:$Q$215,14,0)*$H778","v":244.75431628566997}]
["08X","NHS Wandsworth CCG","E09000024","Merton",{"$f":"COUNTIF($D$5:D779,D779)","v":6},"Merton6","NHS Wandsworth CCG",6.2876001424489805E-2,0.10060636113720986,{"$f":"VLOOKUP($A779,'8.Non-elective admissions - CCG'!$D$5:$N$215,3,0)*$H779","v":393.47801691445721},{"$f":"VLOOKUP($A779,'8.Non-elective admissions - CCG'!$D$5:$N$215,4,0)*$H779","v":392.97500890306128},{"$f":"VLOOKUP($A779,'8.Non-elective admissions - CCG'!$D$5:$N$215,5,0)*$H779","v":396.18168497571025},{"$f":"VLOOKUP($A779,'8.Non-elective admissions - CCG'!$D$5:$N$215,6,0)*$H779","v":377.19313254551435},{"$f":"VLOOKUP($A779,'8.Non-elective admissions - CCG'!$D$5:$N$215,7,0)*$H779","v":422.6524815754205},{"$f":"VLOOKUP($A779,'8.Non-elective admissions - CCG'!$D$5:$N$215,8,0)*$H779","v":420.51469752698785},{"$f":"VLOOKUP($A779,'8.Non-elective admissions - CCG'!$D$5:$N$215,9,0)*$H779","v":431.26649377057555},{"$f":"VLOOKUP($A779,'8.Non-elective admissions - CCG'!$D$5:$N$215,10,0)*$H779","v":430.6377337563307},{"$f":"VLOOKUP($A779,'8.Non-elective admissions - CCG'!$D$5:$Q$215,11,0)*$H779","v":428.81432971502045},{"$f":"VLOOKUP($A779,'8.Non-elective admissions - CCG'!$D$5:$Q$215,12,0)*$H779","v":426.73942166801231},{"$f":"VLOOKUP($A779,'8.Non-elective admissions - CCG'!$D$5:$Q$215,13,0)*$H779","v":437.67984591587356},{"$f":"VLOOKUP($A779,'8.Non-elective admissions - CCG'!$D$5:$Q$215,14,0)*$H779","v":436.79958189593066}]
["08X","NHS Wandsworth CCG","E09000027","Richmond upon Thames",{"$f":"COUNTIF($D$5:D780,D780)","v":6},"Richmond upon Thames6","NHS Wandsworth CCG",3.4035519816447415E-3,5.9575642508077455E-3,{"$f":"VLOOKUP($A780,'8.Non-elective admissions - CCG'!$D$5:$N$215,3,0)*$H780","v":21.299428301132792},{"$f":"VLOOKUP($A780,'8.Non-elective admissions - CCG'!$D$5:$N$215,4,0)*$H780","v":21.272199885279633},{"$f":"VLOOKUP($A780,'8.Non-elective admissions - CCG'!$D$5:$N$215,5,0)*$H780","v":21.445781036343515},{"$f":"VLOOKUP($A780,'8.Non-elective admissions - CCG'!$D$5:$N$215,6,0)*$H780","v":20.417908337886804},{"$f":"VLOOKUP($A780,'8.Non-elective admissions - CCG'!$D$5:$N$215,7,0)*$H780","v":22.878676420615953},{"$f":"VLOOKUP($A780,'8.Non-elective admissions - CCG'!$D$5:$N$215,8,0)*$H780","v":22.762955653240031},{"$f":"VLOOKUP($A780,'8.Non-elective admissions - CCG'!$D$5:$N$215,9,0)*$H780","v":23.344963042101281},{"$f":"VLOOKUP($A780,'8.Non-elective admissions - CCG'!$D$5:$N$215,10,0)*$H780","v":23.310927522284835},{"$f":"VLOOKUP($A780,'8.Non-elective admissions - CCG'!$D$5:$Q$215,11,0)*$H780","v":23.212224514817137},{"$f":"VLOOKUP($A780,'8.Non-elective admissions - CCG'!$D$5:$Q$215,12,0)*$H780","v":23.09990729942286},{"$f":"VLOOKUP($A780,'8.Non-elective admissions - CCG'!$D$5:$Q$215,13,0)*$H780","v":23.692125344229044},{"$f":"VLOOKUP($A780,'8.Non-elective admissions - CCG'!$D$5:$Q$215,14,0)*$H780","v":23.644475616486019}]
["08X","NHS Wandsworth CCG","E09000029","Sutton",{"$f":"COUNTIF($D$5:D781,D781)","v":7},"Sutton7","NHS Wandsworth CCG",1.035745451283264E-3,1.8580290262172284E-3,{"$f":"VLOOKUP($A781,'8.Non-elective admissions - CCG'!$D$5:$N$215,3,0)*$H781","v":6.4816950341306665},{"$f":"VLOOKUP($A781,'8.Non-elective admissions - CCG'!$D$5:$N$215,4,0)*$H781","v":6.4734090705204004},{"$f":"VLOOKUP($A781,'8.Non-elective admissions - CCG'!$D$5:$N$215,5,0)*$H781","v":6.5262320885358465},{"$f":"VLOOKUP($A781,'8.Non-elective admissions - CCG'!$D$5:$N$215,6,0)*$H781","v":6.2134369622483012},{"$f":"VLOOKUP($A781,'8.Non-elective admissions - CCG'!$D$5:$N$215,7,0)*$H781","v":6.9622809235261007},{"$f":"VLOOKUP($A781,'8.Non-elective admissions - CCG'!$D$5:$N$215,8,0)*$H781","v":6.9270655781824697},{"$f":"VLOOKUP($A781,'8.Non-elective admissions - CCG'!$D$5:$N$215,9,0)*$H781","v":7.1041780503519076},{"$f":"VLOOKUP($A781,'8.Non-elective admissions - CCG'!$D$5:$N$215,10,0)*$H781","v":7.093820595839075},{"$f":"VLOOKUP($A781,'8.Non-elective admissions - CCG'!$D$5:$Q$215,11,0)*$H781","v":7.0637839777518607},{"$f":"VLOOKUP($A781,'8.Non-elective admissions - CCG'!$D$5:$Q$215,12,0)*$H781","v":7.0296043778595134},{"$f":"VLOOKUP($A781,'8.Non-elective admissions - CCG'!$D$5:$Q$215,13,0)*$H781","v":7.2098240863828007},{"$f":"VLOOKUP($A781,'8.Non-elective admissions - CCG'!$D$5:$Q$215,14,0)*$H781","v":7.195323650064835}]
["08X","NHS Wandsworth CCG","E09000032","Wandsworth",{"$f":"COUNTIF($D$5:D782,D782)","v":6},"Wandsworth6","NHS Wandsworth CCG",0.8920378087867098,0.9379898807992455,{"$f":"VLOOKUP($A782,'8.Non-elective admissions - CCG'!$D$5:$N$215,3,0)*$H782","v":5582.3726073872303},{"$f":"VLOOKUP($A782,'8.Non-elective admissions - CCG'!$D$5:$N$215,4,0)*$H782","v":5575.2363049169362},{"$f":"VLOOKUP($A782,'8.Non-elective admissions - CCG'!$D$5:$N$215,5,0)*$H782","v":5620.7302331650581},{"$f":"VLOOKUP($A782,'8.Non-elective admissions - CCG'!$D$5:$N$215,6,0)*$H782","v":5351.3348149114718},{"$f":"VLOOKUP($A782,'8.Non-elective admissions - CCG'!$D$5:$N$215,7,0)*$H782","v":5996.2781506642632},{"$f":"VLOOKUP($A782,'8.Non-elective admissions - CCG'!$D$5:$N$215,8,0)*$H782","v":5965.9488651655147},{"$f":"VLOOKUP($A782,'8.Non-elective admissions - CCG'!$D$5:$N$215,9,0)*$H782","v":6118.4873304680423},{"$f":"VLOOKUP($A782,'8.Non-elective admissions - CCG'!$D$5:$N$215,10,0)*$H782","v":6109.5669523801753},{"$f":"VLOOKUP($A782,'8.Non-elective admissions - CCG'!$D$5:$Q$215,11,0)*$H782","v":6083.6978559253612},{"$f":"VLOOKUP($A782,'8.Non-elective admissions - CCG'!$D$5:$Q$215,12,0)*$H782","v":6054.2606082353996},{"$f":"VLOOKUP($A782,'8.Non-elective admissions - CCG'!$D$5:$Q$215,13,0)*$H782","v":6209.4751869642869},{"$f":"VLOOKUP($A782,'8.Non-elective admissions - CCG'!$D$5:$Q$215,14,0)*$H782","v":6196.9866576412733}]
["02E","NHS Warrington CCG","E06000049","Cheshire East",{"$f":"COUNTIF($D$5:D783,D783)","v":9},"Cheshire East9","NHS Warrington CCG",7.3525943952384995E-3,4.0127977102085693E-3,{"$f":"VLOOKUP($A783,'8.Non-elective admissions - CCG'!$D$5:$N$215,3,0)*$H783","v":43.328838771140475},{"$f":"VLOOKUP($A783,'8.Non-elective admissions - CCG'!$D$5:$N$215,4,0)*$H783","v":42.81415716347378},{"$f":"VLOOKUP($A783,'8.Non-elective admissions - CCG'!$D$5:$N$215,5,0)*$H783","v":43.490595847835728},{"$f":"VLOOKUP($A783,'8.Non-elective admissions - CCG'!$D$5:$N$215,6,0)*$H783","v":43.15237650565475},{"$f":"VLOOKUP($A783,'8.Non-elective admissions - CCG'!$D$5:$N$215,7,0)*$H783","v":40.95395078147844},{"$f":"VLOOKUP($A783,'8.Non-elective admissions - CCG'!$D$5:$N$215,8,0)*$H783","v":42.578874142826152},{"$f":"VLOOKUP($A783,'8.Non-elective admissions - CCG'!$D$5:$N$215,9,0)*$H783","v":43.056792778516652},{"$f":"VLOOKUP($A783,'8.Non-elective admissions - CCG'!$D$5:$N$215,10,0)*$H783","v":42.747983813916633},{"$f":"VLOOKUP($A783,'8.Non-elective admissions - CCG'!$D$5:$Q$215,11,0)*$H783","v":39.726067517473616},{"$f":"VLOOKUP($A783,'8.Non-elective admissions - CCG'!$D$5:$Q$215,12,0)*$H783","v":41.299522718054654},{"$f":"VLOOKUP($A783,'8.Non-elective admissions - CCG'!$D$5:$Q$215,13,0)*$H783","v":41.755383570559438},{"$f":"VLOOKUP($A783,'8.Non-elective admissions - CCG'!$D$5:$Q$215,14,0)*$H783","v":41.468632389145135}]
["02E","NHS Warrington CCG","E06000050","Cheshire West and Chester",{"$f":"COUNTIF($D$5:D784,D784)","v":5},"Cheshire West and Chester5","NHS Warrington CCG",4.0795344142920478E-3,2.4775729523504003E-3,{"$f":"VLOOKUP($A784,'8.Non-elective admissions - CCG'!$D$5:$N$215,3,0)*$H784","v":24.040696303423037},{"$f":"VLOOKUP($A784,'8.Non-elective admissions - CCG'!$D$5:$N$215,4,0)*$H784","v":23.755128894422594},{"$f":"VLOOKUP($A784,'8.Non-elective admissions - CCG'!$D$5:$N$215,5,0)*$H784","v":24.130446060537462},{"$f":"VLOOKUP($A784,'8.Non-elective admissions - CCG'!$D$5:$N$215,6,0)*$H784","v":23.942787477480028},{"$f":"VLOOKUP($A784,'8.Non-elective admissions - CCG'!$D$5:$N$215,7,0)*$H784","v":22.723006687606706},{"$f":"VLOOKUP($A784,'8.Non-elective admissions - CCG'!$D$5:$N$215,8,0)*$H784","v":23.62458379316525},{"$f":"VLOOKUP($A784,'8.Non-elective admissions - CCG'!$D$5:$N$215,9,0)*$H784","v":23.889753530094232},{"$f":"VLOOKUP($A784,'8.Non-elective admissions - CCG'!$D$5:$N$215,10,0)*$H784","v":23.718413084693967},{"$f":"VLOOKUP($A784,'8.Non-elective admissions - CCG'!$D$5:$Q$215,11,0)*$H784","v":22.041724440419934},{"$f":"VLOOKUP($A784,'8.Non-elective admissions - CCG'!$D$5:$Q$215,12,0)*$H784","v":22.914744805078431},{"$f":"VLOOKUP($A784,'8.Non-elective admissions - CCG'!$D$5:$Q$215,13,0)*$H784","v":23.167675938764539},{"$f":"VLOOKUP($A784,'8.Non-elective admissions - CCG'!$D$5:$Q$215,14,0)*$H784","v":23.008574096607148}]
["02E","NHS Warrington CCG","E06000006","Halton",{"$f":"COUNTIF($D$5:D785,D785)","v":4},"Halton4","NHS Warrington CCG",5.5085505154833653E-3,8.8954555493781558E-3,{"$f":"VLOOKUP($A785,'8.Non-elective admissions - CCG'!$D$5:$N$215,3,0)*$H785","v":32.461888187743469},{"$f":"VLOOKUP($A785,'8.Non-elective admissions - CCG'!$D$5:$N$215,4,0)*$H785","v":32.076289651659636},{"$f":"VLOOKUP($A785,'8.Non-elective admissions - CCG'!$D$5:$N$215,5,0)*$H785","v":32.583076299084105},{"$f":"VLOOKUP($A785,'8.Non-elective admissions - CCG'!$D$5:$N$215,6,0)*$H785","v":32.329682975371874},{"$f":"VLOOKUP($A785,'8.Non-elective admissions - CCG'!$D$5:$N$215,7,0)*$H785","v":30.682626371242346},{"$f":"VLOOKUP($A785,'8.Non-elective admissions - CCG'!$D$5:$N$215,8,0)*$H785","v":31.900016035164168},{"$f":"VLOOKUP($A785,'8.Non-elective admissions - CCG'!$D$5:$N$215,9,0)*$H785","v":32.258071818670587},{"$f":"VLOOKUP($A785,'8.Non-elective admissions - CCG'!$D$5:$N$215,10,0)*$H785","v":32.026712697020287},{"$f":"VLOOKUP($A785,'8.Non-elective admissions - CCG'!$D$5:$Q$215,11,0)*$H785","v":29.762698435156622},{"$f":"VLOOKUP($A785,'8.Non-elective admissions - CCG'!$D$5:$Q$215,12,0)*$H785","v":30.941528245470064},{"$f":"VLOOKUP($A785,'8.Non-elective admissions - CCG'!$D$5:$Q$215,13,0)*$H785","v":31.283058377430031},{"$f":"VLOOKUP($A785,'8.Non-elective admissions - CCG'!$D$5:$Q$215,14,0)*$H785","v":31.068224907326179}]
["02E","NHS Warrington CCG","E08000009","Trafford",{"$f":"COUNTIF($D$5:D786,D786)","v":5},"Trafford5","NHS Warrington CCG",1.3346916060631786E-3,1.1701951703605687E-3,{"$f":"VLOOKUP($A786,'8.Non-elective admissions - CCG'!$D$5:$N$215,3,0)*$H786","v":7.8653376345303121},{"$f":"VLOOKUP($A786,'8.Non-elective admissions - CCG'!$D$5:$N$215,4,0)*$H786","v":7.7719092221058892},{"$f":"VLOOKUP($A786,'8.Non-elective admissions - CCG'!$D$5:$N$215,5,0)*$H786","v":7.8947008498637015},{"$f":"VLOOKUP($A786,'8.Non-elective admissions - CCG'!$D$5:$N$215,6,0)*$H786","v":7.8333050359847958},{"$f":"VLOOKUP($A786,'8.Non-elective admissions - CCG'!$D$5:$N$215,7,0)*$H786","v":7.4342322457719048},{"$f":"VLOOKUP($A786,'8.Non-elective admissions - CCG'!$D$5:$N$215,8,0)*$H786","v":7.7291990907118677},{"$f":"VLOOKUP($A786,'8.Non-elective admissions - CCG'!$D$5:$N$215,9,0)*$H786","v":7.8159540451059737},{"$f":"VLOOKUP($A786,'8.Non-elective admissions - CCG'!$D$5:$N$215,10,0)*$H786","v":7.759896997651321},{"$f":"VLOOKUP($A786,'8.Non-elective admissions - CCG'!$D$5:$Q$215,11,0)*$H786","v":7.2113387475593544},{"$f":"VLOOKUP($A786,'8.Non-elective admissions - CCG'!$D$5:$Q$215,12,0)*$H786","v":7.4969627512568744},{"$f":"VLOOKUP($A786,'8.Non-elective admissions - CCG'!$D$5:$Q$215,13,0)*$H786","v":7.5797136308327913},{"$f":"VLOOKUP($A786,'8.Non-elective admissions - CCG'!$D$5:$Q$215,14,0)*$H786","v":7.5276606581963277}]
["02E","NHS Warrington CCG","E06000007","Warrington",{"$f":"COUNTIF($D$5:D787,D787)","v":4},"Warrington4","NHS Warrington CCG",0.97833837969382265,0.96962232401607917,{"$f":"VLOOKUP($A787,'8.Non-elective admissions - CCG'!$D$5:$N$215,3,0)*$H787","v":5765.3480715356973},{"$f":"VLOOKUP($A787,'8.Non-elective admissions - CCG'!$D$5:$N$215,4,0)*$H787","v":5696.864384957129},{"$f":"VLOOKUP($A787,'8.Non-elective admissions - CCG'!$D$5:$N$215,5,0)*$H787","v":5786.8715158889609},{"$f":"VLOOKUP($A787,'8.Non-elective admissions - CCG'!$D$5:$N$215,6,0)*$H787","v":5741.8679504230449},{"$f":"VLOOKUP($A787,'8.Non-elective admissions - CCG'!$D$5:$N$215,7,0)*$H787","v":5449.3447748945919},{"$f":"VLOOKUP($A787,'8.Non-elective admissions - CCG'!$D$5:$N$215,8,0)*$H787","v":5665.5575568069271},{"$f":"VLOOKUP($A787,'8.Non-elective admissions - CCG'!$D$5:$N$215,9,0)*$H787","v":5729.1495514870257},{"$f":"VLOOKUP($A787,'8.Non-elective admissions - CCG'!$D$5:$N$215,10,0)*$H787","v":5688.0593395398846},{"$f":"VLOOKUP($A787,'8.Non-elective admissions - CCG'!$D$5:$Q$215,11,0)*$H787","v":5285.9622654857239},{"$f":"VLOOKUP($A787,'8.Non-elective admissions - CCG'!$D$5:$Q$215,12,0)*$H787","v":5495.3266787402017},{"$f":"VLOOKUP($A787,'8.Non-elective admissions - CCG'!$D$5:$Q$215,13,0)*$H787","v":5555.9836582812186},{"$f":"VLOOKUP($A787,'8.Non-elective admissions - CCG'!$D$5:$Q$215,14,0)*$H787","v":5517.8284614731601}]
["02E","NHS Warrington CCG","E08000010","Wigan",{"$f":"COUNTIF($D$5:D788,D788)","v":4},"Wigan4","NHS Warrington CCG",3.38624937510022E-3,2.2072408567045711E-3,{"$f":"VLOOKUP($A788,'8.Non-elective admissions - CCG'!$D$5:$N$215,3,0)*$H788","v":19.955167567465598},{"$f":"VLOOKUP($A788,'8.Non-elective admissions - CCG'!$D$5:$N$215,4,0)*$H788","v":19.718130111208581},{"$f":"VLOOKUP($A788,'8.Non-elective admissions - CCG'!$D$5:$N$215,5,0)*$H788","v":20.0296650537178},{"$f":"VLOOKUP($A788,'8.Non-elective admissions - CCG'!$D$5:$N$215,6,0)*$H788","v":19.87389758246319},{"$f":"VLOOKUP($A788,'8.Non-elective admissions - CCG'!$D$5:$N$215,7,0)*$H788","v":18.861409019308226},{"$f":"VLOOKUP($A788,'8.Non-elective admissions - CCG'!$D$5:$N$215,8,0)*$H788","v":19.609770131205373},{"$f":"VLOOKUP($A788,'8.Non-elective admissions - CCG'!$D$5:$N$215,9,0)*$H788","v":19.829876340586889},{"$f":"VLOOKUP($A788,'8.Non-elective admissions - CCG'!$D$5:$N$215,10,0)*$H788","v":19.687653866832679},{"$f":"VLOOKUP($A788,'8.Non-elective admissions - CCG'!$D$5:$Q$215,11,0)*$H788","v":18.295905373666489},{"$f":"VLOOKUP($A788,'8.Non-elective admissions - CCG'!$D$5:$Q$215,12,0)*$H788","v":19.020562739937937},{"$f":"VLOOKUP($A788,'8.Non-elective admissions - CCG'!$D$5:$Q$215,13,0)*$H788","v":19.23051020119415},{"$f":"VLOOKUP($A788,'8.Non-elective admissions - CCG'!$D$5:$Q$215,14,0)*$H788","v":19.09844647556524}]
["05H","NHS Warwickshire North CCG","E08000026","Coventry",{"$f":"COUNTIF($D$5:D789,D789)","v":2},"Coventry2","NHS Warwickshire North CCG",2.346561552323967E-3,1.2242022802542705E-3,{"$f":"VLOOKUP($A789,'8.Non-elective admissions - CCG'!$D$5:$N$215,3,0)*$H789","v":9.9635003511675642},{"$f":"VLOOKUP($A789,'8.Non-elective admissions - CCG'!$D$5:$N$215,4,0)*$H789","v":9.3135028011738257},{"$f":"VLOOKUP($A789,'8.Non-elective admissions - CCG'!$D$5:$N$215,5,0)*$H789","v":9.7851616731909417},{"$f":"VLOOKUP($A789,'8.Non-elective admissions - CCG'!$D$5:$N$215,6,0)*$H789","v":10.127759659830241},{"$f":"VLOOKUP($A789,'8.Non-elective admissions - CCG'!$D$5:$N$215,7,0)*$H789","v":9.5183155460232367},{"$f":"VLOOKUP($A789,'8.Non-elective admissions - CCG'!$D$5:$N$215,8,0)*$H789","v":9.6229124201736944},{"$f":"VLOOKUP($A789,'8.Non-elective admissions - CCG'!$D$5:$N$215,9,0)*$H789","v":9.6229124201736944},{"$f":"VLOOKUP($A789,'8.Non-elective admissions - CCG'!$D$5:$N$215,10,0)*$H789","v":9.4137186719220569},{"$f":"VLOOKUP($A789,'8.Non-elective admissions - CCG'!$D$5:$Q$215,11,0)*$H789","v":9.1247339453229319},{"$f":"VLOOKUP($A789,'8.Non-elective admissions - CCG'!$D$5:$Q$215,12,0)*$H789","v":9.2318391404367599},{"$f":"VLOOKUP($A789,'8.Non-elective admissions - CCG'!$D$5:$Q$215,13,0)*$H789","v":9.2318391404367599},{"$f":"VLOOKUP($A789,'8.Non-elective admissions - CCG'!$D$5:$Q$215,14,0)*$H789","v":9.0660699064890213}]
["05H","NHS Warwickshire North CCG","E10000018","Leicestershire",{"$f":"COUNTIF($D$5:D790,D790)","v":7},"Leicestershire7","NHS Warwickshire North CCG",1.5739929113152178E-2,4.2446666373019718E-3,{"$f":"VLOOKUP($A790,'8.Non-elective admissions - CCG'!$D$5:$N$215,3,0)*$H790","v":66.831739014444153},{"$f":"VLOOKUP($A790,'8.Non-elective admissions - CCG'!$D$5:$N$215,4,0)*$H790","v":62.471778650100994},{"$f":"VLOOKUP($A790,'8.Non-elective admissions - CCG'!$D$5:$N$215,5,0)*$H790","v":65.635504401844585},{"$f":"VLOOKUP($A790,'8.Non-elective admissions - CCG'!$D$5:$N$215,6,0)*$H790","v":67.933534052364806},{"$f":"VLOOKUP($A790,'8.Non-elective admissions - CCG'!$D$5:$N$215,7,0)*$H790","v":63.845592212420371},{"$f":"VLOOKUP($A790,'8.Non-elective admissions - CCG'!$D$5:$N$215,8,0)*$H790","v":64.547192126965555},{"$f":"VLOOKUP($A790,'8.Non-elective admissions - CCG'!$D$5:$N$215,9,0)*$H790","v":64.547192126965555},{"$f":"VLOOKUP($A790,'8.Non-elective admissions - CCG'!$D$5:$N$215,10,0)*$H790","v":63.143992298205731},{"$f":"VLOOKUP($A790,'8.Non-elective admissions - CCG'!$D$5:$Q$215,11,0)*$H790","v":61.205581985913213},{"$f":"VLOOKUP($A790,'8.Non-elective admissions - CCG'!$D$5:$Q$215,12,0)*$H790","v":61.924006856154698},{"$f":"VLOOKUP($A790,'8.Non-elective admissions - CCG'!$D$5:$Q$215,13,0)*$H790","v":61.924006856154698},{"$f":"VLOOKUP($A790,'8.Non-elective admissions - CCG'!$D$5:$Q$215,14,0)*$H790","v":60.812083757911282}]
["05H","NHS Warwickshire North CCG","E08000029","Solihull",{"$f":"COUNTIF($D$5:D791,D791)","v":6},"Solihull6","NHS Warwickshire North CCG",2.1451165930757381E-3,1.7909742172442637E-3,{"$f":"VLOOKUP($A791,'8.Non-elective admissions - CCG'!$D$5:$N$215,3,0)*$H791","v":9.1081650541995849},{"$f":"VLOOKUP($A791,'8.Non-elective admissions - CCG'!$D$5:$N$215,4,0)*$H791","v":8.5139677579176052},{"$f":"VLOOKUP($A791,'8.Non-elective admissions - CCG'!$D$5:$N$215,5,0)*$H791","v":8.945136193125828},{"$f":"VLOOKUP($A791,'8.Non-elective admissions - CCG'!$D$5:$N$215,6,0)*$H791","v":9.2583232157148849},{"$f":"VLOOKUP($A791,'8.Non-elective admissions - CCG'!$D$5:$N$215,7,0)*$H791","v":8.7011979701465343},{"$f":"VLOOKUP($A791,'8.Non-elective admissions - CCG'!$D$5:$N$215,8,0)*$H791","v":8.7968155302747935},{"$f":"VLOOKUP($A791,'8.Non-elective admissions - CCG'!$D$5:$N$215,9,0)*$H791","v":8.7968155302747935},{"$f":"VLOOKUP($A791,'8.Non-elective admissions - CCG'!$D$5:$N$215,10,0)*$H791","v":8.6055804100633218},{"$f":"VLOOKUP($A791,'8.Non-elective admissions - CCG'!$D$5:$Q$215,11,0)*$H791","v":8.3414041170701516},{"$f":"VLOOKUP($A791,'8.Non-elective admissions - CCG'!$D$5:$Q$215,12,0)*$H791","v":8.4393146666637691},{"$f":"VLOOKUP($A791,'8.Non-elective admissions - CCG'!$D$5:$Q$215,13,0)*$H791","v":8.4393146666637691},{"$f":"VLOOKUP($A791,'8.Non-elective admissions - CCG'!$D$5:$Q$215,14,0)*$H791","v":8.2877762022196642}]
["05H","NHS Warwickshire North CCG","E10000028","Staffordshire",{"$f":"COUNTIF($D$5:D792,D792)","v":16},"Staffordshire16","NHS Warwickshire North CCG",1.1574918469236087E-2,2.4445998031441736E-3,{"$f":"VLOOKUP($A792,'8.Non-elective admissions - CCG'!$D$5:$N$215,3,0)*$H792","v":49.147103820376429},{"$f":"VLOOKUP($A792,'8.Non-elective admissions - CCG'!$D$5:$N$215,4,0)*$H792","v":45.940851404398032},{"$f":"VLOOKUP($A792,'8.Non-elective admissions - CCG'!$D$5:$N$215,5,0)*$H792","v":48.267410016714486},{"$f":"VLOOKUP($A792,'8.Non-elective admissions - CCG'!$D$5:$N$215,6,0)*$H792","v":49.957348113222956},{"$f":"VLOOKUP($A792,'8.Non-elective admissions - CCG'!$D$5:$N$215,7,0)*$H792","v":46.95113422469931},{"$f":"VLOOKUP($A792,'8.Non-elective admissions - CCG'!$D$5:$N$215,8,0)*$H792","v":47.467080754731491},{"$f":"VLOOKUP($A792,'8.Non-elective admissions - CCG'!$D$5:$N$215,9,0)*$H792","v":47.467080754731491},{"$f":"VLOOKUP($A792,'8.Non-elective admissions - CCG'!$D$5:$N$215,10,0)*$H792","v":46.435187694910198},{"$f":"VLOOKUP($A792,'8.Non-elective admissions - CCG'!$D$5:$Q$215,11,0)*$H792","v":45.009708509875992},{"$f":"VLOOKUP($A792,'8.Non-elective admissions - CCG'!$D$5:$Q$215,12,0)*$H792","v":45.538027871388749},{"$f":"VLOOKUP($A792,'8.Non-elective admissions - CCG'!$D$5:$Q$215,13,0)*$H792","v":45.538027871388749},{"$f":"VLOOKUP($A792,'8.Non-elective admissions - CCG'!$D$5:$Q$215,14,0)*$H792","v":44.720335548017772}]
["05H","NHS Warwickshire North CCG","E10000031","Warwickshire",{"$f":"COUNTIF($D$5:D793,D793)","v":10},"Warwickshire10","NHS Warwickshire North CCG",0.96819347427221203,0.3095146097453999,{"$f":"VLOOKUP($A793,'8.Non-elective admissions - CCG'!$D$5:$N$215,3,0)*$H793","v":4110.9494917598122},{"$f":"VLOOKUP($A793,'8.Non-elective admissions - CCG'!$D$5:$N$215,4,0)*$H793","v":3842.7598993864094},{"$f":"VLOOKUP($A793,'8.Non-elective admissions - CCG'!$D$5:$N$215,5,0)*$H793","v":4037.3667877151242},{"$f":"VLOOKUP($A793,'8.Non-elective admissions - CCG'!$D$5:$N$215,6,0)*$H793","v":4178.7230349588672},{"$f":"VLOOKUP($A793,'8.Non-elective admissions - CCG'!$D$5:$N$215,7,0)*$H793","v":3927.2658279927105},{"$f":"VLOOKUP($A793,'8.Non-elective admissions - CCG'!$D$5:$N$215,8,0)*$H793","v":3970.4225953408545},{"$f":"VLOOKUP($A793,'8.Non-elective admissions - CCG'!$D$5:$N$215,9,0)*$H793","v":3970.4225953408545},{"$f":"VLOOKUP($A793,'8.Non-elective admissions - CCG'!$D$5:$N$215,10,0)*$H793","v":3884.1090606648991},{"$f":"VLOOKUP($A793,'8.Non-elective admissions - CCG'!$D$5:$Q$215,11,0)*$H793","v":3764.8736942708174},{"$f":"VLOOKUP($A793,'8.Non-elective admissions - CCG'!$D$5:$Q$215,12,0)*$H793","v":3809.0653971763563},{"$f":"VLOOKUP($A793,'8.Non-elective admissions - CCG'!$D$5:$Q$215,13,0)*$H793","v":3809.0653971763563},{"$f":"VLOOKUP($A793,'8.Non-elective admissions - CCG'!$D$5:$Q$215,14,0)*$H793","v":3740.6688574033624}]
["02F","NHS West Cheshire CCG","E06000049","Cheshire East",{"$f":"COUNTIF($D$5:D794,D794)","v":10},"Cheshire East10","NHS West Cheshire CCG",2.010674096753462E-2,1.2965017361334548E-2,{"$f":"VLOOKUP($A794,'8.Non-elective admissions - CCG'!$D$5:$N$215,3,0)*$H794","v":123.09346820324694},{"$f":"VLOOKUP($A794,'8.Non-elective admissions - CCG'!$D$5:$N$215,4,0)*$H794","v":123.79720413711065},{"$f":"VLOOKUP($A794,'8.Non-elective admissions - CCG'!$D$5:$N$215,5,0)*$H794","v":127.21535010159154},{"$f":"VLOOKUP($A794,'8.Non-elective admissions - CCG'!$D$5:$N$215,6,0)*$H794","v":120.84151321488307},{"$f":"VLOOKUP($A794,'8.Non-elective admissions - CCG'!$D$5:$N$215,7,0)*$H794","v":116.11642908751243},{"$f":"VLOOKUP($A794,'8.Non-elective admissions - CCG'!$D$5:$N$215,8,0)*$H794","v":116.739738057506},{"$f":"VLOOKUP($A794,'8.Non-elective admissions - CCG'!$D$5:$N$215,9,0)*$H794","v":116.23706953331764},{"$f":"VLOOKUP($A794,'8.Non-elective admissions - CCG'!$D$5:$N$215,10,0)*$H794","v":109.64205849596628},{"$f":"VLOOKUP($A794,'8.Non-elective admissions - CCG'!$D$5:$Q$215,11,0)*$H794","v":112.63796290012894},{"$f":"VLOOKUP($A794,'8.Non-elective admissions - CCG'!$D$5:$Q$215,12,0)*$H794","v":113.22105838818744},{"$f":"VLOOKUP($A794,'8.Non-elective admissions - CCG'!$D$5:$Q$215,13,0)*$H794","v":112.77871008690168},{"$f":"VLOOKUP($A794,'8.Non-elective admissions - CCG'!$D$5:$Q$215,14,0)*$H794","v":106.40487320019321}]
["02F","NHS West Cheshire CCG","E06000050","Cheshire West and Chester",{"$f":"COUNTIF($D$5:D795,D795)","v":6},"Cheshire West and Chester6","NHS West Cheshire CCG",0.96802960325412257,0.69459115749916933,{"$f":"VLOOKUP($A795,'8.Non-elective admissions - CCG'!$D$5:$N$215,3,0)*$H795","v":5926.2772311217386},{"$f":"VLOOKUP($A795,'8.Non-elective admissions - CCG'!$D$5:$N$215,4,0)*$H795","v":5960.1582672356326},{"$f":"VLOOKUP($A795,'8.Non-elective admissions - CCG'!$D$5:$N$215,5,0)*$H795","v":6124.7232997888332},{"$f":"VLOOKUP($A795,'8.Non-elective admissions - CCG'!$D$5:$N$215,6,0)*$H795","v":5817.857915557277},{"$f":"VLOOKUP($A795,'8.Non-elective admissions - CCG'!$D$5:$N$215,7,0)*$H795","v":5590.3709587925578},{"$f":"VLOOKUP($A795,'8.Non-elective admissions - CCG'!$D$5:$N$215,8,0)*$H795","v":5620.3798764934354},{"$f":"VLOOKUP($A795,'8.Non-elective admissions - CCG'!$D$5:$N$215,9,0)*$H795","v":5596.1791364120827},{"$f":"VLOOKUP($A795,'8.Non-elective admissions - CCG'!$D$5:$N$215,10,0)*$H795","v":5278.6654265447305},{"$f":"VLOOKUP($A795,'8.Non-elective admissions - CCG'!$D$5:$Q$215,11,0)*$H795","v":5422.9018374295947},{"$f":"VLOOKUP($A795,'8.Non-elective admissions - CCG'!$D$5:$Q$215,12,0)*$H795","v":5450.9746959239646},{"$f":"VLOOKUP($A795,'8.Non-elective admissions - CCG'!$D$5:$Q$215,13,0)*$H795","v":5429.6780446523735},{"$f":"VLOOKUP($A795,'8.Non-elective admissions - CCG'!$D$5:$Q$215,14,0)*$H795","v":5122.8126604208164}]
["02F","NHS West Cheshire CCG","E06000006","Halton",{"$f":"COUNTIF($D$5:D796,D796)","v":5},"Halton5","NHS West Cheshire CCG",6.5305992104202184E-3,1.2459730546902964E-2,{"$f":"VLOOKUP($A796,'8.Non-elective admissions - CCG'!$D$5:$N$215,3,0)*$H796","v":39.980328366192573},{"$f":"VLOOKUP($A796,'8.Non-elective admissions - CCG'!$D$5:$N$215,4,0)*$H796","v":40.208899338557288},{"$f":"VLOOKUP($A796,'8.Non-elective admissions - CCG'!$D$5:$N$215,5,0)*$H796","v":41.319101204328724},{"$f":"VLOOKUP($A796,'8.Non-elective admissions - CCG'!$D$5:$N$215,6,0)*$H796","v":39.248901254625515},{"$f":"VLOOKUP($A796,'8.Non-elective admissions - CCG'!$D$5:$N$215,7,0)*$H796","v":37.714210440176764},{"$f":"VLOOKUP($A796,'8.Non-elective admissions - CCG'!$D$5:$N$215,8,0)*$H796","v":37.916659015699786},{"$f":"VLOOKUP($A796,'8.Non-elective admissions - CCG'!$D$5:$N$215,9,0)*$H796","v":37.753394035439285},{"$f":"VLOOKUP($A796,'8.Non-elective admissions - CCG'!$D$5:$N$215,10,0)*$H796","v":35.611357494421448},{"$f":"VLOOKUP($A796,'8.Non-elective admissions - CCG'!$D$5:$Q$215,11,0)*$H796","v":36.584416776774063},{"$f":"VLOOKUP($A796,'8.Non-elective admissions - CCG'!$D$5:$Q$215,12,0)*$H796","v":36.773804153876249},{"$f":"VLOOKUP($A796,'8.Non-elective admissions - CCG'!$D$5:$Q$215,13,0)*$H796","v":36.630130971247006},{"$f":"VLOOKUP($A796,'8.Non-elective admissions - CCG'!$D$5:$Q$215,14,0)*$H796","v":34.559931021543797}]
["02F","NHS West Cheshire CCG","E06000051","Shropshire",{"$f":"COUNTIF($D$5:D797,D797)","v":8},"Shropshire8","NHS West Cheshire CCG",1.5847480969051508E-3,1.3300634544126614E-3,{"$f":"VLOOKUP($A797,'8.Non-elective admissions - CCG'!$D$5:$N$215,3,0)*$H797","v":9.7018278492533323},{"$f":"VLOOKUP($A797,'8.Non-elective admissions - CCG'!$D$5:$N$215,4,0)*$H797","v":9.7572940326450137},{"$f":"VLOOKUP($A797,'8.Non-elective admissions - CCG'!$D$5:$N$215,5,0)*$H797","v":10.026701209118889},{"$f":"VLOOKUP($A797,'8.Non-elective admissions - CCG'!$D$5:$N$215,6,0)*$H797","v":9.5243360623999553},{"$f":"VLOOKUP($A797,'8.Non-elective admissions - CCG'!$D$5:$N$215,7,0)*$H797","v":9.1519202596272464},{"$f":"VLOOKUP($A797,'8.Non-elective admissions - CCG'!$D$5:$N$215,8,0)*$H797","v":9.2010474506313056},{"$f":"VLOOKUP($A797,'8.Non-elective admissions - CCG'!$D$5:$N$215,9,0)*$H797","v":9.1614287482086763},{"$f":"VLOOKUP($A797,'8.Non-elective admissions - CCG'!$D$5:$N$215,10,0)*$H797","v":8.6416313724237863},{"$f":"VLOOKUP($A797,'8.Non-elective admissions - CCG'!$D$5:$Q$215,11,0)*$H797","v":8.877758838862654},{"$f":"VLOOKUP($A797,'8.Non-elective admissions - CCG'!$D$5:$Q$215,12,0)*$H797","v":8.9237165336729039},{"$f":"VLOOKUP($A797,'8.Non-elective admissions - CCG'!$D$5:$Q$215,13,0)*$H797","v":8.8888520755409903},{"$f":"VLOOKUP($A797,'8.Non-elective admissions - CCG'!$D$5:$Q$215,14,0)*$H797","v":8.3864869288220572}]
["02F","NHS West Cheshire CCG","E08000015","Wirral",{"$f":"COUNTIF($D$5:D798,D798)","v":1},"Wirral1","NHS West Cheshire CCG",3.7483084710174725E-3,2.8207939678868074E-3,{"$f":"VLOOKUP($A798,'8.Non-elective admissions - CCG'!$D$5:$N$215,3,0)*$H798","v":22.947144459568968},{"$f":"VLOOKUP($A798,'8.Non-elective admissions - CCG'!$D$5:$N$215,4,0)*$H798","v":23.078335256054579},{"$f":"VLOOKUP($A798,'8.Non-elective admissions - CCG'!$D$5:$N$215,5,0)*$H798","v":23.715547696127548},{"$f":"VLOOKUP($A798,'8.Non-elective admissions - CCG'!$D$5:$N$215,6,0)*$H798","v":22.52733391081501},{"$f":"VLOOKUP($A798,'8.Non-elective admissions - CCG'!$D$5:$N$215,7,0)*$H798","v":21.646481420125905},{"$f":"VLOOKUP($A798,'8.Non-elective admissions - CCG'!$D$5:$N$215,8,0)*$H798","v":21.762678982727447},{"$f":"VLOOKUP($A798,'8.Non-elective admissions - CCG'!$D$5:$N$215,9,0)*$H798","v":21.66897127095201},{"$f":"VLOOKUP($A798,'8.Non-elective admissions - CCG'!$D$5:$N$215,10,0)*$H798","v":20.439526092458276},{"$f":"VLOOKUP($A798,'8.Non-elective admissions - CCG'!$D$5:$Q$215,11,0)*$H798","v":20.998024054639881},{"$f":"VLOOKUP($A798,'8.Non-elective admissions - CCG'!$D$5:$Q$215,12,0)*$H798","v":21.106725000299388},{"$f":"VLOOKUP($A798,'8.Non-elective admissions - CCG'!$D$5:$Q$215,13,0)*$H798","v":21.024262213937003},{"$f":"VLOOKUP($A798,'8.Non-elective admissions - CCG'!$D$5:$Q$215,14,0)*$H798","v":19.836048428624466}]
["07H","NHS West Essex CCG","E10000003","Cambridgeshire",{"$f":"COUNTIF($D$5:D799,D799)","v":5},"Cambridgeshire5","NHS West Essex CCG",2.4837174771369756E-3,1.0949317750391257E-3,{"$f":"VLOOKUP($A799,'8.Non-elective admissions - CCG'!$D$5:$N$215,3,0)*$H799","v":16.007559140147809},{"$f":"VLOOKUP($A799,'8.Non-elective admissions - CCG'!$D$5:$N$215,4,0)*$H799","v":16.658293119157694},{"$f":"VLOOKUP($A799,'8.Non-elective admissions - CCG'!$D$5:$N$215,5,0)*$H799","v":17.373603752573146},{"$f":"VLOOKUP($A799,'8.Non-elective admissions - CCG'!$D$5:$N$215,6,0)*$H799","v":17.790868288732156},{"$f":"VLOOKUP($A799,'8.Non-elective admissions - CCG'!$D$5:$N$215,7,0)*$H799","v":15.891058632436001},{"$f":"VLOOKUP($A799,'8.Non-elective admissions - CCG'!$D$5:$N$215,8,0)*$H799","v":16.06568565038059},{"$f":"VLOOKUP($A799,'8.Non-elective admissions - CCG'!$D$5:$N$215,9,0)*$H799","v":16.06568565038059},{"$f":"VLOOKUP($A799,'8.Non-elective admissions - CCG'!$D$5:$N$215,10,0)*$H799","v":15.716431614491412},{"$f":"VLOOKUP($A799,'8.Non-elective admissions - CCG'!$D$5:$Q$215,11,0)*$H799","v":15.836624846113994},{"$f":"VLOOKUP($A799,'8.Non-elective admissions - CCG'!$D$5:$Q$215,12,0)*$H799","v":16.010653690583336},{"$f":"VLOOKUP($A799,'8.Non-elective admissions - CCG'!$D$5:$Q$215,13,0)*$H799","v":16.010653690583336},{"$f":"VLOOKUP($A799,'8.Non-elective admissions - CCG'!$D$5:$Q$215,14,0)*$H799","v":15.836624846113994}]
["07H","NHS West Essex CCG","E10000012","Essex",{"$f":"COUNTIF($D$5:D800,D800)","v":13},"Essex13","NHS West Essex CCG",0.97277697161947829,0.19578508826741572,{"$f":"VLOOKUP($A800,'8.Non-elective admissions - CCG'!$D$5:$N$215,3,0)*$H800","v":6269.5475820875372},{"$f":"VLOOKUP($A800,'8.Non-elective admissions - CCG'!$D$5:$N$215,4,0)*$H800","v":6524.4151486518413},{"$f":"VLOOKUP($A800,'8.Non-elective admissions - CCG'!$D$5:$N$215,5,0)*$H800","v":6804.574916478251},{"$f":"VLOOKUP($A800,'8.Non-elective admissions - CCG'!$D$5:$N$215,6,0)*$H800","v":6968.0014477103232},{"$f":"VLOOKUP($A800,'8.Non-elective admissions - CCG'!$D$5:$N$215,7,0)*$H800","v":6223.9187969591021},{"$f":"VLOOKUP($A800,'8.Non-elective admissions - CCG'!$D$5:$N$215,8,0)*$H800","v":6292.3135090158421},{"$f":"VLOOKUP($A800,'8.Non-elective admissions - CCG'!$D$5:$N$215,9,0)*$H800","v":6292.313509015843},{"$f":"VLOOKUP($A800,'8.Non-elective admissions - CCG'!$D$5:$N$215,10,0)*$H800","v":6155.5240849023612},{"$f":"VLOOKUP($A800,'8.Non-elective admissions - CCG'!$D$5:$Q$215,11,0)*$H800","v":6202.5991684991286},{"$f":"VLOOKUP($A800,'8.Non-elective admissions - CCG'!$D$5:$Q$215,12,0)*$H800","v":6270.7595989247611},{"$f":"VLOOKUP($A800,'8.Non-elective admissions - CCG'!$D$5:$Q$215,13,0)*$H800","v":6270.7595989247611},{"$f":"VLOOKUP($A800,'8.Non-elective admissions - CCG'!$D$5:$Q$215,14,0)*$H800","v":6202.5991684991286}]
["07H","NHS West Essex CCG","E10000015","Hertfordshire",{"$f":"COUNTIF($D$5:D801,D801)","v":12},"Hertfordshire12","NHS West Essex CCG",7.4106570377619552E-3,1.8430008350573E-3,{"$f":"VLOOKUP($A801,'8.Non-elective admissions - CCG'!$D$5:$N$215,3,0)*$H801","v":47.761684608375802},{"$f":"VLOOKUP($A801,'8.Non-elective admissions - CCG'!$D$5:$N$215,4,0)*$H801","v":49.703276752269431},{"$f":"VLOOKUP($A801,'8.Non-elective admissions - CCG'!$D$5:$N$215,5,0)*$H801","v":51.837545979144878},{"$f":"VLOOKUP($A801,'8.Non-elective admissions - CCG'!$D$5:$N$215,6,0)*$H801","v":53.082536361488884},{"$f":"VLOOKUP($A801,'8.Non-elective admissions - CCG'!$D$5:$N$215,7,0)*$H801","v":47.414082550040028},{"$f":"VLOOKUP($A801,'8.Non-elective admissions - CCG'!$D$5:$N$215,8,0)*$H801","v":47.935116424233392},{"$f":"VLOOKUP($A801,'8.Non-elective admissions - CCG'!$D$5:$N$215,9,0)*$H801","v":47.935116424233399},{"$f":"VLOOKUP($A801,'8.Non-elective admissions - CCG'!$D$5:$N$215,10,0)*$H801","v":46.893048675846664},{"$f":"VLOOKUP($A801,'8.Non-elective admissions - CCG'!$D$5:$Q$215,11,0)*$H801","v":47.251668698459696},{"$f":"VLOOKUP($A801,'8.Non-elective admissions - CCG'!$D$5:$Q$215,12,0)*$H801","v":47.770917805055717},{"$f":"VLOOKUP($A801,'8.Non-elective admissions - CCG'!$D$5:$Q$215,13,0)*$H801","v":47.770917805055717},{"$f":"VLOOKUP($A801,'8.Non-elective admissions - CCG'!$D$5:$Q$215,14,0)*$H801","v":47.251668698459696}]
["07H","NHS West Essex CCG","E09000026","Redbridge",{"$f":"COUNTIF($D$5:D802,D802)","v":6},"Redbridge6","NHS West Essex CCG",1.7328653865622785E-2,1.6732543248817969E-2,{"$f":"VLOOKUP($A802,'8.Non-elective admissions - CCG'!$D$5:$N$215,3,0)*$H802","v":111.68317416393884},{"$f":"VLOOKUP($A802,'8.Non-elective admissions - CCG'!$D$5:$N$215,4,0)*$H802","v":116.22328147673201},{"$f":"VLOOKUP($A802,'8.Non-elective admissions - CCG'!$D$5:$N$215,5,0)*$H802","v":121.21393379003138},{"$f":"VLOOKUP($A802,'8.Non-elective admissions - CCG'!$D$5:$N$215,6,0)*$H802","v":124.125147639456},{"$f":"VLOOKUP($A802,'8.Non-elective admissions - CCG'!$D$5:$N$215,7,0)*$H802","v":110.87036151842237},{"$f":"VLOOKUP($A802,'8.Non-elective admissions - CCG'!$D$5:$N$215,8,0)*$H802","v":112.08871713954392},{"$f":"VLOOKUP($A802,'8.Non-elective admissions - CCG'!$D$5:$N$215,9,0)*$H802","v":112.08871713954393},{"$f":"VLOOKUP($A802,'8.Non-elective admissions - CCG'!$D$5:$N$215,10,0)*$H802","v":109.65200589730081},{"$f":"VLOOKUP($A802,'8.Non-elective admissions - CCG'!$D$5:$Q$215,11,0)*$H802","v":110.49058231629805},{"$f":"VLOOKUP($A802,'8.Non-elective admissions - CCG'!$D$5:$Q$215,12,0)*$H802","v":111.70476453959975},{"$f":"VLOOKUP($A802,'8.Non-elective admissions - CCG'!$D$5:$Q$215,13,0)*$H802","v":111.70476453959975},{"$f":"VLOOKUP($A802,'8.Non-elective admissions - CCG'!$D$5:$Q$215,14,0)*$H802","v":110.49058231629805}]
["11A","NHS West Hampshire CCG","E10000009","Dorset",{"$f":"COUNTIF($D$5:D803,D803)","v":3},"Dorset3","NHS West Hampshire CCG",1.9855157708991985E-2,2.5187883140534027E-2,{"$f":"VLOOKUP($A803,'8.Non-elective admissions - CCG'!$D$5:$N$215,3,0)*$H803","v":251.4258620689655},{"$f":"VLOOKUP($A803,'8.Non-elective admissions - CCG'!$D$5:$N$215,4,0)*$H803","v":255.23805234909196},{"$f":"VLOOKUP($A803,'8.Non-elective admissions - CCG'!$D$5:$N$215,5,0)*$H803","v":262.52489522829205},{"$f":"VLOOKUP($A803,'8.Non-elective admissions - CCG'!$D$5:$N$215,6,0)*$H803","v":258.57371884420263},{"$f":"VLOOKUP($A803,'8.Non-elective admissions - CCG'!$D$5:$N$215,7,0)*$H803","v":255.17848687596498},{"$f":"VLOOKUP($A803,'8.Non-elective admissions - CCG'!$D$5:$N$215,8,0)*$H803","v":256.74704433497539},{"$f":"VLOOKUP($A803,'8.Non-elective admissions - CCG'!$D$5:$N$215,9,0)*$H803","v":266.23780971987355},{"$f":"VLOOKUP($A803,'8.Non-elective admissions - CCG'!$D$5:$N$215,10,0)*$H803","v":262.16750238953017},{"$f":"VLOOKUP($A803,'8.Non-elective admissions - CCG'!$D$5:$Q$215,11,0)*$H803","v":255.37703845305492},{"$f":"VLOOKUP($A803,'8.Non-elective admissions - CCG'!$D$5:$Q$215,12,0)*$H803","v":256.78675465039333},{"$f":"VLOOKUP($A803,'8.Non-elective admissions - CCG'!$D$5:$Q$215,13,0)*$H803","v":266.2576648775825},{"$f":"VLOOKUP($A803,'8.Non-elective admissions - CCG'!$D$5:$Q$215,14,0)*$H803","v":265.46345856922284}]
["11A","NHS West Hampshire CCG","E10000014","Hampshire",{"$f":"COUNTIF($D$5:D804,D804)","v":14},"Hampshire14","NHS West Hampshire CCG",0.97679950003676197,0.39140153682872381,{"$f":"VLOOKUP($A804,'8.Non-elective admissions - CCG'!$D$5:$N$215,3,0)*$H804","v":12369.212068965517},{"$f":"VLOOKUP($A804,'8.Non-elective admissions - CCG'!$D$5:$N$215,4,0)*$H804","v":12556.757572972576},{"$f":"VLOOKUP($A804,'8.Non-elective admissions - CCG'!$D$5:$N$215,5,0)*$H804","v":12915.242989486067},{"$f":"VLOOKUP($A804,'8.Non-elective admissions - CCG'!$D$5:$N$215,6,0)*$H804","v":12720.859888978752},{"$f":"VLOOKUP($A804,'8.Non-elective admissions - CCG'!$D$5:$N$215,7,0)*$H804","v":12553.827174472464},{"$f":"VLOOKUP($A804,'8.Non-elective admissions - CCG'!$D$5:$N$215,8,0)*$H804","v":12630.994334975368},{"$f":"VLOOKUP($A804,'8.Non-elective admissions - CCG'!$D$5:$N$215,9,0)*$H804","v":13097.904495992942},{"$f":"VLOOKUP($A804,'8.Non-elective admissions - CCG'!$D$5:$N$215,10,0)*$H804","v":12897.660598485405},{"$f":"VLOOKUP($A804,'8.Non-elective admissions - CCG'!$D$5:$Q$215,11,0)*$H804","v":12563.595169472832},{"$f":"VLOOKUP($A804,'8.Non-elective admissions - CCG'!$D$5:$Q$215,12,0)*$H804","v":12632.947933975443},{"$f":"VLOOKUP($A804,'8.Non-elective admissions - CCG'!$D$5:$Q$215,13,0)*$H804","v":13098.881295492978},{"$f":"VLOOKUP($A804,'8.Non-elective admissions - CCG'!$D$5:$Q$215,14,0)*$H804","v":13059.809315491508}]
["11A","NHS West Hampshire CCG","E06000045","Southampton",{"$f":"COUNTIF($D$5:D805,D805)","v":2},"Southampton2","NHS West Hampshire CCG",2.0605102565987793E-3,4.4472655862575136E-3,{"$f":"VLOOKUP($A805,'8.Non-elective admissions - CCG'!$D$5:$N$215,3,0)*$H805","v":26.092241379310341},{"$f":"VLOOKUP($A805,'8.Non-elective admissions - CCG'!$D$5:$N$215,4,0)*$H805","v":26.48785934857731},{"$f":"VLOOKUP($A805,'8.Non-elective admissions - CCG'!$D$5:$N$215,5,0)*$H805","v":27.244066612749059},{"$f":"VLOOKUP($A805,'8.Non-elective admissions - CCG'!$D$5:$N$215,6,0)*$H805","v":26.834025071685904},{"$f":"VLOOKUP($A805,'8.Non-elective admissions - CCG'!$D$5:$N$215,7,0)*$H805","v":26.481677817807512},{"$f":"VLOOKUP($A805,'8.Non-elective admissions - CCG'!$D$5:$N$215,8,0)*$H805","v":26.644458128078817},{"$f":"VLOOKUP($A805,'8.Non-elective admissions - CCG'!$D$5:$N$215,9,0)*$H805","v":27.629382030733034},{"$f":"VLOOKUP($A805,'8.Non-elective admissions - CCG'!$D$5:$N$215,10,0)*$H805","v":27.206977428130283},{"$f":"VLOOKUP($A805,'8.Non-elective admissions - CCG'!$D$5:$Q$215,11,0)*$H805","v":26.502282920373499},{"$f":"VLOOKUP($A805,'8.Non-elective admissions - CCG'!$D$5:$Q$215,12,0)*$H805","v":26.648579148592013},{"$f":"VLOOKUP($A805,'8.Non-elective admissions - CCG'!$D$5:$Q$215,13,0)*$H805","v":27.631442540989632},{"$f":"VLOOKUP($A805,'8.Non-elective admissions - CCG'!$D$5:$Q$215,14,0)*$H805","v":27.549022130725678}]
["11A","NHS West Hampshire CCG","E06000054","Wiltshire",{"$f":"COUNTIF($D$5:D806,D806)","v":8},"Wiltshire8","NHS West Hampshire CCG",1.2848319976472317E-3,1.4613647767185147E-3,{"$f":"VLOOKUP($A806,'8.Non-elective admissions - CCG'!$D$5:$N$215,3,0)*$H806","v":16.269827586206894},{"$f":"VLOOKUP($A806,'8.Non-elective admissions - CCG'!$D$5:$N$215,4,0)*$H806","v":16.516515329755162},{"$f":"VLOOKUP($A806,'8.Non-elective admissions - CCG'!$D$5:$N$215,5,0)*$H806","v":16.988048672891697},{"$f":"VLOOKUP($A806,'8.Non-elective admissions - CCG'!$D$5:$N$215,6,0)*$H806","v":16.732367105359899},{"$f":"VLOOKUP($A806,'8.Non-elective admissions - CCG'!$D$5:$N$215,7,0)*$H806","v":16.512660833762222},{"$f":"VLOOKUP($A806,'8.Non-elective admissions - CCG'!$D$5:$N$215,8,0)*$H806","v":16.614162561576354},{"$f":"VLOOKUP($A806,'8.Non-elective admissions - CCG'!$D$5:$N$215,9,0)*$H806","v":17.22831225645173},{"$f":"VLOOKUP($A806,'8.Non-elective admissions - CCG'!$D$5:$N$215,10,0)*$H806","v":16.964921696934049},{"$f":"VLOOKUP($A806,'8.Non-elective admissions - CCG'!$D$5:$Q$215,11,0)*$H806","v":16.525509153738692},{"$f":"VLOOKUP($A806,'8.Non-elective admissions - CCG'!$D$5:$Q$215,12,0)*$H806","v":16.616732225571649},{"$f":"VLOOKUP($A806,'8.Non-elective admissions - CCG'!$D$5:$Q$215,13,0)*$H806","v":17.229597088449378},{"$f":"VLOOKUP($A806,'8.Non-elective admissions - CCG'!$D$5:$Q$215,14,0)*$H806","v":17.178203808543486}]
["99J","NHS West Kent CCG","E09000006","Bromley",{"$f":"COUNTIF($D$5:D807,D807)","v":6},"Bromley6","NHS West Kent CCG",1.2848654701401075E-3,1.8682729094272371E-3,{"$f":"VLOOKUP($A807,'8.Non-elective admissions - CCG'!$D$5:$N$215,3,0)*$H807","v":12.537717257627168},{"$f":"VLOOKUP($A807,'8.Non-elective admissions - CCG'!$D$5:$N$215,4,0)*$H807","v":12.486322638821564},{"$f":"VLOOKUP($A807,'8.Non-elective admissions - CCG'!$D$5:$N$215,5,0)*$H807","v":12.66877353558146},{"$f":"VLOOKUP($A807,'8.Non-elective admissions - CCG'!$D$5:$N$215,6,0)*$H807","v":12.774132504132949},{"$f":"VLOOKUP($A807,'8.Non-elective admissions - CCG'!$D$5:$N$215,7,0)*$H807","v":11.657584410581196},{"$f":"VLOOKUP($A807,'8.Non-elective admissions - CCG'!$D$5:$N$215,8,0)*$H807","v":11.786070957595205},{"$f":"VLOOKUP($A807,'8.Non-elective admissions - CCG'!$D$5:$N$215,9,0)*$H807","v":11.786070957595205},{"$f":"VLOOKUP($A807,'8.Non-elective admissions - CCG'!$D$5:$N$215,10,0)*$H807","v":11.530382729037324},{"$f":"VLOOKUP($A807,'8.Non-elective admissions - CCG'!$D$5:$Q$215,11,0)*$H807","v":11.166765800987674},{"$f":"VLOOKUP($A807,'8.Non-elective admissions - CCG'!$D$5:$Q$215,12,0)*$H807","v":11.290112886121124},{"$f":"VLOOKUP($A807,'8.Non-elective admissions - CCG'!$D$5:$Q$215,13,0)*$H807","v":11.290112886121124},{"$f":"VLOOKUP($A807,'8.Non-elective admissions - CCG'!$D$5:$Q$215,14,0)*$H807","v":11.168050666457814}]
["99J","NHS West Kent CCG","E10000011","East Sussex",{"$f":"COUNTIF($D$5:D808,D808)","v":6},"East Sussex6","NHS West Kent CCG",8.0076541573970792E-3,6.8792074454736883E-3,{"$f":"VLOOKUP($A808,'8.Non-elective admissions - CCG'!$D$5:$N$215,3,0)*$H808","v":78.138689267880693},{"$f":"VLOOKUP($A808,'8.Non-elective admissions - CCG'!$D$5:$N$215,4,0)*$H808","v":77.818383101584814},{"$f":"VLOOKUP($A808,'8.Non-elective admissions - CCG'!$D$5:$N$215,5,0)*$H808","v":78.955469991935203},{"$f":"VLOOKUP($A808,'8.Non-elective admissions - CCG'!$D$5:$N$215,6,0)*$H808","v":79.612097632841767},{"$f":"VLOOKUP($A808,'8.Non-elective admissions - CCG'!$D$5:$N$215,7,0)*$H808","v":72.653446170063702},{"$f":"VLOOKUP($A808,'8.Non-elective admissions - CCG'!$D$5:$N$215,8,0)*$H808","v":73.454211585803407},{"$f":"VLOOKUP($A808,'8.Non-elective admissions - CCG'!$D$5:$N$215,9,0)*$H808","v":73.454211585803407},{"$f":"VLOOKUP($A808,'8.Non-elective admissions - CCG'!$D$5:$N$215,10,0)*$H808","v":71.860688408481394},{"$f":"VLOOKUP($A808,'8.Non-elective admissions - CCG'!$D$5:$Q$215,11,0)*$H808","v":69.594522281938012},{"$f":"VLOOKUP($A808,'8.Non-elective admissions - CCG'!$D$5:$Q$215,12,0)*$H808","v":70.363257081048133},{"$f":"VLOOKUP($A808,'8.Non-elective admissions - CCG'!$D$5:$Q$215,13,0)*$H808","v":70.363257081048133},{"$f":"VLOOKUP($A808,'8.Non-elective admissions - CCG'!$D$5:$Q$215,14,0)*$H808","v":69.602529936095408}]
["99J","NHS West Kent CCG","E10000016","Kent",{"$f":"COUNTIF($D$5:D809,D809)","v":14},"Kent14","NHS West Kent CCG",0.98650573744292713,0.30381284969918454,{"$f":"VLOOKUP($A809,'8.Non-elective admissions - CCG'!$D$5:$N$215,3,0)*$H809","v":9626.3229859680832},{"$f":"VLOOKUP($A809,'8.Non-elective admissions - CCG'!$D$5:$N$215,4,0)*$H809","v":9586.8627564703656},{"$f":"VLOOKUP($A809,'8.Non-elective admissions - CCG'!$D$5:$N$215,5,0)*$H809","v":9726.9465711872617},{"$f":"VLOOKUP($A809,'8.Non-elective admissions - CCG'!$D$5:$N$215,6,0)*$H809","v":9807.8400416575823},{"$f":"VLOOKUP($A809,'8.Non-elective admissions - CCG'!$D$5:$N$215,7,0)*$H809","v":8950.5665558196779},{"$f":"VLOOKUP($A809,'8.Non-elective admissions - CCG'!$D$5:$N$215,8,0)*$H809","v":9049.217129563971},{"$f":"VLOOKUP($A809,'8.Non-elective admissions - CCG'!$D$5:$N$215,9,0)*$H809","v":9049.217129563971},{"$f":"VLOOKUP($A809,'8.Non-elective admissions - CCG'!$D$5:$N$215,10,0)*$H809","v":8852.9024878128275},{"$f":"VLOOKUP($A809,'8.Non-elective admissions - CCG'!$D$5:$Q$215,11,0)*$H809","v":8573.7213641164799},{"$f":"VLOOKUP($A809,'8.Non-elective admissions - CCG'!$D$5:$Q$215,12,0)*$H809","v":8668.4259149110003},{"$f":"VLOOKUP($A809,'8.Non-elective admissions - CCG'!$D$5:$Q$215,13,0)*$H809","v":8668.4259149110003},{"$f":"VLOOKUP($A809,'8.Non-elective admissions - CCG'!$D$5:$Q$215,14,0)*$H809","v":8574.7078698539226}]
["99J","NHS West Kent CCG","E06000035","Medway",{"$f":"COUNTIF($D$5:D810,D810)","v":4},"Medway4","NHS West Kent CCG",1.9156560963373924E-3,3.2714114784972471E-3,{"$f":"VLOOKUP($A810,'8.Non-elective admissions - CCG'!$D$5:$N$215,3,0)*$H810","v":18.692972188060274},{"$f":"VLOOKUP($A810,'8.Non-elective admissions - CCG'!$D$5:$N$215,4,0)*$H810","v":18.616345944206781},{"$f":"VLOOKUP($A810,'8.Non-elective admissions - CCG'!$D$5:$N$215,5,0)*$H810","v":18.888369109886689},{"$f":"VLOOKUP($A810,'8.Non-elective admissions - CCG'!$D$5:$N$215,6,0)*$H810","v":19.045452909786356},{"$f":"VLOOKUP($A810,'8.Non-elective admissions - CCG'!$D$5:$N$215,7,0)*$H810","v":17.380747762069163},{"$f":"VLOOKUP($A810,'8.Non-elective admissions - CCG'!$D$5:$N$215,8,0)*$H810","v":17.572313371702901},{"$f":"VLOOKUP($A810,'8.Non-elective admissions - CCG'!$D$5:$N$215,9,0)*$H810","v":17.572313371702901},{"$f":"VLOOKUP($A810,'8.Non-elective admissions - CCG'!$D$5:$N$215,10,0)*$H810","v":17.191097808531758},{"$f":"VLOOKUP($A810,'8.Non-elective admissions - CCG'!$D$5:$Q$215,11,0)*$H810","v":16.648967133268279},{"$f":"VLOOKUP($A810,'8.Non-elective admissions - CCG'!$D$5:$Q$215,12,0)*$H810","v":16.832870118516666},{"$f":"VLOOKUP($A810,'8.Non-elective admissions - CCG'!$D$5:$Q$215,13,0)*$H810","v":16.832870118516666},{"$f":"VLOOKUP($A810,'8.Non-elective admissions - CCG'!$D$5:$Q$215,14,0)*$H810","v":16.650882789364616}]
["99J","NHS West Kent CCG","E10000030","Surrey",{"$f":"COUNTIF($D$5:D811,D811)","v":20},"Surrey20","NHS West Kent CCG",2.2860868331982141E-3,0,{"$f":"VLOOKUP($A811,'8.Non-elective admissions - CCG'!$D$5:$N$215,3,0)*$H811","v":22.307635318348172},{"$f":"VLOOKUP($A811,'8.Non-elective admissions - CCG'!$D$5:$N$215,4,0)*$H811","v":22.216191845020244},{"$f":"VLOOKUP($A811,'8.Non-elective admissions - CCG'!$D$5:$N$215,5,0)*$H811","v":22.540816175334392},{"$f":"VLOOKUP($A811,'8.Non-elective admissions - CCG'!$D$5:$N$215,6,0)*$H811","v":22.728275295656644},{"$f":"VLOOKUP($A811,'8.Non-elective admissions - CCG'!$D$5:$N$215,7,0)*$H811","v":20.741665837607396},{"$f":"VLOOKUP($A811,'8.Non-elective admissions - CCG'!$D$5:$N$215,8,0)*$H811","v":20.970274520927219},{"$f":"VLOOKUP($A811,'8.Non-elective admissions - CCG'!$D$5:$N$215,9,0)*$H811","v":20.970274520927219},{"$f":"VLOOKUP($A811,'8.Non-elective admissions - CCG'!$D$5:$N$215,10,0)*$H811","v":20.515343241120775},{"$f":"VLOOKUP($A811,'8.Non-elective admissions - CCG'!$D$5:$Q$215,11,0)*$H811","v":19.868380667325678},{"$f":"VLOOKUP($A811,'8.Non-elective admissions - CCG'!$D$5:$Q$215,12,0)*$H811","v":20.087845003312708},{"$f":"VLOOKUP($A811,'8.Non-elective admissions - CCG'!$D$5:$Q$215,13,0)*$H811","v":20.087845003312708},{"$f":"VLOOKUP($A811,'8.Non-elective admissions - CCG'!$D$5:$Q$215,14,0)*$H811","v":19.870666754158876}]
["02G","NHS West Lancashire CCG","E10000017","Lancashire",{"$f":"COUNTIF($D$5:D812,D812)","v":16},"Lancashire16","NHS West Lancashire CCG",0.97158145278190378,8.8539708814260029E-2,{"$f":"VLOOKUP($A812,'8.Non-elective admissions - CCG'!$D$5:$N$215,3,0)*$H812","v":3113.9185561660015},{"$f":"VLOOKUP($A812,'8.Non-elective admissions - CCG'!$D$5:$N$215,4,0)*$H812","v":3089.629019846454},{"$f":"VLOOKUP($A812,'8.Non-elective admissions - CCG'!$D$5:$N$215,5,0)*$H812","v":3376.2455484171155},{"$f":"VLOOKUP($A812,'8.Non-elective admissions - CCG'!$D$5:$N$215,6,0)*$H812","v":3229.536749047048},{"$f":"VLOOKUP($A812,'8.Non-elective admissions - CCG'!$D$5:$N$215,7,0)*$H812","v":3190.673490935772},{"$f":"VLOOKUP($A812,'8.Non-elective admissions - CCG'!$D$5:$N$215,8,0)*$H812","v":3070.1973907908159},{"$f":"VLOOKUP($A812,'8.Non-elective admissions - CCG'!$D$5:$N$215,9,0)*$H812","v":3215.9346087081017},{"$f":"VLOOKUP($A812,'8.Non-elective admissions - CCG'!$D$5:$N$215,10,0)*$H812","v":3295.6042878362177},{"$f":"VLOOKUP($A812,'8.Non-elective admissions - CCG'!$D$5:$Q$215,11,0)*$H812","v":3179.014513502389},{"$f":"VLOOKUP($A812,'8.Non-elective admissions - CCG'!$D$5:$Q$215,12,0)*$H812","v":3058.538413357433},{"$f":"VLOOKUP($A812,'8.Non-elective admissions - CCG'!$D$5:$Q$215,13,0)*$H812","v":3204.2756312747188},{"$f":"VLOOKUP($A812,'8.Non-elective admissions - CCG'!$D$5:$Q$215,14,0)*$H812","v":3282.9737289500526}]
["02G","NHS West Lancashire CCG","E08000014","Sefton",{"$f":"COUNTIF($D$5:D813,D813)","v":5},"Sefton5","NHS West Lancashire CCG",2.6843715886111061E-3,1.0515615689298608E-3,{"$f":"VLOOKUP($A813,'8.Non-elective admissions - CCG'!$D$5:$N$215,3,0)*$H813","v":8.6034109414985949},{"$f":"VLOOKUP($A813,'8.Non-elective admissions - CCG'!$D$5:$N$215,4,0)*$H813","v":8.536301651783317},{"$f":"VLOOKUP($A813,'8.Non-elective admissions - CCG'!$D$5:$N$215,5,0)*$H813","v":9.3281912704235932},{"$f":"VLOOKUP($A813,'8.Non-elective admissions - CCG'!$D$5:$N$215,6,0)*$H813","v":8.922851160543317},{"$f":"VLOOKUP($A813,'8.Non-elective admissions - CCG'!$D$5:$N$215,7,0)*$H813","v":8.815476296998872},{"$f":"VLOOKUP($A813,'8.Non-elective admissions - CCG'!$D$5:$N$215,8,0)*$H813","v":8.4826142200110954},{"$f":"VLOOKUP($A813,'8.Non-elective admissions - CCG'!$D$5:$N$215,9,0)*$H813","v":8.8852699583027608},{"$f":"VLOOKUP($A813,'8.Non-elective admissions - CCG'!$D$5:$N$215,10,0)*$H813","v":9.1053884285688724},{"$f":"VLOOKUP($A813,'8.Non-elective admissions - CCG'!$D$5:$Q$215,11,0)*$H813","v":8.7832638379355394},{"$f":"VLOOKUP($A813,'8.Non-elective admissions - CCG'!$D$5:$Q$215,12,0)*$H813","v":8.4504017609477629},{"$f":"VLOOKUP($A813,'8.Non-elective admissions - CCG'!$D$5:$Q$215,13,0)*$H813","v":8.8530574992394282},{"$f":"VLOOKUP($A813,'8.Non-elective admissions - CCG'!$D$5:$Q$215,14,0)*$H813","v":9.0704915979169272}]
["02G","NHS West Lancashire CCG","E08000010","Wigan",{"$f":"COUNTIF($D$5:D814,D814)","v":5},"Wigan5","NHS West Lancashire CCG",2.5734175629485136E-2,8.8412600332623201E-3,{"$f":"VLOOKUP($A814,'8.Non-elective admissions - CCG'!$D$5:$N$215,3,0)*$H814","v":82.478032892499854},{"$f":"VLOOKUP($A814,'8.Non-elective admissions - CCG'!$D$5:$N$215,4,0)*$H814","v":81.834678501762738},{"$f":"VLOOKUP($A814,'8.Non-elective admissions - CCG'!$D$5:$N$215,5,0)*$H814","v":89.42626031246084},{"$f":"VLOOKUP($A814,'8.Non-elective admissions - CCG'!$D$5:$N$215,6,0)*$H814","v":85.540399792408593},{"$f":"VLOOKUP($A814,'8.Non-elective admissions - CCG'!$D$5:$N$215,7,0)*$H814","v":84.511032767229182},{"$f":"VLOOKUP($A814,'8.Non-elective admissions - CCG'!$D$5:$N$215,8,0)*$H814","v":81.319994989173026},{"$f":"VLOOKUP($A814,'8.Non-elective admissions - CCG'!$D$5:$N$215,9,0)*$H814","v":85.180121333595793},{"$f":"VLOOKUP($A814,'8.Non-elective admissions - CCG'!$D$5:$N$215,10,0)*$H814","v":87.290323735213576},{"$f":"VLOOKUP($A814,'8.Non-elective admissions - CCG'!$D$5:$Q$215,11,0)*$H814","v":84.202222659675357},{"$f":"VLOOKUP($A814,'8.Non-elective admissions - CCG'!$D$5:$Q$215,12,0)*$H814","v":81.011184881619201},{"$f":"VLOOKUP($A814,'8.Non-elective admissions - CCG'!$D$5:$Q$215,13,0)*$H814","v":84.871311226041982},{"$f":"VLOOKUP($A814,'8.Non-elective admissions - CCG'!$D$5:$Q$215,14,0)*$H814","v":86.955779452030271}]
["04V","NHS West Leicestershire CCG","E10000007","Derbyshire",{"$f":"COUNTIF($D$5:D815,D815)","v":14},"Derbyshire14","NHS West Leicestershire CCG",5.1872238408032945E-3,2.4453905022553341E-3,{"$f":"VLOOKUP($A815,'8.Non-elective admissions - CCG'!$D$5:$N$215,3,0)*$H815","v":37.451756130599783},{"$f":"VLOOKUP($A815,'8.Non-elective admissions - CCG'!$D$5:$N$215,4,0)*$H815","v":37.814861799456018},{"$f":"VLOOKUP($A815,'8.Non-elective admissions - CCG'!$D$5:$N$215,5,0)*$H815","v":39.879376888095727},{"$f":"VLOOKUP($A815,'8.Non-elective admissions - CCG'!$D$5:$N$215,6,0)*$H815","v":41.949079200576243},{"$f":"VLOOKUP($A815,'8.Non-elective admissions - CCG'!$D$5:$N$215,7,0)*$H815","v":36.020082350538075},{"$f":"VLOOKUP($A815,'8.Non-elective admissions - CCG'!$D$5:$N$215,8,0)*$H815","v":38.120908006063409},{"$f":"VLOOKUP($A815,'8.Non-elective admissions - CCG'!$D$5:$N$215,9,0)*$H815","v":37.804487351774412},{"$f":"VLOOKUP($A815,'8.Non-elective admissions - CCG'!$D$5:$N$215,10,0)*$H815","v":37.223518281604441},{"$f":"VLOOKUP($A815,'8.Non-elective admissions - CCG'!$D$5:$Q$215,11,0)*$H815","v":34.007439500306397},{"$f":"VLOOKUP($A815,'8.Non-elective admissions - CCG'!$D$5:$Q$215,12,0)*$H815","v":36.00452067901567},{"$f":"VLOOKUP($A815,'8.Non-elective admissions - CCG'!$D$5:$Q$215,13,0)*$H815","v":35.703661696249078},{"$f":"VLOOKUP($A815,'8.Non-elective admissions - CCG'!$D$5:$Q$215,14,0)*$H815","v":35.651789457841041}]
["04V","NHS West Leicestershire CCG","E06000016","Leicester",{"$f":"COUNTIF($D$5:D816,D816)","v":3},"Leicester3","NHS West Leicestershire CCG",2.6317769870023763E-2,2.6621065766973234E-2,{"$f":"VLOOKUP($A816,'8.Non-elective admissions - CCG'!$D$5:$N$215,3,0)*$H816","v":190.01429846157157},{"$f":"VLOOKUP($A816,'8.Non-elective admissions - CCG'!$D$5:$N$215,4,0)*$H816","v":191.85654235247324},{"$f":"VLOOKUP($A816,'8.Non-elective admissions - CCG'!$D$5:$N$215,5,0)*$H816","v":202.33101476074268},{"$f":"VLOOKUP($A816,'8.Non-elective admissions - CCG'!$D$5:$N$215,6,0)*$H816","v":212.83180493888216},{"$f":"VLOOKUP($A816,'8.Non-elective admissions - CCG'!$D$5:$N$215,7,0)*$H816","v":182.75059397744502},{"$f":"VLOOKUP($A816,'8.Non-elective admissions - CCG'!$D$5:$N$215,8,0)*$H816","v":193.40929077480465},{"$f":"VLOOKUP($A816,'8.Non-elective admissions - CCG'!$D$5:$N$215,9,0)*$H816","v":191.80390681273317},{"$f":"VLOOKUP($A816,'8.Non-elective admissions - CCG'!$D$5:$N$215,10,0)*$H816","v":188.85631658729051},{"$f":"VLOOKUP($A816,'8.Non-elective admissions - CCG'!$D$5:$Q$215,11,0)*$H816","v":172.53929926787578},{"$f":"VLOOKUP($A816,'8.Non-elective admissions - CCG'!$D$5:$Q$215,12,0)*$H816","v":182.67164066783494},{"$f":"VLOOKUP($A816,'8.Non-elective admissions - CCG'!$D$5:$Q$215,13,0)*$H816","v":181.14521001537355},{"$f":"VLOOKUP($A816,'8.Non-elective admissions - CCG'!$D$5:$Q$215,14,0)*$H816","v":180.88203231667333}]
["04V","NHS West Leicestershire CCG","E10000018","Leicestershire",{"$f":"COUNTIF($D$5:D817,D817)","v":8},"Leicestershire8","NHS West Leicestershire CCG",0.96206069858197973,0.52555756214303539,{"$f":"VLOOKUP($A817,'8.Non-elective admissions - CCG'!$D$5:$N$215,3,0)*$H817","v":6946.0782437618936},{"$f":"VLOOKUP($A817,'8.Non-elective admissions - CCG'!$D$5:$N$215,4,0)*$H817","v":7013.4224926626321},{"$f":"VLOOKUP($A817,'8.Non-elective admissions - CCG'!$D$5:$N$215,5,0)*$H817","v":7396.3226506982601},{"$f":"VLOOKUP($A817,'8.Non-elective admissions - CCG'!$D$5:$N$215,6,0)*$H817","v":7780.1848694324699},{"$f":"VLOOKUP($A817,'8.Non-elective admissions - CCG'!$D$5:$N$215,7,0)*$H817","v":6680.5494909532672},{"$f":"VLOOKUP($A817,'8.Non-elective admissions - CCG'!$D$5:$N$215,8,0)*$H817","v":7070.1840738789688},{"$f":"VLOOKUP($A817,'8.Non-elective admissions - CCG'!$D$5:$N$215,9,0)*$H817","v":7011.4983712654684},{"$f":"VLOOKUP($A817,'8.Non-elective admissions - CCG'!$D$5:$N$215,10,0)*$H817","v":6903.7475730242868},{"$f":"VLOOKUP($A817,'8.Non-elective admissions - CCG'!$D$5:$Q$215,11,0)*$H817","v":6307.2699399034591},{"$f":"VLOOKUP($A817,'8.Non-elective admissions - CCG'!$D$5:$Q$215,12,0)*$H817","v":6677.6633088575218},{"$f":"VLOOKUP($A817,'8.Non-elective admissions - CCG'!$D$5:$Q$215,13,0)*$H817","v":6621.8637883397669},{"$f":"VLOOKUP($A817,'8.Non-elective admissions - CCG'!$D$5:$Q$215,14,0)*$H817","v":6612.243181353947}]
["04V","NHS West Leicestershire CCG","E10000024","Nottinghamshire",{"$f":"COUNTIF($D$5:D818,D818)","v":15},"Nottinghamshire15","NHS West Leicestershire CCG",9.7831579173699433E-4,0,{"$f":"VLOOKUP($A818,'8.Non-elective admissions - CCG'!$D$5:$N$215,3,0)*$H818","v":7.0634400163410991},{"$f":"VLOOKUP($A818,'8.Non-elective admissions - CCG'!$D$5:$N$215,4,0)*$H818","v":7.1319221217626882},{"$f":"VLOOKUP($A818,'8.Non-elective admissions - CCG'!$D$5:$N$215,5,0)*$H818","v":7.5212918068740127},{"$f":"VLOOKUP($A818,'8.Non-elective admissions - CCG'!$D$5:$N$215,6,0)*$H818","v":7.9116398077770729},{"$f":"VLOOKUP($A818,'8.Non-elective admissions - CCG'!$D$5:$N$215,7,0)*$H818","v":6.7934248578216883},{"$f":"VLOOKUP($A818,'8.Non-elective admissions - CCG'!$D$5:$N$215,8,0)*$H818","v":7.1896427534751712},{"$f":"VLOOKUP($A818,'8.Non-elective admissions - CCG'!$D$5:$N$215,9,0)*$H818","v":7.1299654901792149},{"$f":"VLOOKUP($A818,'8.Non-elective admissions - CCG'!$D$5:$N$215,10,0)*$H818","v":7.0203941215046717},{"$f":"VLOOKUP($A818,'8.Non-elective admissions - CCG'!$D$5:$Q$215,11,0)*$H818","v":6.4138383306277351},{"$f":"VLOOKUP($A818,'8.Non-elective admissions - CCG'!$D$5:$Q$215,12,0)*$H818","v":6.7904899104464773},{"$f":"VLOOKUP($A818,'8.Non-elective admissions - CCG'!$D$5:$Q$215,13,0)*$H818","v":6.7337475945257319},{"$f":"VLOOKUP($A818,'8.Non-elective admissions - CCG'!$D$5:$Q$215,14,0)*$H818","v":6.7239644366083624}]
["04V","NHS West Leicestershire CCG","E10000031","Warwickshire",{"$f":"COUNTIF($D$5:D819,D819)","v":11},"Warwickshire11","NHS West Leicestershire CCG",5.4559919154563152E-3,3.5332121946295178E-3,{"$f":"VLOOKUP($A819,'8.Non-elective admissions - CCG'!$D$5:$N$215,3,0)*$H819","v":39.392261629594593},{"$f":"VLOOKUP($A819,'8.Non-elective admissions - CCG'!$D$5:$N$215,4,0)*$H819","v":39.774181063676536},{"$f":"VLOOKUP($A819,'8.Non-elective admissions - CCG'!$D$5:$N$215,5,0)*$H819","v":41.945665846028149},{"$f":"VLOOKUP($A819,'8.Non-elective admissions - CCG'!$D$5:$N$215,6,0)*$H819","v":44.122606620295223},{"$f":"VLOOKUP($A819,'8.Non-elective admissions - CCG'!$D$5:$N$215,7,0)*$H819","v":37.886407860928657},{"$f":"VLOOKUP($A819,'8.Non-elective admissions - CCG'!$D$5:$N$215,8,0)*$H819","v":40.096084586688463},{"$f":"VLOOKUP($A819,'8.Non-elective admissions - CCG'!$D$5:$N$215,9,0)*$H819","v":39.763269079845628},{"$f":"VLOOKUP($A819,'8.Non-elective admissions - CCG'!$D$5:$N$215,10,0)*$H819","v":39.152197985314515},{"$f":"VLOOKUP($A819,'8.Non-elective admissions - CCG'!$D$5:$Q$215,11,0)*$H819","v":35.7694829977316},{"$f":"VLOOKUP($A819,'8.Non-elective admissions - CCG'!$D$5:$Q$215,12,0)*$H819","v":37.870039885182287},{"$f":"VLOOKUP($A819,'8.Non-elective admissions - CCG'!$D$5:$Q$215,13,0)*$H819","v":37.553592354085815},{"$f":"VLOOKUP($A819,'8.Non-elective admissions - CCG'!$D$5:$Q$215,14,0)*$H819","v":37.499032434931252}]
["08Y","NHS West London (K&C & QPP) CCG","E09000005","Brent",{"$f":"COUNTIF($D$5:D820,D820)","v":8},"Brent8","NHS West London (K&C & QPP) CCG",4.2762406638302192E-2,2.7687943107041244E-2,{"$f":"VLOOKUP($A820,'8.Non-elective admissions - CCG'!$D$5:$N$215,3,0)*$H820","v":192.47359227899815},{"$f":"VLOOKUP($A820,'8.Non-elective admissions - CCG'!$D$5:$N$215,4,0)*$H820","v":194.22685095116856},{"$f":"VLOOKUP($A820,'8.Non-elective admissions - CCG'!$D$5:$N$215,5,0)*$H820","v":192.17425543253006},{"$f":"VLOOKUP($A820,'8.Non-elective admissions - CCG'!$D$5:$N$215,6,0)*$H820","v":188.79602530810416},{"$f":"VLOOKUP($A820,'8.Non-elective admissions - CCG'!$D$5:$N$215,7,0)*$H820","v":217.45299689789084},{"$f":"VLOOKUP($A820,'8.Non-elective admissions - CCG'!$D$5:$N$215,8,0)*$H820","v":217.47162213252199},{"$f":"VLOOKUP($A820,'8.Non-elective admissions - CCG'!$D$5:$N$215,9,0)*$H820","v":209.06759566520518},{"$f":"VLOOKUP($A820,'8.Non-elective admissions - CCG'!$D$5:$N$215,10,0)*$H820","v":220.49744502095342},{"$f":"VLOOKUP($A820,'8.Non-elective admissions - CCG'!$D$5:$Q$215,11,0)*$H820","v":213.01855961854591},{"$f":"VLOOKUP($A820,'8.Non-elective admissions - CCG'!$D$5:$Q$215,12,0)*$H820","v":212.99872833437914},{"$f":"VLOOKUP($A820,'8.Non-elective admissions - CCG'!$D$5:$Q$215,13,0)*$H820","v":204.55701044041516},{"$f":"VLOOKUP($A820,'8.Non-elective admissions - CCG'!$D$5:$Q$215,14,0)*$H820","v":216.1792965302412}]
["08Y","NHS West London (K&C & QPP) CCG","E09000007","Camden",{"$f":"COUNTIF($D$5:D821,D821)","v":7},"Camden7","NHS West London (K&C & QPP) CCG",2.1738578787545569E-3,2.1028945484299886E-3,{"$f":"VLOOKUP($A821,'8.Non-elective admissions - CCG'!$D$5:$N$215,3,0)*$H821","v":9.7845343122742605},{"$f":"VLOOKUP($A821,'8.Non-elective admissions - CCG'!$D$5:$N$215,4,0)*$H821","v":9.873662485303198},{"$f":"VLOOKUP($A821,'8.Non-elective admissions - CCG'!$D$5:$N$215,5,0)*$H821","v":9.7693173071229786},{"$f":"VLOOKUP($A821,'8.Non-elective admissions - CCG'!$D$5:$N$215,6,0)*$H821","v":9.5975825347013686},{"$f":"VLOOKUP($A821,'8.Non-elective admissions - CCG'!$D$5:$N$215,7,0)*$H821","v":11.054380417912757},{"$f":"VLOOKUP($A821,'8.Non-elective admissions - CCG'!$D$5:$N$215,8,0)*$H821","v":11.05532724519002},{"$f":"VLOOKUP($A821,'8.Non-elective admissions - CCG'!$D$5:$N$215,9,0)*$H821","v":10.628102479667239},{"$f":"VLOOKUP($A821,'8.Non-elective admissions - CCG'!$D$5:$N$215,10,0)*$H821","v":11.20914714081397},{"$f":"VLOOKUP($A821,'8.Non-elective admissions - CCG'!$D$5:$Q$215,11,0)*$H821","v":10.828952590637186},{"$f":"VLOOKUP($A821,'8.Non-elective admissions - CCG'!$D$5:$Q$215,12,0)*$H821","v":10.827944452959239},{"$f":"VLOOKUP($A821,'8.Non-elective admissions - CCG'!$D$5:$Q$215,13,0)*$H821","v":10.398803616494252},{"$f":"VLOOKUP($A821,'8.Non-elective admissions - CCG'!$D$5:$Q$215,14,0)*$H821","v":10.989630938239934}]
["08Y","NHS West London (K&C & QPP) CCG","E09000009","Ealing",{"$f":"COUNTIF($D$5:D822,D822)","v":8},"Ealing8","NHS West London (K&C & QPP) CCG",5.1935748543007702E-3,3.1190707810630747E-3,{"$f":"VLOOKUP($A822,'8.Non-elective admissions - CCG'!$D$5:$N$215,3,0)*$H822","v":23.376280419207767},{"$f":"VLOOKUP($A822,'8.Non-elective admissions - CCG'!$D$5:$N$215,4,0)*$H822","v":23.589216988234099},{"$f":"VLOOKUP($A822,'8.Non-elective admissions - CCG'!$D$5:$N$215,5,0)*$H822","v":23.33992539522766},{"$f":"VLOOKUP($A822,'8.Non-elective admissions - CCG'!$D$5:$N$215,6,0)*$H822","v":22.9296329817379},{"$f":"VLOOKUP($A822,'8.Non-elective admissions - CCG'!$D$5:$N$215,7,0)*$H822","v":26.410076173534758},{"$f":"VLOOKUP($A822,'8.Non-elective admissions - CCG'!$D$5:$N$215,8,0)*$H822","v":26.412338243372265},{"$f":"VLOOKUP($A822,'8.Non-elective admissions - CCG'!$D$5:$N$215,9,0)*$H822","v":25.391653395002663},{"$f":"VLOOKUP($A822,'8.Non-elective admissions - CCG'!$D$5:$N$215,10,0)*$H822","v":26.779830134084737},{"$f":"VLOOKUP($A822,'8.Non-elective admissions - CCG'!$D$5:$Q$215,11,0)*$H822","v":25.871505411094287},{"$f":"VLOOKUP($A822,'8.Non-elective admissions - CCG'!$D$5:$Q$215,12,0)*$H822","v":25.869096864268375},{"$f":"VLOOKUP($A822,'8.Non-elective admissions - CCG'!$D$5:$Q$215,13,0)*$H822","v":24.84383432111856},{"$f":"VLOOKUP($A822,'8.Non-elective admissions - CCG'!$D$5:$Q$215,14,0)*$H822","v":26.255382864121867}]
["08Y","NHS West London (K&C & QPP) CCG","E09000013","Hammersmith and Fulham",{"$f":"COUNTIF($D$5:D823,D823)","v":7},"Hammersmith and Fulham7","NHS West London (K&C & QPP) CCG",5.957385618703636E-2,6.7531869807223033E-2,{"$f":"VLOOKUP($A823,'8.Non-elective admissions - CCG'!$D$5:$N$215,3,0)*$H823","v":268.14192669785064},{"$f":"VLOOKUP($A823,'8.Non-elective admissions - CCG'!$D$5:$N$215,4,0)*$H823","v":270.58445480151914},{"$f":"VLOOKUP($A823,'8.Non-elective admissions - CCG'!$D$5:$N$215,5,0)*$H823","v":267.7249097045414},{"$f":"VLOOKUP($A823,'8.Non-elective admissions - CCG'!$D$5:$N$215,6,0)*$H823","v":263.0185750657655},{"$f":"VLOOKUP($A823,'8.Non-elective admissions - CCG'!$D$5:$N$215,7,0)*$H823","v":302.94163923486207},{"$f":"VLOOKUP($A823,'8.Non-elective admissions - CCG'!$D$5:$N$215,8,0)*$H823","v":302.96758672324245},{"$f":"VLOOKUP($A823,'8.Non-elective admissions - CCG'!$D$5:$N$215,9,0)*$H823","v":291.25963332411038},{"$f":"VLOOKUP($A823,'8.Non-elective admissions - CCG'!$D$5:$N$215,10,0)*$H823","v":307.18297008853227},{"$f":"VLOOKUP($A823,'8.Non-elective admissions - CCG'!$D$5:$Q$215,11,0)*$H823","v":296.76386418621672},{"$f":"VLOOKUP($A823,'8.Non-elective admissions - CCG'!$D$5:$Q$215,12,0)*$H823","v":296.73623650658334},{"$f":"VLOOKUP($A823,'8.Non-elective admissions - CCG'!$D$5:$Q$215,13,0)*$H823","v":284.97577381700006},{"$f":"VLOOKUP($A823,'8.Non-elective admissions - CCG'!$D$5:$Q$215,14,0)*$H823","v":301.1672011596259}]
["08Y","NHS West London (K&C & QPP) CCG","E09000015","Harrow",{"$f":"COUNTIF($D$5:D824,D824)","v":7},"Harrow7","NHS West London (K&C & QPP) CCG",9.8542584776227971E-4,0,{"$f":"VLOOKUP($A824,'8.Non-elective admissions - CCG'!$D$5:$N$215,3,0)*$H824","v":4.4354017407780209},{"$f":"VLOOKUP($A824,'8.Non-elective admissions - CCG'!$D$5:$N$215,4,0)*$H824","v":4.4758042005362748},{"$f":"VLOOKUP($A824,'8.Non-elective admissions - CCG'!$D$5:$N$215,5,0)*$H824","v":4.4285037598436849},{"$f":"VLOOKUP($A824,'8.Non-elective admissions - CCG'!$D$5:$N$215,6,0)*$H824","v":4.3506551178704651},{"$f":"VLOOKUP($A824,'8.Non-elective admissions - CCG'!$D$5:$N$215,7,0)*$H824","v":5.0110323684312688},{"$f":"VLOOKUP($A824,'8.Non-elective admissions - CCG'!$D$5:$N$215,8,0)*$H824","v":5.0114615722359428},{"$f":"VLOOKUP($A824,'8.Non-elective admissions - CCG'!$D$5:$N$215,9,0)*$H824","v":4.8177974275534368},{"$f":"VLOOKUP($A824,'8.Non-elective admissions - CCG'!$D$5:$N$215,10,0)*$H824","v":5.0811892681121691},{"$f":"VLOOKUP($A824,'8.Non-elective admissions - CCG'!$D$5:$Q$215,11,0)*$H824","v":4.9088442677402027},{"$f":"VLOOKUP($A824,'8.Non-elective admissions - CCG'!$D$5:$Q$215,12,0)*$H824","v":4.9083872714776318},{"$f":"VLOOKUP($A824,'8.Non-elective admissions - CCG'!$D$5:$Q$215,13,0)*$H824","v":4.7138545576715183},{"$f":"VLOOKUP($A824,'8.Non-elective admissions - CCG'!$D$5:$Q$215,14,0)*$H824","v":4.9816809506029278}]
["08Y","NHS West London (K&C & QPP) CCG","E09000018","Hounslow",{"$f":"COUNTIF($D$5:D825,D825)","v":7},"Hounslow7","NHS West London (K&C & QPP) CCG",1.1419097806687362E-3,9.0643265037549823E-4,{"$f":"VLOOKUP($A825,'8.Non-elective admissions - CCG'!$D$5:$N$215,3,0)*$H825","v":5.1397359227899821},{"$f":"VLOOKUP($A825,'8.Non-elective admissions - CCG'!$D$5:$N$215,4,0)*$H825","v":5.1865542237974003},{"$f":"VLOOKUP($A825,'8.Non-elective admissions - CCG'!$D$5:$N$215,5,0)*$H825","v":5.1317425543253004},{"$f":"VLOOKUP($A825,'8.Non-elective admissions - CCG'!$D$5:$N$215,6,0)*$H825","v":5.0415316816524705},{"$f":"VLOOKUP($A825,'8.Non-elective admissions - CCG'!$D$5:$N$215,7,0)*$H825","v":5.80677570590748},{"$f":"VLOOKUP($A825,'8.Non-elective admissions - CCG'!$D$5:$N$215,8,0)*$H825","v":5.8072730665395049},{"$f":"VLOOKUP($A825,'8.Non-elective admissions - CCG'!$D$5:$N$215,9,0)*$H825","v":5.5828553881520522},{"$f":"VLOOKUP($A825,'8.Non-elective admissions - CCG'!$D$5:$N$215,10,0)*$H825","v":5.8880734008166771},{"$f":"VLOOKUP($A825,'8.Non-elective admissions - CCG'!$D$5:$Q$215,11,0)*$H825","v":5.688360310256888},{"$f":"VLOOKUP($A825,'8.Non-elective admissions - CCG'!$D$5:$Q$215,12,0)*$H825","v":5.6878307437723636},{"$f":"VLOOKUP($A825,'8.Non-elective admissions - CCG'!$D$5:$Q$215,13,0)*$H825","v":5.4624065689755801},{"$f":"VLOOKUP($A825,'8.Non-elective admissions - CCG'!$D$5:$Q$215,14,0)*$H825","v":5.7727633333166972}]
["08Y","NHS West London (K&C & QPP) CCG","E09000020","Kensington and Chelsea",{"$f":"COUNTIF($D$5:D826,D826)","v":5},"Kensington and Chelsea5","NHS West London (K&C & QPP) CCG",0.63242347089821771,0.9324254385144447,{"$f":"VLOOKUP($A826,'8.Non-elective admissions - CCG'!$D$5:$N$215,3,0)*$H826","v":2846.5380425128778},{"$f":"VLOOKUP($A826,'8.Non-elective admissions - CCG'!$D$5:$N$215,4,0)*$H826","v":2872.4674048197048},{"$f":"VLOOKUP($A826,'8.Non-elective admissions - CCG'!$D$5:$N$215,5,0)*$H826","v":2842.1110782165906},{"$f":"VLOOKUP($A826,'8.Non-elective admissions - CCG'!$D$5:$N$215,6,0)*$H826","v":2792.1496240156312},{"$f":"VLOOKUP($A826,'8.Non-elective admissions - CCG'!$D$5:$N$215,7,0)*$H826","v":3215.9644385450702},{"$f":"VLOOKUP($A826,'8.Non-elective admissions - CCG'!$D$5:$N$215,8,0)*$H826","v":3216.2398915996973},{"$f":"VLOOKUP($A826,'8.Non-elective admissions - CCG'!$D$5:$N$215,9,0)*$H826","v":3091.9507318960327},{"$f":"VLOOKUP($A826,'8.Non-elective admissions - CCG'!$D$5:$N$215,10,0)*$H826","v":3260.9895108063738},{"$f":"VLOOKUP($A826,'8.Non-elective admissions - CCG'!$D$5:$Q$215,11,0)*$H826","v":3150.3824838294568},{"$f":"VLOOKUP($A826,'8.Non-elective admissions - CCG'!$D$5:$Q$215,12,0)*$H826","v":3150.0891942194685},{"$f":"VLOOKUP($A826,'8.Non-elective admissions - CCG'!$D$5:$Q$215,13,0)*$H826","v":3025.2426069822009},{"$f":"VLOOKUP($A826,'8.Non-elective admissions - CCG'!$D$5:$Q$215,14,0)*$H826","v":3197.1273788302924}]
["08Y","NHS West London (K&C & QPP) CCG","E09000032","Wandsworth",{"$f":"COUNTIF($D$5:D827,D827)","v":7},"Wandsworth7","NHS West London (K&C & QPP) CCG",4.2546712568620323E-3,2.8756824743446821E-3,{"$f":"VLOOKUP($A827,'8.Non-elective admissions - CCG'!$D$5:$N$215,3,0)*$H827","v":19.150275327136008},{"$f":"VLOOKUP($A827,'8.Non-elective admissions - CCG'!$D$5:$N$215,4,0)*$H827","v":19.32471684866735},{"$f":"VLOOKUP($A827,'8.Non-elective admissions - CCG'!$D$5:$N$215,5,0)*$H827","v":19.120492628337974},{"$f":"VLOOKUP($A827,'8.Non-elective admissions - CCG'!$D$5:$N$215,6,0)*$H827","v":18.784373599045871},{"$f":"VLOOKUP($A827,'8.Non-elective admissions - CCG'!$D$5:$N$215,7,0)*$H827","v":21.635616148677499},{"$f":"VLOOKUP($A827,'8.Non-elective admissions - CCG'!$D$5:$N$215,8,0)*$H827","v":21.637469277550899},{"$f":"VLOOKUP($A827,'8.Non-elective admissions - CCG'!$D$5:$N$215,9,0)*$H827","v":20.80130563141098},{"$f":"VLOOKUP($A827,'8.Non-elective admissions - CCG'!$D$5:$N$215,10,0)*$H827","v":21.938525337857694},{"$f":"VLOOKUP($A827,'8.Non-elective admissions - CCG'!$D$5:$Q$215,11,0)*$H827","v":21.194409155994183},{"$f":"VLOOKUP($A827,'8.Non-elective admissions - CCG'!$D$5:$Q$215,12,0)*$H827","v":21.192436030499991},{"$f":"VLOOKUP($A827,'8.Non-elective admissions - CCG'!$D$5:$Q$215,13,0)*$H827","v":20.3525222532942},{"$f":"VLOOKUP($A827,'8.Non-elective admissions - CCG'!$D$5:$Q$215,14,0)*$H827","v":21.508888567839254}]
["08Y","NHS West London (K&C & QPP) CCG","E09000033","Westminster",{"$f":"COUNTIF($D$5:D828,D828)","v":4},"Westminster4","NHS West London (K&C & QPP) CCG",0.2514908266580953,0.25421200008550116,{"$f":"VLOOKUP($A828,'8.Non-elective admissions - CCG'!$D$5:$N$215,3,0)*$H828","v":1131.9602107880869},{"$f":"VLOOKUP($A828,'8.Non-elective admissions - CCG'!$D$5:$N$215,4,0)*$H828","v":1142.2713346810688},{"$f":"VLOOKUP($A828,'8.Non-elective admissions - CCG'!$D$5:$N$215,5,0)*$H828","v":1130.1997750014802},{"$f":"VLOOKUP($A828,'8.Non-elective admissions - CCG'!$D$5:$N$215,6,0)*$H828","v":1110.3319996954908},{"$f":"VLOOKUP($A828,'8.Non-elective admissions - CCG'!$D$5:$N$215,7,0)*$H828","v":1278.8670762077124},{"$f":"VLOOKUP($A828,'8.Non-elective admissions - CCG'!$D$5:$N$215,8,0)*$H828","v":1278.9766134396486},{"$f":"VLOOKUP($A828,'8.Non-elective admissions - CCG'!$D$5:$N$215,9,0)*$H828","v":1229.5515288928652},{"$f":"VLOOKUP($A828,'8.Non-elective admissions - CCG'!$D$5:$N$215,10,0)*$H828","v":1296.7718396524551},{"$f":"VLOOKUP($A828,'8.Non-elective admissions - CCG'!$D$5:$Q$215,11,0)*$H828","v":1252.7876203300577},{"$f":"VLOOKUP($A828,'8.Non-elective admissions - CCG'!$D$5:$Q$215,12,0)*$H828","v":1252.6709901765919},{"$f":"VLOOKUP($A828,'8.Non-elective admissions - CCG'!$D$5:$Q$215,13,0)*$H828","v":1203.0242378428293},{"$f":"VLOOKUP($A828,'8.Non-elective admissions - CCG'!$D$5:$Q$215,14,0)*$H828","v":1271.3762920457189}]
["07J","NHS West Norfolk CCG","E10000003","Cambridgeshire",{"$f":"COUNTIF($D$5:D829,D829)","v":6},"Cambridgeshire6","NHS West Norfolk CCG",1.4203821278462479E-2,3.5644789850458494E-3,{"$f":"VLOOKUP($A829,'8.Non-elective admissions - CCG'!$D$5:$N$215,3,0)*$H829","v":69.726558655972312},{"$f":"VLOOKUP($A829,'8.Non-elective admissions - CCG'!$D$5:$N$215,4,0)*$H829","v":69.41407458784613},{"$f":"VLOOKUP($A829,'8.Non-elective admissions - CCG'!$D$5:$N$215,5,0)*$H829","v":72.936622264904827},{"$f":"VLOOKUP($A829,'8.Non-elective admissions - CCG'!$D$5:$N$215,6,0)*$H829","v":76.984711329266631},{"$f":"VLOOKUP($A829,'8.Non-elective admissions - CCG'!$D$5:$N$215,7,0)*$H829","v":68.490826204746071},{"$f":"VLOOKUP($A829,'8.Non-elective admissions - CCG'!$D$5:$N$215,8,0)*$H829","v":68.547641489859927},{"$f":"VLOOKUP($A829,'8.Non-elective admissions - CCG'!$D$5:$N$215,9,0)*$H829","v":68.576049132416841},{"$f":"VLOOKUP($A829,'8.Non-elective admissions - CCG'!$D$5:$N$215,10,0)*$H829","v":65.607450485218195},{"$f":"VLOOKUP($A829,'8.Non-elective admissions - CCG'!$D$5:$Q$215,11,0)*$H829","v":65.877323089508977},{"$f":"VLOOKUP($A829,'8.Non-elective admissions - CCG'!$D$5:$Q$215,12,0)*$H829","v":65.934138374622833},{"$f":"VLOOKUP($A829,'8.Non-elective admissions - CCG'!$D$5:$Q$215,13,0)*$H829","v":68.604456774973769},{"$f":"VLOOKUP($A829,'8.Non-elective admissions - CCG'!$D$5:$Q$215,14,0)*$H829","v":65.635858127775109}]
["07J","NHS West Norfolk CCG","E10000020","Norfolk",{"$f":"COUNTIF($D$5:D830,D830)","v":8},"Norfolk8","NHS West Norfolk CCG",0.98579617872153757,0.18510322595726256,{"$f":"VLOOKUP($A830,'8.Non-elective admissions - CCG'!$D$5:$N$215,3,0)*$H830","v":4839.2734413440276},{"$f":"VLOOKUP($A830,'8.Non-elective admissions - CCG'!$D$5:$N$215,4,0)*$H830","v":4817.5859254121542},{"$f":"VLOOKUP($A830,'8.Non-elective admissions - CCG'!$D$5:$N$215,5,0)*$H830","v":5062.0633777350959},{"$f":"VLOOKUP($A830,'8.Non-elective admissions - CCG'!$D$5:$N$215,6,0)*$H830","v":5343.0152886707338},{"$f":"VLOOKUP($A830,'8.Non-elective admissions - CCG'!$D$5:$N$215,7,0)*$H830","v":4753.5091737952544},{"$f":"VLOOKUP($A830,'8.Non-elective admissions - CCG'!$D$5:$N$215,8,0)*$H830","v":4757.4523585101406},{"$f":"VLOOKUP($A830,'8.Non-elective admissions - CCG'!$D$5:$N$215,9,0)*$H830","v":4759.4239508675837},{"$f":"VLOOKUP($A830,'8.Non-elective admissions - CCG'!$D$5:$N$215,10,0)*$H830","v":4553.3925495147823},{"$f":"VLOOKUP($A830,'8.Non-elective admissions - CCG'!$D$5:$Q$215,11,0)*$H830","v":4572.1226769104915},{"$f":"VLOOKUP($A830,'8.Non-elective admissions - CCG'!$D$5:$Q$215,12,0)*$H830","v":4576.0658616253777},{"$f":"VLOOKUP($A830,'8.Non-elective admissions - CCG'!$D$5:$Q$215,13,0)*$H830","v":4761.3955432250268},{"$f":"VLOOKUP($A830,'8.Non-elective admissions - CCG'!$D$5:$Q$215,14,0)*$H830","v":4555.3641418722254}]
["07K","NHS West Suffolk CCG","E10000003","Cambridgeshire",{"$f":"COUNTIF($D$5:D831,D831)","v":7},"Cambridgeshire7","NHS West Suffolk CCG",4.0495426734676147E-2,1.4562890143828807E-2,{"$f":"VLOOKUP($A831,'8.Non-elective admissions - CCG'!$D$5:$N$215,3,0)*$H831","v":215.31418394827307},{"$f":"VLOOKUP($A831,'8.Non-elective admissions - CCG'!$D$5:$N$215,4,0)*$H831","v":221.7124613723519},{"$f":"VLOOKUP($A831,'8.Non-elective admissions - CCG'!$D$5:$N$215,5,0)*$H831","v":233.37514427193864},{"$f":"VLOOKUP($A831,'8.Non-elective admissions - CCG'!$D$5:$N$215,6,0)*$H831","v":231.59334549561288},{"$f":"VLOOKUP($A831,'8.Non-elective admissions - CCG'!$D$5:$N$215,7,0)*$H831","v":199.03502240093326},{"$f":"VLOOKUP($A831,'8.Non-elective admissions - CCG'!$D$5:$N$215,8,0)*$H831","v":201.26227087134046},{"$f":"VLOOKUP($A831,'8.Non-elective admissions - CCG'!$D$5:$N$215,9,0)*$H831","v":201.26227087134046},{"$f":"VLOOKUP($A831,'8.Non-elective admissions - CCG'!$D$5:$N$215,10,0)*$H831","v":196.92926021073009},{"$f":"VLOOKUP($A831,'8.Non-elective admissions - CCG'!$D$5:$Q$215,11,0)*$H831","v":185.83351328542884},{"$f":"VLOOKUP($A831,'8.Non-elective admissions - CCG'!$D$5:$Q$215,12,0)*$H831","v":187.85828462216264},{"$f":"VLOOKUP($A831,'8.Non-elective admissions - CCG'!$D$5:$Q$215,13,0)*$H831","v":187.85828462216264},{"$f":"VLOOKUP($A831,'8.Non-elective admissions - CCG'!$D$5:$Q$215,14,0)*$H831","v":183.76824652196035}]
["07K","NHS West Suffolk CCG","E10000012","Essex",{"$f":"COUNTIF($D$5:D832,D832)","v":14},"Essex14","NHS West Suffolk CCG",2.3513740480120466E-2,3.8605108588753712E-3,{"$f":"VLOOKUP($A832,'8.Non-elective admissions - CCG'!$D$5:$N$215,3,0)*$H832","v":125.02255813280051},{"$f":"VLOOKUP($A832,'8.Non-elective admissions - CCG'!$D$5:$N$215,4,0)*$H832","v":128.73772912865954},{"$f":"VLOOKUP($A832,'8.Non-elective admissions - CCG'!$D$5:$N$215,5,0)*$H832","v":135.50968638693425},{"$f":"VLOOKUP($A832,'8.Non-elective admissions - CCG'!$D$5:$N$215,6,0)*$H832","v":134.47508180580894},{"$f":"VLOOKUP($A832,'8.Non-elective admissions - CCG'!$D$5:$N$215,7,0)*$H832","v":115.57003445979208},{"$f":"VLOOKUP($A832,'8.Non-elective admissions - CCG'!$D$5:$N$215,8,0)*$H832","v":116.86329018619871},{"$f":"VLOOKUP($A832,'8.Non-elective admissions - CCG'!$D$5:$N$215,9,0)*$H832","v":116.86329018619871},{"$f":"VLOOKUP($A832,'8.Non-elective admissions - CCG'!$D$5:$N$215,10,0)*$H832","v":114.34731995482582},{"$f":"VLOOKUP($A832,'8.Non-elective admissions - CCG'!$D$5:$Q$215,11,0)*$H832","v":107.90455506327282},{"$f":"VLOOKUP($A832,'8.Non-elective admissions - CCG'!$D$5:$Q$215,12,0)*$H832","v":109.08024208727885},{"$f":"VLOOKUP($A832,'8.Non-elective admissions - CCG'!$D$5:$Q$215,13,0)*$H832","v":109.08024208727885},{"$f":"VLOOKUP($A832,'8.Non-elective admissions - CCG'!$D$5:$Q$215,14,0)*$H832","v":106.70535429878667}]
["07K","NHS West Suffolk CCG","E10000020","Norfolk",{"$f":"COUNTIF($D$5:D833,D833)","v":9},"Norfolk9","NHS West Suffolk CCG",2.6359879370043561E-2,7.0928538273248515E-3,{"$f":"VLOOKUP($A833,'8.Non-elective admissions - CCG'!$D$5:$N$215,3,0)*$H833","v":140.15547861052161},{"$f":"VLOOKUP($A833,'8.Non-elective admissions - CCG'!$D$5:$N$215,4,0)*$H833","v":144.32033955098851},{"$f":"VLOOKUP($A833,'8.Non-elective admissions - CCG'!$D$5:$N$215,5,0)*$H833","v":151.91198480956103},{"$f":"VLOOKUP($A833,'8.Non-elective admissions - CCG'!$D$5:$N$215,6,0)*$H833","v":150.75215011727911},{"$f":"VLOOKUP($A833,'8.Non-elective admissions - CCG'!$D$5:$N$215,7,0)*$H833","v":129.55880710376411},{"$f":"VLOOKUP($A833,'8.Non-elective admissions - CCG'!$D$5:$N$215,8,0)*$H833","v":131.00860046911649},{"$f":"VLOOKUP($A833,'8.Non-elective admissions - CCG'!$D$5:$N$215,9,0)*$H833","v":131.00860046911649},{"$f":"VLOOKUP($A833,'8.Non-elective admissions - CCG'!$D$5:$N$215,10,0)*$H833","v":128.18809337652183},{"$f":"VLOOKUP($A833,'8.Non-elective admissions - CCG'!$D$5:$Q$215,11,0)*$H833","v":120.9654864291299},{"$f":"VLOOKUP($A833,'8.Non-elective admissions - CCG'!$D$5:$Q$215,12,0)*$H833","v":122.28348039763208},{"$f":"VLOOKUP($A833,'8.Non-elective admissions - CCG'!$D$5:$Q$215,13,0)*$H833","v":122.28348039763208},{"$f":"VLOOKUP($A833,'8.Non-elective admissions - CCG'!$D$5:$Q$215,14,0)*$H833","v":119.62113258125768}]
["07K","NHS West Suffolk CCG","E10000029","Suffolk",{"$f":"COUNTIF($D$5:D834,D834)","v":6},"Suffolk6","NHS West Suffolk CCG",0.90963095341515987,0.29493837957324431,{"$f":"VLOOKUP($A834,'8.Non-elective admissions - CCG'!$D$5:$N$215,3,0)*$H834","v":4836.5077793084047},{"$f":"VLOOKUP($A834,'8.Non-elective admissions - CCG'!$D$5:$N$215,4,0)*$H834","v":4980.2294699479999},{"$f":"VLOOKUP($A834,'8.Non-elective admissions - CCG'!$D$5:$N$215,5,0)*$H834","v":5242.203184531566},{"$f":"VLOOKUP($A834,'8.Non-elective admissions - CCG'!$D$5:$N$215,6,0)*$H834","v":5202.1794225812991},{"$f":"VLOOKUP($A834,'8.Non-elective admissions - CCG'!$D$5:$N$215,7,0)*$H834","v":4470.8361360355111},{"$f":"VLOOKUP($A834,'8.Non-elective admissions - CCG'!$D$5:$N$215,8,0)*$H834","v":4520.8658384733444},{"$f":"VLOOKUP($A834,'8.Non-elective admissions - CCG'!$D$5:$N$215,9,0)*$H834","v":4520.8658384733444},{"$f":"VLOOKUP($A834,'8.Non-elective admissions - CCG'!$D$5:$N$215,10,0)*$H834","v":4423.5353264579226},{"$f":"VLOOKUP($A834,'8.Non-elective admissions - CCG'!$D$5:$Q$215,11,0)*$H834","v":4174.2964452221686},{"$f":"VLOOKUP($A834,'8.Non-elective admissions - CCG'!$D$5:$Q$215,12,0)*$H834","v":4219.7779928929267},{"$f":"VLOOKUP($A834,'8.Non-elective admissions - CCG'!$D$5:$Q$215,13,0)*$H834","v":4219.7779928929267},{"$f":"VLOOKUP($A834,'8.Non-elective admissions - CCG'!$D$5:$Q$215,14,0)*$H834","v":4127.9052665979953}]
["02H","NHS Wigan Borough CCG","E08000001","Bolton",{"$f":"COUNTIF($D$5:D835,D835)","v":5},"Bolton5","NHS Wigan Borough CCG",8.435525595741504E-3,9.1119156853920521E-3,{"$f":"VLOOKUP($A835,'8.Non-elective admissions - CCG'!$D$5:$N$215,3,0)*$H835","v":70.225750584548024},{"$f":"VLOOKUP($A835,'8.Non-elective admissions - CCG'!$D$5:$N$215,4,0)*$H835","v":69.879894035122618},{"$f":"VLOOKUP($A835,'8.Non-elective admissions - CCG'!$D$5:$N$215,5,0)*$H835","v":70.099217700611902},{"$f":"VLOOKUP($A835,'8.Non-elective admissions - CCG'!$D$5:$N$215,6,0)*$H835","v":68.707355977314549},{"$f":"VLOOKUP($A835,'8.Non-elective admissions - CCG'!$D$5:$N$215,7,0)*$H835","v":67.315494254017196},{"$f":"VLOOKUP($A835,'8.Non-elective admissions - CCG'!$D$5:$N$215,8,0)*$H835","v":67.02025085816625},{"$f":"VLOOKUP($A835,'8.Non-elective admissions - CCG'!$D$5:$N$215,9,0)*$H835","v":67.188961370081074},{"$f":"VLOOKUP($A835,'8.Non-elective admissions - CCG'!$D$5:$N$215,10,0)*$H835","v":65.805535172379479},{"$f":"VLOOKUP($A835,'8.Non-elective admissions - CCG'!$D$5:$Q$215,11,0)*$H835","v":66.20200487537933},{"$f":"VLOOKUP($A835,'8.Non-elective admissions - CCG'!$D$5:$Q$215,12,0)*$H835","v":65.915197005124114},{"$f":"VLOOKUP($A835,'8.Non-elective admissions - CCG'!$D$5:$Q$215,13,0)*$H835","v":66.067036465847465},{"$f":"VLOOKUP($A835,'8.Non-elective admissions - CCG'!$D$5:$Q$215,14,0)*$H835","v":64.708916844933071}]
["02H","NHS Wigan Borough CCG","E10000017","Lancashire",{"$f":"COUNTIF($D$5:D836,D836)","v":17},"Lancashire17","NHS Wigan Borough CCG",7.5649221431769564E-3,1.9839118043975491E-3,{"$f":"VLOOKUP($A836,'8.Non-elective admissions - CCG'!$D$5:$N$215,3,0)*$H836","v":62.977976841948163},{"$f":"VLOOKUP($A836,'8.Non-elective admissions - CCG'!$D$5:$N$215,4,0)*$H836","v":62.667815034077904},{"$f":"VLOOKUP($A836,'8.Non-elective admissions - CCG'!$D$5:$N$215,5,0)*$H836","v":62.864503009800508},{"$f":"VLOOKUP($A836,'8.Non-elective admissions - CCG'!$D$5:$N$215,6,0)*$H836","v":61.616290856176306},{"$f":"VLOOKUP($A836,'8.Non-elective admissions - CCG'!$D$5:$N$215,7,0)*$H836","v":60.368078702552111},{"$f":"VLOOKUP($A836,'8.Non-elective admissions - CCG'!$D$5:$N$215,8,0)*$H836","v":60.103306427540922},{"$f":"VLOOKUP($A836,'8.Non-elective admissions - CCG'!$D$5:$N$215,9,0)*$H836","v":60.254604870404457},{"$f":"VLOOKUP($A836,'8.Non-elective admissions - CCG'!$D$5:$N$215,10,0)*$H836","v":59.013957638923436},{"$f":"VLOOKUP($A836,'8.Non-elective admissions - CCG'!$D$5:$Q$215,11,0)*$H836","v":59.369508979652757},{"$f":"VLOOKUP($A836,'8.Non-elective admissions - CCG'!$D$5:$Q$215,12,0)*$H836","v":59.112301626784735},{"$f":"VLOOKUP($A836,'8.Non-elective admissions - CCG'!$D$5:$Q$215,13,0)*$H836","v":59.24847022536192},{"$f":"VLOOKUP($A836,'8.Non-elective admissions - CCG'!$D$5:$Q$215,14,0)*$H836","v":58.030517760310431}]
["02H","NHS Wigan Borough CCG","E08000006","Salford",{"$f":"COUNTIF($D$5:D837,D837)","v":7},{"$f":"D837&E837","v":"Salford7"},{"$f":"B837","v":"NHS Wigan Borough CCG"},9.3838614994278882E-3,1.2027258598015383E-2,{"$f":"VLOOKUP($A837,'8.Non-elective admissions - CCG'!$D$5:$N$215,3,0)*$H837","v":78.120646982737171},{"$f":"VLOOKUP($A837,'8.Non-elective admissions - CCG'!$D$5:$N$215,4,0)*$H837","v":77.735908661260623},{"$f":"VLOOKUP($A837,'8.Non-elective admissions - CCG'!$D$5:$N$215,5,0)*$H837","v":77.979889060245753},{"$f":"VLOOKUP($A837,'8.Non-elective admissions - CCG'!$D$5:$N$215,6,0)*$H837","v":76.431551912840149},{"$f":"VLOOKUP($A837,'8.Non-elective admissions - CCG'!$D$5:$N$215,7,0)*$H837","v":74.883214765434545},{"$f":"VLOOKUP($A837,'8.Non-elective admissions - CCG'!$D$5:$N$215,8,0)*$H837","v":74.554779612954576},{"$f":"VLOOKUP($A837,'8.Non-elective admissions - CCG'!$D$5:$N$215,9,0)*$H837","v":74.742456842943128},{"$f":"VLOOKUP($A837,'8.Non-elective admissions - CCG'!$D$5:$N$215,10,0)*$H837","v":73.203503557036953},{"$f":"VLOOKUP($A837,'8.Non-elective admissions - CCG'!$D$5:$Q$215,11,0)*$H837","v":73.644545047510064},{"$f":"VLOOKUP($A837,'8.Non-elective admissions - CCG'!$D$5:$Q$215,12,0)*$H837","v":73.325493756529525},{"$f":"VLOOKUP($A837,'8.Non-elective admissions - CCG'!$D$5:$Q$215,13,0)*$H837","v":73.494403263519217},{"$f":"VLOOKUP($A837,'8.Non-elective admissions - CCG'!$D$5:$Q$215,14,0)*$H837","v":71.983601562111332}]
["02H","NHS Wigan Borough CCG","E08000013","St. Helens",{"$f":"COUNTIF($D$5:D838,D838)","v":4},"St. Helens4","NHS Wigan Borough CCG",6.3460773095865885E-3,1.1133476252038772E-2,{"$f":"VLOOKUP($A838,'8.Non-elective admissions - CCG'!$D$5:$N$215,3,0)*$H838","v":52.83109360230835},{"$f":"VLOOKUP($A838,'8.Non-elective admissions - CCG'!$D$5:$N$215,4,0)*$H838","v":52.570904432615301},{"$f":"VLOOKUP($A838,'8.Non-elective admissions - CCG'!$D$5:$N$215,5,0)*$H838","v":52.735902442664553},{"$f":"VLOOKUP($A838,'8.Non-elective admissions - CCG'!$D$5:$N$215,6,0)*$H838","v":51.688799686582762},{"$f":"VLOOKUP($A838,'8.Non-elective admissions - CCG'!$D$5:$N$215,7,0)*$H838","v":50.641696930500977},{"$f":"VLOOKUP($A838,'8.Non-elective admissions - CCG'!$D$5:$N$215,8,0)*$H838","v":50.419584224665442},{"$f":"VLOOKUP($A838,'8.Non-elective admissions - CCG'!$D$5:$N$215,9,0)*$H838","v":50.546505770857181},{"$f":"VLOOKUP($A838,'8.Non-elective admissions - CCG'!$D$5:$N$215,10,0)*$H838","v":49.505749092084976},{"$f":"VLOOKUP($A838,'8.Non-elective admissions - CCG'!$D$5:$Q$215,11,0)*$H838","v":49.804014725635547},{"$f":"VLOOKUP($A838,'8.Non-elective admissions - CCG'!$D$5:$Q$215,12,0)*$H838","v":49.588248097109599},{"$f":"VLOOKUP($A838,'8.Non-elective admissions - CCG'!$D$5:$Q$215,13,0)*$H838","v":49.702477488682163},{"$f":"VLOOKUP($A838,'8.Non-elective admissions - CCG'!$D$5:$Q$215,14,0)*$H838","v":48.680759041838719}]
["02H","NHS Wigan Borough CCG","E06000007","Warrington",{"$f":"COUNTIF($D$5:D839,D839)","v":5},"Warrington5","NHS Wigan Borough CCG",1.5484304263469479E-3,2.3277554454519955E-3,{"$f":"VLOOKUP($A839,'8.Non-elective admissions - CCG'!$D$5:$N$215,3,0)*$H839","v":12.890683299338342},{"$f":"VLOOKUP($A839,'8.Non-elective admissions - CCG'!$D$5:$N$215,4,0)*$H839","v":12.827197651858116},{"$f":"VLOOKUP($A839,'8.Non-elective admissions - CCG'!$D$5:$N$215,5,0)*$H839","v":12.867456842943136},{"$f":"VLOOKUP($A839,'8.Non-elective admissions - CCG'!$D$5:$N$215,6,0)*$H839","v":12.611965822595891},{"$f":"VLOOKUP($A839,'8.Non-elective admissions - CCG'!$D$5:$N$215,7,0)*$H839","v":12.356474802248645},{"$f":"VLOOKUP($A839,'8.Non-elective admissions - CCG'!$D$5:$N$215,8,0)*$H839","v":12.302279737326501},{"$f":"VLOOKUP($A839,'8.Non-elective admissions - CCG'!$D$5:$N$215,9,0)*$H839","v":12.333248345853439},{"$f":"VLOOKUP($A839,'8.Non-elective admissions - CCG'!$D$5:$N$215,10,0)*$H839","v":12.079305755932541},{"$f":"VLOOKUP($A839,'8.Non-elective admissions - CCG'!$D$5:$Q$215,11,0)*$H839","v":12.152081985970847},{"$f":"VLOOKUP($A839,'8.Non-elective admissions - CCG'!$D$5:$Q$215,12,0)*$H839","v":12.099435351475051},{"$f":"VLOOKUP($A839,'8.Non-elective admissions - CCG'!$D$5:$Q$215,13,0)*$H839","v":12.127307099149297},{"$f":"VLOOKUP($A839,'8.Non-elective admissions - CCG'!$D$5:$Q$215,14,0)*$H839","v":11.878009800507437}]
["02H","NHS Wigan Borough CCG","E08000010","Wigan",{"$f":"COUNTIF($D$5:D840,D840)","v":6},"Wigan6","NHS Wigan Borough CCG",0.96672118302572019,0.95579369983368845,{"$f":"VLOOKUP($A840,'8.Non-elective admissions - CCG'!$D$5:$N$215,3,0)*$H840","v":8047.9538486891206},{"$f":"VLOOKUP($A840,'8.Non-elective admissions - CCG'!$D$5:$N$215,4,0)*$H840","v":8008.3182801850662},{"$f":"VLOOKUP($A840,'8.Non-elective admissions - CCG'!$D$5:$N$215,5,0)*$H840","v":8033.453030943735},{"$f":"VLOOKUP($A840,'8.Non-elective admissions - CCG'!$D$5:$N$215,6,0)*$H840","v":7873.944035744491},{"$f":"VLOOKUP($A840,'8.Non-elective admissions - CCG'!$D$5:$N$215,7,0)*$H840","v":7714.4350405452469},{"$f":"VLOOKUP($A840,'8.Non-elective admissions - CCG'!$D$5:$N$215,8,0)*$H840","v":7680.5997991393469},{"$f":"VLOOKUP($A840,'8.Non-elective admissions - CCG'!$D$5:$N$215,9,0)*$H840","v":7699.9342227998613},{"$f":"VLOOKUP($A840,'8.Non-elective admissions - CCG'!$D$5:$N$215,10,0)*$H840","v":7541.3919487836429},{"$f":"VLOOKUP($A840,'8.Non-elective admissions - CCG'!$D$5:$Q$215,11,0)*$H840","v":7586.8278443858517},{"$f":"VLOOKUP($A840,'8.Non-elective admissions - CCG'!$D$5:$Q$215,12,0)*$H840","v":7553.9593241629773},{"$f":"VLOOKUP($A840,'8.Non-elective admissions - CCG'!$D$5:$Q$215,13,0)*$H840","v":7571.3603054574405},{"$f":"VLOOKUP($A840,'8.Non-elective admissions - CCG'!$D$5:$Q$215,14,0)*$H840","v":7415.7181949902997}]
["99N","NHS Wiltshire CCG","E06000022","Bath and North East Somerset",{"$f":"COUNTIF($D$5:D841,D841)","v":4},"Bath and North East Somerset4","NHS Wiltshire CCG",1.1181598760010764E-3,2.8055042318100212E-3,{"$f":"VLOOKUP($A841,'8.Non-elective admissions - CCG'!$D$5:$N$215,3,0)*$H841","v":10.624755141762229},{"$f":"VLOOKUP($A841,'8.Non-elective admissions - CCG'!$D$5:$N$215,4,0)*$H841","v":10.764525126262363},{"$f":"VLOOKUP($A841,'8.Non-elective admissions - CCG'!$D$5:$N$215,5,0)*$H841","v":11.159235562490743},{"$f":"VLOOKUP($A841,'8.Non-elective admissions - CCG'!$D$5:$N$215,6,0)*$H841","v":11.359386180294935},{"$f":"VLOOKUP($A841,'8.Non-elective admissions - CCG'!$D$5:$N$215,7,0)*$H841","v":10.342978853009956},{"$f":"VLOOKUP($A841,'8.Non-elective admissions - CCG'!$D$5:$N$215,8,0)*$H841","v":10.48051251775809},{"$f":"VLOOKUP($A841,'8.Non-elective admissions - CCG'!$D$5:$N$215,9,0)*$H841","v":10.864041355226458},{"$f":"VLOOKUP($A841,'8.Non-elective admissions - CCG'!$D$5:$N$215,10,0)*$H841","v":10.919949349026513},{"$f":"VLOOKUP($A841,'8.Non-elective admissions - CCG'!$D$5:$Q$215,11,0)*$H841","v":10.133882956197755},{"$f":"VLOOKUP($A841,'8.Non-elective admissions - CCG'!$D$5:$Q$215,12,0)*$H841","v":10.268062141317886},{"$f":"VLOOKUP($A841,'8.Non-elective admissions - CCG'!$D$5:$Q$215,13,0)*$H841","v":10.642645699778246},{"$f":"VLOOKUP($A841,'8.Non-elective admissions - CCG'!$D$5:$Q$215,14,0)*$H841","v":10.695199213950296}]
["99N","NHS Wiltshire CCG","E10000009","Dorset",{"$f":"COUNTIF($D$5:D842,D842)","v":4},"Dorset4","NHS Wiltshire CCG",7.7916551060895909E-3,8.7091967718843366E-3,{"$f":"VLOOKUP($A842,'8.Non-elective admissions - CCG'!$D$5:$N$215,3,0)*$H842","v":74.036306818063295},{"$f":"VLOOKUP($A842,'8.Non-elective admissions - CCG'!$D$5:$N$215,4,0)*$H842","v":75.010263706324494},{"$f":"VLOOKUP($A842,'8.Non-elective admissions - CCG'!$D$5:$N$215,5,0)*$H842","v":77.760717958774123},{"$f":"VLOOKUP($A842,'8.Non-elective admissions - CCG'!$D$5:$N$215,6,0)*$H842","v":79.155424222764154},{"$f":"VLOOKUP($A842,'8.Non-elective admissions - CCG'!$D$5:$N$215,7,0)*$H842","v":72.072809731328718},{"$f":"VLOOKUP($A842,'8.Non-elective admissions - CCG'!$D$5:$N$215,8,0)*$H842","v":73.031183309377738},{"$f":"VLOOKUP($A842,'8.Non-elective admissions - CCG'!$D$5:$N$215,9,0)*$H842","v":75.703721010766458},{"$f":"VLOOKUP($A842,'8.Non-elective admissions - CCG'!$D$5:$N$215,10,0)*$H842","v":76.093303766070946},{"$f":"VLOOKUP($A842,'8.Non-elective admissions - CCG'!$D$5:$Q$215,11,0)*$H842","v":70.615770226489957},{"$f":"VLOOKUP($A842,'8.Non-elective admissions - CCG'!$D$5:$Q$215,12,0)*$H842","v":71.550768839220709},{"$f":"VLOOKUP($A842,'8.Non-elective admissions - CCG'!$D$5:$Q$215,13,0)*$H842","v":74.160973299760727},{"$f":"VLOOKUP($A842,'8.Non-elective admissions - CCG'!$D$5:$Q$215,14,0)*$H842","v":74.527181089746932}]
["99N","NHS Wiltshire CCG","E10000013","Gloucestershire",{"$f":"COUNTIF($D$5:D843,D843)","v":7},"Gloucestershire7","NHS Wiltshire CCG",2.0089327622929789E-3,1.5539100281252874E-3,{"$f":"VLOOKUP($A843,'8.Non-elective admissions - CCG'!$D$5:$N$215,3,0)*$H843","v":19.088879107307886},{"$f":"VLOOKUP($A843,'8.Non-elective admissions - CCG'!$D$5:$N$215,4,0)*$H843","v":19.339995702594507},{"$f":"VLOOKUP($A843,'8.Non-elective admissions - CCG'!$D$5:$N$215,5,0)*$H843","v":20.04914896768393},{"$f":"VLOOKUP($A843,'8.Non-elective admissions - CCG'!$D$5:$N$215,6,0)*$H843","v":20.408747932134371},{"$f":"VLOOKUP($A843,'8.Non-elective admissions - CCG'!$D$5:$N$215,7,0)*$H843","v":18.582628051210055},{"$f":"VLOOKUP($A843,'8.Non-elective admissions - CCG'!$D$5:$N$215,8,0)*$H843","v":18.829726780972091},{"$f":"VLOOKUP($A843,'8.Non-elective admissions - CCG'!$D$5:$N$215,9,0)*$H843","v":19.518790718438584},{"$f":"VLOOKUP($A843,'8.Non-elective admissions - CCG'!$D$5:$N$215,10,0)*$H843","v":19.619237356553231},{"$f":"VLOOKUP($A843,'8.Non-elective admissions - CCG'!$D$5:$Q$215,11,0)*$H843","v":18.206957624661268},{"$f":"VLOOKUP($A843,'8.Non-elective admissions - CCG'!$D$5:$Q$215,12,0)*$H843","v":18.448029556136426},{"$f":"VLOOKUP($A843,'8.Non-elective admissions - CCG'!$D$5:$Q$215,13,0)*$H843","v":19.121022031504573},{"$f":"VLOOKUP($A843,'8.Non-elective admissions - CCG'!$D$5:$Q$215,14,0)*$H843","v":19.215441871332342}]
["99N","NHS Wiltshire CCG","E10000014","Hampshire",{"$f":"COUNTIF($D$5:D844,D844)","v":15},"Hampshire15","NHS Wiltshire CCG",1.3021555869400596E-2,4.5973760634470309E-3,{"$f":"VLOOKUP($A844,'8.Non-elective admissions - CCG'!$D$5:$N$215,3,0)*$H844","v":123.73082387104446},{"$f":"VLOOKUP($A844,'8.Non-elective admissions - CCG'!$D$5:$N$215,4,0)*$H844","v":125.35851835471954},{"$f":"VLOOKUP($A844,'8.Non-elective admissions - CCG'!$D$5:$N$215,5,0)*$H844","v":129.95512757661794},{"$f":"VLOOKUP($A844,'8.Non-elective admissions - CCG'!$D$5:$N$215,6,0)*$H844","v":132.28598607724064},{"$f":"VLOOKUP($A844,'8.Non-elective admissions - CCG'!$D$5:$N$215,7,0)*$H844","v":120.44939179195551},{"$f":"VLOOKUP($A844,'8.Non-elective admissions - CCG'!$D$5:$N$215,8,0)*$H844","v":122.05104316389178},{"$f":"VLOOKUP($A844,'8.Non-elective admissions - CCG'!$D$5:$N$215,9,0)*$H844","v":126.51743682709619},{"$f":"VLOOKUP($A844,'8.Non-elective admissions - CCG'!$D$5:$N$215,10,0)*$H844","v":127.16851462056621},{"$f":"VLOOKUP($A844,'8.Non-elective admissions - CCG'!$D$5:$Q$215,11,0)*$H844","v":118.01436084437759},{"$f":"VLOOKUP($A844,'8.Non-elective admissions - CCG'!$D$5:$Q$215,12,0)*$H844","v":119.57694754870568},{"$f":"VLOOKUP($A844,'8.Non-elective admissions - CCG'!$D$5:$Q$215,13,0)*$H844","v":123.93916876495487},{"$f":"VLOOKUP($A844,'8.Non-elective admissions - CCG'!$D$5:$Q$215,14,0)*$H844","v":124.55118189081669}]
["99N","NHS Wiltshire CCG","E06000025","South Gloucestershire",{"$f":"COUNTIF($D$5:D845,D845)","v":5},"South Gloucestershire5","NHS Wiltshire CCG",0,1.3376310589999854E-3,{"$f":"VLOOKUP($A845,'8.Non-elective admissions - CCG'!$D$5:$N$215,3,0)*$H845","v":0},{"$f":"VLOOKUP($A845,'8.Non-elective admissions - CCG'!$D$5:$N$215,4,0)*$H845","v":0},{"$f":"VLOOKUP($A845,'8.Non-elective admissions - CCG'!$D$5:$N$215,5,0)*$H845","v":0},{"$f":"VLOOKUP($A845,'8.Non-elective admissions - CCG'!$D$5:$N$215,6,0)*$H845","v":0},{"$f":"VLOOKUP($A845,'8.Non-elective admissions - CCG'!$D$5:$N$215,7,0)*$H845","v":0},{"$f":"VLOOKUP($A845,'8.Non-elective admissions - CCG'!$D$5:$N$215,8,0)*$H845","v":0},{"$f":"VLOOKUP($A845,'8.Non-elective admissions - CCG'!$D$5:$N$215,9,0)*$H845","v":0},{"$f":"VLOOKUP($A845,'8.Non-elective admissions - CCG'!$D$5:$N$215,10,0)*$H845","v":0},{"$f":"VLOOKUP($A845,'8.Non-elective admissions - CCG'!$D$5:$Q$215,11,0)*$H845","v":0},{"$f":"VLOOKUP($A845,'8.Non-elective admissions - CCG'!$D$5:$Q$215,12,0)*$H845","v":0},{"$f":"VLOOKUP($A845,'8.Non-elective admissions - CCG'!$D$5:$Q$215,13,0)*$H845","v":0},{"$f":"VLOOKUP($A845,'8.Non-elective admissions - CCG'!$D$5:$Q$215,14,0)*$H845","v":0}]
["99N","NHS Wiltshire CCG","E06000030","Swindon",{"$f":"COUNTIF($D$5:D846,D846)","v":3},"Swindon3","NHS Wiltshire CCG",6.4419360020360533E-3,1.3834815528325977E-2,{"$f":"VLOOKUP($A846,'8.Non-elective admissions - CCG'!$D$5:$N$215,3,0)*$H846","v":61.211275891346581},{"$f":"VLOOKUP($A846,'8.Non-elective admissions - CCG'!$D$5:$N$215,4,0)*$H846","v":62.016517891601083},{"$f":"VLOOKUP($A846,'8.Non-elective admissions - CCG'!$D$5:$N$215,5,0)*$H846","v":64.29052130031981},{"$f":"VLOOKUP($A846,'8.Non-elective admissions - CCG'!$D$5:$N$215,6,0)*$H846","v":65.443627844684272},{"$f":"VLOOKUP($A846,'8.Non-elective admissions - CCG'!$D$5:$N$215,7,0)*$H846","v":59.587908018833495},{"$f":"VLOOKUP($A846,'8.Non-elective admissions - CCG'!$D$5:$N$215,8,0)*$H846","v":60.38026614708393},{"$f":"VLOOKUP($A846,'8.Non-elective admissions - CCG'!$D$5:$N$215,9,0)*$H846","v":62.589850195782297},{"$f":"VLOOKUP($A846,'8.Non-elective admissions - CCG'!$D$5:$N$215,10,0)*$H846","v":62.911946995884094},{"$f":"VLOOKUP($A846,'8.Non-elective admissions - CCG'!$D$5:$Q$215,11,0)*$H846","v":58.383265986452749},{"$f":"VLOOKUP($A846,'8.Non-elective admissions - CCG'!$D$5:$Q$215,12,0)*$H846","v":59.156298306697074},{"$f":"VLOOKUP($A846,'8.Non-elective admissions - CCG'!$D$5:$Q$215,13,0)*$H846","v":61.314346867379157},{"$f":"VLOOKUP($A846,'8.Non-elective admissions - CCG'!$D$5:$Q$215,14,0)*$H846","v":61.617117859474853}]
["99N","NHS Wiltshire CCG","E06000037","West Berkshire",{"$f":"COUNTIF($D$5:D847,D847)","v":6},"West Berkshire6","NHS Wiltshire CCG",1.3601496999117572E-3,3.9929938880246931E-3,{"$f":"VLOOKUP($A847,'8.Non-elective admissions - CCG'!$D$5:$N$215,3,0)*$H847","v":12.924142448561517},{"$f":"VLOOKUP($A847,'8.Non-elective admissions - CCG'!$D$5:$N$215,4,0)*$H847","v":13.094161161050486},{"$f":"VLOOKUP($A847,'8.Non-elective admissions - CCG'!$D$5:$N$215,5,0)*$H847","v":13.574294005119336},{"$f":"VLOOKUP($A847,'8.Non-elective admissions - CCG'!$D$5:$N$215,6,0)*$H847","v":13.817760801403541},{"$f":"VLOOKUP($A847,'8.Non-elective admissions - CCG'!$D$5:$N$215,7,0)*$H847","v":12.581384724183755},{"$f":"VLOOKUP($A847,'8.Non-elective admissions - CCG'!$D$5:$N$215,8,0)*$H847","v":12.7486831372729},{"$f":"VLOOKUP($A847,'8.Non-elective admissions - CCG'!$D$5:$N$215,9,0)*$H847","v":13.215214484342633},{"$f":"VLOOKUP($A847,'8.Non-elective admissions - CCG'!$D$5:$N$215,10,0)*$H847","v":13.283221969338221},{"$f":"VLOOKUP($A847,'8.Non-elective admissions - CCG'!$D$5:$Q$215,11,0)*$H847","v":12.327036730300255},{"$f":"VLOOKUP($A847,'8.Non-elective admissions - CCG'!$D$5:$Q$215,12,0)*$H847","v":12.490254694289666},{"$f":"VLOOKUP($A847,'8.Non-elective admissions - CCG'!$D$5:$Q$215,13,0)*$H847","v":12.945904843760104},{"$f":"VLOOKUP($A847,'8.Non-elective admissions - CCG'!$D$5:$Q$215,14,0)*$H847","v":13.009831879655957}]
["99N","NHS Wiltshire CCG","E06000054","Wiltshire",{"$f":"COUNTIF($D$5:D848,D848)","v":9},"Wiltshire9","NHS Wiltshire CCG",0.96825761068426797,0.97036084629536701,{"$f":"VLOOKUP($A848,'8.Non-elective admissions - CCG'!$D$5:$N$215,3,0)*$H848","v":9200.3838167219146},{"$f":"VLOOKUP($A848,'8.Non-elective admissions - CCG'!$D$5:$N$215,4,0)*$H848","v":9321.4160180574472},{"$f":"VLOOKUP($A848,'8.Non-elective admissions - CCG'!$D$5:$N$215,5,0)*$H848","v":9663.2109546289939},{"$f":"VLOOKUP($A848,'8.Non-elective admissions - CCG'!$D$5:$N$215,6,0)*$H848","v":9836.529066941479},{"$f":"VLOOKUP($A848,'8.Non-elective admissions - CCG'!$D$5:$N$215,7,0)*$H848","v":8956.382898829479},{"$f":"VLOOKUP($A848,'8.Non-elective admissions - CCG'!$D$5:$N$215,8,0)*$H848","v":9075.478584943643},{"$f":"VLOOKUP($A848,'8.Non-elective admissions - CCG'!$D$5:$N$215,9,0)*$H848","v":9407.5909454083467},{"$f":"VLOOKUP($A848,'8.Non-elective admissions - CCG'!$D$5:$N$215,10,0)*$H848","v":9456.0038259425601},{"$f":"VLOOKUP($A848,'8.Non-elective admissions - CCG'!$D$5:$Q$215,11,0)*$H848","v":8775.3187256315214},{"$f":"VLOOKUP($A848,'8.Non-elective admissions - CCG'!$D$5:$Q$215,12,0)*$H848","v":8891.5096389136324},{"$f":"VLOOKUP($A848,'8.Non-elective admissions - CCG'!$D$5:$Q$215,13,0)*$H848","v":9215.8759384928617},{"$f":"VLOOKUP($A848,'8.Non-elective admissions - CCG'!$D$5:$Q$215,14,0)*$H848","v":9261.384046195024}]
["11C","NHS Windsor, Ascot and Maidenhead CCG","E06000036","Bracknell Forest",{"$f":"COUNTIF($D$5:D849,D849)","v":4},"Bracknell Forest4","NHS Windsor, Ascot and Maidenhead CCG",1.6623849630906309E-2,2.1403629238228424E-2,{"$f":"VLOOKUP($A849,'8.Non-elective admissions - CCG'!$D$5:$N$215,3,0)*$H849","v":48.508393222984608},{"$f":"VLOOKUP($A849,'8.Non-elective admissions - CCG'!$D$5:$N$215,4,0)*$H849","v":49.588943448993518},{"$f":"VLOOKUP($A849,'8.Non-elective admissions - CCG'!$D$5:$N$215,5,0)*$H849","v":53.196318818900188},{"$f":"VLOOKUP($A849,'8.Non-elective admissions - CCG'!$D$5:$N$215,6,0)*$H849","v":52.265383239569438},{"$f":"VLOOKUP($A849,'8.Non-elective admissions - CCG'!$D$5:$N$215,7,0)*$H849","v":44.98413710123247},{"$f":"VLOOKUP($A849,'8.Non-elective admissions - CCG'!$D$5:$N$215,8,0)*$H849","v":45.732210334623254},{"$f":"VLOOKUP($A849,'8.Non-elective admissions - CCG'!$D$5:$N$215,9,0)*$H849","v":49.090227960066329},{"$f":"VLOOKUP($A849,'8.Non-elective admissions - CCG'!$D$5:$N$215,10,0)*$H849","v":46.646522064323101},{"$f":"VLOOKUP($A849,'8.Non-elective admissions - CCG'!$D$5:$Q$215,11,0)*$H849","v":45.665714936099633},{"$f":"VLOOKUP($A849,'8.Non-elective admissions - CCG'!$D$5:$Q$215,12,0)*$H849","v":46.480283568014038},{"$f":"VLOOKUP($A849,'8.Non-elective admissions - CCG'!$D$5:$Q$215,13,0)*$H849","v":49.871548892718927},{"$f":"VLOOKUP($A849,'8.Non-elective admissions - CCG'!$D$5:$Q$215,14,0)*$H849","v":47.394595297713892}]
["11C","NHS Windsor, Ascot and Maidenhead CCG","E10000002","Buckinghamshire",{"$f":"COUNTIF($D$5:D850,D850)","v":10},"Buckinghamshire10","NHS Windsor, Ascot and Maidenhead CCG",2.6750349582127408E-2,7.7272667494565749E-3,{"$f":"VLOOKUP($A850,'8.Non-elective admissions - CCG'!$D$5:$N$215,3,0)*$H850","v":78.057520080647777},{"$f":"VLOOKUP($A850,'8.Non-elective admissions - CCG'!$D$5:$N$215,4,0)*$H850","v":79.796292803486054},{"$f":"VLOOKUP($A850,'8.Non-elective admissions - CCG'!$D$5:$N$215,5,0)*$H850","v":85.601118662807707},{"$f":"VLOOKUP($A850,'8.Non-elective admissions - CCG'!$D$5:$N$215,6,0)*$H850","v":84.103099086208573},{"$f":"VLOOKUP($A850,'8.Non-elective admissions - CCG'!$D$5:$N$215,7,0)*$H850","v":72.38644596923676},{"$f":"VLOOKUP($A850,'8.Non-elective admissions - CCG'!$D$5:$N$215,8,0)*$H850","v":73.590211700432505},{"$f":"VLOOKUP($A850,'8.Non-elective admissions - CCG'!$D$5:$N$215,9,0)*$H850","v":78.993782316022234},{"$f":"VLOOKUP($A850,'8.Non-elective admissions - CCG'!$D$5:$N$215,10,0)*$H850","v":75.061480927449509},{"$f":"VLOOKUP($A850,'8.Non-elective admissions - CCG'!$D$5:$Q$215,11,0)*$H850","v":73.483210302103984},{"$f":"VLOOKUP($A850,'8.Non-elective admissions - CCG'!$D$5:$Q$215,12,0)*$H850","v":74.793977431628235},{"$f":"VLOOKUP($A850,'8.Non-elective admissions - CCG'!$D$5:$Q$215,13,0)*$H850","v":80.251048746382224},{"$f":"VLOOKUP($A850,'8.Non-elective admissions - CCG'!$D$5:$Q$215,14,0)*$H850","v":76.265246658645239}]
["11C","NHS Windsor, Ascot and Maidenhead CCG","E06000039","Slough",{"$f":"COUNTIF($D$5:D851,D851)","v":3},"Slough3","NHS Windsor, Ascot and Maidenhead CCG",1.0906962375207309E-2,1.0872524993192516E-2,{"$f":"VLOOKUP($A851,'8.Non-elective admissions - CCG'!$D$5:$N$215,3,0)*$H851","v":31.826516210854926},{"$f":"VLOOKUP($A851,'8.Non-elective admissions - CCG'!$D$5:$N$215,4,0)*$H851","v":32.535468765243401},{"$f":"VLOOKUP($A851,'8.Non-elective admissions - CCG'!$D$5:$N$215,5,0)*$H851","v":34.902279600663391},{"$f":"VLOOKUP($A851,'8.Non-elective admissions - CCG'!$D$5:$N$215,6,0)*$H851","v":34.291489707651778},{"$f":"VLOOKUP($A851,'8.Non-elective admissions - CCG'!$D$5:$N$215,7,0)*$H851","v":29.514240187310978},{"$f":"VLOOKUP($A851,'8.Non-elective admissions - CCG'!$D$5:$N$215,8,0)*$H851","v":30.005053494195305},{"$f":"VLOOKUP($A851,'8.Non-elective admissions - CCG'!$D$5:$N$215,9,0)*$H851","v":32.208259893987183},{"$f":"VLOOKUP($A851,'8.Non-elective admissions - CCG'!$D$5:$N$215,10,0)*$H851","v":30.60493642483171},{"$f":"VLOOKUP($A851,'8.Non-elective admissions - CCG'!$D$5:$Q$215,11,0)*$H851","v":29.961425644694476},{"$f":"VLOOKUP($A851,'8.Non-elective admissions - CCG'!$D$5:$Q$215,12,0)*$H851","v":30.495866801079636},{"$f":"VLOOKUP($A851,'8.Non-elective admissions - CCG'!$D$5:$Q$215,13,0)*$H851","v":32.720887125621928},{"$f":"VLOOKUP($A851,'8.Non-elective admissions - CCG'!$D$5:$Q$215,14,0)*$H851","v":31.095749731716037}]
["11C","NHS Windsor, Ascot and Maidenhead CCG","E10000030","Surrey",{"$f":"COUNTIF($D$5:D852,D852)","v":21},"Surrey21","NHS Windsor, Ascot and Maidenhead CCG",7.7968196156222552E-2,9.8856242836055982E-3,{"$f":"VLOOKUP($A852,'8.Non-elective admissions - CCG'!$D$5:$N$215,3,0)*$H852","v":227.5111963838574},{"$f":"VLOOKUP($A852,'8.Non-elective admissions - CCG'!$D$5:$N$215,4,0)*$H852","v":232.57912913401188},{"$f":"VLOOKUP($A852,'8.Non-elective admissions - CCG'!$D$5:$N$215,5,0)*$H852","v":249.49822769991218},{"$f":"VLOOKUP($A852,'8.Non-elective admissions - CCG'!$D$5:$N$215,6,0)*$H852","v":245.13200871516369},{"$f":"VLOOKUP($A852,'8.Non-elective admissions - CCG'!$D$5:$N$215,7,0)*$H852","v":210.98193879873821},{"$f":"VLOOKUP($A852,'8.Non-elective admissions - CCG'!$D$5:$N$215,8,0)*$H852","v":214.49050762576823},{"$f":"VLOOKUP($A852,'8.Non-elective admissions - CCG'!$D$5:$N$215,9,0)*$H852","v":230.24008324932521},{"$f":"VLOOKUP($A852,'8.Non-elective admissions - CCG'!$D$5:$N$215,10,0)*$H852","v":218.77875841436048},{"$f":"VLOOKUP($A852,'8.Non-elective admissions - CCG'!$D$5:$Q$215,11,0)*$H852","v":214.17863484114335},{"$f":"VLOOKUP($A852,'8.Non-elective admissions - CCG'!$D$5:$Q$215,12,0)*$H852","v":217.99907645279825},{"$f":"VLOOKUP($A852,'8.Non-elective admissions - CCG'!$D$5:$Q$215,13,0)*$H852","v":233.90458846866767},{"$f":"VLOOKUP($A852,'8.Non-elective admissions - CCG'!$D$5:$Q$215,14,0)*$H852","v":222.2873272413905}]
["11C","NHS Windsor, Ascot and Maidenhead CCG","E06000040","Windsor and Maidenhead",{"$f":"COUNTIF($D$5:D853,D853)","v":6},"Windsor and Maidenhead6","NHS Windsor, Ascot and Maidenhead CCG",0.86775064225553633,0.85643217983528797,{"$f":"VLOOKUP($A853,'8.Non-elective admissions - CCG'!$D$5:$N$215,3,0)*$H853","v":2532.0963741016549},{"$f":"VLOOKUP($A853,'8.Non-elective admissions - CCG'!$D$5:$N$215,4,0)*$H853","v":2588.5001658482647},{"$f":"VLOOKUP($A853,'8.Non-elective admissions - CCG'!$D$5:$N$215,5,0)*$H853","v":2776.8020552177163},{"$f":"VLOOKUP($A853,'8.Non-elective admissions - CCG'!$D$5:$N$215,6,0)*$H853","v":2728.2080192514063},{"$f":"VLOOKUP($A853,'8.Non-elective admissions - CCG'!$D$5:$N$215,7,0)*$H853","v":2348.1332379434812},{"$f":"VLOOKUP($A853,'8.Non-elective admissions - CCG'!$D$5:$N$215,8,0)*$H853","v":2387.1820168449804},{"$f":"VLOOKUP($A853,'8.Non-elective admissions - CCG'!$D$5:$N$215,9,0)*$H853","v":2562.4676465805987},{"$f":"VLOOKUP($A853,'8.Non-elective admissions - CCG'!$D$5:$N$215,10,0)*$H853","v":2434.9083021690349},{"$f":"VLOOKUP($A853,'8.Non-elective admissions - CCG'!$D$5:$Q$215,11,0)*$H853","v":2383.7110142759584},{"$f":"VLOOKUP($A853,'8.Non-elective admissions - CCG'!$D$5:$Q$215,12,0)*$H853","v":2426.2307957464795},{"$f":"VLOOKUP($A853,'8.Non-elective admissions - CCG'!$D$5:$Q$215,13,0)*$H853","v":2603.2519267666089},{"$f":"VLOOKUP($A853,'8.Non-elective admissions - CCG'!$D$5:$Q$215,14,0)*$H853","v":2473.9570810705341}]
["12F","NHS Wirral CCG","E06000050","Cheshire West and Chester",{"$f":"COUNTIF($D$5:D854,D854)","v":7},"Cheshire West and Chester7","NHS Wirral CCG",2.2932953421758951E-3,2.1854198412061912E-3,{"$f":"VLOOKUP($A854,'8.Non-elective admissions - CCG'!$D$5:$N$215,3,0)*$H854","v":26.177966330937842},{"$f":"VLOOKUP($A854,'8.Non-elective admissions - CCG'!$D$5:$N$215,4,0)*$H854","v":25.499150909653778},{"$f":"VLOOKUP($A854,'8.Non-elective admissions - CCG'!$D$5:$N$215,5,0)*$H854","v":27.714474210195693},{"$f":"VLOOKUP($A854,'8.Non-elective admissions - CCG'!$D$5:$N$215,6,0)*$H854","v":26.730650508402235},{"$f":"VLOOKUP($A854,'8.Non-elective admissions - CCG'!$D$5:$N$215,7,0)*$H854","v":25.421178868019798},{"$f":"VLOOKUP($A854,'8.Non-elective admissions - CCG'!$D$5:$N$215,8,0)*$H854","v":25.696374309080905},{"$f":"VLOOKUP($A854,'8.Non-elective admissions - CCG'!$D$5:$N$215,9,0)*$H854","v":25.6872011277122},{"$f":"VLOOKUP($A854,'8.Non-elective admissions - CCG'!$D$5:$N$215,10,0)*$H854","v":25.116170587510403},{"$f":"VLOOKUP($A854,'8.Non-elective admissions - CCG'!$D$5:$Q$215,11,0)*$H854","v":23.217322044188762},{"$f":"VLOOKUP($A854,'8.Non-elective admissions - CCG'!$D$5:$Q$215,12,0)*$H854","v":23.464997941143761},{"$f":"VLOOKUP($A854,'8.Non-elective admissions - CCG'!$D$5:$Q$215,13,0)*$H854","v":23.462704645801583},{"$f":"VLOOKUP($A854,'8.Non-elective admissions - CCG'!$D$5:$Q$215,14,0)*$H854","v":23.198975681451355}]
["12F","NHS Wirral CCG","E08000015","Wirral",{"$f":"COUNTIF($D$5:D855,D855)","v":2},"Wirral2","NHS Wirral CCG",0.99770670465782407,0.99717920603211307,{"$f":"VLOOKUP($A855,'8.Non-elective admissions - CCG'!$D$5:$N$215,3,0)*$H855","v":11388.822033669061},{"$f":"VLOOKUP($A855,'8.Non-elective admissions - CCG'!$D$5:$N$215,4,0)*$H855","v":11093.500849090346},{"$f":"VLOOKUP($A855,'8.Non-elective admissions - CCG'!$D$5:$N$215,5,0)*$H855","v":12057.285525789805},{"$f":"VLOOKUP($A855,'8.Non-elective admissions - CCG'!$D$5:$N$215,6,0)*$H855","v":11629.269349491597},{"$f":"VLOOKUP($A855,'8.Non-elective admissions - CCG'!$D$5:$N$215,7,0)*$H855","v":11059.57882113198},{"$f":"VLOOKUP($A855,'8.Non-elective admissions - CCG'!$D$5:$N$215,8,0)*$H855","v":11179.303625690918},{"$f":"VLOOKUP($A855,'8.Non-elective admissions - CCG'!$D$5:$N$215,9,0)*$H855","v":11175.312798872288},{"$f":"VLOOKUP($A855,'8.Non-elective admissions - CCG'!$D$5:$N$215,10,0)*$H855","v":10926.883829412489},{"$f":"VLOOKUP($A855,'8.Non-elective admissions - CCG'!$D$5:$Q$215,11,0)*$H855","v":10100.782677955811},{"$f":"VLOOKUP($A855,'8.Non-elective admissions - CCG'!$D$5:$Q$215,12,0)*$H855","v":10208.535002058856},{"$f":"VLOOKUP($A855,'8.Non-elective admissions - CCG'!$D$5:$Q$215,13,0)*$H855","v":10207.537295354197},{"$f":"VLOOKUP($A855,'8.Non-elective admissions - CCG'!$D$5:$Q$215,14,0)*$H855","v":10092.801024318549}]
["11D","NHS Wokingham CCG","E06000036","Bracknell Forest",{"$f":"COUNTIF($D$5:D856,D856)","v":5},"Bracknell Forest5","NHS Wokingham CCG",1.2840785688429959E-2,1.693197899831685E-2,{"$f":"VLOOKUP($A856,'8.Non-elective admissions - CCG'!$D$5:$N$215,3,0)*$H856","v":28.480862656937649},{"$f":"VLOOKUP($A856,'8.Non-elective admissions - CCG'!$D$5:$N$215,4,0)*$H856","v":28.622111299510379},{"$f":"VLOOKUP($A856,'8.Non-elective admissions - CCG'!$D$5:$N$215,5,0)*$H856","v":30.676637009659174},{"$f":"VLOOKUP($A856,'8.Non-elective admissions - CCG'!$D$5:$N$215,6,0)*$H856","v":30.150164796433543},{"$f":"VLOOKUP($A856,'8.Non-elective admissions - CCG'!$D$5:$N$215,7,0)*$H856","v":29.135742727047578},{"$f":"VLOOKUP($A856,'8.Non-elective admissions - CCG'!$D$5:$N$215,8,0)*$H856","v":28.288250871611201},{"$f":"VLOOKUP($A856,'8.Non-elective admissions - CCG'!$D$5:$N$215,9,0)*$H856","v":29.572329440454197},{"$f":"VLOOKUP($A856,'8.Non-elective admissions - CCG'!$D$5:$N$215,10,0)*$H856","v":27.620530015812843},{"$f":"VLOOKUP($A856,'8.Non-elective admissions - CCG'!$D$5:$Q$215,11,0)*$H856","v":28.532225799691368},{"$f":"VLOOKUP($A856,'8.Non-elective admissions - CCG'!$D$5:$Q$215,12,0)*$H856","v":28.26256930023434},{"$f":"VLOOKUP($A856,'8.Non-elective admissions - CCG'!$D$5:$Q$215,13,0)*$H856","v":29.508125512012047},{"$f":"VLOOKUP($A856,'8.Non-elective admissions - CCG'!$D$5:$Q$215,14,0)*$H856","v":28.159843014726899}]
["11D","NHS Wokingham CCG","E10000014","Hampshire",{"$f":"COUNTIF($D$5:D857,D857)","v":16},"Hampshire16","NHS Wokingham CCG",5.9123498891831307E-3,0,{"$f":"VLOOKUP($A857,'8.Non-elective admissions - CCG'!$D$5:$N$215,3,0)*$H857","v":13.113592054208183},{"$f":"VLOOKUP($A857,'8.Non-elective admissions - CCG'!$D$5:$N$215,4,0)*$H857","v":13.178627902989199},{"$f":"VLOOKUP($A857,'8.Non-elective admissions - CCG'!$D$5:$N$215,5,0)*$H857","v":14.1246038852585},{"$f":"VLOOKUP($A857,'8.Non-elective admissions - CCG'!$D$5:$N$215,6,0)*$H857","v":13.882197539801991},{"$f":"VLOOKUP($A857,'8.Non-elective admissions - CCG'!$D$5:$N$215,7,0)*$H857","v":13.415121898556524},{"$f":"VLOOKUP($A857,'8.Non-elective admissions - CCG'!$D$5:$N$215,8,0)*$H857","v":13.024906805870437},{"$f":"VLOOKUP($A857,'8.Non-elective admissions - CCG'!$D$5:$N$215,9,0)*$H857","v":13.616141794788749},{"$f":"VLOOKUP($A857,'8.Non-elective admissions - CCG'!$D$5:$N$215,10,0)*$H857","v":12.717464611632915},{"$f":"VLOOKUP($A857,'8.Non-elective admissions - CCG'!$D$5:$Q$215,11,0)*$H857","v":13.137241453764917},{"$f":"VLOOKUP($A857,'8.Non-elective admissions - CCG'!$D$5:$Q$215,12,0)*$H857","v":13.013082106092071},{"$f":"VLOOKUP($A857,'8.Non-elective admissions - CCG'!$D$5:$Q$215,13,0)*$H857","v":13.586580045342835},{"$f":"VLOOKUP($A857,'8.Non-elective admissions - CCG'!$D$5:$Q$215,14,0)*$H857","v":12.965783306978606}]
["11D","NHS Wokingham CCG","E06000038","Reading",{"$f":"COUNTIF($D$5:D858,D858)","v":4},"Reading4","NHS Wokingham CCG",3.1225590123644956E-2,2.7401306257105278E-2,{"$f":"VLOOKUP($A858,'8.Non-elective admissions - CCG'!$D$5:$N$215,3,0)*$H858","v":69.258358894244509},{"$f":"VLOOKUP($A858,'8.Non-elective admissions - CCG'!$D$5:$N$215,4,0)*$H858","v":69.601840385604604},{"$f":"VLOOKUP($A858,'8.Non-elective admissions - CCG'!$D$5:$N$215,5,0)*$H858","v":74.597934805387794},{"$f":"VLOOKUP($A858,'8.Non-elective admissions - CCG'!$D$5:$N$215,6,0)*$H858","v":73.317685610318364},{"$f":"VLOOKUP($A858,'8.Non-elective admissions - CCG'!$D$5:$N$215,7,0)*$H858","v":70.850863990550408},{"$f":"VLOOKUP($A858,'8.Non-elective admissions - CCG'!$D$5:$N$215,8,0)*$H858","v":68.789975042389841},{"$f":"VLOOKUP($A858,'8.Non-elective admissions - CCG'!$D$5:$N$215,9,0)*$H858","v":71.912534054754332},{"$f":"VLOOKUP($A858,'8.Non-elective admissions - CCG'!$D$5:$N$215,10,0)*$H858","v":67.166244355960302},{"$f":"VLOOKUP($A858,'8.Non-elective admissions - CCG'!$D$5:$Q$215,11,0)*$H858","v":69.383261254739097},{"$f":"VLOOKUP($A858,'8.Non-elective admissions - CCG'!$D$5:$Q$215,12,0)*$H858","v":68.727523862142547},{"$f":"VLOOKUP($A858,'8.Non-elective admissions - CCG'!$D$5:$Q$215,13,0)*$H858","v":71.756406104136104},{"$f":"VLOOKUP($A858,'8.Non-elective admissions - CCG'!$D$5:$Q$215,14,0)*$H858","v":68.477719141153386}]
["11D","NHS Wokingham CCG","E06000037","West Berkshire",{"$f":"COUNTIF($D$5:D859,D859)","v":7},"West Berkshire7","NHS Wokingham CCG",1.4161697371512763E-3,1.3657018972845192E-3,{"$f":"VLOOKUP($A859,'8.Non-elective admissions - CCG'!$D$5:$N$215,3,0)*$H859","v":3.1410644770015308},{"$f":"VLOOKUP($A859,'8.Non-elective admissions - CCG'!$D$5:$N$215,4,0)*$H859","v":3.1566423441101947},{"$f":"VLOOKUP($A859,'8.Non-elective admissions - CCG'!$D$5:$N$215,5,0)*$H859","v":3.383229502054399},{"$f":"VLOOKUP($A859,'8.Non-elective admissions - CCG'!$D$5:$N$215,6,0)*$H859","v":3.3251665428311967},{"$f":"VLOOKUP($A859,'8.Non-elective admissions - CCG'!$D$5:$N$215,7,0)*$H859","v":3.2132891335962461},{"$f":"VLOOKUP($A859,'8.Non-elective admissions - CCG'!$D$5:$N$215,8,0)*$H859","v":3.1198219309442616},{"$f":"VLOOKUP($A859,'8.Non-elective admissions - CCG'!$D$5:$N$215,9,0)*$H859","v":3.2614389046593892},{"$f":"VLOOKUP($A859,'8.Non-elective admissions - CCG'!$D$5:$N$215,10,0)*$H859","v":3.0461811046123954},{"$f":"VLOOKUP($A859,'8.Non-elective admissions - CCG'!$D$5:$Q$215,11,0)*$H859","v":3.146729155950136},{"$f":"VLOOKUP($A859,'8.Non-elective admissions - CCG'!$D$5:$Q$215,12,0)*$H859","v":3.116989591469959},{"$f":"VLOOKUP($A859,'8.Non-elective admissions - CCG'!$D$5:$Q$215,13,0)*$H859","v":3.2543580559736331},{"$f":"VLOOKUP($A859,'8.Non-elective admissions - CCG'!$D$5:$Q$215,14,0)*$H859","v":3.105660233572749}]
["11D","NHS Wokingham CCG","E06000040","Windsor and Maidenhead",{"$f":"COUNTIF($D$5:D860,D860)","v":7},"Windsor and Maidenhead7","NHS Wokingham CCG",1.27010738757962E-2,1.2838041685121353E-2,{"$f":"VLOOKUP($A860,'8.Non-elective admissions - CCG'!$D$5:$N$215,3,0)*$H860","v":28.170981856515972},{"$f":"VLOOKUP($A860,'8.Non-elective admissions - CCG'!$D$5:$N$215,4,0)*$H860","v":28.310693669149728},{"$f":"VLOOKUP($A860,'8.Non-elective admissions - CCG'!$D$5:$N$215,5,0)*$H860","v":30.34286548927712},{"$f":"VLOOKUP($A860,'8.Non-elective admissions - CCG'!$D$5:$N$215,6,0)*$H860","v":29.822121460369477},{"$f":"VLOOKUP($A860,'8.Non-elective admissions - CCG'!$D$5:$N$215,7,0)*$H860","v":28.818736624181579},{"$f":"VLOOKUP($A860,'8.Non-elective admissions - CCG'!$D$5:$N$215,8,0)*$H860","v":27.980465748379029},{"$f":"VLOOKUP($A860,'8.Non-elective admissions - CCG'!$D$5:$N$215,9,0)*$H860","v":29.250573135958646},{"$f":"VLOOKUP($A860,'8.Non-elective admissions - CCG'!$D$5:$N$215,10,0)*$H860","v":27.320009906837626},{"$f":"VLOOKUP($A860,'8.Non-elective admissions - CCG'!$D$5:$Q$215,11,0)*$H860","v":28.221786152019156},{"$f":"VLOOKUP($A860,'8.Non-elective admissions - CCG'!$D$5:$Q$215,12,0)*$H860","v":27.955063600627437},{"$f":"VLOOKUP($A860,'8.Non-elective admissions - CCG'!$D$5:$Q$215,13,0)*$H860","v":29.187067766579666},{"$f":"VLOOKUP($A860,'8.Non-elective admissions - CCG'!$D$5:$Q$215,14,0)*$H860","v":27.853455009621065}]
["11D","NHS Wokingham CCG","E06000041","Wokingham",{"$f":"COUNTIF($D$5:D861,D861)","v":5},"Wokingham5","NHS Wokingham CCG",0.93590403068579453,0.88273804888859608,{"$f":"VLOOKUP($A861,'8.Non-elective admissions - CCG'!$D$5:$N$215,3,0)*$H861","v":2075.8351400610923},{"$f":"VLOOKUP($A861,'8.Non-elective admissions - CCG'!$D$5:$N$215,4,0)*$H861","v":2086.130084398636},{"$f":"VLOOKUP($A861,'8.Non-elective admissions - CCG'!$D$5:$N$215,5,0)*$H861","v":2235.8747293083629},{"$f":"VLOOKUP($A861,'8.Non-elective admissions - CCG'!$D$5:$N$215,6,0)*$H861","v":2197.5026640502456},{"$f":"VLOOKUP($A861,'8.Non-elective admissions - CCG'!$D$5:$N$215,7,0)*$H861","v":2123.5662456260679},{"$f":"VLOOKUP($A861,'8.Non-elective admissions - CCG'!$D$5:$N$215,8,0)*$H861","v":2061.7965796008052},{"$f":"VLOOKUP($A861,'8.Non-elective admissions - CCG'!$D$5:$N$215,9,0)*$H861","v":2155.3869826693849},{"$f":"VLOOKUP($A861,'8.Non-elective admissions - CCG'!$D$5:$N$215,10,0)*$H861","v":2013.1295700051439},{"$f":"VLOOKUP($A861,'8.Non-elective admissions - CCG'!$D$5:$Q$215,11,0)*$H861","v":2079.5787561838356},{"$f":"VLOOKUP($A861,'8.Non-elective admissions - CCG'!$D$5:$Q$215,12,0)*$H861","v":2059.9247715394336},{"$f":"VLOOKUP($A861,'8.Non-elective admissions - CCG'!$D$5:$Q$215,13,0)*$H861","v":2150.7074625159557},{"$f":"VLOOKUP($A861,'8.Non-elective admissions - CCG'!$D$5:$Q$215,14,0)*$H861","v":2052.4375392939473}]
["06A","NHS Wolverhampton CCG","E08000027","Dudley",{"$f":"COUNTIF($D$5:D862,D862)","v":4},"Dudley4","NHS Wolverhampton CCG",1.7728432815667657E-2,1.4527399779330636E-2,{"$f":"VLOOKUP($A862,'8.Non-elective admissions - CCG'!$D$5:$N$215,3,0)*$H862","v":129.34664582311123},{"$f":"VLOOKUP($A862,'8.Non-elective admissions - CCG'!$D$5:$N$215,4,0)*$H862","v":122.27300112965983},{"$f":"VLOOKUP($A862,'8.Non-elective admissions - CCG'!$D$5:$N$215,5,0)*$H862","v":128.38931045106517},{"$f":"VLOOKUP($A862,'8.Non-elective admissions - CCG'!$D$5:$N$215,6,0)*$H862","v":124.55996896288096},{"$f":"VLOOKUP($A862,'8.Non-elective admissions - CCG'!$D$5:$N$215,7,0)*$H862","v":136.91668663540131},{"$f":"VLOOKUP($A862,'8.Non-elective admissions - CCG'!$D$5:$N$215,8,0)*$H862","v":130.19761059826328},{"$f":"VLOOKUP($A862,'8.Non-elective admissions - CCG'!$D$5:$N$215,9,0)*$H862","v":135.99480812898659},{"$f":"VLOOKUP($A862,'8.Non-elective admissions - CCG'!$D$5:$N$215,10,0)*$H862","v":141.98701842068226},{"$f":"VLOOKUP($A862,'8.Non-elective admissions - CCG'!$D$5:$Q$215,11,0)*$H862","v":134.45243447402351},{"$f":"VLOOKUP($A862,'8.Non-elective admissions - CCG'!$D$5:$Q$215,12,0)*$H862","v":127.87518589941081},{"$f":"VLOOKUP($A862,'8.Non-elective admissions - CCG'!$D$5:$Q$215,13,0)*$H862","v":133.56601283324014},{"$f":"VLOOKUP($A862,'8.Non-elective admissions - CCG'!$D$5:$Q$215,14,0)*$H862","v":139.48730939367312}]
["06A","NHS Wolverhampton CCG","E08000028","Sandwell",{"$f":"COUNTIF($D$5:D863,D863)","v":6},"Sandwell6","NHS Wolverhampton CCG",3.1607654301265445E-3,2.4859919885841819E-3,{"$f":"VLOOKUP($A863,'8.Non-elective admissions - CCG'!$D$5:$N$215,3,0)*$H863","v":23.060944578203269},{"$f":"VLOOKUP($A863,'8.Non-elective admissions - CCG'!$D$5:$N$215,4,0)*$H863","v":21.799799171582777},{"$f":"VLOOKUP($A863,'8.Non-elective admissions - CCG'!$D$5:$N$215,5,0)*$H863","v":22.890263244976435},{"$f":"VLOOKUP($A863,'8.Non-elective admissions - CCG'!$D$5:$N$215,6,0)*$H863","v":22.2075379120691},{"$f":"VLOOKUP($A863,'8.Non-elective admissions - CCG'!$D$5:$N$215,7,0)*$H863","v":24.410591416867302},{"$f":"VLOOKUP($A863,'8.Non-elective admissions - CCG'!$D$5:$N$215,8,0)*$H863","v":23.212661318849342},{"$f":"VLOOKUP($A863,'8.Non-elective admissions - CCG'!$D$5:$N$215,9,0)*$H863","v":24.246231614500722},{"$f":"VLOOKUP($A863,'8.Non-elective admissions - CCG'!$D$5:$N$215,10,0)*$H863","v":25.314570329883495},{"$f":"VLOOKUP($A863,'8.Non-elective admissions - CCG'!$D$5:$Q$215,11,0)*$H863","v":23.971245022079714},{"$f":"VLOOKUP($A863,'8.Non-elective admissions - CCG'!$D$5:$Q$215,12,0)*$H863","v":22.798601047502764},{"$f":"VLOOKUP($A863,'8.Non-elective admissions - CCG'!$D$5:$Q$215,13,0)*$H863","v":23.813206750573386},{"$f":"VLOOKUP($A863,'8.Non-elective admissions - CCG'!$D$5:$Q$215,14,0)*$H863","v":24.868902404235651}]
["06A","NHS Wolverhampton CCG","E10000028","Staffordshire",{"$f":"COUNTIF($D$5:D864,D864)","v":17},"Staffordshire17","NHS Wolverhampton CCG",2.9207602572733735E-2,8.8297657047714546E-3,{"$f":"VLOOKUP($A864,'8.Non-elective admissions - CCG'!$D$5:$N$215,3,0)*$H864","v":213.09866837066534},{"$f":"VLOOKUP($A864,'8.Non-elective admissions - CCG'!$D$5:$N$215,4,0)*$H864","v":201.44483494414456},{"$f":"VLOOKUP($A864,'8.Non-elective admissions - CCG'!$D$5:$N$215,5,0)*$H864","v":211.52145783173771},{"$f":"VLOOKUP($A864,'8.Non-elective admissions - CCG'!$D$5:$N$215,6,0)*$H864","v":205.21261567602721},{"$f":"VLOOKUP($A864,'8.Non-elective admissions - CCG'!$D$5:$N$215,7,0)*$H864","v":225.57031466922263},{"$f":"VLOOKUP($A864,'8.Non-elective admissions - CCG'!$D$5:$N$215,8,0)*$H864","v":214.50063329415656},{"$f":"VLOOKUP($A864,'8.Non-elective admissions - CCG'!$D$5:$N$215,9,0)*$H864","v":224.05151933544047},{"$f":"VLOOKUP($A864,'8.Non-elective admissions - CCG'!$D$5:$N$215,10,0)*$H864","v":233.92368900502447},{"$f":"VLOOKUP($A864,'8.Non-elective admissions - CCG'!$D$5:$Q$215,11,0)*$H864","v":221.51045791161263},{"$f":"VLOOKUP($A864,'8.Non-elective admissions - CCG'!$D$5:$Q$215,12,0)*$H864","v":210.67443735712843},{"$f":"VLOOKUP($A864,'8.Non-elective admissions - CCG'!$D$5:$Q$215,13,0)*$H864","v":220.05007778297596},{"$f":"VLOOKUP($A864,'8.Non-elective admissions - CCG'!$D$5:$Q$215,14,0)*$H864","v":229.80541704226903}]
["06A","NHS Wolverhampton CCG","E08000030","Walsall",{"$f":"COUNTIF($D$5:D865,D865)","v":5},"Walsall5","NHS Wolverhampton CCG",1.2749561638729456E-2,1.2023559289203907E-2,{"$f":"VLOOKUP($A865,'8.Non-elective admissions - CCG'!$D$5:$N$215,3,0)*$H865","v":93.020801716170112},{"$f":"VLOOKUP($A865,'8.Non-elective admissions - CCG'!$D$5:$N$215,4,0)*$H865","v":87.933726622317053},{"$f":"VLOOKUP($A865,'8.Non-elective admissions - CCG'!$D$5:$N$215,5,0)*$H865","v":92.332325387678722},{"$f":"VLOOKUP($A865,'8.Non-elective admissions - CCG'!$D$5:$N$215,6,0)*$H865","v":89.578420073713161},{"$f":"VLOOKUP($A865,'8.Non-elective admissions - CCG'!$D$5:$N$215,7,0)*$H865","v":98.464864535907594},{"$f":"VLOOKUP($A865,'8.Non-elective admissions - CCG'!$D$5:$N$215,8,0)*$H865","v":93.632780674829121},{"$f":"VLOOKUP($A865,'8.Non-elective admissions - CCG'!$D$5:$N$215,9,0)*$H865","v":97.80188733069366},{"$f":"VLOOKUP($A865,'8.Non-elective admissions - CCG'!$D$5:$N$215,10,0)*$H865","v":102.11123916458422},{"$f":"VLOOKUP($A865,'8.Non-elective admissions - CCG'!$D$5:$Q$215,11,0)*$H865","v":96.692675468124193},{"$f":"VLOOKUP($A865,'8.Non-elective admissions - CCG'!$D$5:$Q$215,12,0)*$H865","v":91.962588100155571},{"$f":"VLOOKUP($A865,'8.Non-elective admissions - CCG'!$D$5:$Q$215,13,0)*$H865","v":96.055197386187729},{"$f":"VLOOKUP($A865,'8.Non-elective admissions - CCG'!$D$5:$Q$215,14,0)*$H865","v":100.31355097352336}]
["06A","NHS Wolverhampton CCG","E08000031","Wolverhampton",{"$f":"COUNTIF($D$5:D866,D866)","v":5},"Wolverhampton5","NHS Wolverhampton CCG",0.9371536375427425,0.92634729188128329,{"$f":"VLOOKUP($A866,'8.Non-elective admissions - CCG'!$D$5:$N$215,3,0)*$H866","v":6837.4729395118493},{"$f":"VLOOKUP($A866,'8.Non-elective admissions - CCG'!$D$5:$N$215,4,0)*$H866","v":6463.5486381322953},{"$f":"VLOOKUP($A866,'8.Non-elective admissions - CCG'!$D$5:$N$215,5,0)*$H866","v":6786.8666430845415},{"$f":"VLOOKUP($A866,'8.Non-elective admissions - CCG'!$D$5:$N$215,6,0)*$H866","v":6584.4414573753093},{"$f":"VLOOKUP($A866,'8.Non-elective admissions - CCG'!$D$5:$N$215,7,0)*$H866","v":7237.6375427426001},{"$f":"VLOOKUP($A866,'8.Non-elective admissions - CCG'!$D$5:$N$215,8,0)*$H866","v":6882.4563141139006},{"$f":"VLOOKUP($A866,'8.Non-elective admissions - CCG'!$D$5:$N$215,9,0)*$H866","v":7188.9055535903781},{"$f":"VLOOKUP($A866,'8.Non-elective admissions - CCG'!$D$5:$N$215,10,0)*$H866","v":7505.6634830798248},{"$f":"VLOOKUP($A866,'8.Non-elective admissions - CCG'!$D$5:$Q$215,11,0)*$H866","v":7107.3731871241589},{"$f":"VLOOKUP($A866,'8.Non-elective admissions - CCG'!$D$5:$Q$215,12,0)*$H866","v":6759.6891875958017},{"$f":"VLOOKUP($A866,'8.Non-elective admissions - CCG'!$D$5:$Q$215,13,0)*$H866","v":7060.5155052470218},{"$f":"VLOOKUP($A866,'8.Non-elective admissions - CCG'!$D$5:$Q$215,14,0)*$H866","v":7373.5248201862978}]
["06D","NHS Wyre Forest CCG","E08000027","Dudley",{"$f":"COUNTIF($D$5:D867,D867)","v":5},"Dudley5","NHS Wyre Forest CCG",5.5420084238528046E-3,1.9479993267714326E-3,{"$f":"VLOOKUP($A867,'8.Non-elective admissions - CCG'!$D$5:$N$215,3,0)*$H867","v":11.649301706938596},{"$f":"VLOOKUP($A867,'8.Non-elective admissions - CCG'!$D$5:$N$215,4,0)*$H867","v":11.743515850144092},{"$f":"VLOOKUP($A867,'8.Non-elective admissions - CCG'!$D$5:$N$215,5,0)*$H867","v":12.702283307470628},{"$f":"VLOOKUP($A867,'8.Non-elective admissions - CCG'!$D$5:$N$215,6,0)*$H867","v":11.449789403679894},{"$f":"VLOOKUP($A867,'8.Non-elective admissions - CCG'!$D$5:$N$215,7,0)*$H867","v":11.682553757481712},{"$f":"VLOOKUP($A867,'8.Non-elective admissions - CCG'!$D$5:$N$215,8,0)*$H867","v":11.410995344712925},{"$f":"VLOOKUP($A867,'8.Non-elective admissions - CCG'!$D$5:$N$215,9,0)*$H867","v":12.253380625138551},{"$f":"VLOOKUP($A867,'8.Non-elective admissions - CCG'!$D$5:$N$215,10,0)*$H867","v":11.6603857237863},{"$f":"VLOOKUP($A867,'8.Non-elective admissions - CCG'!$D$5:$Q$215,11,0)*$H867","v":11.189315007758813},{"$f":"VLOOKUP($A867,'8.Non-elective admissions - CCG'!$D$5:$Q$215,12,0)*$H867","v":11.172688982487253},{"$f":"VLOOKUP($A867,'8.Non-elective admissions - CCG'!$D$5:$Q$215,13,0)*$H867","v":12.209044557747729},{"$f":"VLOOKUP($A867,'8.Non-elective admissions - CCG'!$D$5:$Q$215,14,0)*$H867","v":11.616049656395479}]
["06D","NHS Wyre Forest CCG","E06000051","Shropshire",{"$f":"COUNTIF($D$5:D868,D868)","v":9},"Shropshire9","NHS Wyre Forest CCG",7.0849035690534251E-3,2.6768783377222076E-3,{"$f":"VLOOKUP($A868,'8.Non-elective admissions - CCG'!$D$5:$N$215,3,0)*$H868","v":14.892467302150299},{"$f":"VLOOKUP($A868,'8.Non-elective admissions - CCG'!$D$5:$N$215,4,0)*$H868","v":15.012910662824208},{"$f":"VLOOKUP($A868,'8.Non-elective admissions - CCG'!$D$5:$N$215,5,0)*$H868","v":16.238598980270449},{"$f":"VLOOKUP($A868,'8.Non-elective admissions - CCG'!$D$5:$N$215,6,0)*$H868","v":14.637410773664376},{"$f":"VLOOKUP($A868,'8.Non-elective admissions - CCG'!$D$5:$N$215,7,0)*$H868","v":14.93497672356462},{"$f":"VLOOKUP($A868,'8.Non-elective admissions - CCG'!$D$5:$N$215,8,0)*$H868","v":14.587816448681002},{"$f":"VLOOKUP($A868,'8.Non-elective admissions - CCG'!$D$5:$N$215,9,0)*$H868","v":15.664721791177122},{"$f":"VLOOKUP($A868,'8.Non-elective admissions - CCG'!$D$5:$N$215,10,0)*$H868","v":14.906637109288406},{"$f":"VLOOKUP($A868,'8.Non-elective admissions - CCG'!$D$5:$Q$215,11,0)*$H868","v":14.304420305918866},{"$f":"VLOOKUP($A868,'8.Non-elective admissions - CCG'!$D$5:$Q$215,12,0)*$H868","v":14.283165595211704},{"$f":"VLOOKUP($A868,'8.Non-elective admissions - CCG'!$D$5:$Q$215,13,0)*$H868","v":15.608042562624695},{"$f":"VLOOKUP($A868,'8.Non-elective admissions - CCG'!$D$5:$Q$215,14,0)*$H868","v":14.849957880735978}]
["06D","NHS Wyre Forest CCG","E10000028","Staffordshire",{"$f":"COUNTIF($D$5:D869,D869)","v":18},"Staffordshire18","NHS Wyre Forest CCG",1.8177787630237199E-3,0,{"$f":"VLOOKUP($A869,'8.Non-elective admissions - CCG'!$D$5:$N$215,3,0)*$H869","v":3.8209709598758592},{"$f":"VLOOKUP($A869,'8.Non-elective admissions - CCG'!$D$5:$N$215,4,0)*$H869","v":3.8518731988472625},{"$f":"VLOOKUP($A869,'8.Non-elective admissions - CCG'!$D$5:$N$215,5,0)*$H869","v":4.1663489248503662},{"$f":"VLOOKUP($A869,'8.Non-elective admissions - CCG'!$D$5:$N$215,6,0)*$H869","v":3.7555309244070054},{"$f":"VLOOKUP($A869,'8.Non-elective admissions - CCG'!$D$5:$N$215,7,0)*$H869","v":3.8318776324540016},{"$f":"VLOOKUP($A869,'8.Non-elective admissions - CCG'!$D$5:$N$215,8,0)*$H869","v":3.7428064730658392},{"$f":"VLOOKUP($A869,'8.Non-elective admissions - CCG'!$D$5:$N$215,9,0)*$H869","v":4.0191088450454444},{"$f":"VLOOKUP($A869,'8.Non-elective admissions - CCG'!$D$5:$N$215,10,0)*$H869","v":3.8246065174019068},{"$f":"VLOOKUP($A869,'8.Non-elective admissions - CCG'!$D$5:$Q$215,11,0)*$H869","v":3.6700953225448902},{"$f":"VLOOKUP($A869,'8.Non-elective admissions - CCG'!$D$5:$Q$215,12,0)*$H869","v":3.6646419862558193},{"$f":"VLOOKUP($A869,'8.Non-elective admissions - CCG'!$D$5:$Q$215,13,0)*$H869","v":4.0045666149412549},{"$f":"VLOOKUP($A869,'8.Non-elective admissions - CCG'!$D$5:$Q$215,14,0)*$H869","v":3.8100642872977168}]
["06D","NHS Wyre Forest CCG","E10000034","Worcestershire",{"$f":"COUNTIF($D$5:D870,D870)","v":11},"Worcestershire11","NHS Wyre Forest CCG",0.98555530924407009,0.18850190289470647,{"$f":"VLOOKUP($A870,'8.Non-elective admissions - CCG'!$D$5:$N$215,3,0)*$H870","v":2071.6372600310351},{"$f":"VLOOKUP($A870,'8.Non-elective admissions - CCG'!$D$5:$N$215,4,0)*$H870","v":2088.3917002881844},{"$f":"VLOOKUP($A870,'8.Non-elective admissions - CCG'!$D$5:$N$215,5,0)*$H870","v":2258.8927687874088},{"$f":"VLOOKUP($A870,'8.Non-elective admissions - CCG'!$D$5:$N$215,6,0)*$H870","v":2036.1572688982487},{"$f":"VLOOKUP($A870,'8.Non-elective admissions - CCG'!$D$5:$N$215,7,0)*$H870","v":2077.5505918864997},{"$f":"VLOOKUP($A870,'8.Non-elective admissions - CCG'!$D$5:$N$215,8,0)*$H870","v":2029.2583817335403},{"$f":"VLOOKUP($A870,'8.Non-elective admissions - CCG'!$D$5:$N$215,9,0)*$H870","v":2179.062788738639},{"$f":"VLOOKUP($A870,'8.Non-elective admissions - CCG'!$D$5:$N$215,10,0)*$H870","v":2073.6083706495233},{"$f":"VLOOKUP($A870,'8.Non-elective admissions - CCG'!$D$5:$Q$215,11,0)*$H870","v":1989.8361693637776},{"$f":"VLOOKUP($A870,'8.Non-elective admissions - CCG'!$D$5:$Q$215,12,0)*$H870","v":1986.8795034360453},{"$f":"VLOOKUP($A870,'8.Non-elective admissions - CCG'!$D$5:$Q$215,13,0)*$H870","v":2171.1783462646863},{"$f":"VLOOKUP($A870,'8.Non-elective admissions - CCG'!$D$5:$Q$215,14,0)*$H870","v":2065.723928175571}]
[null,null,null,null,null,null,null,null,null,{"$f":"SUM(J5:J870)","v":1333470.9999999998},1322136.9999999986,1373818.0000000007,1364836.9999999974,1356745.5244463105,1357444.8625149054,1383126.0856959901,1361515.6817551129,1289364.2717483195,1289198.1695529195,1319624.2063894363,1301242.752725757]

{"sheet":"10.Non-elective admissions -HWB","index":16,"n_rows":158,"n_cols":17,"rows_kept":158,"cut":false,"hidden":true,"merged":[]}
["HWB activity mapped from CCG activity"]
[null,null,null,null,null,"HWB Planned Activity (Non-elective admissions*)"]
[null,null,null,null,null,"2013-14",null,null,null,"2014-15",null,null,null,"2015-16"]
["NHS Region","AT code","Area Team","Upper LA code","HWB name","Q1","Q2","Q3","Q4","Q1","Q2","Q3","Q4","Q1","Q2","Q3","Q4"]
["North","Q44","Cheshire, Warrington And Wirral ","E06000049","Cheshire East",{"$f":"SUMIF('9.Non-elective admissions - Map'!$C$5:$C$870,'10.Non-elective admissions -HWB'!$D5,'9.Non-elective admissions - Map'!J$5:J$870)","v":9080.1958542942084},{"$f":"SUMIF('9.Non-elective admissions - Map'!$C$5:$C$870,'10.Non-elective admissions -HWB'!$D5,'9.Non-elective admissions - Map'!K$5:K$870)","v":9045.3553125626713},{"$f":"SUMIF('9.Non-elective admissions - Map'!$C$5:$C$870,'10.Non-elective admissions -HWB'!$D5,'9.Non-elective admissions - Map'!L$5:L$870)","v":9334.6843830919388},{"$f":"SUMIF('9.Non-elective admissions - Map'!$C$5:$C$870,'10.Non-elective admissions -HWB'!$D5,'9.Non-elective admissions - Map'!M$5:M$870)","v":8938.7982826294137},{"$f":"SUMIF('9.Non-elective admissions - Map'!$C$5:$C$870,'10.Non-elective admissions -HWB'!$D5,'9.Non-elective admissions - Map'!N$5:N$870)","v":10488.469350547466},{"$f":"SUMIF('9.Non-elective admissions - Map'!$C$5:$C$870,'10.Non-elective admissions -HWB'!$D5,'9.Non-elective admissions - Map'!O$5:O$870)","v":10382.517908629667},{"$f":"SUMIF('9.Non-elective admissions - Map'!$C$5:$C$870,'10.Non-elective admissions -HWB'!$D5,'9.Non-elective admissions - Map'!P$5:P$870)","v":10832.003268075799},{"$f":"SUMIF('9.Non-elective admissions - Map'!$C$5:$C$870,'10.Non-elective admissions -HWB'!$D5,'9.Non-elective admissions - Map'!Q$5:Q$870)","v":10469.816102226296},{"$f":"SUMIF('9.Non-elective admissions - Map'!$C$5:$C$870,'10.Non-elective admissions -HWB'!$D5,'9.Non-elective admissions - Map'!R$5:R$870)","v":10158.478549910273},{"$f":"SUMIF('9.Non-elective admissions - Map'!$C$5:$C$870,'10.Non-elective admissions -HWB'!$D5,'9.Non-elective admissions - Map'!S$5:S$870)","v":10003.899827789304},{"$f":"SUMIF('9.Non-elective admissions - Map'!$C$5:$C$870,'10.Non-elective admissions -HWB'!$D5,'9.Non-elective admissions - Map'!T$5:T$870)","v":10420.412058399004},{"$f":"SUMIF('9.Non-elective admissions - Map'!$C$5:$C$870,'10.Non-elective admissions -HWB'!$D5,'9.Non-elective admissions - Map'!U$5:U$870)","v":10074.09765865052}]
["North","Q44","Cheshire, Warrington And Wirral ","E06000050","Cheshire West and Chester",{"$f":"SUMIF('9.Non-elective admissions - Map'!$C$5:$C$870,'10.Non-elective admissions -HWB'!$D6,'9.Non-elective admissions - Map'!J$5:J$870)","v":8136.9747616717541},{"$f":"SUMIF('9.Non-elective admissions - Map'!$C$5:$C$870,'10.Non-elective admissions -HWB'!$D6,'9.Non-elective admissions - Map'!K$5:K$870)","v":8242.3124330563369},{"$f":"SUMIF('9.Non-elective admissions - Map'!$C$5:$C$870,'10.Non-elective admissions -HWB'!$D6,'9.Non-elective admissions - Map'!L$5:L$870)","v":8468.737380735085},{"$f":"SUMIF('9.Non-elective admissions - Map'!$C$5:$C$870,'10.Non-elective admissions -HWB'!$D6,'9.Non-elective admissions - Map'!M$5:M$870)","v":8142.1955276237395},{"$f":"SUMIF('9.Non-elective admissions - Map'!$C$5:$C$870,'10.Non-elective admissions -HWB'!$D6,'9.Non-elective admissions - Map'!N$5:N$870)","v":8516.107194939259},{"$f":"SUMIF('9.Non-elective admissions - Map'!$C$5:$C$870,'10.Non-elective admissions -HWB'!$D6,'9.Non-elective admissions - Map'!O$5:O$870)","v":8604.6685748521759},{"$f":"SUMIF('9.Non-elective admissions - Map'!$C$5:$C$870,'10.Non-elective admissions -HWB'!$D6,'9.Non-elective admissions - Map'!P$5:P$870)","v":8762.5526037129621},{"$f":"SUMIF('9.Non-elective admissions - Map'!$C$5:$C$870,'10.Non-elective admissions -HWB'!$D6,'9.Non-elective admissions - Map'!Q$5:Q$870)","v":8307.5413884983736},{"$f":"SUMIF('9.Non-elective admissions - Map'!$C$5:$C$870,'10.Non-elective admissions -HWB'!$D6,'9.Non-elective admissions - Map'!R$5:R$870)","v":8241.5313980930605},{"$f":"SUMIF('9.Non-elective admissions - Map'!$C$5:$C$870,'10.Non-elective admissions -HWB'!$D6,'9.Non-elective admissions - Map'!S$5:S$870)","v":8316.9214303835834},{"$f":"SUMIF('9.Non-elective admissions - Map'!$C$5:$C$870,'10.Non-elective admissions -HWB'!$D6,'9.Non-elective admissions - Map'!T$5:T$870)","v":8479.53419785195},{"$f":"SUMIF('9.Non-elective admissions - Map'!$C$5:$C$870,'10.Non-elective admissions -HWB'!$D6,'9.Non-elective admissions - Map'!U$5:U$870)","v":8029.6407166358167}]
["North","Q44","Cheshire, Warrington And Wirral ","E06000007","Warrington",{"$f":"SUMIF('9.Non-elective admissions - Map'!$C$5:$C$870,'10.Non-elective admissions -HWB'!$D7,'9.Non-elective admissions - Map'!J$5:J$870)","v":5969.945023616855},{"$f":"SUMIF('9.Non-elective admissions - Map'!$C$5:$C$870,'10.Non-elective admissions -HWB'!$D7,'9.Non-elective admissions - Map'!K$5:K$870)","v":5896.4670498648493},{"$f":"SUMIF('9.Non-elective admissions - Map'!$C$5:$C$870,'10.Non-elective admissions -HWB'!$D7,'9.Non-elective admissions - Map'!L$5:L$870)","v":5986.4765120323455},{"$f":"SUMIF('9.Non-elective admissions - Map'!$C$5:$C$870,'10.Non-elective admissions -HWB'!$D7,'9.Non-elective admissions - Map'!M$5:M$870)","v":5941.2847950039395},{"$f":"SUMIF('9.Non-elective admissions - Map'!$C$5:$C$870,'10.Non-elective admissions -HWB'!$D7,'9.Non-elective admissions - Map'!N$5:N$870)","v":5634.1760519702357},{"$f":"SUMIF('9.Non-elective admissions - Map'!$C$5:$C$870,'10.Non-elective admissions -HWB'!$D7,'9.Non-elective admissions - Map'!O$5:O$870)","v":5848.1195493007117},{"$f":"SUMIF('9.Non-elective admissions - Map'!$C$5:$C$870,'10.Non-elective admissions -HWB'!$D7,'9.Non-elective admissions - Map'!P$5:P$870)","v":5910.6917805364947},{"$f":"SUMIF('9.Non-elective admissions - Map'!$C$5:$C$870,'10.Non-elective admissions -HWB'!$D7,'9.Non-elective admissions - Map'!Q$5:Q$870)","v":5871.3917131785565},{"$f":"SUMIF('9.Non-elective admissions - Map'!$C$5:$C$870,'10.Non-elective admissions -HWB'!$D7,'9.Non-elective admissions - Map'!R$5:R$870)","v":5466.6320190600909},{"$f":"SUMIF('9.Non-elective admissions - Map'!$C$5:$C$870,'10.Non-elective admissions -HWB'!$D7,'9.Non-elective admissions - Map'!S$5:S$870)","v":5673.6514923170607},{"$f":"SUMIF('9.Non-elective admissions - Map'!$C$5:$C$870,'10.Non-elective admissions -HWB'!$D7,'9.Non-elective admissions - Map'!T$5:T$870)","v":5733.4315171988073},{"$f":"SUMIF('9.Non-elective admissions - Map'!$C$5:$C$870,'10.Non-elective admissions -HWB'!$D7,'9.Non-elective admissions - Map'!U$5:U$870)","v":5697.2382134412865}]
["North","Q44","Cheshire, Warrington And Wirral ","E08000015","Wirral",{"$f":"SUMIF('9.Non-elective admissions - Map'!$C$5:$C$870,'10.Non-elective admissions -HWB'!$D8,'9.Non-elective admissions - Map'!J$5:J$870)","v":11411.76917812863},{"$f":"SUMIF('9.Non-elective admissions - Map'!$C$5:$C$870,'10.Non-elective admissions -HWB'!$D8,'9.Non-elective admissions - Map'!K$5:K$870)","v":11116.579184346399},{"$f":"SUMIF('9.Non-elective admissions - Map'!$C$5:$C$870,'10.Non-elective admissions -HWB'!$D8,'9.Non-elective admissions - Map'!L$5:L$870)","v":12081.001073485932},{"$f":"SUMIF('9.Non-elective admissions - Map'!$C$5:$C$870,'10.Non-elective admissions -HWB'!$D8,'9.Non-elective admissions - Map'!M$5:M$870)","v":11651.796683402412},{"$f":"SUMIF('9.Non-elective admissions - Map'!$C$5:$C$870,'10.Non-elective admissions -HWB'!$D8,'9.Non-elective admissions - Map'!N$5:N$870)","v":11081.225302552106},{"$f":"SUMIF('9.Non-elective admissions - Map'!$C$5:$C$870,'10.Non-elective admissions -HWB'!$D8,'9.Non-elective admissions - Map'!O$5:O$870)","v":11201.066304673646},{"$f":"SUMIF('9.Non-elective admissions - Map'!$C$5:$C$870,'10.Non-elective admissions -HWB'!$D8,'9.Non-elective admissions - Map'!P$5:P$870)","v":11196.98177014324},{"$f":"SUMIF('9.Non-elective admissions - Map'!$C$5:$C$870,'10.Non-elective admissions -HWB'!$D8,'9.Non-elective admissions - Map'!Q$5:Q$870)","v":10947.323355504946},{"$f":"SUMIF('9.Non-elective admissions - Map'!$C$5:$C$870,'10.Non-elective admissions -HWB'!$D8,'9.Non-elective admissions - Map'!R$5:R$870)","v":10121.78070201045},{"$f":"SUMIF('9.Non-elective admissions - Map'!$C$5:$C$870,'10.Non-elective admissions -HWB'!$D8,'9.Non-elective admissions - Map'!S$5:S$870)","v":10229.641727059156},{"$f":"SUMIF('9.Non-elective admissions - Map'!$C$5:$C$870,'10.Non-elective admissions -HWB'!$D8,'9.Non-elective admissions - Map'!T$5:T$870)","v":10228.561557568135},{"$f":"SUMIF('9.Non-elective admissions - Map'!$C$5:$C$870,'10.Non-elective admissions -HWB'!$D8,'9.Non-elective admissions - Map'!U$5:U$870)","v":10112.637072747173}]
["North","Q45","Durham, Darlington And Tees ","E06000047","County Durham",{"$f":"SUMIF('9.Non-elective admissions - Map'!$C$5:$C$870,'10.Non-elective admissions -HWB'!$D9,'9.Non-elective admissions - Map'!J$5:J$870)","v":15798.99169894095},{"$f":"SUMIF('9.Non-elective admissions - Map'!$C$5:$C$870,'10.Non-elective admissions -HWB'!$D9,'9.Non-elective admissions - Map'!K$5:K$870)","v":15173.113109615842},{"$f":"SUMIF('9.Non-elective admissions - Map'!$C$5:$C$870,'10.Non-elective admissions -HWB'!$D9,'9.Non-elective admissions - Map'!L$5:L$870)","v":15862.86043224706},{"$f":"SUMIF('9.Non-elective admissions - Map'!$C$5:$C$870,'10.Non-elective admissions -HWB'!$D9,'9.Non-elective admissions - Map'!M$5:M$870)","v":15455.13749117824},{"$f":"SUMIF('9.Non-elective admissions - Map'!$C$5:$C$870,'10.Non-elective admissions -HWB'!$D9,'9.Non-elective admissions - Map'!N$5:N$870)","v":15542.017689199829},{"$f":"SUMIF('9.Non-elective admissions - Map'!$C$5:$C$870,'10.Non-elective admissions -HWB'!$D9,'9.Non-elective admissions - Map'!O$5:O$870)","v":15431.546627200107},{"$f":"SUMIF('9.Non-elective admissions - Map'!$C$5:$C$870,'10.Non-elective admissions -HWB'!$D9,'9.Non-elective admissions - Map'!P$5:P$870)","v":15714.477899140114},{"$f":"SUMIF('9.Non-elective admissions - Map'!$C$5:$C$870,'10.Non-elective admissions -HWB'!$D9,'9.Non-elective admissions - Map'!Q$5:Q$870)","v":15826.503439864564},{"$f":"SUMIF('9.Non-elective admissions - Map'!$C$5:$C$870,'10.Non-elective admissions -HWB'!$D9,'9.Non-elective admissions - Map'!R$5:R$870)","v":15538.628280690515},{"$f":"SUMIF('9.Non-elective admissions - Map'!$C$5:$C$870,'10.Non-elective admissions -HWB'!$D9,'9.Non-elective admissions - Map'!S$5:S$870)","v":15428.089959789246},{"$f":"SUMIF('9.Non-elective admissions - Map'!$C$5:$C$870,'10.Non-elective admissions -HWB'!$D9,'9.Non-elective admissions - Map'!T$5:T$870)","v":15711.026686444322},{"$f":"SUMIF('9.Non-elective admissions - Map'!$C$5:$C$870,'10.Non-elective admissions -HWB'!$D9,'9.Non-elective admissions - Map'!U$5:U$870)","v":15823.050334863305}]
["North","Q45","Durham, Darlington And Tees ","E06000005","Darlington",{"$f":"SUMIF('9.Non-elective admissions - Map'!$C$5:$C$870,'10.Non-elective admissions -HWB'!$D10,'9.Non-elective admissions - Map'!J$5:J$870)","v":3381.0276571459326},{"$f":"SUMIF('9.Non-elective admissions - Map'!$C$5:$C$870,'10.Non-elective admissions -HWB'!$D10,'9.Non-elective admissions - Map'!K$5:K$870)","v":3365.1289135926936},{"$f":"SUMIF('9.Non-elective admissions - Map'!$C$5:$C$870,'10.Non-elective admissions -HWB'!$D10,'9.Non-elective admissions - Map'!L$5:L$870)","v":3567.1300670182618},{"$f":"SUMIF('9.Non-elective admissions - Map'!$C$5:$C$870,'10.Non-elective admissions -HWB'!$D10,'9.Non-elective admissions - Map'!M$5:M$870)","v":3312.7473429290676},{"$f":"SUMIF('9.Non-elective admissions - Map'!$C$5:$C$870,'10.Non-elective admissions -HWB'!$D10,'9.Non-elective admissions - Map'!N$5:N$870)","v":3372.7998592826275},{"$f":"SUMIF('9.Non-elective admissions - Map'!$C$5:$C$870,'10.Non-elective admissions -HWB'!$D10,'9.Non-elective admissions - Map'!O$5:O$870)","v":3247.2309572012878},{"$f":"SUMIF('9.Non-elective admissions - Map'!$C$5:$C$870,'10.Non-elective admissions -HWB'!$D10,'9.Non-elective admissions - Map'!P$5:P$870)","v":3392.8034298608163},{"$f":"SUMIF('9.Non-elective admissions - Map'!$C$5:$C$870,'10.Non-elective admissions -HWB'!$D10,'9.Non-elective admissions - Map'!Q$5:Q$870)","v":3395.3841042957229},{"$f":"SUMIF('9.Non-elective admissions - Map'!$C$5:$C$870,'10.Non-elective admissions -HWB'!$D10,'9.Non-elective admissions - Map'!R$5:R$870)","v":3338.7632306065511},{"$f":"SUMIF('9.Non-elective admissions - Map'!$C$5:$C$870,'10.Non-elective admissions -HWB'!$D10,'9.Non-elective admissions - Map'!S$5:S$870)","v":3214.1850495969315},{"$f":"SUMIF('9.Non-elective admissions - Map'!$C$5:$C$870,'10.Non-elective admissions -HWB'!$D10,'9.Non-elective admissions - Map'!T$5:T$870)","v":3355.8084462926226},{"$f":"SUMIF('9.Non-elective admissions - Map'!$C$5:$C$870,'10.Non-elective admissions -HWB'!$D10,'9.Non-elective admissions - Map'!U$5:U$870)","v":3356.4318431494139}]
["North","Q45","Durham, Darlington And Tees ","E06000001","Hartlepool",{"$f":"SUMIF('9.Non-elective admissions - Map'!$C$5:$C$870,'10.Non-elective admissions -HWB'!$D11,'9.Non-elective admissions - Map'!J$5:J$870)","v":2498.7192847254851},{"$f":"SUMIF('9.Non-elective admissions - Map'!$C$5:$C$870,'10.Non-elective admissions -HWB'!$D11,'9.Non-elective admissions - Map'!K$5:K$870)","v":2392.8959246405234},{"$f":"SUMIF('9.Non-elective admissions - Map'!$C$5:$C$870,'10.Non-elective admissions -HWB'!$D11,'9.Non-elective admissions - Map'!L$5:L$870)","v":2475.1994731892892},{"$f":"SUMIF('9.Non-elective admissions - Map'!$C$5:$C$870,'10.Non-elective admissions -HWB'!$D11,'9.Non-elective admissions - Map'!M$5:M$870)","v":2370.3219166265285},{"$f":"SUMIF('9.Non-elective admissions - Map'!$C$5:$C$870,'10.Non-elective admissions -HWB'!$D11,'9.Non-elective admissions - Map'!N$5:N$870)","v":2423.7792038652137},{"$f":"SUMIF('9.Non-elective admissions - Map'!$C$5:$C$870,'10.Non-elective admissions -HWB'!$D11,'9.Non-elective admissions - Map'!O$5:O$870)","v":2394.0423836907876},{"$f":"SUMIF('9.Non-elective admissions - Map'!$C$5:$C$870,'10.Non-elective admissions -HWB'!$D11,'9.Non-elective admissions - Map'!P$5:P$870)","v":2468.2328135942771},{"$f":"SUMIF('9.Non-elective admissions - Map'!$C$5:$C$870,'10.Non-elective admissions -HWB'!$D11,'9.Non-elective admissions - Map'!Q$5:Q$870)","v":2443.4233867647999},{"$f":"SUMIF('9.Non-elective admissions - Map'!$C$5:$C$870,'10.Non-elective admissions -HWB'!$D11,'9.Non-elective admissions - Map'!R$5:R$870)","v":2304.4644315192168},{"$f":"SUMIF('9.Non-elective admissions - Map'!$C$5:$C$870,'10.Non-elective admissions -HWB'!$D11,'9.Non-elective admissions - Map'!S$5:S$870)","v":2276.3227286221436},{"$f":"SUMIF('9.Non-elective admissions - Map'!$C$5:$C$870,'10.Non-elective admissions -HWB'!$D11,'9.Non-elective admissions - Map'!T$5:T$870)","v":2346.6848770599863},{"$f":"SUMIF('9.Non-elective admissions - Map'!$C$5:$C$870,'10.Non-elective admissions -HWB'!$D11,'9.Non-elective admissions - Map'!U$5:U$870)","v":2323.1515440523913}]
["North","Q45","Durham, Darlington And Tees ","E06000002","Middlesbrough",{"$f":"SUMIF('9.Non-elective admissions - Map'!$C$5:$C$870,'10.Non-elective admissions -HWB'!$D12,'9.Non-elective admissions - Map'!J$5:J$870)","v":4749.0944056144008},{"$f":"SUMIF('9.Non-elective admissions - Map'!$C$5:$C$870,'10.Non-elective admissions -HWB'!$D12,'9.Non-elective admissions - Map'!K$5:K$870)","v":4630.047476482755},{"$f":"SUMIF('9.Non-elective admissions - Map'!$C$5:$C$870,'10.Non-elective admissions -HWB'!$D12,'9.Non-elective admissions - Map'!L$5:L$870)","v":4874.7841697502117},{"$f":"SUMIF('9.Non-elective admissions - Map'!$C$5:$C$870,'10.Non-elective admissions -HWB'!$D12,'9.Non-elective admissions - Map'!M$5:M$870)","v":4505.7493733066422},{"$f":"SUMIF('9.Non-elective admissions - Map'!$C$5:$C$870,'10.Non-elective admissions -HWB'!$D12,'9.Non-elective admissions - Map'!N$5:N$870)","v":4606.6028069147533},{"$f":"SUMIF('9.Non-elective admissions - Map'!$C$5:$C$870,'10.Non-elective admissions -HWB'!$D12,'9.Non-elective admissions - Map'!O$5:O$870)","v":4552.4831132705203},{"$f":"SUMIF('9.Non-elective admissions - Map'!$C$5:$C$870,'10.Non-elective admissions -HWB'!$D12,'9.Non-elective admissions - Map'!P$5:P$870)","v":4691.4848554676519},{"$f":"SUMIF('9.Non-elective admissions - Map'!$C$5:$C$870,'10.Non-elective admissions -HWB'!$D12,'9.Non-elective admissions - Map'!Q$5:Q$870)","v":4690.7745307853002},{"$f":"SUMIF('9.Non-elective admissions - Map'!$C$5:$C$870,'10.Non-elective admissions -HWB'!$D12,'9.Non-elective admissions - Map'!R$5:R$870)","v":4056.2020772058099},{"$f":"SUMIF('9.Non-elective admissions - Map'!$C$5:$C$870,'10.Non-elective admissions -HWB'!$D12,'9.Non-elective admissions - Map'!S$5:S$870)","v":4008.5137653776051},{"$f":"SUMIF('9.Non-elective admissions - Map'!$C$5:$C$870,'10.Non-elective admissions -HWB'!$D12,'9.Non-elective admissions - Map'!T$5:T$870)","v":4129.9820230045243},{"$f":"SUMIF('9.Non-elective admissions - Map'!$C$5:$C$870,'10.Non-elective admissions -HWB'!$D12,'9.Non-elective admissions - Map'!U$5:U$870)","v":4128.2745893793572}]
["North","Q45","Durham, Darlington And Tees ","E06000003","Redcar and Cleveland",{"$f":"SUMIF('9.Non-elective admissions - Map'!$C$5:$C$870,'10.Non-elective admissions -HWB'!$D13,'9.Non-elective admissions - Map'!J$5:J$870)","v":4411.7909055124001},{"$f":"SUMIF('9.Non-elective admissions - Map'!$C$5:$C$870,'10.Non-elective admissions -HWB'!$D13,'9.Non-elective admissions - Map'!K$5:K$870)","v":4299.8393008395724},{"$f":"SUMIF('9.Non-elective admissions - Map'!$C$5:$C$870,'10.Non-elective admissions -HWB'!$D13,'9.Non-elective admissions - Map'!L$5:L$870)","v":4527.6948634560258},{"$f":"SUMIF('9.Non-elective admissions - Map'!$C$5:$C$870,'10.Non-elective admissions -HWB'!$D13,'9.Non-elective admissions - Map'!M$5:M$870)","v":4187.3749589751578},{"$f":"SUMIF('9.Non-elective admissions - Map'!$C$5:$C$870,'10.Non-elective admissions -HWB'!$D13,'9.Non-elective admissions - Map'!N$5:N$870)","v":4277.1216462650455},{"$f":"SUMIF('9.Non-elective admissions - Map'!$C$5:$C$870,'10.Non-elective admissions -HWB'!$D13,'9.Non-elective admissions - Map'!O$5:O$870)","v":4228.6254447038482},{"$f":"SUMIF('9.Non-elective admissions - Map'!$C$5:$C$870,'10.Non-elective admissions -HWB'!$D13,'9.Non-elective admissions - Map'!P$5:P$870)","v":4356.5956896032167},{"$f":"SUMIF('9.Non-elective admissions - Map'!$C$5:$C$870,'10.Non-elective admissions -HWB'!$D13,'9.Non-elective admissions - Map'!Q$5:Q$870)","v":4355.6149526106301},{"$f":"SUMIF('9.Non-elective admissions - Map'!$C$5:$C$870,'10.Non-elective admissions -HWB'!$D13,'9.Non-elective admissions - Map'!R$5:R$870)","v":3769.0880528657531},{"$f":"SUMIF('9.Non-elective admissions - Map'!$C$5:$C$870,'10.Non-elective admissions -HWB'!$D13,'9.Non-elective admissions - Map'!S$5:S$870)","v":3725.3406614473374},{"$f":"SUMIF('9.Non-elective admissions - Map'!$C$5:$C$870,'10.Non-elective admissions -HWB'!$D13,'9.Non-elective admissions - Map'!T$5:T$870)","v":3837.4665151159234},{"$f":"SUMIF('9.Non-elective admissions - Map'!$C$5:$C$870,'10.Non-elective admissions -HWB'!$D13,'9.Non-elective admissions - Map'!U$5:U$870)","v":3835.6927266262392}]
["North","Q45","Durham, Darlington And Tees ","E06000004","Stockton-on-Tees",{"$f":"SUMIF('9.Non-elective admissions - Map'!$C$5:$C$870,'10.Non-elective admissions -HWB'!$D14,'9.Non-elective admissions - Map'!J$5:J$870)","v":5344.6348892634596},{"$f":"SUMIF('9.Non-elective admissions - Map'!$C$5:$C$870,'10.Non-elective admissions -HWB'!$D14,'9.Non-elective admissions - Map'!K$5:K$870)","v":5119.0040280989488},{"$f":"SUMIF('9.Non-elective admissions - Map'!$C$5:$C$870,'10.Non-elective admissions -HWB'!$D14,'9.Non-elective admissions - Map'!L$5:L$870)","v":5296.0808268880837},{"$f":"SUMIF('9.Non-elective admissions - Map'!$C$5:$C$870,'10.Non-elective admissions -HWB'!$D14,'9.Non-elective admissions - Map'!M$5:M$870)","v":5070.8274793174751},{"$f":"SUMIF('9.Non-elective admissions - Map'!$C$5:$C$870,'10.Non-elective admissions -HWB'!$D14,'9.Non-elective admissions - Map'!N$5:N$870)","v":5184.3291513633949},{"$f":"SUMIF('9.Non-elective admissions - Map'!$C$5:$C$870,'10.Non-elective admissions -HWB'!$D14,'9.Non-elective admissions - Map'!O$5:O$870)","v":5120.7368019495807},{"$f":"SUMIF('9.Non-elective admissions - Map'!$C$5:$C$870,'10.Non-elective admissions -HWB'!$D14,'9.Non-elective admissions - Map'!P$5:P$870)","v":5279.2998341374614},{"$f":"SUMIF('9.Non-elective admissions - Map'!$C$5:$C$870,'10.Non-elective admissions -HWB'!$D14,'9.Non-elective admissions - Map'!Q$5:Q$870)","v":5226.7577536807557},{"$f":"SUMIF('9.Non-elective admissions - Map'!$C$5:$C$870,'10.Non-elective admissions -HWB'!$D14,'9.Non-elective admissions - Map'!R$5:R$870)","v":4928.7050396518043},{"$f":"SUMIF('9.Non-elective admissions - Map'!$C$5:$C$870,'10.Non-elective admissions -HWB'!$D14,'9.Non-elective admissions - Map'!S$5:S$870)","v":4868.3007525684061},{"$f":"SUMIF('9.Non-elective admissions - Map'!$C$5:$C$870,'10.Non-elective admissions -HWB'!$D14,'9.Non-elective admissions - Map'!T$5:T$870)","v":5018.7146865687764},{"$f":"SUMIF('9.Non-elective admissions - Map'!$C$5:$C$870,'10.Non-elective admissions -HWB'!$D14,'9.Non-elective admissions - Map'!U$5:U$870)","v":4968.8859602663988}]
["North","Q46","Greater Manchester ","E08000001","Bolton",{"$f":"SUMIF('9.Non-elective admissions - Map'!$C$5:$C$870,'10.Non-elective admissions -HWB'!$D15,'9.Non-elective admissions - Map'!J$5:J$870)","v":7911.1417081066156},{"$f":"SUMIF('9.Non-elective admissions - Map'!$C$5:$C$870,'10.Non-elective admissions -HWB'!$D15,'9.Non-elective admissions - Map'!K$5:K$870)","v":7869.711584713179},{"$f":"SUMIF('9.Non-elective admissions - Map'!$C$5:$C$870,'10.Non-elective admissions -HWB'!$D15,'9.Non-elective admissions - Map'!L$5:L$870)","v":8471.2183207803737},{"$f":"SUMIF('9.Non-elective admissions - Map'!$C$5:$C$870,'10.Non-elective admissions -HWB'!$D15,'9.Non-elective admissions - Map'!M$5:M$870)","v":8338.0546966920065},{"$f":"SUMIF('9.Non-elective admissions - Map'!$C$5:$C$870,'10.Non-elective admissions -HWB'!$D15,'9.Non-elective admissions - Map'!N$5:N$870)","v":7748.2139162445064},{"$f":"SUMIF('9.Non-elective admissions - Map'!$C$5:$C$870,'10.Non-elective admissions -HWB'!$D15,'9.Non-elective admissions - Map'!O$5:O$870)","v":7665.1181631845184},{"$f":"SUMIF('9.Non-elective admissions - Map'!$C$5:$C$870,'10.Non-elective admissions -HWB'!$D15,'9.Non-elective admissions - Map'!P$5:P$870)","v":7708.226926194503},{"$f":"SUMIF('9.Non-elective admissions - Map'!$C$5:$C$870,'10.Non-elective admissions -HWB'!$D15,'9.Non-elective admissions - Map'!Q$5:Q$870)","v":6918.8621751272121},{"$f":"SUMIF('9.Non-elective admissions - Map'!$C$5:$C$870,'10.Non-elective admissions -HWB'!$D15,'9.Non-elective admissions - Map'!R$5:R$870)","v":7532.2641360497837},{"$f":"SUMIF('9.Non-elective admissions - Map'!$C$5:$C$870,'10.Non-elective admissions -HWB'!$D15,'9.Non-elective admissions - Map'!S$5:S$870)","v":7446.1679582185552},{"$f":"SUMIF('9.Non-elective admissions - Map'!$C$5:$C$870,'10.Non-elective admissions -HWB'!$D15,'9.Non-elective admissions - Map'!T$5:T$870)","v":7488.103746198648},{"$f":"SUMIF('9.Non-elective admissions - Map'!$C$5:$C$870,'10.Non-elective admissions -HWB'!$D15,'9.Non-elective admissions - Map'!U$5:U$870)","v":6724.4696659286674}]
["North","Q46","Greater Manchester ","E08000002","Bury",{"$f":"SUMIF('9.Non-elective admissions - Map'!$C$5:$C$870,'10.Non-elective admissions -HWB'!$D16,'9.Non-elective admissions - Map'!J$5:J$870)","v":5094.1078037796397},{"$f":"SUMIF('9.Non-elective admissions - Map'!$C$5:$C$870,'10.Non-elective admissions -HWB'!$D16,'9.Non-elective admissions - Map'!K$5:K$870)","v":4918.3707078500493},{"$f":"SUMIF('9.Non-elective admissions - Map'!$C$5:$C$870,'10.Non-elective admissions -HWB'!$D16,'9.Non-elective admissions - Map'!L$5:L$870)","v":5048.3854653441895},{"$f":"SUMIF('9.Non-elective admissions - Map'!$C$5:$C$870,'10.Non-elective admissions -HWB'!$D16,'9.Non-elective admissions - Map'!M$5:M$870)","v":4922.4319714666617},{"$f":"SUMIF('9.Non-elective admissions - Map'!$C$5:$C$870,'10.Non-elective admissions -HWB'!$D16,'9.Non-elective admissions - Map'!N$5:N$870)","v":4999.4745740940052},{"$f":"SUMIF('9.Non-elective admissions - Map'!$C$5:$C$870,'10.Non-elective admissions -HWB'!$D16,'9.Non-elective admissions - Map'!O$5:O$870)","v":4851.7585110099417},{"$f":"SUMIF('9.Non-elective admissions - Map'!$C$5:$C$870,'10.Non-elective admissions -HWB'!$D16,'9.Non-elective admissions - Map'!P$5:P$870)","v":4939.9221421029051},{"$f":"SUMIF('9.Non-elective admissions - Map'!$C$5:$C$870,'10.Non-elective admissions -HWB'!$D16,'9.Non-elective admissions - Map'!Q$5:Q$870)","v":5055.5530379781667},{"$f":"SUMIF('9.Non-elective admissions - Map'!$C$5:$C$870,'10.Non-elective admissions -HWB'!$D16,'9.Non-elective admissions - Map'!R$5:R$870)","v":4335.7915498573402},{"$f":"SUMIF('9.Non-elective admissions - Map'!$C$5:$C$870,'10.Non-elective admissions -HWB'!$D16,'9.Non-elective admissions - Map'!S$5:S$870)","v":4206.4449402390028},{"$f":"SUMIF('9.Non-elective admissions - Map'!$C$5:$C$870,'10.Non-elective admissions -HWB'!$D16,'9.Non-elective admissions - Map'!T$5:T$870)","v":4274.6290846874426},{"$f":"SUMIF('9.Non-elective admissions - Map'!$C$5:$C$870,'10.Non-elective admissions -HWB'!$D16,'9.Non-elective admissions - Map'!U$5:U$870)","v":4402.4367194552869}]
["North","Q46","Greater Manchester ","E08000003","Manchester",{"$f":"SUMIF('9.Non-elective admissions - Map'!$C$5:$C$870,'10.Non-elective admissions -HWB'!$D17,'9.Non-elective admissions - Map'!J$5:J$870)","v":15070.209835088261},{"$f":"SUMIF('9.Non-elective admissions - Map'!$C$5:$C$870,'10.Non-elective admissions -HWB'!$D17,'9.Non-elective admissions - Map'!K$5:K$870)","v":14934.553177337948},{"$f":"SUMIF('9.Non-elective admissions - Map'!$C$5:$C$870,'10.Non-elective admissions -HWB'!$D17,'9.Non-elective admissions - Map'!L$5:L$870)","v":15764.632209959571},{"$f":"SUMIF('9.Non-elective admissions - Map'!$C$5:$C$870,'10.Non-elective admissions -HWB'!$D17,'9.Non-elective admissions - Map'!M$5:M$870)","v":15545.87333801551},{"$f":"SUMIF('9.Non-elective admissions - Map'!$C$5:$C$870,'10.Non-elective admissions -HWB'!$D17,'9.Non-elective admissions - Map'!N$5:N$870)","v":14744.80969042472},{"$f":"SUMIF('9.Non-elective admissions - Map'!$C$5:$C$870,'10.Non-elective admissions -HWB'!$D17,'9.Non-elective admissions - Map'!O$5:O$870)","v":14698.559608939922},{"$f":"SUMIF('9.Non-elective admissions - Map'!$C$5:$C$870,'10.Non-elective admissions -HWB'!$D17,'9.Non-elective admissions - Map'!P$5:P$870)","v":15497.144828014436},{"$f":"SUMIF('9.Non-elective admissions - Map'!$C$5:$C$870,'10.Non-elective admissions -HWB'!$D17,'9.Non-elective admissions - Map'!Q$5:Q$870)","v":15005.534693639227},{"$f":"SUMIF('9.Non-elective admissions - Map'!$C$5:$C$870,'10.Non-elective admissions -HWB'!$D17,'9.Non-elective admissions - Map'!R$5:R$870)","v":14055.394947931491},{"$f":"SUMIF('9.Non-elective admissions - Map'!$C$5:$C$870,'10.Non-elective admissions -HWB'!$D17,'9.Non-elective admissions - Map'!S$5:S$870)","v":14031.984901815553},{"$f":"SUMIF('9.Non-elective admissions - Map'!$C$5:$C$870,'10.Non-elective admissions -HWB'!$D17,'9.Non-elective admissions - Map'!T$5:T$870)","v":14785.61245970448},{"$f":"SUMIF('9.Non-elective admissions - Map'!$C$5:$C$870,'10.Non-elective admissions -HWB'!$D17,'9.Non-elective admissions - Map'!U$5:U$870)","v":14305.433446505191}]
["North","Q46","Greater Manchester ","E08000004","Oldham",{"$f":"SUMIF('9.Non-elective admissions - Map'!$C$5:$C$870,'10.Non-elective admissions -HWB'!$D18,'9.Non-elective admissions - Map'!J$5:J$870)","v":7110.7176754852535},{"$f":"SUMIF('9.Non-elective admissions - Map'!$C$5:$C$870,'10.Non-elective admissions -HWB'!$D18,'9.Non-elective admissions - Map'!K$5:K$870)","v":7013.1653584598389},{"$f":"SUMIF('9.Non-elective admissions - Map'!$C$5:$C$870,'10.Non-elective admissions -HWB'!$D18,'9.Non-elective admissions - Map'!L$5:L$870)","v":7276.9275873467914},{"$f":"SUMIF('9.Non-elective admissions - Map'!$C$5:$C$870,'10.Non-elective admissions -HWB'!$D18,'9.Non-elective admissions - Map'!M$5:M$870)","v":7329.7753299342594},{"$f":"SUMIF('9.Non-elective admissions - Map'!$C$5:$C$870,'10.Non-elective admissions -HWB'!$D18,'9.Non-elective admissions - Map'!N$5:N$870)","v":6945.7139947344003},{"$f":"SUMIF('9.Non-elective admissions - Map'!$C$5:$C$870,'10.Non-elective admissions -HWB'!$D18,'9.Non-elective admissions - Map'!O$5:O$870)","v":6907.2384361059003},{"$f":"SUMIF('9.Non-elective admissions - Map'!$C$5:$C$870,'10.Non-elective admissions -HWB'!$D18,'9.Non-elective admissions - Map'!P$5:P$870)","v":7248.672793276186},{"$f":"SUMIF('9.Non-elective admissions - Map'!$C$5:$C$870,'10.Non-elective admissions -HWB'!$D18,'9.Non-elective admissions - Map'!Q$5:Q$870)","v":6895.5426818769538},{"$f":"SUMIF('9.Non-elective admissions - Map'!$C$5:$C$870,'10.Non-elective admissions -HWB'!$D18,'9.Non-elective admissions - Map'!R$5:R$870)","v":6940.2498831987832},{"$f":"SUMIF('9.Non-elective admissions - Map'!$C$5:$C$870,'10.Non-elective admissions -HWB'!$D18,'9.Non-elective admissions - Map'!S$5:S$870)","v":7013.5043075763806},{"$f":"SUMIF('9.Non-elective admissions - Map'!$C$5:$C$870,'10.Non-elective admissions -HWB'!$D18,'9.Non-elective admissions - Map'!T$5:T$870)","v":7023.6669572196079},{"$f":"SUMIF('9.Non-elective admissions - Map'!$C$5:$C$870,'10.Non-elective admissions -HWB'!$D18,'9.Non-elective admissions - Map'!U$5:U$870)","v":6938.7804133798236}]
["North","Q46","Greater Manchester ","E08000005","Rochdale",{"$f":"SUMIF('9.Non-elective admissions - Map'!$C$5:$C$870,'10.Non-elective admissions -HWB'!$D19,'9.Non-elective admissions - Map'!J$5:J$870)","v":6502.7482369597774},{"$f":"SUMIF('9.Non-elective admissions - Map'!$C$5:$C$870,'10.Non-elective admissions -HWB'!$D19,'9.Non-elective admissions - Map'!K$5:K$870)","v":6333.8376543261611},{"$f":"SUMIF('9.Non-elective admissions - Map'!$C$5:$C$870,'10.Non-elective admissions -HWB'!$D19,'9.Non-elective admissions - Map'!L$5:L$870)","v":6632.0606140357659},{"$f":"SUMIF('9.Non-elective admissions - Map'!$C$5:$C$870,'10.Non-elective admissions -HWB'!$D19,'9.Non-elective admissions - Map'!M$5:M$870)","v":6808.956962356503},{"$f":"SUMIF('9.Non-elective admissions - Map'!$C$5:$C$870,'10.Non-elective admissions -HWB'!$D19,'9.Non-elective admissions - Map'!N$5:N$870)","v":6271.2753975467949},{"$f":"SUMIF('9.Non-elective admissions - Map'!$C$5:$C$870,'10.Non-elective admissions -HWB'!$D19,'9.Non-elective admissions - Map'!O$5:O$870)","v":6147.450533700654},{"$f":"SUMIF('9.Non-elective admissions - Map'!$C$5:$C$870,'10.Non-elective admissions -HWB'!$D19,'9.Non-elective admissions - Map'!P$5:P$870)","v":6431.6614377890255},{"$f":"SUMIF('9.Non-elective admissions - Map'!$C$5:$C$870,'10.Non-elective admissions -HWB'!$D19,'9.Non-elective admissions - Map'!Q$5:Q$870)","v":5890.3705165368528},{"$f":"SUMIF('9.Non-elective admissions - Map'!$C$5:$C$870,'10.Non-elective admissions -HWB'!$D19,'9.Non-elective admissions - Map'!R$5:R$870)","v":5957.1860163637502},{"$f":"SUMIF('9.Non-elective admissions - Map'!$C$5:$C$870,'10.Non-elective admissions -HWB'!$D19,'9.Non-elective admissions - Map'!S$5:S$870)","v":5895.1067248832096},{"$f":"SUMIF('9.Non-elective admissions - Map'!$C$5:$C$870,'10.Non-elective admissions -HWB'!$D19,'9.Non-elective admissions - Map'!T$5:T$870)","v":6123.3150676931746},{"$f":"SUMIF('9.Non-elective admissions - Map'!$C$5:$C$870,'10.Non-elective admissions -HWB'!$D19,'9.Non-elective admissions - Map'!U$5:U$870)","v":5615.4754031238535}]
["North","Q46","Greater Manchester ","E08000006","Salford",{"$f":"SUMIF('9.Non-elective admissions - Map'!$C$5:$C$870,'10.Non-elective admissions -HWB'!$D20,'9.Non-elective admissions - Map'!J$5:J$870)","v":7917.6335501579324},{"$f":"SUMIF('9.Non-elective admissions - Map'!$C$5:$C$870,'10.Non-elective admissions -HWB'!$D20,'9.Non-elective admissions - Map'!K$5:K$870)","v":7819.1264359294373},{"$f":"SUMIF('9.Non-elective admissions - Map'!$C$5:$C$870,'10.Non-elective admissions -HWB'!$D20,'9.Non-elective admissions - Map'!L$5:L$870)","v":8434.6737994264422},{"$f":"SUMIF('9.Non-elective admissions - Map'!$C$5:$C$870,'10.Non-elective admissions -HWB'!$D20,'9.Non-elective admissions - Map'!M$5:M$870)","v":8215.8549165159657},{"$f":"SUMIF('9.Non-elective admissions - Map'!$C$5:$C$870,'10.Non-elective admissions -HWB'!$D20,'9.Non-elective admissions - Map'!N$5:N$870)","v":6790.1112158480028},{"$f":"SUMIF('9.Non-elective admissions - Map'!$C$5:$C$870,'10.Non-elective admissions -HWB'!$D20,'9.Non-elective admissions - Map'!O$5:O$870)","v":6974.6654056498319},{"$f":"SUMIF('9.Non-elective admissions - Map'!$C$5:$C$870,'10.Non-elective admissions -HWB'!$D20,'9.Non-elective admissions - Map'!P$5:P$870)","v":7283.6639128706038},{"$f":"SUMIF('9.Non-elective admissions - Map'!$C$5:$C$870,'10.Non-elective admissions -HWB'!$D20,'9.Non-elective admissions - Map'!Q$5:Q$870)","v":7435.1504109224479},{"$f":"SUMIF('9.Non-elective admissions - Map'!$C$5:$C$870,'10.Non-elective admissions -HWB'!$D20,'9.Non-elective admissions - Map'!R$5:R$870)","v":6737.3553733453382},{"$f":"SUMIF('9.Non-elective admissions - Map'!$C$5:$C$870,'10.Non-elective admissions -HWB'!$D20,'9.Non-elective admissions - Map'!S$5:S$870)","v":6867.3284069173878},{"$f":"SUMIF('9.Non-elective admissions - Map'!$C$5:$C$870,'10.Non-elective admissions -HWB'!$D20,'9.Non-elective admissions - Map'!T$5:T$870)","v":7190.0846567492872},{"$f":"SUMIF('9.Non-elective admissions - Map'!$C$5:$C$870,'10.Non-elective admissions -HWB'!$D20,'9.Non-elective admissions - Map'!U$5:U$870)","v":7378.2605311593588}]
["North","Q46","Greater Manchester ","E08000007","Stockport",{"$f":"SUMIF('9.Non-elective admissions - Map'!$C$5:$C$870,'10.Non-elective admissions -HWB'!$D21,'9.Non-elective admissions - Map'!J$5:J$870)","v":9508.6028681757052},{"$f":"SUMIF('9.Non-elective admissions - Map'!$C$5:$C$870,'10.Non-elective admissions -HWB'!$D21,'9.Non-elective admissions - Map'!K$5:K$870)","v":9385.5479321126058},{"$f":"SUMIF('9.Non-elective admissions - Map'!$C$5:$C$870,'10.Non-elective admissions -HWB'!$D21,'9.Non-elective admissions - Map'!L$5:L$870)","v":9691.1718550000005},{"$f":"SUMIF('9.Non-elective admissions - Map'!$C$5:$C$870,'10.Non-elective admissions -HWB'!$D21,'9.Non-elective admissions - Map'!M$5:M$870)","v":9400.5599026463151},{"$f":"SUMIF('9.Non-elective admissions - Map'!$C$5:$C$870,'10.Non-elective admissions -HWB'!$D21,'9.Non-elective admissions - Map'!N$5:N$870)","v":8090.722483045939},{"$f":"SUMIF('9.Non-elective admissions - Map'!$C$5:$C$870,'10.Non-elective admissions -HWB'!$D21,'9.Non-elective admissions - Map'!O$5:O$870)","v":8224.8964170216714},{"$f":"SUMIF('9.Non-elective admissions - Map'!$C$5:$C$870,'10.Non-elective admissions -HWB'!$D21,'9.Non-elective admissions - Map'!P$5:P$870)","v":8520.4171346685052},{"$f":"SUMIF('9.Non-elective admissions - Map'!$C$5:$C$870,'10.Non-elective admissions -HWB'!$D21,'9.Non-elective admissions - Map'!Q$5:Q$870)","v":8434.759674646155},{"$f":"SUMIF('9.Non-elective admissions - Map'!$C$5:$C$870,'10.Non-elective admissions -HWB'!$D21,'9.Non-elective admissions - Map'!R$5:R$870)","v":7300.89595843399},{"$f":"SUMIF('9.Non-elective admissions - Map'!$C$5:$C$870,'10.Non-elective admissions -HWB'!$D21,'9.Non-elective admissions - Map'!S$5:S$870)","v":7421.9547250780251},{"$f":"SUMIF('9.Non-elective admissions - Map'!$C$5:$C$870,'10.Non-elective admissions -HWB'!$D21,'9.Non-elective admissions - Map'!T$5:T$870)","v":7688.6602876714933},{"$f":"SUMIF('9.Non-elective admissions - Map'!$C$5:$C$870,'10.Non-elective admissions -HWB'!$D21,'9.Non-elective admissions - Map'!U$5:U$870)","v":7610.6980536045294}]
["North","Q46","Greater Manchester ","E08000008","Tameside",{"$f":"SUMIF('9.Non-elective admissions - Map'!$C$5:$C$870,'10.Non-elective admissions -HWB'!$D22,'9.Non-elective admissions - Map'!J$5:J$870)","v":6861.1721342443907},{"$f":"SUMIF('9.Non-elective admissions - Map'!$C$5:$C$870,'10.Non-elective admissions -HWB'!$D22,'9.Non-elective admissions - Map'!K$5:K$870)","v":6808.9629967939418},{"$f":"SUMIF('9.Non-elective admissions - Map'!$C$5:$C$870,'10.Non-elective admissions -HWB'!$D22,'9.Non-elective admissions - Map'!L$5:L$870)","v":7261.5781686757618},{"$f":"SUMIF('9.Non-elective admissions - Map'!$C$5:$C$870,'10.Non-elective admissions -HWB'!$D22,'9.Non-elective admissions - Map'!M$5:M$870)","v":6910.9486467908628},{"$f":"SUMIF('9.Non-elective admissions - Map'!$C$5:$C$870,'10.Non-elective admissions -HWB'!$D22,'9.Non-elective admissions - Map'!N$5:N$870)","v":6672.5944086645532},{"$f":"SUMIF('9.Non-elective admissions - Map'!$C$5:$C$870,'10.Non-elective admissions -HWB'!$D22,'9.Non-elective admissions - Map'!O$5:O$870)","v":6627.0069416624383},{"$f":"SUMIF('9.Non-elective admissions - Map'!$C$5:$C$870,'10.Non-elective admissions -HWB'!$D22,'9.Non-elective admissions - Map'!P$5:P$870)","v":6639.6745763098743},{"$f":"SUMIF('9.Non-elective admissions - Map'!$C$5:$C$870,'10.Non-elective admissions -HWB'!$D22,'9.Non-elective admissions - Map'!Q$5:Q$870)","v":6631.4873334568974},{"$f":"SUMIF('9.Non-elective admissions - Map'!$C$5:$C$870,'10.Non-elective admissions -HWB'!$D22,'9.Non-elective admissions - Map'!R$5:R$870)","v":6867.3619664480975},{"$f":"SUMIF('9.Non-elective admissions - Map'!$C$5:$C$870,'10.Non-elective admissions -HWB'!$D22,'9.Non-elective admissions - Map'!S$5:S$870)","v":6824.419430125763},{"$f":"SUMIF('9.Non-elective admissions - Map'!$C$5:$C$870,'10.Non-elective admissions -HWB'!$D22,'9.Non-elective admissions - Map'!T$5:T$870)","v":6822.587821178824},{"$f":"SUMIF('9.Non-elective admissions - Map'!$C$5:$C$870,'10.Non-elective admissions -HWB'!$D22,'9.Non-elective admissions - Map'!U$5:U$870)","v":6825.3161312332113}]
["North","Q46","Greater Manchester ","E08000009","Trafford",{"$f":"SUMIF('9.Non-elective admissions - Map'!$C$5:$C$870,'10.Non-elective admissions -HWB'!$D23,'9.Non-elective admissions - Map'!J$5:J$870)","v":5854.9366294849615},{"$f":"SUMIF('9.Non-elective admissions - Map'!$C$5:$C$870,'10.Non-elective admissions -HWB'!$D23,'9.Non-elective admissions - Map'!K$5:K$870)","v":5865.9909188244119},{"$f":"SUMIF('9.Non-elective admissions - Map'!$C$5:$C$870,'10.Non-elective admissions -HWB'!$D23,'9.Non-elective admissions - Map'!L$5:L$870)","v":6062.528499520653},{"$f":"SUMIF('9.Non-elective admissions - Map'!$C$5:$C$870,'10.Non-elective admissions -HWB'!$D23,'9.Non-elective admissions - Map'!M$5:M$870)","v":5713.6805328830796},{"$f":"SUMIF('9.Non-elective admissions - Map'!$C$5:$C$870,'10.Non-elective admissions -HWB'!$D23,'9.Non-elective admissions - Map'!N$5:N$870)","v":5202.4370960974438},{"$f":"SUMIF('9.Non-elective admissions - Map'!$C$5:$C$870,'10.Non-elective admissions -HWB'!$D23,'9.Non-elective admissions - Map'!O$5:O$870)","v":5213.8431241975013},{"$f":"SUMIF('9.Non-elective admissions - Map'!$C$5:$C$870,'10.Non-elective admissions -HWB'!$D23,'9.Non-elective admissions - Map'!P$5:P$870)","v":5232.1705049655684},{"$f":"SUMIF('9.Non-elective admissions - Map'!$C$5:$C$870,'10.Non-elective admissions -HWB'!$D23,'9.Non-elective admissions - Map'!Q$5:Q$870)","v":5183.7186099252403},{"$f":"SUMIF('9.Non-elective admissions - Map'!$C$5:$C$870,'10.Non-elective admissions -HWB'!$D23,'9.Non-elective admissions - Map'!R$5:R$870)","v":4761.1445573856845},{"$f":"SUMIF('9.Non-elective admissions - Map'!$C$5:$C$870,'10.Non-elective admissions -HWB'!$D23,'9.Non-elective admissions - Map'!S$5:S$870)","v":4773.4394142255069},{"$f":"SUMIF('9.Non-elective admissions - Map'!$C$5:$C$870,'10.Non-elective admissions -HWB'!$D23,'9.Non-elective admissions - Map'!T$5:T$870)","v":4790.1561603974878},{"$f":"SUMIF('9.Non-elective admissions - Map'!$C$5:$C$870,'10.Non-elective admissions -HWB'!$D23,'9.Non-elective admissions - Map'!U$5:U$870)","v":4742.089785479583}]
["North","Q46","Greater Manchester ","E08000010","Wigan",{"$f":"SUMIF('9.Non-elective admissions - Map'!$C$5:$C$870,'10.Non-elective admissions -HWB'!$D24,'9.Non-elective admissions - Map'!J$5:J$870)","v":8491.2239978409434},{"$f":"SUMIF('9.Non-elective admissions - Map'!$C$5:$C$870,'10.Non-elective admissions -HWB'!$D24,'9.Non-elective admissions - Map'!K$5:K$870)","v":8443.5964228394132},{"$f":"SUMIF('9.Non-elective admissions - Map'!$C$5:$C$870,'10.Non-elective admissions -HWB'!$D24,'9.Non-elective admissions - Map'!L$5:L$870)","v":8478.9521212762047},{"$f":"SUMIF('9.Non-elective admissions - Map'!$C$5:$C$870,'10.Non-elective admissions -HWB'!$D24,'9.Non-elective admissions - Map'!M$5:M$870)","v":8314.5392306932772},{"$f":"SUMIF('9.Non-elective admissions - Map'!$C$5:$C$870,'10.Non-elective admissions -HWB'!$D24,'9.Non-elective admissions - Map'!N$5:N$870)","v":8123.1631546503904},{"$f":"SUMIF('9.Non-elective admissions - Map'!$C$5:$C$870,'10.Non-elective admissions -HWB'!$D24,'9.Non-elective admissions - Map'!O$5:O$870)","v":8084.0359049675208},{"$f":"SUMIF('9.Non-elective admissions - Map'!$C$5:$C$870,'10.Non-elective admissions -HWB'!$D24,'9.Non-elective admissions - Map'!P$5:P$870)","v":8106.499438517254},{"$f":"SUMIF('9.Non-elective admissions - Map'!$C$5:$C$870,'10.Non-elective admissions -HWB'!$D24,'9.Non-elective admissions - Map'!Q$5:Q$870)","v":7953.0963457934722},{"$f":"SUMIF('9.Non-elective admissions - Map'!$C$5:$C$870,'10.Non-elective admissions -HWB'!$D24,'9.Non-elective admissions - Map'!R$5:R$870)","v":7988.6145855840623},{"$f":"SUMIF('9.Non-elective admissions - Map'!$C$5:$C$870,'10.Non-elective admissions -HWB'!$D24,'9.Non-elective admissions - Map'!S$5:S$870)","v":7950.096742438539},{"$f":"SUMIF('9.Non-elective admissions - Map'!$C$5:$C$870,'10.Non-elective admissions -HWB'!$D24,'9.Non-elective admissions - Map'!T$5:T$870)","v":7970.9073710329349},{"$f":"SUMIF('9.Non-elective admissions - Map'!$C$5:$C$870,'10.Non-elective admissions -HWB'!$D24,'9.Non-elective admissions - Map'!U$5:U$870)","v":7820.8295445893837}]
["North","Q47","Lancashire ","E06000008","Blackburn with Darwen",{"$f":"SUMIF('9.Non-elective admissions - Map'!$C$5:$C$870,'10.Non-elective admissions -HWB'!$D25,'9.Non-elective admissions - Map'!J$5:J$870)","v":4838.8146045743579},{"$f":"SUMIF('9.Non-elective admissions - Map'!$C$5:$C$870,'10.Non-elective admissions -HWB'!$D25,'9.Non-elective admissions - Map'!K$5:K$870)","v":4546.8064171475662},{"$f":"SUMIF('9.Non-elective admissions - Map'!$C$5:$C$870,'10.Non-elective admissions -HWB'!$D25,'9.Non-elective admissions - Map'!L$5:L$870)","v":4646.3869372059553},{"$f":"SUMIF('9.Non-elective admissions - Map'!$C$5:$C$870,'10.Non-elective admissions -HWB'!$D25,'9.Non-elective admissions - Map'!M$5:M$870)","v":4920.0678528825192},{"$f":"SUMIF('9.Non-elective admissions - Map'!$C$5:$C$870,'10.Non-elective admissions -HWB'!$D25,'9.Non-elective admissions - Map'!N$5:N$870)","v":4601.4094686741628},{"$f":"SUMIF('9.Non-elective admissions - Map'!$C$5:$C$870,'10.Non-elective admissions -HWB'!$D25,'9.Non-elective admissions - Map'!O$5:O$870)","v":4571.3072815005507},{"$f":"SUMIF('9.Non-elective admissions - Map'!$C$5:$C$870,'10.Non-elective admissions -HWB'!$D25,'9.Non-elective admissions - Map'!P$5:P$870)","v":4609.6348832892691},{"$f":"SUMIF('9.Non-elective admissions - Map'!$C$5:$C$870,'10.Non-elective admissions -HWB'!$D25,'9.Non-elective admissions - Map'!Q$5:Q$870)","v":4633.6225650468823},{"$f":"SUMIF('9.Non-elective admissions - Map'!$C$5:$C$870,'10.Non-elective admissions -HWB'!$D25,'9.Non-elective admissions - Map'!R$5:R$870)","v":4608.1614575320664},{"$f":"SUMIF('9.Non-elective admissions - Map'!$C$5:$C$870,'10.Non-elective admissions -HWB'!$D25,'9.Non-elective admissions - Map'!S$5:S$870)","v":4577.0784631427814},{"$f":"SUMIF('9.Non-elective admissions - Map'!$C$5:$C$870,'10.Non-elective admissions -HWB'!$D25,'9.Non-elective admissions - Map'!T$5:T$870)","v":4616.2859145328084},{"$f":"SUMIF('9.Non-elective admissions - Map'!$C$5:$C$870,'10.Non-elective admissions -HWB'!$D25,'9.Non-elective admissions - Map'!U$5:U$870)","v":4640.7936208936298}]
["North","Q47","Lancashire ","E06000009","Blackpool",{"$f":"SUMIF('9.Non-elective admissions - Map'!$C$5:$C$870,'10.Non-elective admissions -HWB'!$D26,'9.Non-elective admissions - Map'!J$5:J$870)","v":4744.2614042675405},{"$f":"SUMIF('9.Non-elective admissions - Map'!$C$5:$C$870,'10.Non-elective admissions -HWB'!$D26,'9.Non-elective admissions - Map'!K$5:K$870)","v":4724.9275482770681},{"$f":"SUMIF('9.Non-elective admissions - Map'!$C$5:$C$870,'10.Non-elective admissions -HWB'!$D26,'9.Non-elective admissions - Map'!L$5:L$870)","v":5001.6392230778147},{"$f":"SUMIF('9.Non-elective admissions - Map'!$C$5:$C$870,'10.Non-elective admissions -HWB'!$D26,'9.Non-elective admissions - Map'!M$5:M$870)","v":4850.6622919708816},{"$f":"SUMIF('9.Non-elective admissions - Map'!$C$5:$C$870,'10.Non-elective admissions -HWB'!$D26,'9.Non-elective admissions - Map'!N$5:N$870)","v":4983.0035514359261},{"$f":"SUMIF('9.Non-elective admissions - Map'!$C$5:$C$870,'10.Non-elective admissions -HWB'!$D26,'9.Non-elective admissions - Map'!O$5:O$870)","v":4645.9658836886356},{"$f":"SUMIF('9.Non-elective admissions - Map'!$C$5:$C$870,'10.Non-elective admissions -HWB'!$D26,'9.Non-elective admissions - Map'!P$5:P$870)","v":4916.4326656503426},{"$f":"SUMIF('9.Non-elective admissions - Map'!$C$5:$C$870,'10.Non-elective admissions -HWB'!$D26,'9.Non-elective admissions - Map'!Q$5:Q$870)","v":4767.9170467433087},{"$f":"SUMIF('9.Non-elective admissions - Map'!$C$5:$C$870,'10.Non-elective admissions -HWB'!$D26,'9.Non-elective admissions - Map'!R$5:R$870)","v":4457.303316944307},{"$f":"SUMIF('9.Non-elective admissions - Map'!$C$5:$C$870,'10.Non-elective admissions -HWB'!$D26,'9.Non-elective admissions - Map'!S$5:S$870)","v":4444.3513959161437},{"$f":"SUMIF('9.Non-elective admissions - Map'!$C$5:$C$870,'10.Non-elective admissions -HWB'!$D26,'9.Non-elective admissions - Map'!T$5:T$870)","v":4756.6819161126577},{"$f":"SUMIF('9.Non-elective admissions - Map'!$C$5:$C$870,'10.Non-elective admissions -HWB'!$D26,'9.Non-elective admissions - Map'!U$5:U$870)","v":4608.9603224456296}]
["North","Q47","Lancashire ","E10000017","Lancashire",{"$f":"SUMIF('9.Non-elective admissions - Map'!$C$5:$C$870,'10.Non-elective admissions -HWB'!$D27,'9.Non-elective admissions - Map'!J$5:J$870)","v":33751.669354049016},{"$f":"SUMIF('9.Non-elective admissions - Map'!$C$5:$C$870,'10.Non-elective admissions -HWB'!$D27,'9.Non-elective admissions - Map'!K$5:K$870)","v":32436.091407585442},{"$f":"SUMIF('9.Non-elective admissions - Map'!$C$5:$C$870,'10.Non-elective admissions -HWB'!$D27,'9.Non-elective admissions - Map'!L$5:L$870)","v":34492.391564306643},{"$f":"SUMIF('9.Non-elective admissions - Map'!$C$5:$C$870,'10.Non-elective admissions -HWB'!$D27,'9.Non-elective admissions - Map'!M$5:M$870)","v":34095.053079029203},{"$f":"SUMIF('9.Non-elective admissions - Map'!$C$5:$C$870,'10.Non-elective admissions -HWB'!$D27,'9.Non-elective admissions - Map'!N$5:N$870)","v":33515.915081800973},{"$f":"SUMIF('9.Non-elective admissions - Map'!$C$5:$C$870,'10.Non-elective admissions -HWB'!$D27,'9.Non-elective admissions - Map'!O$5:O$870)","v":32614.70553708767},{"$f":"SUMIF('9.Non-elective admissions - Map'!$C$5:$C$870,'10.Non-elective admissions -HWB'!$D27,'9.Non-elective admissions - Map'!P$5:P$870)","v":34028.434016455925},{"$f":"SUMIF('9.Non-elective admissions - Map'!$C$5:$C$870,'10.Non-elective admissions -HWB'!$D27,'9.Non-elective admissions - Map'!Q$5:Q$870)","v":34083.692885365992},{"$f":"SUMIF('9.Non-elective admissions - Map'!$C$5:$C$870,'10.Non-elective admissions -HWB'!$D27,'9.Non-elective admissions - Map'!R$5:R$870)","v":32968.174626209599},{"$f":"SUMIF('9.Non-elective admissions - Map'!$C$5:$C$870,'10.Non-elective admissions -HWB'!$D27,'9.Non-elective admissions - Map'!S$5:S$870)","v":32128.377073521482},{"$f":"SUMIF('9.Non-elective admissions - Map'!$C$5:$C$870,'10.Non-elective admissions -HWB'!$D27,'9.Non-elective admissions - Map'!T$5:T$870)","v":33523.744227487819},{"$f":"SUMIF('9.Non-elective admissions - Map'!$C$5:$C$870,'10.Non-elective admissions -HWB'!$D27,'9.Non-elective admissions - Map'!U$5:U$870)","v":33586.840558252989}]
["North","Q48","Merseyside ","E06000006","Halton",{"$f":"SUMIF('9.Non-elective admissions - Map'!$C$5:$C$870,'10.Non-elective admissions -HWB'!$D28,'9.Non-elective admissions - Map'!J$5:J$870)","v":4488.8043685813955},{"$f":"SUMIF('9.Non-elective admissions - Map'!$C$5:$C$870,'10.Non-elective admissions -HWB'!$D28,'9.Non-elective admissions - Map'!K$5:K$870)","v":4158.1609696953747},{"$f":"SUMIF('9.Non-elective admissions - Map'!$C$5:$C$870,'10.Non-elective admissions -HWB'!$D28,'9.Non-elective admissions - Map'!L$5:L$870)","v":4217.1124650582569},{"$f":"SUMIF('9.Non-elective admissions - Map'!$C$5:$C$870,'10.Non-elective admissions -HWB'!$D28,'9.Non-elective admissions - Map'!M$5:M$870)","v":4241.7007247305746},{"$f":"SUMIF('9.Non-elective admissions - Map'!$C$5:$C$870,'10.Non-elective admissions -HWB'!$D28,'9.Non-elective admissions - Map'!N$5:N$870)","v":4219.725127167113},{"$f":"SUMIF('9.Non-elective admissions - Map'!$C$5:$C$870,'10.Non-elective admissions -HWB'!$D28,'9.Non-elective admissions - Map'!O$5:O$870)","v":4133.0123132022836},{"$f":"SUMIF('9.Non-elective admissions - Map'!$C$5:$C$870,'10.Non-elective admissions -HWB'!$D28,'9.Non-elective admissions - Map'!P$5:P$870)","v":4163.7438640994969},{"$f":"SUMIF('9.Non-elective admissions - Map'!$C$5:$C$870,'10.Non-elective admissions -HWB'!$D28,'9.Non-elective admissions - Map'!Q$5:Q$870)","v":4136.3246034021431},{"$f":"SUMIF('9.Non-elective admissions - Map'!$C$5:$C$870,'10.Non-elective admissions -HWB'!$D28,'9.Non-elective admissions - Map'!R$5:R$870)","v":4005.4106707474102},{"$f":"SUMIF('9.Non-elective admissions - Map'!$C$5:$C$870,'10.Non-elective admissions -HWB'!$D28,'9.Non-elective admissions - Map'!S$5:S$870)","v":3922.555024764993},{"$f":"SUMIF('9.Non-elective admissions - Map'!$C$5:$C$870,'10.Non-elective admissions -HWB'!$D28,'9.Non-elective admissions - Map'!T$5:T$870)","v":3954.267362961702},{"$f":"SUMIF('9.Non-elective admissions - Map'!$C$5:$C$870,'10.Non-elective admissions -HWB'!$D28,'9.Non-elective admissions - Map'!U$5:U$870)","v":3926.3494758314423}]
["North","Q48","Merseyside ","E08000011","Knowsley",{"$f":"SUMIF('9.Non-elective admissions - Map'!$C$5:$C$870,'10.Non-elective admissions -HWB'!$D29,'9.Non-elective admissions - Map'!J$5:J$870)","v":5316.6527564122043},{"$f":"SUMIF('9.Non-elective admissions - Map'!$C$5:$C$870,'10.Non-elective admissions -HWB'!$D29,'9.Non-elective admissions - Map'!K$5:K$870)","v":5064.1773805110242},{"$f":"SUMIF('9.Non-elective admissions - Map'!$C$5:$C$870,'10.Non-elective admissions -HWB'!$D29,'9.Non-elective admissions - Map'!L$5:L$870)","v":5012.847345112139},{"$f":"SUMIF('9.Non-elective admissions - Map'!$C$5:$C$870,'10.Non-elective admissions -HWB'!$D29,'9.Non-elective admissions - Map'!M$5:M$870)","v":5048.4215995523027},{"$f":"SUMIF('9.Non-elective admissions - Map'!$C$5:$C$870,'10.Non-elective admissions -HWB'!$D29,'9.Non-elective admissions - Map'!N$5:N$870)","v":5106.639181536083},{"$f":"SUMIF('9.Non-elective admissions - Map'!$C$5:$C$870,'10.Non-elective admissions -HWB'!$D29,'9.Non-elective admissions - Map'!O$5:O$870)","v":5025.4872454132101},{"$f":"SUMIF('9.Non-elective admissions - Map'!$C$5:$C$870,'10.Non-elective admissions -HWB'!$D29,'9.Non-elective admissions - Map'!P$5:P$870)","v":5075.0765270310758},{"$f":"SUMIF('9.Non-elective admissions - Map'!$C$5:$C$870,'10.Non-elective admissions -HWB'!$D29,'9.Non-elective admissions - Map'!Q$5:Q$870)","v":5269.2059499258512},{"$f":"SUMIF('9.Non-elective admissions - Map'!$C$5:$C$870,'10.Non-elective admissions -HWB'!$D29,'9.Non-elective admissions - Map'!R$5:R$870)","v":4991.8607047679379},{"$f":"SUMIF('9.Non-elective admissions - Map'!$C$5:$C$870,'10.Non-elective admissions -HWB'!$D29,'9.Non-elective admissions - Map'!S$5:S$870)","v":4915.0565628334471},{"$f":"SUMIF('9.Non-elective admissions - Map'!$C$5:$C$870,'10.Non-elective admissions -HWB'!$D29,'9.Non-elective admissions - Map'!T$5:T$870)","v":4961.2511406022213},{"$f":"SUMIF('9.Non-elective admissions - Map'!$C$5:$C$870,'10.Non-elective admissions -HWB'!$D29,'9.Non-elective admissions - Map'!U$5:U$870)","v":5155.6075807960387}]
["North","Q48","Merseyside ","E08000012","Liverpool",{"$f":"SUMIF('9.Non-elective admissions - Map'!$C$5:$C$870,'10.Non-elective admissions -HWB'!$D30,'9.Non-elective admissions - Map'!J$5:J$870)","v":12773.444594307433},{"$f":"SUMIF('9.Non-elective admissions - Map'!$C$5:$C$870,'10.Non-elective admissions -HWB'!$D30,'9.Non-elective admissions - Map'!K$5:K$870)","v":12749.563026333539},{"$f":"SUMIF('9.Non-elective admissions - Map'!$C$5:$C$870,'10.Non-elective admissions -HWB'!$D30,'9.Non-elective admissions - Map'!L$5:L$870)","v":13235.521920142392},{"$f":"SUMIF('9.Non-elective admissions - Map'!$C$5:$C$870,'10.Non-elective admissions -HWB'!$D30,'9.Non-elective admissions - Map'!M$5:M$870)","v":13694.047305444641},{"$f":"SUMIF('9.Non-elective admissions - Map'!$C$5:$C$870,'10.Non-elective admissions -HWB'!$D30,'9.Non-elective admissions - Map'!N$5:N$870)","v":12598.438891220814},{"$f":"SUMIF('9.Non-elective admissions - Map'!$C$5:$C$870,'10.Non-elective admissions -HWB'!$D30,'9.Non-elective admissions - Map'!O$5:O$870)","v":12731.267794159956},{"$f":"SUMIF('9.Non-elective admissions - Map'!$C$5:$C$870,'10.Non-elective admissions -HWB'!$D30,'9.Non-elective admissions - Map'!P$5:P$870)","v":12736.345624849877},{"$f":"SUMIF('9.Non-elective admissions - Map'!$C$5:$C$870,'10.Non-elective admissions -HWB'!$D30,'9.Non-elective admissions - Map'!Q$5:Q$870)","v":12495.652328660744},{"$f":"SUMIF('9.Non-elective admissions - Map'!$C$5:$C$870,'10.Non-elective admissions -HWB'!$D30,'9.Non-elective admissions - Map'!R$5:R$870)","v":12285.68987692062},{"$f":"SUMIF('9.Non-elective admissions - Map'!$C$5:$C$870,'10.Non-elective admissions -HWB'!$D30,'9.Non-elective admissions - Map'!S$5:S$870)","v":12409.455266483928},{"$f":"SUMIF('9.Non-elective admissions - Map'!$C$5:$C$870,'10.Non-elective admissions -HWB'!$D30,'9.Non-elective admissions - Map'!T$5:T$870)","v":12414.257489303471},{"$f":"SUMIF('9.Non-elective admissions - Map'!$C$5:$C$870,'10.Non-elective admissions -HWB'!$D30,'9.Non-elective admissions - Map'!U$5:U$870)","v":12310.915084154165}]
["North","Q48","Merseyside ","E08000014","Sefton",{"$f":"SUMIF('9.Non-elective admissions - Map'!$C$5:$C$870,'10.Non-elective admissions -HWB'!$D31,'9.Non-elective admissions - Map'!J$5:J$870)","v":7903.6504753854861},{"$f":"SUMIF('9.Non-elective admissions - Map'!$C$5:$C$870,'10.Non-elective admissions -HWB'!$D31,'9.Non-elective admissions - Map'!K$5:K$870)","v":7962.4627822789625},{"$f":"SUMIF('9.Non-elective admissions - Map'!$C$5:$C$870,'10.Non-elective admissions -HWB'!$D31,'9.Non-elective admissions - Map'!L$5:L$870)","v":8323.7794894259168},{"$f":"SUMIF('9.Non-elective admissions - Map'!$C$5:$C$870,'10.Non-elective admissions -HWB'!$D31,'9.Non-elective admissions - Map'!M$5:M$870)","v":8455.1350207208798},{"$f":"SUMIF('9.Non-elective admissions - Map'!$C$5:$C$870,'10.Non-elective admissions -HWB'!$D31,'9.Non-elective admissions - Map'!N$5:N$870)","v":8145.2791016893443},{"$f":"SUMIF('9.Non-elective admissions - Map'!$C$5:$C$870,'10.Non-elective admissions -HWB'!$D31,'9.Non-elective admissions - Map'!O$5:O$870)","v":8147.5843743249279},{"$f":"SUMIF('9.Non-elective admissions - Map'!$C$5:$C$870,'10.Non-elective admissions -HWB'!$D31,'9.Non-elective admissions - Map'!P$5:P$870)","v":7792.664906318324},{"$f":"SUMIF('9.Non-elective admissions - Map'!$C$5:$C$870,'10.Non-elective admissions -HWB'!$D31,'9.Non-elective admissions - Map'!Q$5:Q$870)","v":8515.1144467396571},{"$f":"SUMIF('9.Non-elective admissions - Map'!$C$5:$C$870,'10.Non-elective admissions -HWB'!$D31,'9.Non-elective admissions - Map'!R$5:R$870)","v":8019.7493882933268},{"$f":"SUMIF('9.Non-elective admissions - Map'!$C$5:$C$870,'10.Non-elective admissions -HWB'!$D31,'9.Non-elective admissions - Map'!S$5:S$870)","v":8019.9274788102748},{"$f":"SUMIF('9.Non-elective admissions - Map'!$C$5:$C$870,'10.Non-elective admissions -HWB'!$D31,'9.Non-elective admissions - Map'!T$5:T$870)","v":7670.7402201140021},{"$f":"SUMIF('9.Non-elective admissions - Map'!$C$5:$C$870,'10.Non-elective admissions -HWB'!$D31,'9.Non-elective admissions - Map'!U$5:U$870)","v":8387.6597249570495}]
["North","Q48","Merseyside ","E08000013","St. Helens",{"$f":"SUMIF('9.Non-elective admissions - Map'!$C$5:$C$870,'10.Non-elective admissions -HWB'!$D32,'9.Non-elective admissions - Map'!J$5:J$870)","v":5824.1859314463727},{"$f":"SUMIF('9.Non-elective admissions - Map'!$C$5:$C$870,'10.Non-elective admissions -HWB'!$D32,'9.Non-elective admissions - Map'!K$5:K$870)","v":5676.7016891212716},{"$f":"SUMIF('9.Non-elective admissions - Map'!$C$5:$C$870,'10.Non-elective admissions -HWB'!$D32,'9.Non-elective admissions - Map'!L$5:L$870)","v":5536.751226618836},{"$f":"SUMIF('9.Non-elective admissions - Map'!$C$5:$C$870,'10.Non-elective admissions -HWB'!$D32,'9.Non-elective admissions - Map'!M$5:M$870)","v":5581.9130714278563},{"$f":"SUMIF('9.Non-elective admissions - Map'!$C$5:$C$870,'10.Non-elective admissions -HWB'!$D32,'9.Non-elective admissions - Map'!N$5:N$870)","v":5307.0311614546044},{"$f":"SUMIF('9.Non-elective admissions - Map'!$C$5:$C$870,'10.Non-elective admissions -HWB'!$D32,'9.Non-elective admissions - Map'!O$5:O$870)","v":5184.9830381352658},{"$f":"SUMIF('9.Non-elective admissions - Map'!$C$5:$C$870,'10.Non-elective admissions -HWB'!$D32,'9.Non-elective admissions - Map'!P$5:P$870)","v":5075.6947496588546},{"$f":"SUMIF('9.Non-elective admissions - Map'!$C$5:$C$870,'10.Non-elective admissions -HWB'!$D32,'9.Non-elective admissions - Map'!Q$5:Q$870)","v":5133.4395489409862},{"$f":"SUMIF('9.Non-elective admissions - Map'!$C$5:$C$870,'10.Non-elective admissions -HWB'!$D32,'9.Non-elective admissions - Map'!R$5:R$870)","v":5175.362175636852},{"$f":"SUMIF('9.Non-elective admissions - Map'!$C$5:$C$870,'10.Non-elective admissions -HWB'!$D32,'9.Non-elective admissions - Map'!S$5:S$870)","v":5061.6499907364032},{"$f":"SUMIF('9.Non-elective admissions - Map'!$C$5:$C$870,'10.Non-elective admissions -HWB'!$D32,'9.Non-elective admissions - Map'!T$5:T$870)","v":4954.9762429339671},{"$f":"SUMIF('9.Non-elective admissions - Map'!$C$5:$C$870,'10.Non-elective admissions -HWB'!$D32,'9.Non-elective admissions - Map'!U$5:U$870)","v":5011.7232276320437}]
["North","Q49","Cumbria, Northumberland, Tyne And Wear ","E10000006","Cumbria",{"$f":"SUMIF('9.Non-elective admissions - Map'!$C$5:$C$870,'10.Non-elective admissions -HWB'!$D33,'9.Non-elective admissions - Map'!J$5:J$870)","v":13778.56341072911},{"$f":"SUMIF('9.Non-elective admissions - Map'!$C$5:$C$870,'10.Non-elective admissions -HWB'!$D33,'9.Non-elective admissions - Map'!K$5:K$870)","v":13735.4955254004},{"$f":"SUMIF('9.Non-elective admissions - Map'!$C$5:$C$870,'10.Non-elective admissions -HWB'!$D33,'9.Non-elective admissions - Map'!L$5:L$870)","v":14461.420094420031},{"$f":"SUMIF('9.Non-elective admissions - Map'!$C$5:$C$870,'10.Non-elective admissions -HWB'!$D33,'9.Non-elective admissions - Map'!M$5:M$870)","v":14609.500162182399},{"$f":"SUMIF('9.Non-elective admissions - Map'!$C$5:$C$870,'10.Non-elective admissions -HWB'!$D33,'9.Non-elective admissions - Map'!N$5:N$870)","v":13494.655140568153},{"$f":"SUMIF('9.Non-elective admissions - Map'!$C$5:$C$870,'10.Non-elective admissions -HWB'!$D33,'9.Non-elective admissions - Map'!O$5:O$870)","v":13647.228907088591},{"$f":"SUMIF('9.Non-elective admissions - Map'!$C$5:$C$870,'10.Non-elective admissions -HWB'!$D33,'9.Non-elective admissions - Map'!P$5:P$870)","v":14562.312873120056},{"$f":"SUMIF('9.Non-elective admissions - Map'!$C$5:$C$870,'10.Non-elective admissions -HWB'!$D33,'9.Non-elective admissions - Map'!Q$5:Q$870)","v":14180.4181450304},{"$f":"SUMIF('9.Non-elective admissions - Map'!$C$5:$C$870,'10.Non-elective admissions -HWB'!$D33,'9.Non-elective admissions - Map'!R$5:R$870)","v":13382.569275800004},{"$f":"SUMIF('9.Non-elective admissions - Map'!$C$5:$C$870,'10.Non-elective admissions -HWB'!$D33,'9.Non-elective admissions - Map'!S$5:S$870)","v":13532.222246050935},{"$f":"SUMIF('9.Non-elective admissions - Map'!$C$5:$C$870,'10.Non-elective admissions -HWB'!$D33,'9.Non-elective admissions - Map'!T$5:T$870)","v":14441.458415758452},{"$f":"SUMIF('9.Non-elective admissions - Map'!$C$5:$C$870,'10.Non-elective admissions -HWB'!$D33,'9.Non-elective admissions - Map'!U$5:U$870)","v":14059.565755597107}]
["North","Q49","Cumbria, Northumberland, Tyne And Wear ","E08000020","Gateshead",{"$f":"SUMIF('9.Non-elective admissions - Map'!$C$5:$C$870,'10.Non-elective admissions -HWB'!$D34,'9.Non-elective admissions - Map'!J$5:J$870)","v":6245.7354991362863},{"$f":"SUMIF('9.Non-elective admissions - Map'!$C$5:$C$870,'10.Non-elective admissions -HWB'!$D34,'9.Non-elective admissions - Map'!K$5:K$870)","v":6215.739945711377},{"$f":"SUMIF('9.Non-elective admissions - Map'!$C$5:$C$870,'10.Non-elective admissions -HWB'!$D34,'9.Non-elective admissions - Map'!L$5:L$870)","v":6501.4951543020998},{"$f":"SUMIF('9.Non-elective admissions - Map'!$C$5:$C$870,'10.Non-elective admissions -HWB'!$D34,'9.Non-elective admissions - Map'!M$5:M$870)","v":6889.8336099922008},{"$f":"SUMIF('9.Non-elective admissions - Map'!$C$5:$C$870,'10.Non-elective admissions -HWB'!$D34,'9.Non-elective admissions - Map'!N$5:N$870)","v":6238.2714991316625},{"$f":"SUMIF('9.Non-elective admissions - Map'!$C$5:$C$870,'10.Non-elective admissions -HWB'!$D34,'9.Non-elective admissions - Map'!O$5:O$870)","v":6109.8415596312116},{"$f":"SUMIF('9.Non-elective admissions - Map'!$C$5:$C$870,'10.Non-elective admissions -HWB'!$D34,'9.Non-elective admissions - Map'!P$5:P$870)","v":6377.383381672731},{"$f":"SUMIF('9.Non-elective admissions - Map'!$C$5:$C$870,'10.Non-elective admissions -HWB'!$D34,'9.Non-elective admissions - Map'!Q$5:Q$870)","v":6373.4629993393155},{"$f":"SUMIF('9.Non-elective admissions - Map'!$C$5:$C$870,'10.Non-elective admissions -HWB'!$D34,'9.Non-elective admissions - Map'!R$5:R$870)","v":6115.933464656564},{"$f":"SUMIF('9.Non-elective admissions - Map'!$C$5:$C$870,'10.Non-elective admissions -HWB'!$D34,'9.Non-elective admissions - Map'!S$5:S$870)","v":5985.5820268176903},{"$f":"SUMIF('9.Non-elective admissions - Map'!$C$5:$C$870,'10.Non-elective admissions -HWB'!$D34,'9.Non-elective admissions - Map'!T$5:T$870)","v":6254.0921812091692},{"$f":"SUMIF('9.Non-elective admissions - Map'!$C$5:$C$870,'10.Non-elective admissions -HWB'!$D34,'9.Non-elective admissions - Map'!U$5:U$870)","v":6249.1969030063001}]
["North","Q49","Cumbria, Northumberland, Tyne And Wear ","E08000021","Newcastle upon Tyne",{"$f":"SUMIF('9.Non-elective admissions - Map'!$C$5:$C$870,'10.Non-elective admissions -HWB'!$D35,'9.Non-elective admissions - Map'!J$5:J$870)","v":8507.3516487754332},{"$f":"SUMIF('9.Non-elective admissions - Map'!$C$5:$C$870,'10.Non-elective admissions -HWB'!$D35,'9.Non-elective admissions - Map'!K$5:K$870)","v":8476.0709906599132},{"$f":"SUMIF('9.Non-elective admissions - Map'!$C$5:$C$870,'10.Non-elective admissions -HWB'!$D35,'9.Non-elective admissions - Map'!L$5:L$870)","v":8950.9712574901569},{"$f":"SUMIF('9.Non-elective admissions - Map'!$C$5:$C$870,'10.Non-elective admissions -HWB'!$D35,'9.Non-elective admissions - Map'!M$5:M$870)","v":8882.9992088420531},{"$f":"SUMIF('9.Non-elective admissions - Map'!$C$5:$C$870,'10.Non-elective admissions -HWB'!$D35,'9.Non-elective admissions - Map'!N$5:N$870)","v":8181.6602486815054},{"$f":"SUMIF('9.Non-elective admissions - Map'!$C$5:$C$870,'10.Non-elective admissions -HWB'!$D35,'9.Non-elective admissions - Map'!O$5:O$870)","v":8082.1715021226},{"$f":"SUMIF('9.Non-elective admissions - Map'!$C$5:$C$870,'10.Non-elective admissions -HWB'!$D35,'9.Non-elective admissions - Map'!P$5:P$870)","v":8384.3851949358559},{"$f":"SUMIF('9.Non-elective admissions - Map'!$C$5:$C$870,'10.Non-elective admissions -HWB'!$D35,'9.Non-elective admissions - Map'!Q$5:Q$870)","v":8943.551875290199},{"$f":"SUMIF('9.Non-elective admissions - Map'!$C$5:$C$870,'10.Non-elective admissions -HWB'!$D35,'9.Non-elective admissions - Map'!R$5:R$870)","v":8017.8907902431765},{"$f":"SUMIF('9.Non-elective admissions - Map'!$C$5:$C$870,'10.Non-elective admissions -HWB'!$D35,'9.Non-elective admissions - Map'!S$5:S$870)","v":7920.6114145919391},{"$f":"SUMIF('9.Non-elective admissions - Map'!$C$5:$C$870,'10.Non-elective admissions -HWB'!$D35,'9.Non-elective admissions - Map'!T$5:T$870)","v":8213.6289384501106},{"$f":"SUMIF('9.Non-elective admissions - Map'!$C$5:$C$870,'10.Non-elective admissions -HWB'!$D35,'9.Non-elective admissions - Map'!U$5:U$870)","v":8765.5080436821863}]
["North","Q49","Cumbria, Northumberland, Tyne And Wear ","E08000022","North Tyneside",{"$f":"SUMIF('9.Non-elective admissions - Map'!$C$5:$C$870,'10.Non-elective admissions -HWB'!$D36,'9.Non-elective admissions - Map'!J$5:J$870)","v":5751.7914167597246},{"$f":"SUMIF('9.Non-elective admissions - Map'!$C$5:$C$870,'10.Non-elective admissions -HWB'!$D36,'9.Non-elective admissions - Map'!K$5:K$870)","v":5597.8063854666798},{"$f":"SUMIF('9.Non-elective admissions - Map'!$C$5:$C$870,'10.Non-elective admissions -HWB'!$D36,'9.Non-elective admissions - Map'!L$5:L$870)","v":5955.7401036463689},{"$f":"SUMIF('9.Non-elective admissions - Map'!$C$5:$C$870,'10.Non-elective admissions -HWB'!$D36,'9.Non-elective admissions - Map'!M$5:M$870)","v":6483.1576761740334},{"$f":"SUMIF('9.Non-elective admissions - Map'!$C$5:$C$870,'10.Non-elective admissions -HWB'!$D36,'9.Non-elective admissions - Map'!N$5:N$870)","v":5378.3923815495709},{"$f":"SUMIF('9.Non-elective admissions - Map'!$C$5:$C$870,'10.Non-elective admissions -HWB'!$D36,'9.Non-elective admissions - Map'!O$5:O$870)","v":5329.1627436262079},{"$f":"SUMIF('9.Non-elective admissions - Map'!$C$5:$C$870,'10.Non-elective admissions -HWB'!$D36,'9.Non-elective admissions - Map'!P$5:P$870)","v":5595.9507074343683},{"$f":"SUMIF('9.Non-elective admissions - Map'!$C$5:$C$870,'10.Non-elective admissions -HWB'!$D36,'9.Non-elective admissions - Map'!Q$5:Q$870)","v":5929.9844576598716},{"$f":"SUMIF('9.Non-elective admissions - Map'!$C$5:$C$870,'10.Non-elective admissions -HWB'!$D36,'9.Non-elective admissions - Map'!R$5:R$870)","v":5282.0954272135677},{"$f":"SUMIF('9.Non-elective admissions - Map'!$C$5:$C$870,'10.Non-elective admissions -HWB'!$D36,'9.Non-elective admissions - Map'!S$5:S$870)","v":5236.6289953031192},{"$f":"SUMIF('9.Non-elective admissions - Map'!$C$5:$C$870,'10.Non-elective admissions -HWB'!$D36,'9.Non-elective admissions - Map'!T$5:T$870)","v":5497.6889318182048},{"$f":"SUMIF('9.Non-elective admissions - Map'!$C$5:$C$870,'10.Non-elective admissions -HWB'!$D36,'9.Non-elective admissions - Map'!U$5:U$870)","v":5825.1269326059528}]
["North","Q49","Cumbria, Northumberland, Tyne And Wear ","E06000048","Northumberland",{"$f":"SUMIF('9.Non-elective admissions - Map'!$C$5:$C$870,'10.Non-elective admissions -HWB'!$D37,'9.Non-elective admissions - Map'!J$5:J$870)","v":8143.3884104503923},{"$f":"SUMIF('9.Non-elective admissions - Map'!$C$5:$C$870,'10.Non-elective admissions -HWB'!$D37,'9.Non-elective admissions - Map'!K$5:K$870)","v":8270.7820211050257},{"$f":"SUMIF('9.Non-elective admissions - Map'!$C$5:$C$870,'10.Non-elective admissions -HWB'!$D37,'9.Non-elective admissions - Map'!L$5:L$870)","v":8409.2104224667946},{"$f":"SUMIF('9.Non-elective admissions - Map'!$C$5:$C$870,'10.Non-elective admissions -HWB'!$D37,'9.Non-elective admissions - Map'!M$5:M$870)","v":8779.6105914624441},{"$f":"SUMIF('9.Non-elective admissions - Map'!$C$5:$C$870,'10.Non-elective admissions -HWB'!$D37,'9.Non-elective admissions - Map'!N$5:N$870)","v":8061.8465297042003},{"$f":"SUMIF('9.Non-elective admissions - Map'!$C$5:$C$870,'10.Non-elective admissions -HWB'!$D37,'9.Non-elective admissions - Map'!O$5:O$870)","v":8147.0640609734737},{"$f":"SUMIF('9.Non-elective admissions - Map'!$C$5:$C$870,'10.Non-elective admissions -HWB'!$D37,'9.Non-elective admissions - Map'!P$5:P$870)","v":7890.5288138786027},{"$f":"SUMIF('9.Non-elective admissions - Map'!$C$5:$C$870,'10.Non-elective admissions -HWB'!$D37,'9.Non-elective admissions - Map'!Q$5:Q$870)","v":8358.301849632202},{"$f":"SUMIF('9.Non-elective admissions - Map'!$C$5:$C$870,'10.Non-elective admissions -HWB'!$D37,'9.Non-elective admissions - Map'!R$5:R$870)","v":8082.8088859478521},{"$f":"SUMIF('9.Non-elective admissions - Map'!$C$5:$C$870,'10.Non-elective admissions -HWB'!$D37,'9.Non-elective admissions - Map'!S$5:S$870)","v":8169.0493160995557},{"$f":"SUMIF('9.Non-elective admissions - Map'!$C$5:$C$870,'10.Non-elective admissions -HWB'!$D37,'9.Non-elective admissions - Map'!T$5:T$870)","v":7911.4427894498313},{"$f":"SUMIF('9.Non-elective admissions - Map'!$C$5:$C$870,'10.Non-elective admissions -HWB'!$D37,'9.Non-elective admissions - Map'!U$5:U$870)","v":8380.0946255664676}]
["North","Q49","Cumbria, Northumberland, Tyne And Wear ","E08000023","South Tyneside",{"$f":"SUMIF('9.Non-elective admissions - Map'!$C$5:$C$870,'10.Non-elective admissions -HWB'!$D38,'9.Non-elective admissions - Map'!J$5:J$870)","v":4252.0242895842212},{"$f":"SUMIF('9.Non-elective admissions - Map'!$C$5:$C$870,'10.Non-elective admissions -HWB'!$D38,'9.Non-elective admissions - Map'!K$5:K$870)","v":4132.6170550422239},{"$f":"SUMIF('9.Non-elective admissions - Map'!$C$5:$C$870,'10.Non-elective admissions -HWB'!$D38,'9.Non-elective admissions - Map'!L$5:L$870)","v":4268.2798683008923},{"$f":"SUMIF('9.Non-elective admissions - Map'!$C$5:$C$870,'10.Non-elective admissions -HWB'!$D38,'9.Non-elective admissions - Map'!M$5:M$870)","v":4183.8206795690885},{"$f":"SUMIF('9.Non-elective admissions - Map'!$C$5:$C$870,'10.Non-elective admissions -HWB'!$D38,'9.Non-elective admissions - Map'!N$5:N$870)","v":4139.4398667980649},{"$f":"SUMIF('9.Non-elective admissions - Map'!$C$5:$C$870,'10.Non-elective admissions -HWB'!$D38,'9.Non-elective admissions - Map'!O$5:O$870)","v":4008.9689812733918},{"$f":"SUMIF('9.Non-elective admissions - Map'!$C$5:$C$870,'10.Non-elective admissions -HWB'!$D38,'9.Non-elective admissions - Map'!P$5:P$870)","v":4034.2980706971352},{"$f":"SUMIF('9.Non-elective admissions - Map'!$C$5:$C$870,'10.Non-elective admissions -HWB'!$D38,'9.Non-elective admissions - Map'!Q$5:Q$870)","v":4121.6470317392022},{"$f":"SUMIF('9.Non-elective admissions - Map'!$C$5:$C$870,'10.Non-elective admissions -HWB'!$D38,'9.Non-elective admissions - Map'!R$5:R$870)","v":4055.7462203679097},{"$f":"SUMIF('9.Non-elective admissions - Map'!$C$5:$C$870,'10.Non-elective admissions -HWB'!$D38,'9.Non-elective admissions - Map'!S$5:S$870)","v":3929.2326805429407},{"$f":"SUMIF('9.Non-elective admissions - Map'!$C$5:$C$870,'10.Non-elective admissions -HWB'!$D38,'9.Non-elective admissions - Map'!T$5:T$870)","v":3955.5552130305705},{"$f":"SUMIF('9.Non-elective admissions - Map'!$C$5:$C$870,'10.Non-elective admissions -HWB'!$D38,'9.Non-elective admissions - Map'!U$5:U$870)","v":4039.9293203995935}]
["North","Q49","Cumbria, Northumberland, Tyne And Wear ","E08000024","Sunderland",{"$f":"SUMIF('9.Non-elective admissions - Map'!$C$5:$C$870,'10.Non-elective admissions -HWB'!$D39,'9.Non-elective admissions - Map'!J$5:J$870)","v":8984.5220020681845},{"$f":"SUMIF('9.Non-elective admissions - Map'!$C$5:$C$870,'10.Non-elective admissions -HWB'!$D39,'9.Non-elective admissions - Map'!K$5:K$870)","v":7222.120417798229},{"$f":"SUMIF('9.Non-elective admissions - Map'!$C$5:$C$870,'10.Non-elective admissions -HWB'!$D39,'9.Non-elective admissions - Map'!L$5:L$870)","v":7350.8955281445778},{"$f":"SUMIF('9.Non-elective admissions - Map'!$C$5:$C$870,'10.Non-elective admissions -HWB'!$D39,'9.Non-elective admissions - Map'!M$5:M$870)","v":8046.3795563157055},{"$f":"SUMIF('9.Non-elective admissions - Map'!$C$5:$C$870,'10.Non-elective admissions -HWB'!$D39,'9.Non-elective admissions - Map'!N$5:N$870)","v":8023.580370653689},{"$f":"SUMIF('9.Non-elective admissions - Map'!$C$5:$C$870,'10.Non-elective admissions -HWB'!$D39,'9.Non-elective admissions - Map'!O$5:O$870)","v":7927.4446907264519},{"$f":"SUMIF('9.Non-elective admissions - Map'!$C$5:$C$870,'10.Non-elective admissions -HWB'!$D39,'9.Non-elective admissions - Map'!P$5:P$870)","v":8003.5694111850344},{"$f":"SUMIF('9.Non-elective admissions - Map'!$C$5:$C$870,'10.Non-elective admissions -HWB'!$D39,'9.Non-elective admissions - Map'!Q$5:Q$870)","v":7731.8596247549112},{"$f":"SUMIF('9.Non-elective admissions - Map'!$C$5:$C$870,'10.Non-elective admissions -HWB'!$D39,'9.Non-elective admissions - Map'!R$5:R$870)","v":7964.7083612795195},{"$f":"SUMIF('9.Non-elective admissions - Map'!$C$5:$C$870,'10.Non-elective admissions -HWB'!$D39,'9.Non-elective admissions - Map'!S$5:S$870)","v":7865.6139266526261},{"$f":"SUMIF('9.Non-elective admissions - Map'!$C$5:$C$870,'10.Non-elective admissions -HWB'!$D39,'9.Non-elective admissions - Map'!T$5:T$870)","v":7941.7541498338851},{"$f":"SUMIF('9.Non-elective admissions - Map'!$C$5:$C$870,'10.Non-elective admissions -HWB'!$D39,'9.Non-elective admissions - Map'!U$5:U$870)","v":7671.004777099185}]
["North","Q50","North Yorkshire And Humber ","E06000011","East Riding of Yorkshire",{"$f":"SUMIF('9.Non-elective admissions - Map'!$C$5:$C$870,'10.Non-elective admissions -HWB'!$D40,'9.Non-elective admissions - Map'!J$5:J$870)","v":8389.8489541214221},{"$f":"SUMIF('9.Non-elective admissions - Map'!$C$5:$C$870,'10.Non-elective admissions -HWB'!$D40,'9.Non-elective admissions - Map'!K$5:K$870)","v":8094.0917988225719},{"$f":"SUMIF('9.Non-elective admissions - Map'!$C$5:$C$870,'10.Non-elective admissions -HWB'!$D40,'9.Non-elective admissions - Map'!L$5:L$870)","v":8291.9013606694079},{"$f":"SUMIF('9.Non-elective admissions - Map'!$C$5:$C$870,'10.Non-elective admissions -HWB'!$D40,'9.Non-elective admissions - Map'!M$5:M$870)","v":8281.2800566917322},{"$f":"SUMIF('9.Non-elective admissions - Map'!$C$5:$C$870,'10.Non-elective admissions -HWB'!$D40,'9.Non-elective admissions - Map'!N$5:N$870)","v":8199.4642016441394},{"$f":"SUMIF('9.Non-elective admissions - Map'!$C$5:$C$870,'10.Non-elective admissions -HWB'!$D40,'9.Non-elective admissions - Map'!O$5:O$870)","v":8274.8008336500752},{"$f":"SUMIF('9.Non-elective admissions - Map'!$C$5:$C$870,'10.Non-elective admissions -HWB'!$D40,'9.Non-elective admissions - Map'!P$5:P$870)","v":8263.099442282688},{"$f":"SUMIF('9.Non-elective admissions - Map'!$C$5:$C$870,'10.Non-elective admissions -HWB'!$D40,'9.Non-elective admissions - Map'!Q$5:Q$870)","v":8074.492414916399},{"$f":"SUMIF('9.Non-elective admissions - Map'!$C$5:$C$870,'10.Non-elective admissions -HWB'!$D40,'9.Non-elective admissions - Map'!R$5:R$870)","v":8260.3619894537023},{"$f":"SUMIF('9.Non-elective admissions - Map'!$C$5:$C$870,'10.Non-elective admissions -HWB'!$D40,'9.Non-elective admissions - Map'!S$5:S$870)","v":8357.6122389562206},{"$f":"SUMIF('9.Non-elective admissions - Map'!$C$5:$C$870,'10.Non-elective admissions -HWB'!$D40,'9.Non-elective admissions - Map'!T$5:T$870)","v":8357.3792081977208},{"$f":"SUMIF('9.Non-elective admissions - Map'!$C$5:$C$870,'10.Non-elective admissions -HWB'!$D40,'9.Non-elective admissions - Map'!U$5:U$870)","v":8182.7224112014956}]
["North","Q50","North Yorkshire And Humber ","E06000010","Kingston upon Hull, City of",{"$f":"SUMIF('9.Non-elective admissions - Map'!$C$5:$C$870,'10.Non-elective admissions -HWB'!$D41,'9.Non-elective admissions - Map'!J$5:J$870)","v":7332.1048712252423},{"$f":"SUMIF('9.Non-elective admissions - Map'!$C$5:$C$870,'10.Non-elective admissions -HWB'!$D41,'9.Non-elective admissions - Map'!K$5:K$870)","v":7187.9490677592039},{"$f":"SUMIF('9.Non-elective admissions - Map'!$C$5:$C$870,'10.Non-elective admissions -HWB'!$D41,'9.Non-elective admissions - Map'!L$5:L$870)","v":7430.5224093445377},{"$f":"SUMIF('9.Non-elective admissions - Map'!$C$5:$C$870,'10.Non-elective admissions -HWB'!$D41,'9.Non-elective admissions - Map'!M$5:M$870)","v":7681.9831950083917},{"$f":"SUMIF('9.Non-elective admissions - Map'!$C$5:$C$870,'10.Non-elective admissions -HWB'!$D41,'9.Non-elective admissions - Map'!N$5:N$870)","v":7506.6977599598385},{"$f":"SUMIF('9.Non-elective admissions - Map'!$C$5:$C$870,'10.Non-elective admissions -HWB'!$D41,'9.Non-elective admissions - Map'!O$5:O$870)","v":7594.4051940163363},{"$f":"SUMIF('9.Non-elective admissions - Map'!$C$5:$C$870,'10.Non-elective admissions -HWB'!$D41,'9.Non-elective admissions - Map'!P$5:P$870)","v":7592.1686111675217},{"$f":"SUMIF('9.Non-elective admissions - Map'!$C$5:$C$870,'10.Non-elective admissions -HWB'!$D41,'9.Non-elective admissions - Map'!Q$5:Q$870)","v":7427.9366572079916},{"$f":"SUMIF('9.Non-elective admissions - Map'!$C$5:$C$870,'10.Non-elective admissions -HWB'!$D41,'9.Non-elective admissions - Map'!R$5:R$870)","v":7561.4818654028459},{"$f":"SUMIF('9.Non-elective admissions - Map'!$C$5:$C$870,'10.Non-elective admissions -HWB'!$D41,'9.Non-elective admissions - Map'!S$5:S$870)","v":7649.8659586899385},{"$f":"SUMIF('9.Non-elective admissions - Map'!$C$5:$C$870,'10.Non-elective admissions -HWB'!$D41,'9.Non-elective admissions - Map'!T$5:T$870)","v":7647.6186744874385},{"$f":"SUMIF('9.Non-elective admissions - Map'!$C$5:$C$870,'10.Non-elective admissions -HWB'!$D41,'9.Non-elective admissions - Map'!U$5:U$870)","v":7562.6778118471475}]
["North","Q50","North Yorkshire And Humber ","E06000012","North East Lincolnshire",{"$f":"SUMIF('9.Non-elective admissions - Map'!$C$5:$C$870,'10.Non-elective admissions -HWB'!$D42,'9.Non-elective admissions - Map'!J$5:J$870)","v":3443.9103441880502},{"$f":"SUMIF('9.Non-elective admissions - Map'!$C$5:$C$870,'10.Non-elective admissions -HWB'!$D42,'9.Non-elective admissions - Map'!K$5:K$870)","v":3540.9974372924216},{"$f":"SUMIF('9.Non-elective admissions - Map'!$C$5:$C$870,'10.Non-elective admissions -HWB'!$D42,'9.Non-elective admissions - Map'!L$5:L$870)","v":3550.7900787295557},{"$f":"SUMIF('9.Non-elective admissions - Map'!$C$5:$C$870,'10.Non-elective admissions -HWB'!$D42,'9.Non-elective admissions - Map'!M$5:M$870)","v":3690.8044977964923},{"$f":"SUMIF('9.Non-elective admissions - Map'!$C$5:$C$870,'10.Non-elective admissions -HWB'!$D42,'9.Non-elective admissions - Map'!N$5:N$870)","v":3474.5892253859406},{"$f":"SUMIF('9.Non-elective admissions - Map'!$C$5:$C$870,'10.Non-elective admissions -HWB'!$D42,'9.Non-elective admissions - Map'!O$5:O$870)","v":3533.6572664129144},{"$f":"SUMIF('9.Non-elective admissions - Map'!$C$5:$C$870,'10.Non-elective admissions -HWB'!$D42,'9.Non-elective admissions - Map'!P$5:P$870)","v":3506.3789008029944},{"$f":"SUMIF('9.Non-elective admissions - Map'!$C$5:$C$870,'10.Non-elective admissions -HWB'!$D42,'9.Non-elective admissions - Map'!Q$5:Q$870)","v":3424.0048397889013},{"$f":"SUMIF('9.Non-elective admissions - Map'!$C$5:$C$870,'10.Non-elective admissions -HWB'!$D42,'9.Non-elective admissions - Map'!R$5:R$870)","v":3439.3222919156196},{"$f":"SUMIF('9.Non-elective admissions - Map'!$C$5:$C$870,'10.Non-elective admissions -HWB'!$D42,'9.Non-elective admissions - Map'!S$5:S$870)","v":3530.1234505555722},{"$f":"SUMIF('9.Non-elective admissions - Map'!$C$5:$C$870,'10.Non-elective admissions -HWB'!$D42,'9.Non-elective admissions - Map'!T$5:T$870)","v":3530.3751009124726},{"$f":"SUMIF('9.Non-elective admissions - Map'!$C$5:$C$870,'10.Non-elective admissions -HWB'!$D42,'9.Non-elective admissions - Map'!U$5:U$870)","v":3438.4450471129612}]
["North","Q50","North Yorkshire And Humber ","E06000013","North Lincolnshire",{"$f":"SUMIF('9.Non-elective admissions - Map'!$C$5:$C$870,'10.Non-elective admissions -HWB'!$D43,'9.Non-elective admissions - Map'!J$5:J$870)","v":4348.7499468445694},{"$f":"SUMIF('9.Non-elective admissions - Map'!$C$5:$C$870,'10.Non-elective admissions -HWB'!$D43,'9.Non-elective admissions - Map'!K$5:K$870)","v":4456.1043421424247},{"$f":"SUMIF('9.Non-elective admissions - Map'!$C$5:$C$870,'10.Non-elective admissions -HWB'!$D43,'9.Non-elective admissions - Map'!L$5:L$870)","v":4640.1637816329485},{"$f":"SUMIF('9.Non-elective admissions - Map'!$C$5:$C$870,'10.Non-elective admissions -HWB'!$D43,'9.Non-elective admissions - Map'!M$5:M$870)","v":4648.7280706675447},{"$f":"SUMIF('9.Non-elective admissions - Map'!$C$5:$C$870,'10.Non-elective admissions -HWB'!$D43,'9.Non-elective admissions - Map'!N$5:N$870)","v":4138.7293016920057},{"$f":"SUMIF('9.Non-elective admissions - Map'!$C$5:$C$870,'10.Non-elective admissions -HWB'!$D43,'9.Non-elective admissions - Map'!O$5:O$870)","v":4183.9261003206084},{"$f":"SUMIF('9.Non-elective admissions - Map'!$C$5:$C$870,'10.Non-elective admissions -HWB'!$D43,'9.Non-elective admissions - Map'!P$5:P$870)","v":4185.6176638278712},{"$f":"SUMIF('9.Non-elective admissions - Map'!$C$5:$C$870,'10.Non-elective admissions -HWB'!$D43,'9.Non-elective admissions - Map'!Q$5:Q$870)","v":4094.462172653331},{"$f":"SUMIF('9.Non-elective admissions - Map'!$C$5:$C$870,'10.Non-elective admissions -HWB'!$D43,'9.Non-elective admissions - Map'!R$5:R$870)","v":3547.2440803840982},{"$f":"SUMIF('9.Non-elective admissions - Map'!$C$5:$C$870,'10.Non-elective admissions -HWB'!$D43,'9.Non-elective admissions - Map'!S$5:S$870)","v":3583.8577326531185},{"$f":"SUMIF('9.Non-elective admissions - Map'!$C$5:$C$870,'10.Non-elective admissions -HWB'!$D43,'9.Non-elective admissions - Map'!T$5:T$870)","v":3584.5813616588184},{"$f":"SUMIF('9.Non-elective admissions - Map'!$C$5:$C$870,'10.Non-elective admissions -HWB'!$D43,'9.Non-elective admissions - Map'!U$5:U$870)","v":3512.6236893117953}]
["North","Q50","North Yorkshire And Humber ","E10000023","North Yorkshire",{"$f":"SUMIF('9.Non-elective admissions - Map'!$C$5:$C$870,'10.Non-elective admissions -HWB'!$D44,'9.Non-elective admissions - Map'!J$5:J$870)","v":15492.781547760082},{"$f":"SUMIF('9.Non-elective admissions - Map'!$C$5:$C$870,'10.Non-elective admissions -HWB'!$D44,'9.Non-elective admissions - Map'!K$5:K$870)","v":14306.174767886989},{"$f":"SUMIF('9.Non-elective admissions - Map'!$C$5:$C$870,'10.Non-elective admissions -HWB'!$D44,'9.Non-elective admissions - Map'!L$5:L$870)","v":14859.583952527568},{"$f":"SUMIF('9.Non-elective admissions - Map'!$C$5:$C$870,'10.Non-elective admissions -HWB'!$D44,'9.Non-elective admissions - Map'!M$5:M$870)","v":14887.995632118183},{"$f":"SUMIF('9.Non-elective admissions - Map'!$C$5:$C$870,'10.Non-elective admissions -HWB'!$D44,'9.Non-elective admissions - Map'!N$5:N$870)","v":13849.974250160383},{"$f":"SUMIF('9.Non-elective admissions - Map'!$C$5:$C$870,'10.Non-elective admissions -HWB'!$D44,'9.Non-elective admissions - Map'!O$5:O$870)","v":14253.906016608684},{"$f":"SUMIF('9.Non-elective admissions - Map'!$C$5:$C$870,'10.Non-elective admissions -HWB'!$D44,'9.Non-elective admissions - Map'!P$5:P$870)","v":14417.023884851385},{"$f":"SUMIF('9.Non-elective admissions - Map'!$C$5:$C$870,'10.Non-elective admissions -HWB'!$D44,'9.Non-elective admissions - Map'!Q$5:Q$870)","v":14040.704550187736},{"$f":"SUMIF('9.Non-elective admissions - Map'!$C$5:$C$870,'10.Non-elective admissions -HWB'!$D44,'9.Non-elective admissions - Map'!R$5:R$870)","v":13649.108798627714},{"$f":"SUMIF('9.Non-elective admissions - Map'!$C$5:$C$870,'10.Non-elective admissions -HWB'!$D44,'9.Non-elective admissions - Map'!S$5:S$870)","v":13833.28839298787},{"$f":"SUMIF('9.Non-elective admissions - Map'!$C$5:$C$870,'10.Non-elective admissions -HWB'!$D44,'9.Non-elective admissions - Map'!T$5:T$870)","v":14134.732316601285},{"$f":"SUMIF('9.Non-elective admissions - Map'!$C$5:$C$870,'10.Non-elective admissions -HWB'!$D44,'9.Non-elective admissions - Map'!U$5:U$870)","v":13866.030230529828}]
["North","Q50","North Yorkshire And Humber ","E06000014","York",{"$f":"SUMIF('9.Non-elective admissions - Map'!$C$5:$C$870,'10.Non-elective admissions -HWB'!$D45,'9.Non-elective admissions - Map'!J$5:J$870)","v":5747.5209915555861},{"$f":"SUMIF('9.Non-elective admissions - Map'!$C$5:$C$870,'10.Non-elective admissions -HWB'!$D45,'9.Non-elective admissions - Map'!K$5:K$870)","v":5091.3590276975228},{"$f":"SUMIF('9.Non-elective admissions - Map'!$C$5:$C$870,'10.Non-elective admissions -HWB'!$D45,'9.Non-elective admissions - Map'!L$5:L$870)","v":4998.3479879644547},{"$f":"SUMIF('9.Non-elective admissions - Map'!$C$5:$C$870,'10.Non-elective admissions -HWB'!$D45,'9.Non-elective admissions - Map'!M$5:M$870)","v":4957.2106521555252},{"$f":"SUMIF('9.Non-elective admissions - Map'!$C$5:$C$870,'10.Non-elective admissions -HWB'!$D45,'9.Non-elective admissions - Map'!N$5:N$870)","v":4988.4568911621327},{"$f":"SUMIF('9.Non-elective admissions - Map'!$C$5:$C$870,'10.Non-elective admissions -HWB'!$D45,'9.Non-elective admissions - Map'!O$5:O$870)","v":4868.2721370481622},{"$f":"SUMIF('9.Non-elective admissions - Map'!$C$5:$C$870,'10.Non-elective admissions -HWB'!$D45,'9.Non-elective admissions - Map'!P$5:P$870)","v":4763.3469410799371},{"$f":"SUMIF('9.Non-elective admissions - Map'!$C$5:$C$870,'10.Non-elective admissions -HWB'!$D45,'9.Non-elective admissions - Map'!Q$5:Q$870)","v":4614.9642862801702},{"$f":"SUMIF('9.Non-elective admissions - Map'!$C$5:$C$870,'10.Non-elective admissions -HWB'!$D45,'9.Non-elective admissions - Map'!R$5:R$870)","v":4495.6698193398106},{"$f":"SUMIF('9.Non-elective admissions - Map'!$C$5:$C$870,'10.Non-elective admissions -HWB'!$D45,'9.Non-elective admissions - Map'!S$5:S$870)","v":4545.0859138129827},{"$f":"SUMIF('9.Non-elective admissions - Map'!$C$5:$C$870,'10.Non-elective admissions -HWB'!$D45,'9.Non-elective admissions - Map'!T$5:T$870)","v":4545.3190124830471},{"$f":"SUMIF('9.Non-elective admissions - Map'!$C$5:$C$870,'10.Non-elective admissions -HWB'!$D45,'9.Non-elective admissions - Map'!U$5:U$870)","v":4495.7274943001894}]
["North","Q51","South Yorkshire And Bassetlaw ","E08000016","Barnsley",{"$f":"SUMIF('9.Non-elective admissions - Map'!$C$5:$C$870,'10.Non-elective admissions -HWB'!$D46,'9.Non-elective admissions - Map'!J$5:J$870)","v":7421.2506376185711},{"$f":"SUMIF('9.Non-elective admissions - Map'!$C$5:$C$870,'10.Non-elective admissions -HWB'!$D46,'9.Non-elective admissions - Map'!K$5:K$870)","v":7152.8742109912282},{"$f":"SUMIF('9.Non-elective admissions - Map'!$C$5:$C$870,'10.Non-elective admissions -HWB'!$D46,'9.Non-elective admissions - Map'!L$5:L$870)","v":7488.9224787999801},{"$f":"SUMIF('9.Non-elective admissions - Map'!$C$5:$C$870,'10.Non-elective admissions -HWB'!$D46,'9.Non-elective admissions - Map'!M$5:M$870)","v":7750.4454340661368},{"$f":"SUMIF('9.Non-elective admissions - Map'!$C$5:$C$870,'10.Non-elective admissions -HWB'!$D46,'9.Non-elective admissions - Map'!N$5:N$870)","v":7553.6394038308399},{"$f":"SUMIF('9.Non-elective admissions - Map'!$C$5:$C$870,'10.Non-elective admissions -HWB'!$D46,'9.Non-elective admissions - Map'!O$5:O$870)","v":7279.5567139419354},{"$f":"SUMIF('9.Non-elective admissions - Map'!$C$5:$C$870,'10.Non-elective admissions -HWB'!$D46,'9.Non-elective admissions - Map'!P$5:P$870)","v":7613.6349850521292},{"$f":"SUMIF('9.Non-elective admissions - Map'!$C$5:$C$870,'10.Non-elective admissions -HWB'!$D46,'9.Non-elective admissions - Map'!Q$5:Q$870)","v":7585.4545521417222},{"$f":"SUMIF('9.Non-elective admissions - Map'!$C$5:$C$870,'10.Non-elective admissions -HWB'!$D46,'9.Non-elective admissions - Map'!R$5:R$870)","v":7771.6556287453623},{"$f":"SUMIF('9.Non-elective admissions - Map'!$C$5:$C$870,'10.Non-elective admissions -HWB'!$D46,'9.Non-elective admissions - Map'!S$5:S$870)","v":7490.0199437429574},{"$f":"SUMIF('9.Non-elective admissions - Map'!$C$5:$C$870,'10.Non-elective admissions -HWB'!$D46,'9.Non-elective admissions - Map'!T$5:T$870)","v":7832.566315510363},{"$f":"SUMIF('9.Non-elective admissions - Map'!$C$5:$C$870,'10.Non-elective admissions -HWB'!$D46,'9.Non-elective admissions - Map'!U$5:U$870)","v":7803.678328498243}]
["North","Q51","South Yorkshire And Bassetlaw ","E08000017","Doncaster",{"$f":"SUMIF('9.Non-elective admissions - Map'!$C$5:$C$870,'10.Non-elective admissions -HWB'!$D47,'9.Non-elective admissions - Map'!J$5:J$870)","v":9317.6727603776562},{"$f":"SUMIF('9.Non-elective admissions - Map'!$C$5:$C$870,'10.Non-elective admissions -HWB'!$D47,'9.Non-elective admissions - Map'!K$5:K$870)","v":9575.2737596969364},{"$f":"SUMIF('9.Non-elective admissions - Map'!$C$5:$C$870,'10.Non-elective admissions -HWB'!$D47,'9.Non-elective admissions - Map'!L$5:L$870)","v":9520.7054611712774},{"$f":"SUMIF('9.Non-elective admissions - Map'!$C$5:$C$870,'10.Non-elective admissions -HWB'!$D47,'9.Non-elective admissions - Map'!M$5:M$870)","v":9596.003839993582},{"$f":"SUMIF('9.Non-elective admissions - Map'!$C$5:$C$870,'10.Non-elective admissions -HWB'!$D47,'9.Non-elective admissions - Map'!N$5:N$870)","v":9194.9988719008543},{"$f":"SUMIF('9.Non-elective admissions - Map'!$C$5:$C$870,'10.Non-elective admissions -HWB'!$D47,'9.Non-elective admissions - Map'!O$5:O$870)","v":9295.3111847636646},{"$f":"SUMIF('9.Non-elective admissions - Map'!$C$5:$C$870,'10.Non-elective admissions -HWB'!$D47,'9.Non-elective admissions - Map'!P$5:P$870)","v":9407.7127221687115},{"$f":"SUMIF('9.Non-elective admissions - Map'!$C$5:$C$870,'10.Non-elective admissions -HWB'!$D47,'9.Non-elective admissions - Map'!Q$5:Q$870)","v":9015.8307625094949},{"$f":"SUMIF('9.Non-elective admissions - Map'!$C$5:$C$870,'10.Non-elective admissions -HWB'!$D47,'9.Non-elective admissions - Map'!R$5:R$870)","v":9132.1458509666663},{"$f":"SUMIF('9.Non-elective admissions - Map'!$C$5:$C$870,'10.Non-elective admissions -HWB'!$D47,'9.Non-elective admissions - Map'!S$5:S$870)","v":9230.5258766881925},{"$f":"SUMIF('9.Non-elective admissions - Map'!$C$5:$C$870,'10.Non-elective admissions -HWB'!$D47,'9.Non-elective admissions - Map'!T$5:T$870)","v":9341.0481718148149},{"$f":"SUMIF('9.Non-elective admissions - Map'!$C$5:$C$870,'10.Non-elective admissions -HWB'!$D47,'9.Non-elective admissions - Map'!U$5:U$870)","v":9041.3537920237577}]
["North","Q51","South Yorkshire And Bassetlaw ","E08000018","Rotherham",{"$f":"SUMIF('9.Non-elective admissions - Map'!$C$5:$C$870,'10.Non-elective admissions -HWB'!$D48,'9.Non-elective admissions - Map'!J$5:J$870)","v":7241.4770141846211},{"$f":"SUMIF('9.Non-elective admissions - Map'!$C$5:$C$870,'10.Non-elective admissions -HWB'!$D48,'9.Non-elective admissions - Map'!K$5:K$870)","v":7287.7422452752735},{"$f":"SUMIF('9.Non-elective admissions - Map'!$C$5:$C$870,'10.Non-elective admissions -HWB'!$D48,'9.Non-elective admissions - Map'!L$5:L$870)","v":7744.0521512722135},{"$f":"SUMIF('9.Non-elective admissions - Map'!$C$5:$C$870,'10.Non-elective admissions -HWB'!$D48,'9.Non-elective admissions - Map'!M$5:M$870)","v":7446.8943625987222},{"$f":"SUMIF('9.Non-elective admissions - Map'!$C$5:$C$870,'10.Non-elective admissions -HWB'!$D48,'9.Non-elective admissions - Map'!N$5:N$870)","v":7278.8035177351794},{"$f":"SUMIF('9.Non-elective admissions - Map'!$C$5:$C$870,'10.Non-elective admissions -HWB'!$D48,'9.Non-elective admissions - Map'!O$5:O$870)","v":7344.7979802501859},{"$f":"SUMIF('9.Non-elective admissions - Map'!$C$5:$C$870,'10.Non-elective admissions -HWB'!$D48,'9.Non-elective admissions - Map'!P$5:P$870)","v":7365.8659955455951},{"$f":"SUMIF('9.Non-elective admissions - Map'!$C$5:$C$870,'10.Non-elective admissions -HWB'!$D48,'9.Non-elective admissions - Map'!Q$5:Q$870)","v":7210.1825197736416},{"$f":"SUMIF('9.Non-elective admissions - Map'!$C$5:$C$870,'10.Non-elective admissions -HWB'!$D48,'9.Non-elective admissions - Map'!R$5:R$870)","v":7283.7663037769216},{"$f":"SUMIF('9.Non-elective admissions - Map'!$C$5:$C$870,'10.Non-elective admissions -HWB'!$D48,'9.Non-elective admissions - Map'!S$5:S$870)","v":7349.5067882382646},{"$f":"SUMIF('9.Non-elective admissions - Map'!$C$5:$C$870,'10.Non-elective admissions -HWB'!$D48,'9.Non-elective admissions - Map'!T$5:T$870)","v":7370.6654210416182},{"$f":"SUMIF('9.Non-elective admissions - Map'!$C$5:$C$870,'10.Non-elective admissions -HWB'!$D48,'9.Non-elective admissions - Map'!U$5:U$870)","v":7215.6745135241799}]
["North","Q51","South Yorkshire And Bassetlaw ","E08000019","Sheffield",{"$f":"SUMIF('9.Non-elective admissions - Map'!$C$5:$C$870,'10.Non-elective admissions -HWB'!$D49,'9.Non-elective admissions - Map'!J$5:J$870)","v":15501.67949524205},{"$f":"SUMIF('9.Non-elective admissions - Map'!$C$5:$C$870,'10.Non-elective admissions -HWB'!$D49,'9.Non-elective admissions - Map'!K$5:K$870)","v":14832.42008193432},{"$f":"SUMIF('9.Non-elective admissions - Map'!$C$5:$C$870,'10.Non-elective admissions -HWB'!$D49,'9.Non-elective admissions - Map'!L$5:L$870)","v":16046.942985682403},{"$f":"SUMIF('9.Non-elective admissions - Map'!$C$5:$C$870,'10.Non-elective admissions -HWB'!$D49,'9.Non-elective admissions - Map'!M$5:M$870)","v":15351.33576239749},{"$f":"SUMIF('9.Non-elective admissions - Map'!$C$5:$C$870,'10.Non-elective admissions -HWB'!$D49,'9.Non-elective admissions - Map'!N$5:N$870)","v":13714.424662373413},{"$f":"SUMIF('9.Non-elective admissions - Map'!$C$5:$C$870,'10.Non-elective admissions -HWB'!$D49,'9.Non-elective admissions - Map'!O$5:O$870)","v":13808.786392878261},{"$f":"SUMIF('9.Non-elective admissions - Map'!$C$5:$C$870,'10.Non-elective admissions -HWB'!$D49,'9.Non-elective admissions - Map'!P$5:P$870)","v":14915.977142564274},{"$f":"SUMIF('9.Non-elective admissions - Map'!$C$5:$C$870,'10.Non-elective admissions -HWB'!$D49,'9.Non-elective admissions - Map'!Q$5:Q$870)","v":14710.956468347356},{"$f":"SUMIF('9.Non-elective admissions - Map'!$C$5:$C$870,'10.Non-elective admissions -HWB'!$D49,'9.Non-elective admissions - Map'!R$5:R$870)","v":13514.816827783596},{"$f":"SUMIF('9.Non-elective admissions - Map'!$C$5:$C$870,'10.Non-elective admissions -HWB'!$D49,'9.Non-elective admissions - Map'!S$5:S$870)","v":13611.404484982459},{"$f":"SUMIF('9.Non-elective admissions - Map'!$C$5:$C$870,'10.Non-elective admissions -HWB'!$D49,'9.Non-elective admissions - Map'!T$5:T$870)","v":14688.588181653893},{"$f":"SUMIF('9.Non-elective admissions - Map'!$C$5:$C$870,'10.Non-elective admissions -HWB'!$D49,'9.Non-elective admissions - Map'!U$5:U$870)","v":14508.123817521115}]
["North","Q52","West Yorkshire ","E08000032","Bradford",{"$f":"SUMIF('9.Non-elective admissions - Map'!$C$5:$C$870,'10.Non-elective admissions -HWB'!$D50,'9.Non-elective admissions - Map'!J$5:J$870)","v":15000.341314531093},{"$f":"SUMIF('9.Non-elective admissions - Map'!$C$5:$C$870,'10.Non-elective admissions -HWB'!$D50,'9.Non-elective admissions - Map'!K$5:K$870)","v":15247.578312522061},{"$f":"SUMIF('9.Non-elective admissions - Map'!$C$5:$C$870,'10.Non-elective admissions -HWB'!$D50,'9.Non-elective admissions - Map'!L$5:L$870)","v":15518.250585265156},{"$f":"SUMIF('9.Non-elective admissions - Map'!$C$5:$C$870,'10.Non-elective admissions -HWB'!$D50,'9.Non-elective admissions - Map'!M$5:M$870)","v":15812.668208350015},{"$f":"SUMIF('9.Non-elective admissions - Map'!$C$5:$C$870,'10.Non-elective admissions -HWB'!$D50,'9.Non-elective admissions - Map'!N$5:N$870)","v":14765.570732808461},{"$f":"SUMIF('9.Non-elective admissions - Map'!$C$5:$C$870,'10.Non-elective admissions -HWB'!$D50,'9.Non-elective admissions - Map'!O$5:O$870)","v":14615.492209007321},{"$f":"SUMIF('9.Non-elective admissions - Map'!$C$5:$C$870,'10.Non-elective admissions -HWB'!$D50,'9.Non-elective admissions - Map'!P$5:P$870)","v":14758.556900697646},{"$f":"SUMIF('9.Non-elective admissions - Map'!$C$5:$C$870,'10.Non-elective admissions -HWB'!$D50,'9.Non-elective admissions - Map'!Q$5:Q$870)","v":14940.877046153577},{"$f":"SUMIF('9.Non-elective admissions - Map'!$C$5:$C$870,'10.Non-elective admissions -HWB'!$D50,'9.Non-elective admissions - Map'!R$5:R$870)","v":13959.489275571488},{"$f":"SUMIF('9.Non-elective admissions - Map'!$C$5:$C$870,'10.Non-elective admissions -HWB'!$D50,'9.Non-elective admissions - Map'!S$5:S$870)","v":14271.508173824393},{"$f":"SUMIF('9.Non-elective admissions - Map'!$C$5:$C$870,'10.Non-elective admissions -HWB'!$D50,'9.Non-elective admissions - Map'!T$5:T$870)","v":14407.338292005701},{"$f":"SUMIF('9.Non-elective admissions - Map'!$C$5:$C$870,'10.Non-elective admissions -HWB'!$D50,'9.Non-elective admissions - Map'!U$5:U$870)","v":14605.293732070089}]
["North","Q52","West Yorkshire ","E08000033","Calderdale",{"$f":"SUMIF('9.Non-elective admissions - Map'!$C$5:$C$870,'10.Non-elective admissions -HWB'!$D51,'9.Non-elective admissions - Map'!J$5:J$870)","v":6121.0026637473029},{"$f":"SUMIF('9.Non-elective admissions - Map'!$C$5:$C$870,'10.Non-elective admissions -HWB'!$D51,'9.Non-elective admissions - Map'!K$5:K$870)","v":5860.9383685412322},{"$f":"SUMIF('9.Non-elective admissions - Map'!$C$5:$C$870,'10.Non-elective admissions -HWB'!$D51,'9.Non-elective admissions - Map'!L$5:L$870)","v":6557.5043337132256},{"$f":"SUMIF('9.Non-elective admissions - Map'!$C$5:$C$870,'10.Non-elective admissions -HWB'!$D51,'9.Non-elective admissions - Map'!M$5:M$870)","v":6023.9049184597052},{"$f":"SUMIF('9.Non-elective admissions - Map'!$C$5:$C$870,'10.Non-elective admissions -HWB'!$D51,'9.Non-elective admissions - Map'!N$5:N$870)","v":6111.5937344578624},{"$f":"SUMIF('9.Non-elective admissions - Map'!$C$5:$C$870,'10.Non-elective admissions -HWB'!$D51,'9.Non-elective admissions - Map'!O$5:O$870)","v":5849.9225789801731},{"$f":"SUMIF('9.Non-elective admissions - Map'!$C$5:$C$870,'10.Non-elective admissions -HWB'!$D51,'9.Non-elective admissions - Map'!P$5:P$870)","v":6542.4831669195719},{"$f":"SUMIF('9.Non-elective admissions - Map'!$C$5:$C$870,'10.Non-elective admissions -HWB'!$D51,'9.Non-elective admissions - Map'!Q$5:Q$870)","v":6130.3179843116541},{"$f":"SUMIF('9.Non-elective admissions - Map'!$C$5:$C$870,'10.Non-elective admissions -HWB'!$D51,'9.Non-elective admissions - Map'!R$5:R$870)","v":6077.9130793047661},{"$f":"SUMIF('9.Non-elective admissions - Map'!$C$5:$C$870,'10.Non-elective admissions -HWB'!$D51,'9.Non-elective admissions - Map'!S$5:S$870)","v":5820.8734474271969},{"$f":"SUMIF('9.Non-elective admissions - Map'!$C$5:$C$870,'10.Non-elective admissions -HWB'!$D51,'9.Non-elective admissions - Map'!T$5:T$870)","v":6509.3899901863051},{"$f":"SUMIF('9.Non-elective admissions - Map'!$C$5:$C$870,'10.Non-elective admissions -HWB'!$D51,'9.Non-elective admissions - Map'!U$5:U$870)","v":6098.2434906212484}]
["North","Q52","West Yorkshire ","E08000034","Kirklees",{"$f":"SUMIF('9.Non-elective admissions - Map'!$C$5:$C$870,'10.Non-elective admissions -HWB'!$D52,'9.Non-elective admissions - Map'!J$5:J$870)","v":11713.255842869605},{"$f":"SUMIF('9.Non-elective admissions - Map'!$C$5:$C$870,'10.Non-elective admissions -HWB'!$D52,'9.Non-elective admissions - Map'!K$5:K$870)","v":11696.709161144385},{"$f":"SUMIF('9.Non-elective admissions - Map'!$C$5:$C$870,'10.Non-elective admissions -HWB'!$D52,'9.Non-elective admissions - Map'!L$5:L$870)","v":12077.727663516371},{"$f":"SUMIF('9.Non-elective admissions - Map'!$C$5:$C$870,'10.Non-elective admissions -HWB'!$D52,'9.Non-elective admissions - Map'!M$5:M$870)","v":11539.558641884916},{"$f":"SUMIF('9.Non-elective admissions - Map'!$C$5:$C$870,'10.Non-elective admissions -HWB'!$D52,'9.Non-elective admissions - Map'!N$5:N$870)","v":11677.673598979927},{"$f":"SUMIF('9.Non-elective admissions - Map'!$C$5:$C$870,'10.Non-elective admissions -HWB'!$D52,'9.Non-elective admissions - Map'!O$5:O$870)","v":11673.436538539321},{"$f":"SUMIF('9.Non-elective admissions - Map'!$C$5:$C$870,'10.Non-elective admissions -HWB'!$D52,'9.Non-elective admissions - Map'!P$5:P$870)","v":12050.07183757307},{"$f":"SUMIF('9.Non-elective admissions - Map'!$C$5:$C$870,'10.Non-elective admissions -HWB'!$D52,'9.Non-elective admissions - Map'!Q$5:Q$870)","v":11472.220448901666},{"$f":"SUMIF('9.Non-elective admissions - Map'!$C$5:$C$870,'10.Non-elective admissions -HWB'!$D52,'9.Non-elective admissions - Map'!R$5:R$870)","v":11647.622845427561},{"$f":"SUMIF('9.Non-elective admissions - Map'!$C$5:$C$870,'10.Non-elective admissions -HWB'!$D52,'9.Non-elective admissions - Map'!S$5:S$870)","v":11648.09082815068},{"$f":"SUMIF('9.Non-elective admissions - Map'!$C$5:$C$870,'10.Non-elective admissions -HWB'!$D52,'9.Non-elective admissions - Map'!T$5:T$870)","v":12023.698786863692},{"$f":"SUMIF('9.Non-elective admissions - Map'!$C$5:$C$870,'10.Non-elective admissions -HWB'!$D52,'9.Non-elective admissions - Map'!U$5:U$870)","v":11445.777091548123}]
["North","Q52","West Yorkshire ","E08000035","Leeds",{"$f":"SUMIF('9.Non-elective admissions - Map'!$C$5:$C$870,'10.Non-elective admissions -HWB'!$D53,'9.Non-elective admissions - Map'!J$5:J$870)","v":18205.321004845868},{"$f":"SUMIF('9.Non-elective admissions - Map'!$C$5:$C$870,'10.Non-elective admissions -HWB'!$D53,'9.Non-elective admissions - Map'!K$5:K$870)","v":18132.425743962223},{"$f":"SUMIF('9.Non-elective admissions - Map'!$C$5:$C$870,'10.Non-elective admissions -HWB'!$D53,'9.Non-elective admissions - Map'!L$5:L$870)","v":17634.623465243483},{"$f":"SUMIF('9.Non-elective admissions - Map'!$C$5:$C$870,'10.Non-elective admissions -HWB'!$D53,'9.Non-elective admissions - Map'!M$5:M$870)","v":17680.226507808427},{"$f":"SUMIF('9.Non-elective admissions - Map'!$C$5:$C$870,'10.Non-elective admissions -HWB'!$D53,'9.Non-elective admissions - Map'!N$5:N$870)","v":16431.486239230744},{"$f":"SUMIF('9.Non-elective admissions - Map'!$C$5:$C$870,'10.Non-elective admissions -HWB'!$D53,'9.Non-elective admissions - Map'!O$5:O$870)","v":16604.663136603554},{"$f":"SUMIF('9.Non-elective admissions - Map'!$C$5:$C$870,'10.Non-elective admissions -HWB'!$D53,'9.Non-elective admissions - Map'!P$5:P$870)","v":16611.093399246685},{"$f":"SUMIF('9.Non-elective admissions - Map'!$C$5:$C$870,'10.Non-elective admissions -HWB'!$D53,'9.Non-elective admissions - Map'!Q$5:Q$870)","v":16248.589234661906},{"$f":"SUMIF('9.Non-elective admissions - Map'!$C$5:$C$870,'10.Non-elective admissions -HWB'!$D53,'9.Non-elective admissions - Map'!R$5:R$870)","v":16127.927792345283},{"$f":"SUMIF('9.Non-elective admissions - Map'!$C$5:$C$870,'10.Non-elective admissions -HWB'!$D53,'9.Non-elective admissions - Map'!S$5:S$870)","v":16302.773896815892},{"$f":"SUMIF('9.Non-elective admissions - Map'!$C$5:$C$870,'10.Non-elective admissions -HWB'!$D53,'9.Non-elective admissions - Map'!T$5:T$870)","v":16310.240338560572},{"$f":"SUMIF('9.Non-elective admissions - Map'!$C$5:$C$870,'10.Non-elective admissions -HWB'!$D53,'9.Non-elective admissions - Map'!U$5:U$870)","v":15955.024252381523}]
["North","Q52","West Yorkshire ","E08000036","Wakefield",{"$f":"SUMIF('9.Non-elective admissions - Map'!$C$5:$C$870,'10.Non-elective admissions -HWB'!$D54,'9.Non-elective admissions - Map'!J$5:J$870)","v":10452.475418503054},{"$f":"SUMIF('9.Non-elective admissions - Map'!$C$5:$C$870,'10.Non-elective admissions -HWB'!$D54,'9.Non-elective admissions - Map'!K$5:K$870)","v":9658.5235920723298},{"$f":"SUMIF('9.Non-elective admissions - Map'!$C$5:$C$870,'10.Non-elective admissions -HWB'!$D54,'9.Non-elective admissions - Map'!L$5:L$870)","v":10045.102099786487},{"$f":"SUMIF('9.Non-elective admissions - Map'!$C$5:$C$870,'10.Non-elective admissions -HWB'!$D54,'9.Non-elective admissions - Map'!M$5:M$870)","v":10167.140071106338},{"$f":"SUMIF('9.Non-elective admissions - Map'!$C$5:$C$870,'10.Non-elective admissions -HWB'!$D54,'9.Non-elective admissions - Map'!N$5:N$870)","v":10520.705125677252},{"$f":"SUMIF('9.Non-elective admissions - Map'!$C$5:$C$870,'10.Non-elective admissions -HWB'!$D54,'9.Non-elective admissions - Map'!O$5:O$870)","v":10482.231213156454},{"$f":"SUMIF('9.Non-elective admissions - Map'!$C$5:$C$870,'10.Non-elective admissions -HWB'!$D54,'9.Non-elective admissions - Map'!P$5:P$870)","v":10886.02435938678},{"$f":"SUMIF('9.Non-elective admissions - Map'!$C$5:$C$870,'10.Non-elective admissions -HWB'!$D54,'9.Non-elective admissions - Map'!Q$5:Q$870)","v":10483.937784517171},{"$f":"SUMIF('9.Non-elective admissions - Map'!$C$5:$C$870,'10.Non-elective admissions -HWB'!$D54,'9.Non-elective admissions - Map'!R$5:R$870)","v":10621.274417522918},{"$f":"SUMIF('9.Non-elective admissions - Map'!$C$5:$C$870,'10.Non-elective admissions -HWB'!$D54,'9.Non-elective admissions - Map'!S$5:S$870)","v":10582.727378427653},{"$f":"SUMIF('9.Non-elective admissions - Map'!$C$5:$C$870,'10.Non-elective admissions -HWB'!$D54,'9.Non-elective admissions - Map'!T$5:T$870)","v":10992.251181016467},{"$f":"SUMIF('9.Non-elective admissions - Map'!$C$5:$C$870,'10.Non-elective admissions -HWB'!$D54,'9.Non-elective admissions - Map'!U$5:U$870)","v":10584.527201229557}]
["Midlands & East","Q53","Arden, Herefordshire And Worcestershire ","E08000026","Coventry",{"$f":"SUMIF('9.Non-elective admissions - Map'!$C$5:$C$870,'10.Non-elective admissions -HWB'!$D55,'9.Non-elective admissions - Map'!J$5:J$870)","v":8117.785551340954},{"$f":"SUMIF('9.Non-elective admissions - Map'!$C$5:$C$870,'10.Non-elective admissions -HWB'!$D55,'9.Non-elective admissions - Map'!K$5:K$870)","v":7965.5390999006913},{"$f":"SUMIF('9.Non-elective admissions - Map'!$C$5:$C$870,'10.Non-elective admissions -HWB'!$D55,'9.Non-elective admissions - Map'!L$5:L$870)","v":8363.8590133725356},{"$f":"SUMIF('9.Non-elective admissions - Map'!$C$5:$C$870,'10.Non-elective admissions -HWB'!$D55,'9.Non-elective admissions - Map'!M$5:M$870)","v":8144.571626942542},{"$f":"SUMIF('9.Non-elective admissions - Map'!$C$5:$C$870,'10.Non-elective admissions -HWB'!$D55,'9.Non-elective admissions - Map'!N$5:N$870)","v":7892.9524927884604},{"$f":"SUMIF('9.Non-elective admissions - Map'!$C$5:$C$870,'10.Non-elective admissions -HWB'!$D55,'9.Non-elective admissions - Map'!O$5:O$870)","v":7979.6882344440201},{"$f":"SUMIF('9.Non-elective admissions - Map'!$C$5:$C$870,'10.Non-elective admissions -HWB'!$D55,'9.Non-elective admissions - Map'!P$5:P$870)","v":7979.6882344440201},{"$f":"SUMIF('9.Non-elective admissions - Map'!$C$5:$C$870,'10.Non-elective admissions -HWB'!$D55,'9.Non-elective admissions - Map'!Q$5:Q$870)","v":7806.2167511188991},{"$f":"SUMIF('9.Non-elective admissions - Map'!$C$5:$C$870,'10.Non-elective admissions -HWB'!$D55,'9.Non-elective admissions - Map'!R$5:R$870)","v":7552.6911116363272},{"$f":"SUMIF('9.Non-elective admissions - Map'!$C$5:$C$870,'10.Non-elective admissions -HWB'!$D55,'9.Non-elective admissions - Map'!S$5:S$870)","v":7635.6945507195805},{"$f":"SUMIF('9.Non-elective admissions - Map'!$C$5:$C$870,'10.Non-elective admissions -HWB'!$D55,'9.Non-elective admissions - Map'!T$5:T$870)","v":7635.6945507195805},{"$f":"SUMIF('9.Non-elective admissions - Map'!$C$5:$C$870,'10.Non-elective admissions -HWB'!$D55,'9.Non-elective admissions - Map'!U$5:U$870)","v":7552.6324476714426}]
["Midlands & East","Q53","Arden, Herefordshire And Worcestershire ","E06000019","Herefordshire, County of",{"$f":"SUMIF('9.Non-elective admissions - Map'!$C$5:$C$870,'10.Non-elective admissions -HWB'!$D56,'9.Non-elective admissions - Map'!J$5:J$870)","v":3735.0495390802184},{"$f":"SUMIF('9.Non-elective admissions - Map'!$C$5:$C$870,'10.Non-elective admissions -HWB'!$D56,'9.Non-elective admissions - Map'!K$5:K$870)","v":3736.0388315046425},{"$f":"SUMIF('9.Non-elective admissions - Map'!$C$5:$C$870,'10.Non-elective admissions -HWB'!$D56,'9.Non-elective admissions - Map'!L$5:L$870)","v":4046.7842163984633},{"$f":"SUMIF('9.Non-elective admissions - Map'!$C$5:$C$870,'10.Non-elective admissions -HWB'!$D56,'9.Non-elective admissions - Map'!M$5:M$870)","v":4375.7432674686397},{"$f":"SUMIF('9.Non-elective admissions - Map'!$C$5:$C$870,'10.Non-elective admissions -HWB'!$D56,'9.Non-elective admissions - Map'!N$5:N$870)","v":3614.4103387409132},{"$f":"SUMIF('9.Non-elective admissions - Map'!$C$5:$C$870,'10.Non-elective admissions -HWB'!$D56,'9.Non-elective admissions - Map'!O$5:O$870)","v":3337.5889543893541},{"$f":"SUMIF('9.Non-elective admissions - Map'!$C$5:$C$870,'10.Non-elective admissions -HWB'!$D56,'9.Non-elective admissions - Map'!P$5:P$870)","v":3666.0887584028824},{"$f":"SUMIF('9.Non-elective admissions - Map'!$C$5:$C$870,'10.Non-elective admissions -HWB'!$D56,'9.Non-elective admissions - Map'!Q$5:Q$870)","v":3595.4905003575154},{"$f":"SUMIF('9.Non-elective admissions - Map'!$C$5:$C$870,'10.Non-elective admissions -HWB'!$D56,'9.Non-elective admissions - Map'!R$5:R$870)","v":3428.0470630784275},{"$f":"SUMIF('9.Non-elective admissions - Map'!$C$5:$C$870,'10.Non-elective admissions -HWB'!$D56,'9.Non-elective admissions - Map'!S$5:S$870)","v":3187.8939011561647},{"$f":"SUMIF('9.Non-elective admissions - Map'!$C$5:$C$870,'10.Non-elective admissions -HWB'!$D56,'9.Non-elective admissions - Map'!T$5:T$870)","v":3567.8854276853258},{"$f":"SUMIF('9.Non-elective admissions - Map'!$C$5:$C$870,'10.Non-elective admissions -HWB'!$D56,'9.Non-elective admissions - Map'!U$5:U$870)","v":3556.4244477136181}]
["Midlands & East","Q53","Arden, Herefordshire And Worcestershire ","E10000031","Warwickshire",{"$f":"SUMIF('9.Non-elective admissions - Map'!$C$5:$C$870,'10.Non-elective admissions -HWB'!$D57,'9.Non-elective admissions - Map'!J$5:J$870)","v":12828.453458031736},{"$f":"SUMIF('9.Non-elective admissions - Map'!$C$5:$C$870,'10.Non-elective admissions -HWB'!$D57,'9.Non-elective admissions - Map'!K$5:K$870)","v":12590.628724278082},{"$f":"SUMIF('9.Non-elective admissions - Map'!$C$5:$C$870,'10.Non-elective admissions -HWB'!$D57,'9.Non-elective admissions - Map'!L$5:L$870)","v":13303.244041377782},{"$f":"SUMIF('9.Non-elective admissions - Map'!$C$5:$C$870,'10.Non-elective admissions -HWB'!$D57,'9.Non-elective admissions - Map'!M$5:M$870)","v":13023.82119068933},{"$f":"SUMIF('9.Non-elective admissions - Map'!$C$5:$C$870,'10.Non-elective admissions -HWB'!$D57,'9.Non-elective admissions - Map'!N$5:N$870)","v":12723.186915359989},{"$f":"SUMIF('9.Non-elective admissions - Map'!$C$5:$C$870,'10.Non-elective admissions -HWB'!$D57,'9.Non-elective admissions - Map'!O$5:O$870)","v":12862.413517488911},{"$f":"SUMIF('9.Non-elective admissions - Map'!$C$5:$C$870,'10.Non-elective admissions -HWB'!$D57,'9.Non-elective admissions - Map'!P$5:P$870)","v":12870.114588265675},{"$f":"SUMIF('9.Non-elective admissions - Map'!$C$5:$C$870,'10.Non-elective admissions -HWB'!$D57,'9.Non-elective admissions - Map'!Q$5:Q$870)","v":12589.457194758539},{"$f":"SUMIF('9.Non-elective admissions - Map'!$C$5:$C$870,'10.Non-elective admissions -HWB'!$D57,'9.Non-elective admissions - Map'!R$5:R$870)","v":12420.3239655663},{"$f":"SUMIF('9.Non-elective admissions - Map'!$C$5:$C$870,'10.Non-elective admissions -HWB'!$D57,'9.Non-elective admissions - Map'!S$5:S$870)","v":12559.124003856423},{"$f":"SUMIF('9.Non-elective admissions - Map'!$C$5:$C$870,'10.Non-elective admissions -HWB'!$D57,'9.Non-elective admissions - Map'!T$5:T$870)","v":12566.833575704812},{"$f":"SUMIF('9.Non-elective admissions - Map'!$C$5:$C$870,'10.Non-elective admissions -HWB'!$D57,'9.Non-elective admissions - Map'!U$5:U$870)","v":12399.995780998415}]
["Midlands & East","Q53","Arden, Herefordshire And Worcestershire ","E10000034","Worcestershire",{"$f":"SUMIF('9.Non-elective admissions - Map'!$C$5:$C$870,'10.Non-elective admissions -HWB'!$D58,'9.Non-elective admissions - Map'!J$5:J$870)","v":12990.92320071307},{"$f":"SUMIF('9.Non-elective admissions - Map'!$C$5:$C$870,'10.Non-elective admissions -HWB'!$D58,'9.Non-elective admissions - Map'!K$5:K$870)","v":12607.318539253638},{"$f":"SUMIF('9.Non-elective admissions - Map'!$C$5:$C$870,'10.Non-elective admissions -HWB'!$D58,'9.Non-elective admissions - Map'!L$5:L$870)","v":13608.726749195368},{"$f":"SUMIF('9.Non-elective admissions - Map'!$C$5:$C$870,'10.Non-elective admissions -HWB'!$D58,'9.Non-elective admissions - Map'!M$5:M$870)","v":12905.8517983251},{"$f":"SUMIF('9.Non-elective admissions - Map'!$C$5:$C$870,'10.Non-elective admissions -HWB'!$D58,'9.Non-elective admissions - Map'!N$5:N$870)","v":12493.408318703603},{"$f":"SUMIF('9.Non-elective admissions - Map'!$C$5:$C$870,'10.Non-elective admissions -HWB'!$D58,'9.Non-elective admissions - Map'!O$5:O$870)","v":12265.559315618591},{"$f":"SUMIF('9.Non-elective admissions - Map'!$C$5:$C$870,'10.Non-elective admissions -HWB'!$D58,'9.Non-elective admissions - Map'!P$5:P$870)","v":13275.885143575117},{"$f":"SUMIF('9.Non-elective admissions - Map'!$C$5:$C$870,'10.Non-elective admissions -HWB'!$D58,'9.Non-elective admissions - Map'!Q$5:Q$870)","v":12472.715855723694},{"$f":"SUMIF('9.Non-elective admissions - Map'!$C$5:$C$870,'10.Non-elective admissions -HWB'!$D58,'9.Non-elective admissions - Map'!R$5:R$870)","v":12005.932676533605},{"$f":"SUMIF('9.Non-elective admissions - Map'!$C$5:$C$870,'10.Non-elective admissions -HWB'!$D58,'9.Non-elective admissions - Map'!S$5:S$870)","v":11620.912250774702},{"$f":"SUMIF('9.Non-elective admissions - Map'!$C$5:$C$870,'10.Non-elective admissions -HWB'!$D58,'9.Non-elective admissions - Map'!T$5:T$870)","v":12835.392882147436},{"$f":"SUMIF('9.Non-elective admissions - Map'!$C$5:$C$870,'10.Non-elective admissions -HWB'!$D58,'9.Non-elective admissions - Map'!U$5:U$870)","v":11956.839320919316}]
["Midlands & East","Q54","Birmingham And The Black Country ","E08000025","Birmingham",{"$f":"SUMIF('9.Non-elective admissions - Map'!$C$5:$C$870,'10.Non-elective admissions -HWB'!$D59,'9.Non-elective admissions - Map'!J$5:J$870)","v":30240.926425347658},{"$f":"SUMIF('9.Non-elective admissions - Map'!$C$5:$C$870,'10.Non-elective admissions -HWB'!$D59,'9.Non-elective admissions - Map'!K$5:K$870)","v":29694.057940502913},{"$f":"SUMIF('9.Non-elective admissions - Map'!$C$5:$C$870,'10.Non-elective admissions -HWB'!$D59,'9.Non-elective admissions - Map'!L$5:L$870)","v":31253.522324101818},{"$f":"SUMIF('9.Non-elective admissions - Map'!$C$5:$C$870,'10.Non-elective admissions -HWB'!$D59,'9.Non-elective admissions - Map'!M$5:M$870)","v":31428.398253311563},{"$f":"SUMIF('9.Non-elective admissions - Map'!$C$5:$C$870,'10.Non-elective admissions -HWB'!$D59,'9.Non-elective admissions - Map'!N$5:N$870)","v":31065.912092571576},{"$f":"SUMIF('9.Non-elective admissions - Map'!$C$5:$C$870,'10.Non-elective admissions -HWB'!$D59,'9.Non-elective admissions - Map'!O$5:O$870)","v":30795.560248263955},{"$f":"SUMIF('9.Non-elective admissions - Map'!$C$5:$C$870,'10.Non-elective admissions -HWB'!$D59,'9.Non-elective admissions - Map'!P$5:P$870)","v":31041.079739897839},{"$f":"SUMIF('9.Non-elective admissions - Map'!$C$5:$C$870,'10.Non-elective admissions -HWB'!$D59,'9.Non-elective admissions - Map'!Q$5:Q$870)","v":31107.19215929601},{"$f":"SUMIF('9.Non-elective admissions - Map'!$C$5:$C$870,'10.Non-elective admissions -HWB'!$D59,'9.Non-elective admissions - Map'!R$5:R$870)","v":31286.78705911466},{"$f":"SUMIF('9.Non-elective admissions - Map'!$C$5:$C$870,'10.Non-elective admissions -HWB'!$D59,'9.Non-elective admissions - Map'!S$5:S$870)","v":31012.118184348423},{"$f":"SUMIF('9.Non-elective admissions - Map'!$C$5:$C$870,'10.Non-elective admissions -HWB'!$D59,'9.Non-elective admissions - Map'!T$5:T$870)","v":31261.316763198811},{"$f":"SUMIF('9.Non-elective admissions - Map'!$C$5:$C$870,'10.Non-elective admissions -HWB'!$D59,'9.Non-elective admissions - Map'!U$5:U$870)","v":31332.795090138905}]
["Midlands & East","Q54","Birmingham And The Black Country ","E08000027","Dudley",{"$f":"SUMIF('9.Non-elective admissions - Map'!$C$5:$C$870,'10.Non-elective admissions -HWB'!$D60,'9.Non-elective admissions - Map'!J$5:J$870)","v":8364.585157466272},{"$f":"SUMIF('9.Non-elective admissions - Map'!$C$5:$C$870,'10.Non-elective admissions -HWB'!$D60,'9.Non-elective admissions - Map'!K$5:K$870)","v":8334.1194952457299},{"$f":"SUMIF('9.Non-elective admissions - Map'!$C$5:$C$870,'10.Non-elective admissions -HWB'!$D60,'9.Non-elective admissions - Map'!L$5:L$870)","v":8533.6815774873248},{"$f":"SUMIF('9.Non-elective admissions - Map'!$C$5:$C$870,'10.Non-elective admissions -HWB'!$D60,'9.Non-elective admissions - Map'!M$5:M$870)","v":8858.5203438432509},{"$f":"SUMIF('9.Non-elective admissions - Map'!$C$5:$C$870,'10.Non-elective admissions -HWB'!$D60,'9.Non-elective admissions - Map'!N$5:N$870)","v":8252.5055365906228},{"$f":"SUMIF('9.Non-elective admissions - Map'!$C$5:$C$870,'10.Non-elective admissions -HWB'!$D60,'9.Non-elective admissions - Map'!O$5:O$870)","v":8328.3112590990422},{"$f":"SUMIF('9.Non-elective admissions - Map'!$C$5:$C$870,'10.Non-elective admissions -HWB'!$D60,'9.Non-elective admissions - Map'!P$5:P$870)","v":8334.9508419101894},{"$f":"SUMIF('9.Non-elective admissions - Map'!$C$5:$C$870,'10.Non-elective admissions -HWB'!$D60,'9.Non-elective admissions - Map'!Q$5:Q$870)","v":8177.4693640355435},{"$f":"SUMIF('9.Non-elective admissions - Map'!$C$5:$C$870,'10.Non-elective admissions -HWB'!$D60,'9.Non-elective admissions - Map'!R$5:R$870)","v":7908.2377082454268},{"$f":"SUMIF('9.Non-elective admissions - Map'!$C$5:$C$870,'10.Non-elective admissions -HWB'!$D60,'9.Non-elective admissions - Map'!S$5:S$870)","v":7981.6479501478971},{"$f":"SUMIF('9.Non-elective admissions - Map'!$C$5:$C$870,'10.Non-elective admissions -HWB'!$D60,'9.Non-elective admissions - Map'!T$5:T$870)","v":7988.3751326569864},{"$f":"SUMIF('9.Non-elective admissions - Map'!$C$5:$C$870,'10.Non-elective admissions -HWB'!$D60,'9.Non-elective admissions - Map'!U$5:U$870)","v":7838.2687156003349}]
["Midlands & East","Q54","Birmingham And The Black Country ","E08000028","Sandwell",{"$f":"SUMIF('9.Non-elective admissions - Map'!$C$5:$C$870,'10.Non-elective admissions -HWB'!$D61,'9.Non-elective admissions - Map'!J$5:J$870)","v":9185.5297383122524},{"$f":"SUMIF('9.Non-elective admissions - Map'!$C$5:$C$870,'10.Non-elective admissions -HWB'!$D61,'9.Non-elective admissions - Map'!K$5:K$870)","v":9025.3870644302151},{"$f":"SUMIF('9.Non-elective admissions - Map'!$C$5:$C$870,'10.Non-elective admissions -HWB'!$D61,'9.Non-elective admissions - Map'!L$5:L$870)","v":9373.4077711718855},{"$f":"SUMIF('9.Non-elective admissions - Map'!$C$5:$C$870,'10.Non-elective admissions -HWB'!$D61,'9.Non-elective admissions - Map'!M$5:M$870)","v":9388.0439899692356},{"$f":"SUMIF('9.Non-elective admissions - Map'!$C$5:$C$870,'10.Non-elective admissions -HWB'!$D61,'9.Non-elective admissions - Map'!N$5:N$870)","v":9409.1777993893229},{"$f":"SUMIF('9.Non-elective admissions - Map'!$C$5:$C$870,'10.Non-elective admissions -HWB'!$D61,'9.Non-elective admissions - Map'!O$5:O$870)","v":9413.7559367461436},{"$f":"SUMIF('9.Non-elective admissions - Map'!$C$5:$C$870,'10.Non-elective admissions -HWB'!$D61,'9.Non-elective admissions - Map'!P$5:P$870)","v":9413.9244654289905},{"$f":"SUMIF('9.Non-elective admissions - Map'!$C$5:$C$870,'10.Non-elective admissions -HWB'!$D61,'9.Non-elective admissions - Map'!Q$5:Q$870)","v":9408.60711977555},{"$f":"SUMIF('9.Non-elective admissions - Map'!$C$5:$C$870,'10.Non-elective admissions -HWB'!$D61,'9.Non-elective admissions - Map'!R$5:R$870)","v":9579.1046219456275},{"$f":"SUMIF('9.Non-elective admissions - Map'!$C$5:$C$870,'10.Non-elective admissions -HWB'!$D61,'9.Non-elective admissions - Map'!S$5:S$870)","v":9583.6031421712796},{"$f":"SUMIF('9.Non-elective admissions - Map'!$C$5:$C$870,'10.Non-elective admissions -HWB'!$D61,'9.Non-elective admissions - Map'!T$5:T$870)","v":9583.7812486633629},{"$f":"SUMIF('9.Non-elective admissions - Map'!$C$5:$C$870,'10.Non-elective admissions -HWB'!$D61,'9.Non-elective admissions - Map'!U$5:U$870)","v":9578.6691045152547}]
["Midlands & East","Q54","Birmingham And The Black Country ","E08000029","Solihull",{"$f":"SUMIF('9.Non-elective admissions - Map'!$C$5:$C$870,'10.Non-elective admissions -HWB'!$D62,'9.Non-elective admissions - Map'!J$5:J$870)","v":5747.0797169998141},{"$f":"SUMIF('9.Non-elective admissions - Map'!$C$5:$C$870,'10.Non-elective admissions -HWB'!$D62,'9.Non-elective admissions - Map'!K$5:K$870)","v":5732.889598323758},{"$f":"SUMIF('9.Non-elective admissions - Map'!$C$5:$C$870,'10.Non-elective admissions -HWB'!$D62,'9.Non-elective admissions - Map'!L$5:L$870)","v":6064.1884830014933},{"$f":"SUMIF('9.Non-elective admissions - Map'!$C$5:$C$870,'10.Non-elective admissions -HWB'!$D62,'9.Non-elective admissions - Map'!M$5:M$870)","v":6063.4023004277524},{"$f":"SUMIF('9.Non-elective admissions - Map'!$C$5:$C$870,'10.Non-elective admissions -HWB'!$D62,'9.Non-elective admissions - Map'!N$5:N$870)","v":5796.6786952193706},{"$f":"SUMIF('9.Non-elective admissions - Map'!$C$5:$C$870,'10.Non-elective admissions -HWB'!$D62,'9.Non-elective admissions - Map'!O$5:O$870)","v":5563.2691776192487},{"$f":"SUMIF('9.Non-elective admissions - Map'!$C$5:$C$870,'10.Non-elective admissions -HWB'!$D62,'9.Non-elective admissions - Map'!P$5:P$870)","v":5757.1500490197986},{"$f":"SUMIF('9.Non-elective admissions - Map'!$C$5:$C$870,'10.Non-elective admissions -HWB'!$D62,'9.Non-elective admissions - Map'!Q$5:Q$870)","v":5451.2656446994843},{"$f":"SUMIF('9.Non-elective admissions - Map'!$C$5:$C$870,'10.Non-elective admissions -HWB'!$D62,'9.Non-elective admissions - Map'!R$5:R$870)","v":5607.5886195391631},{"$f":"SUMIF('9.Non-elective admissions - Map'!$C$5:$C$870,'10.Non-elective admissions -HWB'!$D62,'9.Non-elective admissions - Map'!S$5:S$870)","v":5382.3802859878406},{"$f":"SUMIF('9.Non-elective admissions - Map'!$C$5:$C$870,'10.Non-elective admissions -HWB'!$D62,'9.Non-elective admissions - Map'!T$5:T$870)","v":5569.4666379266137},{"$f":"SUMIF('9.Non-elective admissions - Map'!$C$5:$C$870,'10.Non-elective admissions -HWB'!$D62,'9.Non-elective admissions - Map'!U$5:U$870)","v":5274.6975977911434}]
["Midlands & East","Q54","Birmingham And The Black Country ","E08000030","Walsall",{"$f":"SUMIF('9.Non-elective admissions - Map'!$C$5:$C$870,'10.Non-elective admissions -HWB'!$D63,'9.Non-elective admissions - Map'!J$5:J$870)","v":7396.5223836480181},{"$f":"SUMIF('9.Non-elective admissions - Map'!$C$5:$C$870,'10.Non-elective admissions -HWB'!$D63,'9.Non-elective admissions - Map'!K$5:K$870)","v":7179.1946410504261},{"$f":"SUMIF('9.Non-elective admissions - Map'!$C$5:$C$870,'10.Non-elective admissions -HWB'!$D63,'9.Non-elective admissions - Map'!L$5:L$870)","v":7464.3404448840092},{"$f":"SUMIF('9.Non-elective admissions - Map'!$C$5:$C$870,'10.Non-elective admissions -HWB'!$D63,'9.Non-elective admissions - Map'!M$5:M$870)","v":7375.7358444987349},{"$f":"SUMIF('9.Non-elective admissions - Map'!$C$5:$C$870,'10.Non-elective admissions -HWB'!$D63,'9.Non-elective admissions - Map'!N$5:N$870)","v":7111.7346009797693},{"$f":"SUMIF('9.Non-elective admissions - Map'!$C$5:$C$870,'10.Non-elective admissions -HWB'!$D63,'9.Non-elective admissions - Map'!O$5:O$870)","v":7346.9493787971287},{"$f":"SUMIF('9.Non-elective admissions - Map'!$C$5:$C$870,'10.Non-elective admissions -HWB'!$D63,'9.Non-elective admissions - Map'!P$5:P$870)","v":7271.6527424990818},{"$f":"SUMIF('9.Non-elective admissions - Map'!$C$5:$C$870,'10.Non-elective admissions -HWB'!$D63,'9.Non-elective admissions - Map'!Q$5:Q$870)","v":7195.6717931319981},{"$f":"SUMIF('9.Non-elective admissions - Map'!$C$5:$C$870,'10.Non-elective admissions -HWB'!$D63,'9.Non-elective admissions - Map'!R$5:R$870)","v":7140.3723810202127},{"$f":"SUMIF('9.Non-elective admissions - Map'!$C$5:$C$870,'10.Non-elective admissions -HWB'!$D63,'9.Non-elective admissions - Map'!S$5:S$870)","v":7376.4582204405724},{"$f":"SUMIF('9.Non-elective admissions - Map'!$C$5:$C$870,'10.Non-elective admissions -HWB'!$D63,'9.Non-elective admissions - Map'!T$5:T$870)","v":7303.0423020019389},{"$f":"SUMIF('9.Non-elective admissions - Map'!$C$5:$C$870,'10.Non-elective admissions -HWB'!$D63,'9.Non-elective admissions - Map'!U$5:U$870)","v":7225.1785250238545}]
["Midlands & East","Q54","Birmingham And The Black Country ","E08000031","Wolverhampton",{"$f":"SUMIF('9.Non-elective admissions - Map'!$C$5:$C$870,'10.Non-elective admissions -HWB'!$D64,'9.Non-elective admissions - Map'!J$5:J$870)","v":7340.9717906372261},{"$f":"SUMIF('9.Non-elective admissions - Map'!$C$5:$C$870,'10.Non-elective admissions -HWB'!$D64,'9.Non-elective admissions - Map'!K$5:K$870)","v":6963.1297989580135},{"$f":"SUMIF('9.Non-elective admissions - Map'!$C$5:$C$870,'10.Non-elective admissions -HWB'!$D64,'9.Non-elective admissions - Map'!L$5:L$870)","v":7303.0526610751813},{"$f":"SUMIF('9.Non-elective admissions - Map'!$C$5:$C$870,'10.Non-elective admissions -HWB'!$D64,'9.Non-elective admissions - Map'!M$5:M$870)","v":7102.4631382220587},{"$f":"SUMIF('9.Non-elective admissions - Map'!$C$5:$C$870,'10.Non-elective admissions -HWB'!$D64,'9.Non-elective admissions - Map'!N$5:N$870)","v":7736.169689469848},{"$f":"SUMIF('9.Non-elective admissions - Map'!$C$5:$C$870,'10.Non-elective admissions -HWB'!$D64,'9.Non-elective admissions - Map'!O$5:O$870)","v":7392.5765845430615},{"$f":"SUMIF('9.Non-elective admissions - Map'!$C$5:$C$870,'10.Non-elective admissions -HWB'!$D64,'9.Non-elective admissions - Map'!P$5:P$870)","v":7695.5816667647077},{"$f":"SUMIF('9.Non-elective admissions - Map'!$C$5:$C$870,'10.Non-elective admissions -HWB'!$D64,'9.Non-elective admissions - Map'!Q$5:Q$870)","v":8006.387204393729},{"$f":"SUMIF('9.Non-elective admissions - Map'!$C$5:$C$870,'10.Non-elective admissions -HWB'!$D64,'9.Non-elective admissions - Map'!R$5:R$870)","v":7596.5837702530289},{"$f":"SUMIF('9.Non-elective admissions - Map'!$C$5:$C$870,'10.Non-elective admissions -HWB'!$D64,'9.Non-elective admissions - Map'!S$5:S$870)","v":7260.5132347262697},{"$f":"SUMIF('9.Non-elective admissions - Map'!$C$5:$C$870,'10.Non-elective admissions -HWB'!$D64,'9.Non-elective admissions - Map'!T$5:T$870)","v":7558.0210246660299},{"$f":"SUMIF('9.Non-elective admissions - Map'!$C$5:$C$870,'10.Non-elective admissions -HWB'!$D64,'9.Non-elective admissions - Map'!U$5:U$870)","v":7865.1159402565618}]
["Midlands & East","Q55","Derbyshire And Nottinghamshire ","E06000015","Derby",{"$f":"SUMIF('9.Non-elective admissions - Map'!$C$5:$C$870,'10.Non-elective admissions -HWB'!$D65,'9.Non-elective admissions - Map'!J$5:J$870)","v":7094.9237460284394},{"$f":"SUMIF('9.Non-elective admissions - Map'!$C$5:$C$870,'10.Non-elective admissions -HWB'!$D65,'9.Non-elective admissions - Map'!K$5:K$870)","v":7167.9332517318608},{"$f":"SUMIF('9.Non-elective admissions - Map'!$C$5:$C$870,'10.Non-elective admissions -HWB'!$D65,'9.Non-elective admissions - Map'!L$5:L$870)","v":7286.9487473305899},{"$f":"SUMIF('9.Non-elective admissions - Map'!$C$5:$C$870,'10.Non-elective admissions -HWB'!$D65,'9.Non-elective admissions - Map'!M$5:M$870)","v":7333.9548674410125},{"$f":"SUMIF('9.Non-elective admissions - Map'!$C$5:$C$870,'10.Non-elective admissions -HWB'!$D65,'9.Non-elective admissions - Map'!N$5:N$870)","v":6814.5053488401445},{"$f":"SUMIF('9.Non-elective admissions - Map'!$C$5:$C$870,'10.Non-elective admissions -HWB'!$D65,'9.Non-elective admissions - Map'!O$5:O$870)","v":6903.3991375000069},{"$f":"SUMIF('9.Non-elective admissions - Map'!$C$5:$C$870,'10.Non-elective admissions -HWB'!$D65,'9.Non-elective admissions - Map'!P$5:P$870)","v":7107.3923982145316},{"$f":"SUMIF('9.Non-elective admissions - Map'!$C$5:$C$870,'10.Non-elective admissions -HWB'!$D65,'9.Non-elective admissions - Map'!Q$5:Q$870)","v":7075.0206717052524},{"$f":"SUMIF('9.Non-elective admissions - Map'!$C$5:$C$870,'10.Non-elective admissions -HWB'!$D65,'9.Non-elective admissions - Map'!R$5:R$870)","v":6518.5380759018153},{"$f":"SUMIF('9.Non-elective admissions - Map'!$C$5:$C$870,'10.Non-elective admissions -HWB'!$D65,'9.Non-elective admissions - Map'!S$5:S$870)","v":6603.571033783106},{"$f":"SUMIF('9.Non-elective admissions - Map'!$C$5:$C$870,'10.Non-elective admissions -HWB'!$D65,'9.Non-elective admissions - Map'!T$5:T$870)","v":6798.7044688131145},{"$f":"SUMIF('9.Non-elective admissions - Map'!$C$5:$C$870,'10.Non-elective admissions -HWB'!$D65,'9.Non-elective admissions - Map'!U$5:U$870)","v":6767.7387096637003}]
["Midlands & East","Q55","Derbyshire And Nottinghamshire ","E10000007","Derbyshire",{"$f":"SUMIF('9.Non-elective admissions - Map'!$C$5:$C$870,'10.Non-elective admissions -HWB'!$D66,'9.Non-elective admissions - Map'!J$5:J$870)","v":23262.64051099732},{"$f":"SUMIF('9.Non-elective admissions - Map'!$C$5:$C$870,'10.Non-elective admissions -HWB'!$D66,'9.Non-elective admissions - Map'!K$5:K$870)","v":22998.141285431862},{"$f":"SUMIF('9.Non-elective admissions - Map'!$C$5:$C$870,'10.Non-elective admissions -HWB'!$D66,'9.Non-elective admissions - Map'!L$5:L$870)","v":23778.677265452636},{"$f":"SUMIF('9.Non-elective admissions - Map'!$C$5:$C$870,'10.Non-elective admissions -HWB'!$D66,'9.Non-elective admissions - Map'!M$5:M$870)","v":23855.225469015477},{"$f":"SUMIF('9.Non-elective admissions - Map'!$C$5:$C$870,'10.Non-elective admissions -HWB'!$D66,'9.Non-elective admissions - Map'!N$5:N$870)","v":22769.992285492117},{"$f":"SUMIF('9.Non-elective admissions - Map'!$C$5:$C$870,'10.Non-elective admissions -HWB'!$D66,'9.Non-elective admissions - Map'!O$5:O$870)","v":23007.65639490282},{"$f":"SUMIF('9.Non-elective admissions - Map'!$C$5:$C$870,'10.Non-elective admissions -HWB'!$D66,'9.Non-elective admissions - Map'!P$5:P$870)","v":23706.351989347335},{"$f":"SUMIF('9.Non-elective admissions - Map'!$C$5:$C$870,'10.Non-elective admissions -HWB'!$D66,'9.Non-elective admissions - Map'!Q$5:Q$870)","v":23413.592224733799},{"$f":"SUMIF('9.Non-elective admissions - Map'!$C$5:$C$870,'10.Non-elective admissions -HWB'!$D66,'9.Non-elective admissions - Map'!R$5:R$870)","v":22320.476126757319},{"$f":"SUMIF('9.Non-elective admissions - Map'!$C$5:$C$870,'10.Non-elective admissions -HWB'!$D66,'9.Non-elective admissions - Map'!S$5:S$870)","v":22552.010791442677},{"$f":"SUMIF('9.Non-elective admissions - Map'!$C$5:$C$870,'10.Non-elective admissions -HWB'!$D66,'9.Non-elective admissions - Map'!T$5:T$870)","v":23238.736696836793},{"$f":"SUMIF('9.Non-elective admissions - Map'!$C$5:$C$870,'10.Non-elective admissions -HWB'!$D66,'9.Non-elective admissions - Map'!U$5:U$870)","v":22946.47327126671}]
["Midlands & East","Q55","Derbyshire And Nottinghamshire ","E06000018","Nottingham",{"$f":"SUMIF('9.Non-elective admissions - Map'!$C$5:$C$870,'10.Non-elective admissions -HWB'!$D67,'9.Non-elective admissions - Map'!J$5:J$870)","v":7858.0822613342152},{"$f":"SUMIF('9.Non-elective admissions - Map'!$C$5:$C$870,'10.Non-elective admissions -HWB'!$D67,'9.Non-elective admissions - Map'!K$5:K$870)","v":7739.7158530396537},{"$f":"SUMIF('9.Non-elective admissions - Map'!$C$5:$C$870,'10.Non-elective admissions -HWB'!$D67,'9.Non-elective admissions - Map'!L$5:L$870)","v":8054.8229459358226},{"$f":"SUMIF('9.Non-elective admissions - Map'!$C$5:$C$870,'10.Non-elective admissions -HWB'!$D67,'9.Non-elective admissions - Map'!M$5:M$870)","v":6836.6791783734488},{"$f":"SUMIF('9.Non-elective admissions - Map'!$C$5:$C$870,'10.Non-elective admissions -HWB'!$D67,'9.Non-elective admissions - Map'!N$5:N$870)","v":7592.0326652806689},{"$f":"SUMIF('9.Non-elective admissions - Map'!$C$5:$C$870,'10.Non-elective admissions -HWB'!$D67,'9.Non-elective admissions - Map'!O$5:O$870)","v":7616.9392562495523},{"$f":"SUMIF('9.Non-elective admissions - Map'!$C$5:$C$870,'10.Non-elective admissions -HWB'!$D67,'9.Non-elective admissions - Map'!P$5:P$870)","v":7791.9374522059034},{"$f":"SUMIF('9.Non-elective admissions - Map'!$C$5:$C$870,'10.Non-elective admissions -HWB'!$D67,'9.Non-elective admissions - Map'!Q$5:Q$870)","v":6410.95365799499},{"$f":"SUMIF('9.Non-elective admissions - Map'!$C$5:$C$870,'10.Non-elective admissions -HWB'!$D67,'9.Non-elective admissions - Map'!R$5:R$870)","v":7437.3606776016459},{"$f":"SUMIF('9.Non-elective admissions - Map'!$C$5:$C$870,'10.Non-elective admissions -HWB'!$D67,'9.Non-elective admissions - Map'!S$5:S$870)","v":7465.0125898085635},{"$f":"SUMIF('9.Non-elective admissions - Map'!$C$5:$C$870,'10.Non-elective admissions -HWB'!$D67,'9.Non-elective admissions - Map'!T$5:T$870)","v":7640.7728607978606},{"$f":"SUMIF('9.Non-elective admissions - Map'!$C$5:$C$870,'10.Non-elective admissions -HWB'!$D67,'9.Non-elective admissions - Map'!U$5:U$870)","v":6238.9557356469804}]
["Midlands & East","Q55","Derbyshire And Nottinghamshire ","E10000024","Nottinghamshire",{"$f":"SUMIF('9.Non-elective admissions - Map'!$C$5:$C$870,'10.Non-elective admissions -HWB'!$D68,'9.Non-elective admissions - Map'!J$5:J$870)","v":21071.164771537689},{"$f":"SUMIF('9.Non-elective admissions - Map'!$C$5:$C$870,'10.Non-elective admissions -HWB'!$D68,'9.Non-elective admissions - Map'!K$5:K$870)","v":20775.518233302966},{"$f":"SUMIF('9.Non-elective admissions - Map'!$C$5:$C$870,'10.Non-elective admissions -HWB'!$D68,'9.Non-elective admissions - Map'!L$5:L$870)","v":20865.948272161848},{"$f":"SUMIF('9.Non-elective admissions - Map'!$C$5:$C$870,'10.Non-elective admissions -HWB'!$D68,'9.Non-elective admissions - Map'!M$5:M$870)","v":19512.283897296824},{"$f":"SUMIF('9.Non-elective admissions - Map'!$C$5:$C$870,'10.Non-elective admissions -HWB'!$D68,'9.Non-elective admissions - Map'!N$5:N$870)","v":20324.812965608584},{"$f":"SUMIF('9.Non-elective admissions - Map'!$C$5:$C$870,'10.Non-elective admissions -HWB'!$D68,'9.Non-elective admissions - Map'!O$5:O$870)","v":20264.30819770473},{"$f":"SUMIF('9.Non-elective admissions - Map'!$C$5:$C$870,'10.Non-elective admissions -HWB'!$D68,'9.Non-elective admissions - Map'!P$5:P$870)","v":20330.004391150556},{"$f":"SUMIF('9.Non-elective admissions - Map'!$C$5:$C$870,'10.Non-elective admissions -HWB'!$D68,'9.Non-elective admissions - Map'!Q$5:Q$870)","v":18974.075138676584},{"$f":"SUMIF('9.Non-elective admissions - Map'!$C$5:$C$870,'10.Non-elective admissions -HWB'!$D68,'9.Non-elective admissions - Map'!R$5:R$870)","v":19023.291486901067},{"$f":"SUMIF('9.Non-elective admissions - Map'!$C$5:$C$870,'10.Non-elective admissions -HWB'!$D68,'9.Non-elective admissions - Map'!S$5:S$870)","v":18952.736727548745},{"$f":"SUMIF('9.Non-elective admissions - Map'!$C$5:$C$870,'10.Non-elective admissions -HWB'!$D68,'9.Non-elective admissions - Map'!T$5:T$870)","v":18984.647467208266},{"$f":"SUMIF('9.Non-elective admissions - Map'!$C$5:$C$870,'10.Non-elective admissions -HWB'!$D68,'9.Non-elective admissions - Map'!U$5:U$870)","v":17601.795366125967}]
["Midlands & East","Q56","East Anglia ","E10000003","Cambridgeshire",{"$f":"SUMIF('9.Non-elective admissions - Map'!$C$5:$C$870,'10.Non-elective admissions -HWB'!$D69,'9.Non-elective admissions - Map'!J$5:J$870)","v":12978.486416247228},{"$f":"SUMIF('9.Non-elective admissions - Map'!$C$5:$C$870,'10.Non-elective admissions -HWB'!$D69,'9.Non-elective admissions - Map'!K$5:K$870)","v":13242.712368425529},{"$f":"SUMIF('9.Non-elective admissions - Map'!$C$5:$C$870,'10.Non-elective admissions -HWB'!$D69,'9.Non-elective admissions - Map'!L$5:L$870)","v":13944.918459669372},{"$f":"SUMIF('9.Non-elective admissions - Map'!$C$5:$C$870,'10.Non-elective admissions -HWB'!$D69,'9.Non-elective admissions - Map'!M$5:M$870)","v":13787.507597228014},{"$f":"SUMIF('9.Non-elective admissions - Map'!$C$5:$C$870,'10.Non-elective admissions -HWB'!$D69,'9.Non-elective admissions - Map'!N$5:N$870)","v":12956.28950978693},{"$f":"SUMIF('9.Non-elective admissions - Map'!$C$5:$C$870,'10.Non-elective admissions -HWB'!$D69,'9.Non-elective admissions - Map'!O$5:O$870)","v":13186.904125250298},{"$f":"SUMIF('9.Non-elective admissions - Map'!$C$5:$C$870,'10.Non-elective admissions -HWB'!$D69,'9.Non-elective admissions - Map'!P$5:P$870)","v":13868.06906640196},{"$f":"SUMIF('9.Non-elective admissions - Map'!$C$5:$C$870,'10.Non-elective admissions -HWB'!$D69,'9.Non-elective admissions - Map'!Q$5:Q$870)","v":13521.818844119427},{"$f":"SUMIF('9.Non-elective admissions - Map'!$C$5:$C$870,'10.Non-elective admissions -HWB'!$D69,'9.Non-elective admissions - Map'!R$5:R$870)","v":12847.831229641461},{"$f":"SUMIF('9.Non-elective admissions - Map'!$C$5:$C$870,'10.Non-elective admissions -HWB'!$D69,'9.Non-elective admissions - Map'!S$5:S$870)","v":13079.226970751526},{"$f":"SUMIF('9.Non-elective admissions - Map'!$C$5:$C$870,'10.Non-elective admissions -HWB'!$D69,'9.Non-elective admissions - Map'!T$5:T$870)","v":13748.162887185226},{"$f":"SUMIF('9.Non-elective admissions - Map'!$C$5:$C$870,'10.Non-elective admissions -HWB'!$D69,'9.Non-elective admissions - Map'!U$5:U$870)","v":13410.237383633852}]
["Midlands & East","Q56","East Anglia ","E10000020","Norfolk",{"$f":"SUMIF('9.Non-elective admissions - Map'!$C$5:$C$870,'10.Non-elective admissions -HWB'!$D70,'9.Non-elective admissions - Map'!J$5:J$870)","v":22136.994910014142},{"$f":"SUMIF('9.Non-elective admissions - Map'!$C$5:$C$870,'10.Non-elective admissions -HWB'!$D70,'9.Non-elective admissions - Map'!K$5:K$870)","v":21911.695916206703},{"$f":"SUMIF('9.Non-elective admissions - Map'!$C$5:$C$870,'10.Non-elective admissions -HWB'!$D70,'9.Non-elective admissions - Map'!L$5:L$870)","v":22592.041132014772},{"$f":"SUMIF('9.Non-elective admissions - Map'!$C$5:$C$870,'10.Non-elective admissions -HWB'!$D70,'9.Non-elective admissions - Map'!M$5:M$870)","v":22901.547357046729},{"$f":"SUMIF('9.Non-elective admissions - Map'!$C$5:$C$870,'10.Non-elective admissions -HWB'!$D70,'9.Non-elective admissions - Map'!N$5:N$870)","v":22966.608877797131},{"$f":"SUMIF('9.Non-elective admissions - Map'!$C$5:$C$870,'10.Non-elective admissions -HWB'!$D70,'9.Non-elective admissions - Map'!O$5:O$870)","v":22709.52610016071},{"$f":"SUMIF('9.Non-elective admissions - Map'!$C$5:$C$870,'10.Non-elective admissions -HWB'!$D70,'9.Non-elective admissions - Map'!P$5:P$870)","v":23020.855175129294},{"$f":"SUMIF('9.Non-elective admissions - Map'!$C$5:$C$870,'10.Non-elective admissions -HWB'!$D70,'9.Non-elective admissions - Map'!Q$5:Q$870)","v":22261.019298612377},{"$f":"SUMIF('9.Non-elective admissions - Map'!$C$5:$C$870,'10.Non-elective admissions -HWB'!$D70,'9.Non-elective admissions - Map'!R$5:R$870)","v":22718.838904798024},{"$f":"SUMIF('9.Non-elective admissions - Map'!$C$5:$C$870,'10.Non-elective admissions -HWB'!$D70,'9.Non-elective admissions - Map'!S$5:S$870)","v":22460.001738886636},{"$f":"SUMIF('9.Non-elective admissions - Map'!$C$5:$C$870,'10.Non-elective admissions -HWB'!$D70,'9.Non-elective admissions - Map'!T$5:T$870)","v":22962.028863170068},{"$f":"SUMIF('9.Non-elective admissions - Map'!$C$5:$C$870,'10.Non-elective admissions -HWB'!$D70,'9.Non-elective admissions - Map'!U$5:U$870)","v":22200.067636368971}]
["Midlands & East","Q56","East Anglia ","E06000031","Peterborough",{"$f":"SUMIF('9.Non-elective admissions - Map'!$C$5:$C$870,'10.Non-elective admissions -HWB'!$D71,'9.Non-elective admissions - Map'!J$5:J$870)","v":4043.6760212922991},{"$f":"SUMIF('9.Non-elective admissions - Map'!$C$5:$C$870,'10.Non-elective admissions -HWB'!$D71,'9.Non-elective admissions - Map'!K$5:K$870)","v":4121.9805890072603},{"$f":"SUMIF('9.Non-elective admissions - Map'!$C$5:$C$870,'10.Non-elective admissions -HWB'!$D71,'9.Non-elective admissions - Map'!L$5:L$870)","v":4350.1438366180655},{"$f":"SUMIF('9.Non-elective admissions - Map'!$C$5:$C$870,'10.Non-elective admissions -HWB'!$D71,'9.Non-elective admissions - Map'!M$5:M$870)","v":4293.8031783512843},{"$f":"SUMIF('9.Non-elective admissions - Map'!$C$5:$C$870,'10.Non-elective admissions -HWB'!$D71,'9.Non-elective admissions - Map'!N$5:N$870)","v":4038.042768142107},{"$f":"SUMIF('9.Non-elective admissions - Map'!$C$5:$C$870,'10.Non-elective admissions -HWB'!$D71,'9.Non-elective admissions - Map'!O$5:O$870)","v":4099.1230599233731},{"$f":"SUMIF('9.Non-elective admissions - Map'!$C$5:$C$870,'10.Non-elective admissions -HWB'!$D71,'9.Non-elective admissions - Map'!P$5:P$870)","v":4321.8100259273733},{"$f":"SUMIF('9.Non-elective admissions - Map'!$C$5:$C$870,'10.Non-elective admissions -HWB'!$D71,'9.Non-elective admissions - Map'!Q$5:Q$870)","v":4205.7599166938662},{"$f":"SUMIF('9.Non-elective admissions - Map'!$C$5:$C$870,'10.Non-elective admissions -HWB'!$D71,'9.Non-elective admissions - Map'!R$5:R$870)","v":4006.526427433439},{"$f":"SUMIF('9.Non-elective admissions - Map'!$C$5:$C$870,'10.Non-elective admissions -HWB'!$D71,'9.Non-elective admissions - Map'!S$5:S$870)","v":4068.0236615933791},{"$f":"SUMIF('9.Non-elective admissions - Map'!$C$5:$C$870,'10.Non-elective admissions -HWB'!$D71,'9.Non-elective admissions - Map'!T$5:T$870)","v":4285.9799597151277},{"$f":"SUMIF('9.Non-elective admissions - Map'!$C$5:$C$870,'10.Non-elective admissions -HWB'!$D71,'9.Non-elective admissions - Map'!U$5:U$870)","v":4172.1886718915539}]
["Midlands & East","Q56","East Anglia ","E10000029","Suffolk",{"$f":"SUMIF('9.Non-elective admissions - Map'!$C$5:$C$870,'10.Non-elective admissions -HWB'!$D72,'9.Non-elective admissions - Map'!J$5:J$870)","v":16285.881887121159},{"$f":"SUMIF('9.Non-elective admissions - Map'!$C$5:$C$870,'10.Non-elective admissions -HWB'!$D72,'9.Non-elective admissions - Map'!K$5:K$870)","v":15859.003888325602},{"$f":"SUMIF('9.Non-elective admissions - Map'!$C$5:$C$870,'10.Non-elective admissions -HWB'!$D72,'9.Non-elective admissions - Map'!L$5:L$870)","v":17262.916768650939},{"$f":"SUMIF('9.Non-elective admissions - Map'!$C$5:$C$870,'10.Non-elective admissions -HWB'!$D72,'9.Non-elective admissions - Map'!M$5:M$870)","v":17301.286132045956},{"$f":"SUMIF('9.Non-elective admissions - Map'!$C$5:$C$870,'10.Non-elective admissions -HWB'!$D72,'9.Non-elective admissions - Map'!N$5:N$870)","v":15393.898303170208},{"$f":"SUMIF('9.Non-elective admissions - Map'!$C$5:$C$870,'10.Non-elective admissions -HWB'!$D72,'9.Non-elective admissions - Map'!O$5:O$870)","v":15477.899532989624},{"$f":"SUMIF('9.Non-elective admissions - Map'!$C$5:$C$870,'10.Non-elective admissions -HWB'!$D72,'9.Non-elective admissions - Map'!P$5:P$870)","v":15425.524542028299},{"$f":"SUMIF('9.Non-elective admissions - Map'!$C$5:$C$870,'10.Non-elective admissions -HWB'!$D72,'9.Non-elective admissions - Map'!Q$5:Q$870)","v":15090.892344238657},{"$f":"SUMIF('9.Non-elective admissions - Map'!$C$5:$C$870,'10.Non-elective admissions -HWB'!$D72,'9.Non-elective admissions - Map'!R$5:R$870)","v":14362.887307090332},{"$f":"SUMIF('9.Non-elective admissions - Map'!$C$5:$C$870,'10.Non-elective admissions -HWB'!$D72,'9.Non-elective admissions - Map'!S$5:S$870)","v":14436.401261088018},{"$f":"SUMIF('9.Non-elective admissions - Map'!$C$5:$C$870,'10.Non-elective admissions -HWB'!$D72,'9.Non-elective admissions - Map'!T$5:T$870)","v":14386.102735922464},{"$f":"SUMIF('9.Non-elective admissions - Map'!$C$5:$C$870,'10.Non-elective admissions -HWB'!$D72,'9.Non-elective admissions - Map'!U$5:U$870)","v":14073.07266248497}]
["Midlands & East","Q57","Essex ","E10000012","Essex",{"$f":"SUMIF('9.Non-elective admissions - Map'!$C$5:$C$870,'10.Non-elective admissions -HWB'!$D73,'9.Non-elective admissions - Map'!J$5:J$870)","v":32060.921016900182},{"$f":"SUMIF('9.Non-elective admissions - Map'!$C$5:$C$870,'10.Non-elective admissions -HWB'!$D73,'9.Non-elective admissions - Map'!K$5:K$870)","v":32760.931552103779},{"$f":"SUMIF('9.Non-elective admissions - Map'!$C$5:$C$870,'10.Non-elective admissions -HWB'!$D73,'9.Non-elective admissions - Map'!L$5:L$870)","v":34961.962103524631},{"$f":"SUMIF('9.Non-elective admissions - Map'!$C$5:$C$870,'10.Non-elective admissions -HWB'!$D73,'9.Non-elective admissions - Map'!M$5:M$870)","v":35105.598027277199},{"$f":"SUMIF('9.Non-elective admissions - Map'!$C$5:$C$870,'10.Non-elective admissions -HWB'!$D73,'9.Non-elective admissions - Map'!N$5:N$870)","v":33753.621454693901},{"$f":"SUMIF('9.Non-elective admissions - Map'!$C$5:$C$870,'10.Non-elective admissions -HWB'!$D73,'9.Non-elective admissions - Map'!O$5:O$870)","v":33923.955272729007},{"$f":"SUMIF('9.Non-elective admissions - Map'!$C$5:$C$870,'10.Non-elective admissions -HWB'!$D73,'9.Non-elective admissions - Map'!P$5:P$870)","v":33974.377148210791},{"$f":"SUMIF('9.Non-elective admissions - Map'!$C$5:$C$870,'10.Non-elective admissions -HWB'!$D73,'9.Non-elective admissions - Map'!Q$5:Q$870)","v":33523.510920314402},{"$f":"SUMIF('9.Non-elective admissions - Map'!$C$5:$C$870,'10.Non-elective admissions -HWB'!$D73,'9.Non-elective admissions - Map'!R$5:R$870)","v":33751.943886876521},{"$f":"SUMIF('9.Non-elective admissions - Map'!$C$5:$C$870,'10.Non-elective admissions -HWB'!$D73,'9.Non-elective admissions - Map'!S$5:S$870)","v":33915.633040709603},{"$f":"SUMIF('9.Non-elective admissions - Map'!$C$5:$C$870,'10.Non-elective admissions -HWB'!$D73,'9.Non-elective admissions - Map'!T$5:T$870)","v":33966.352739285758},{"$f":"SUMIF('9.Non-elective admissions - Map'!$C$5:$C$870,'10.Non-elective admissions -HWB'!$D73,'9.Non-elective admissions - Map'!U$5:U$870)","v":33706.143841358476}]
["Midlands & East","Q57","Essex ","E06000033","Southend-on-Sea",{"$f":"SUMIF('9.Non-elective admissions - Map'!$C$5:$C$870,'10.Non-elective admissions -HWB'!$D74,'9.Non-elective admissions - Map'!J$5:J$870)","v":4303.8107933442479},{"$f":"SUMIF('9.Non-elective admissions - Map'!$C$5:$C$870,'10.Non-elective admissions -HWB'!$D74,'9.Non-elective admissions - Map'!K$5:K$870)","v":4653.4140122650497},{"$f":"SUMIF('9.Non-elective admissions - Map'!$C$5:$C$870,'10.Non-elective admissions -HWB'!$D74,'9.Non-elective admissions - Map'!L$5:L$870)","v":4553.3598619235509},{"$f":"SUMIF('9.Non-elective admissions - Map'!$C$5:$C$870,'10.Non-elective admissions -HWB'!$D74,'9.Non-elective admissions - Map'!M$5:M$870)","v":4845.9555867468225},{"$f":"SUMIF('9.Non-elective admissions - Map'!$C$5:$C$870,'10.Non-elective admissions -HWB'!$D74,'9.Non-elective admissions - Map'!N$5:N$870)","v":4433.751364582703},{"$f":"SUMIF('9.Non-elective admissions - Map'!$C$5:$C$870,'10.Non-elective admissions -HWB'!$D74,'9.Non-elective admissions - Map'!O$5:O$870)","v":4765.7644770172928},{"$f":"SUMIF('9.Non-elective admissions - Map'!$C$5:$C$870,'10.Non-elective admissions -HWB'!$D74,'9.Non-elective admissions - Map'!P$5:P$870)","v":4644.664795169273},{"$f":"SUMIF('9.Non-elective admissions - Map'!$C$5:$C$870,'10.Non-elective admissions -HWB'!$D74,'9.Non-elective admissions - Map'!Q$5:Q$870)","v":4620.5306237226923},{"$f":"SUMIF('9.Non-elective admissions - Map'!$C$5:$C$870,'10.Non-elective admissions -HWB'!$D74,'9.Non-elective admissions - Map'!R$5:R$870)","v":4368.0907424162342},{"$f":"SUMIF('9.Non-elective admissions - Map'!$C$5:$C$870,'10.Non-elective admissions -HWB'!$D74,'9.Non-elective admissions - Map'!S$5:S$870)","v":4694.1912637471605},{"$f":"SUMIF('9.Non-elective admissions - Map'!$C$5:$C$870,'10.Non-elective admissions -HWB'!$D74,'9.Non-elective admissions - Map'!T$5:T$870)","v":4575.5021166159886},{"$f":"SUMIF('9.Non-elective admissions - Map'!$C$5:$C$870,'10.Non-elective admissions -HWB'!$D74,'9.Non-elective admissions - Map'!U$5:U$870)","v":4551.8668490978871}]
["Midlands & East","Q57","Essex ","E06000034","Thurrock",{"$f":"SUMIF('9.Non-elective admissions - Map'!$C$5:$C$870,'10.Non-elective admissions -HWB'!$D75,'9.Non-elective admissions - Map'!J$5:J$870)","v":3377.6546387215826},{"$f":"SUMIF('9.Non-elective admissions - Map'!$C$5:$C$870,'10.Non-elective admissions -HWB'!$D75,'9.Non-elective admissions - Map'!K$5:K$870)","v":3511.9751168034804},{"$f":"SUMIF('9.Non-elective admissions - Map'!$C$5:$C$870,'10.Non-elective admissions -HWB'!$D75,'9.Non-elective admissions - Map'!L$5:L$870)","v":3282.7292869714092},{"$f":"SUMIF('9.Non-elective admissions - Map'!$C$5:$C$870,'10.Non-elective admissions -HWB'!$D75,'9.Non-elective admissions - Map'!M$5:M$870)","v":3431.4723615368512},{"$f":"SUMIF('9.Non-elective admissions - Map'!$C$5:$C$870,'10.Non-elective admissions -HWB'!$D75,'9.Non-elective admissions - Map'!N$5:N$870)","v":3453.5417400377291},{"$f":"SUMIF('9.Non-elective admissions - Map'!$C$5:$C$870,'10.Non-elective admissions -HWB'!$D75,'9.Non-elective admissions - Map'!O$5:O$870)","v":3483.7662104868023},{"$f":"SUMIF('9.Non-elective admissions - Map'!$C$5:$C$870,'10.Non-elective admissions -HWB'!$D75,'9.Non-elective admissions - Map'!P$5:P$870)","v":3477.1936474896843},{"$f":"SUMIF('9.Non-elective admissions - Map'!$C$5:$C$870,'10.Non-elective admissions -HWB'!$D75,'9.Non-elective admissions - Map'!Q$5:Q$870)","v":3424.7244063448679},{"$f":"SUMIF('9.Non-elective admissions - Map'!$C$5:$C$870,'10.Non-elective admissions -HWB'!$D75,'9.Non-elective admissions - Map'!R$5:R$870)","v":3460.2867287373028},{"$f":"SUMIF('9.Non-elective admissions - Map'!$C$5:$C$870,'10.Non-elective admissions -HWB'!$D75,'9.Non-elective admissions - Map'!S$5:S$870)","v":3489.4411645470541},{"$f":"SUMIF('9.Non-elective admissions - Map'!$C$5:$C$870,'10.Non-elective admissions -HWB'!$D75,'9.Non-elective admissions - Map'!T$5:T$870)","v":3482.7838073222533},{"$f":"SUMIF('9.Non-elective admissions - Map'!$C$5:$C$870,'10.Non-elective admissions -HWB'!$D75,'9.Non-elective admissions - Map'!U$5:U$870)","v":3429.514205471075}]
["Midlands & East","Q58","Hertfordshire And The South Midlands ","E06000055","Bedford",{"$f":"SUMIF('9.Non-elective admissions - Map'!$C$5:$C$870,'10.Non-elective admissions -HWB'!$D76,'9.Non-elective admissions - Map'!J$5:J$870)","v":3480.5385523996347},{"$f":"SUMIF('9.Non-elective admissions - Map'!$C$5:$C$870,'10.Non-elective admissions -HWB'!$D76,'9.Non-elective admissions - Map'!K$5:K$870)","v":3419.1134393732559},{"$f":"SUMIF('9.Non-elective admissions - Map'!$C$5:$C$870,'10.Non-elective admissions -HWB'!$D76,'9.Non-elective admissions - Map'!L$5:L$870)","v":3504.852719401149},{"$f":"SUMIF('9.Non-elective admissions - Map'!$C$5:$C$870,'10.Non-elective admissions -HWB'!$D76,'9.Non-elective admissions - Map'!M$5:M$870)","v":3448.8116812339817},{"$f":"SUMIF('9.Non-elective admissions - Map'!$C$5:$C$870,'10.Non-elective admissions -HWB'!$D76,'9.Non-elective admissions - Map'!N$5:N$870)","v":3458.976564422142},{"$f":"SUMIF('9.Non-elective admissions - Map'!$C$5:$C$870,'10.Non-elective admissions -HWB'!$D76,'9.Non-elective admissions - Map'!O$5:O$870)","v":3397.6953616691358},{"$f":"SUMIF('9.Non-elective admissions - Map'!$C$5:$C$870,'10.Non-elective admissions -HWB'!$D76,'9.Non-elective admissions - Map'!P$5:P$870)","v":3403.005063691191},{"$f":"SUMIF('9.Non-elective admissions - Map'!$C$5:$C$870,'10.Non-elective admissions -HWB'!$D76,'9.Non-elective admissions - Map'!Q$5:Q$870)","v":3379.7001440607341},{"$f":"SUMIF('9.Non-elective admissions - Map'!$C$5:$C$870,'10.Non-elective admissions -HWB'!$D76,'9.Non-elective admissions - Map'!R$5:R$870)","v":3552.1764415109378},{"$f":"SUMIF('9.Non-elective admissions - Map'!$C$5:$C$870,'10.Non-elective admissions -HWB'!$D76,'9.Non-elective admissions - Map'!S$5:S$870)","v":3490.5328497159453},{"$f":"SUMIF('9.Non-elective admissions - Map'!$C$5:$C$870,'10.Non-elective admissions -HWB'!$D76,'9.Non-elective admissions - Map'!T$5:T$870)","v":3495.7740173996413},{"$f":"SUMIF('9.Non-elective admissions - Map'!$C$5:$C$870,'10.Non-elective admissions -HWB'!$D76,'9.Non-elective admissions - Map'!U$5:U$870)","v":3472.5032289396204}]
["Midlands & East","Q58","Hertfordshire And The South Midlands ","E06000056","Central Bedfordshire",{"$f":"SUMIF('9.Non-elective admissions - Map'!$C$5:$C$870,'10.Non-elective admissions -HWB'!$D77,'9.Non-elective admissions - Map'!J$5:J$870)","v":5462.0685467047097},{"$f":"SUMIF('9.Non-elective admissions - Map'!$C$5:$C$870,'10.Non-elective admissions -HWB'!$D77,'9.Non-elective admissions - Map'!K$5:K$870)","v":5364.143393540402},{"$f":"SUMIF('9.Non-elective admissions - Map'!$C$5:$C$870,'10.Non-elective admissions -HWB'!$D77,'9.Non-elective admissions - Map'!L$5:L$870)","v":5515.407663878218},{"$f":"SUMIF('9.Non-elective admissions - Map'!$C$5:$C$870,'10.Non-elective admissions -HWB'!$D77,'9.Non-elective admissions - Map'!M$5:M$870)","v":5433.1839247869657},{"$f":"SUMIF('9.Non-elective admissions - Map'!$C$5:$C$870,'10.Non-elective admissions -HWB'!$D77,'9.Non-elective admissions - Map'!N$5:N$870)","v":5453.6840722832758},{"$f":"SUMIF('9.Non-elective admissions - Map'!$C$5:$C$870,'10.Non-elective admissions -HWB'!$D77,'9.Non-elective admissions - Map'!O$5:O$870)","v":5358.2352158379599},{"$f":"SUMIF('9.Non-elective admissions - Map'!$C$5:$C$870,'10.Non-elective admissions -HWB'!$D77,'9.Non-elective admissions - Map'!P$5:P$870)","v":5357.2836955219946},{"$f":"SUMIF('9.Non-elective admissions - Map'!$C$5:$C$870,'10.Non-elective admissions -HWB'!$D77,'9.Non-elective admissions - Map'!Q$5:Q$870)","v":5317.0042612792595},{"$f":"SUMIF('9.Non-elective admissions - Map'!$C$5:$C$870,'10.Non-elective admissions -HWB'!$D77,'9.Non-elective admissions - Map'!R$5:R$870)","v":5577.2242787871364},{"$f":"SUMIF('9.Non-elective admissions - Map'!$C$5:$C$870,'10.Non-elective admissions -HWB'!$D77,'9.Non-elective admissions - Map'!S$5:S$870)","v":5482.462511594741},{"$f":"SUMIF('9.Non-elective admissions - Map'!$C$5:$C$870,'10.Non-elective admissions -HWB'!$D77,'9.Non-elective admissions - Map'!T$5:T$870)","v":5487.2934787347504},{"$f":"SUMIF('9.Non-elective admissions - Map'!$C$5:$C$870,'10.Non-elective admissions -HWB'!$D77,'9.Non-elective admissions - Map'!U$5:U$870)","v":5450.1562968333346}]
["Midlands & East","Q58","Hertfordshire And The South Midlands ","E10000015","Hertfordshire",{"$f":"SUMIF('9.Non-elective admissions - Map'!$C$5:$C$870,'10.Non-elective admissions -HWB'!$D78,'9.Non-elective admissions - Map'!J$5:J$870)","v":24061.575636815094},{"$f":"SUMIF('9.Non-elective admissions - Map'!$C$5:$C$870,'10.Non-elective admissions -HWB'!$D78,'9.Non-elective admissions - Map'!K$5:K$870)","v":24824.853782663115},{"$f":"SUMIF('9.Non-elective admissions - Map'!$C$5:$C$870,'10.Non-elective admissions -HWB'!$D78,'9.Non-elective admissions - Map'!L$5:L$870)","v":26422.075739325064},{"$f":"SUMIF('9.Non-elective admissions - Map'!$C$5:$C$870,'10.Non-elective admissions -HWB'!$D78,'9.Non-elective admissions - Map'!M$5:M$870)","v":26879.228035007935},{"$f":"SUMIF('9.Non-elective admissions - Map'!$C$5:$C$870,'10.Non-elective admissions -HWB'!$D78,'9.Non-elective admissions - Map'!N$5:N$870)","v":24642.757232088559},{"$f":"SUMIF('9.Non-elective admissions - Map'!$C$5:$C$870,'10.Non-elective admissions -HWB'!$D78,'9.Non-elective admissions - Map'!O$5:O$870)","v":24921.837664983341},{"$f":"SUMIF('9.Non-elective admissions - Map'!$C$5:$C$870,'10.Non-elective admissions -HWB'!$D78,'9.Non-elective admissions - Map'!P$5:P$870)","v":25324.080463166531},{"$f":"SUMIF('9.Non-elective admissions - Map'!$C$5:$C$870,'10.Non-elective admissions -HWB'!$D78,'9.Non-elective admissions - Map'!Q$5:Q$870)","v":24810.921695342204},{"$f":"SUMIF('9.Non-elective admissions - Map'!$C$5:$C$870,'10.Non-elective admissions -HWB'!$D78,'9.Non-elective admissions - Map'!R$5:R$870)","v":22702.157878001119},{"$f":"SUMIF('9.Non-elective admissions - Map'!$C$5:$C$870,'10.Non-elective admissions -HWB'!$D78,'9.Non-elective admissions - Map'!S$5:S$870)","v":22954.63667293956},{"$f":"SUMIF('9.Non-elective admissions - Map'!$C$5:$C$870,'10.Non-elective admissions -HWB'!$D78,'9.Non-elective admissions - Map'!T$5:T$870)","v":24058.291479853786},{"$f":"SUMIF('9.Non-elective admissions - Map'!$C$5:$C$870,'10.Non-elective admissions -HWB'!$D78,'9.Non-elective admissions - Map'!U$5:U$870)","v":23957.646741450139}]
["Midlands & East","Q58","Hertfordshire And The South Midlands ","E06000032","Luton",{"$f":"SUMIF('9.Non-elective admissions - Map'!$C$5:$C$870,'10.Non-elective admissions -HWB'!$D79,'9.Non-elective admissions - Map'!J$5:J$870)","v":5367.603340643569},{"$f":"SUMIF('9.Non-elective admissions - Map'!$C$5:$C$870,'10.Non-elective admissions -HWB'!$D79,'9.Non-elective admissions - Map'!K$5:K$870)","v":5378.330376175355},{"$f":"SUMIF('9.Non-elective admissions - Map'!$C$5:$C$870,'10.Non-elective admissions -HWB'!$D79,'9.Non-elective admissions - Map'!L$5:L$870)","v":6053.5914065178367},{"$f":"SUMIF('9.Non-elective admissions - Map'!$C$5:$C$870,'10.Non-elective admissions -HWB'!$D79,'9.Non-elective admissions - Map'!M$5:M$870)","v":6020.1231970959034},{"$f":"SUMIF('9.Non-elective admissions - Map'!$C$5:$C$870,'10.Non-elective admissions -HWB'!$D79,'9.Non-elective admissions - Map'!N$5:N$870)","v":5684.0681865941979},{"$f":"SUMIF('9.Non-elective admissions - Map'!$C$5:$C$870,'10.Non-elective admissions -HWB'!$D79,'9.Non-elective admissions - Map'!O$5:O$870)","v":5651.0963738376468},{"$f":"SUMIF('9.Non-elective admissions - Map'!$C$5:$C$870,'10.Non-elective admissions -HWB'!$D79,'9.Non-elective admissions - Map'!P$5:P$870)","v":5527.727279547239},{"$f":"SUMIF('9.Non-elective admissions - Map'!$C$5:$C$870,'10.Non-elective admissions -HWB'!$D79,'9.Non-elective admissions - Map'!Q$5:Q$870)","v":5347.7104705337442},{"$f":"SUMIF('9.Non-elective admissions - Map'!$C$5:$C$870,'10.Non-elective admissions -HWB'!$D79,'9.Non-elective admissions - Map'!R$5:R$870)","v":5252.5104660022125},{"$f":"SUMIF('9.Non-elective admissions - Map'!$C$5:$C$870,'10.Non-elective admissions -HWB'!$D79,'9.Non-elective admissions - Map'!S$5:S$870)","v":5270.0386200951516},{"$f":"SUMIF('9.Non-elective admissions - Map'!$C$5:$C$870,'10.Non-elective admissions -HWB'!$D79,'9.Non-elective admissions - Map'!T$5:T$870)","v":5270.0612482713659},{"$f":"SUMIF('9.Non-elective admissions - Map'!$C$5:$C$870,'10.Non-elective admissions -HWB'!$D79,'9.Non-elective admissions - Map'!U$5:U$870)","v":5147.3681528447269}]
["Midlands & East","Q58","Hertfordshire And The South Midlands ","E06000042","Milton Keynes",{"$f":"SUMIF('9.Non-elective admissions - Map'!$C$5:$C$870,'10.Non-elective admissions -HWB'!$D80,'9.Non-elective admissions - Map'!J$5:J$870)","v":7241.7391286926941},{"$f":"SUMIF('9.Non-elective admissions - Map'!$C$5:$C$870,'10.Non-elective admissions -HWB'!$D80,'9.Non-elective admissions - Map'!K$5:K$870)","v":7171.7033764987518},{"$f":"SUMIF('9.Non-elective admissions - Map'!$C$5:$C$870,'10.Non-elective admissions -HWB'!$D80,'9.Non-elective admissions - Map'!L$5:L$870)","v":7312.7786305793434},{"$f":"SUMIF('9.Non-elective admissions - Map'!$C$5:$C$870,'10.Non-elective admissions -HWB'!$D80,'9.Non-elective admissions - Map'!M$5:M$870)","v":6607.340414131997},{"$f":"SUMIF('9.Non-elective admissions - Map'!$C$5:$C$870,'10.Non-elective admissions -HWB'!$D80,'9.Non-elective admissions - Map'!N$5:N$870)","v":7243.5074769650728},{"$f":"SUMIF('9.Non-elective admissions - Map'!$C$5:$C$870,'10.Non-elective admissions -HWB'!$D80,'9.Non-elective admissions - Map'!O$5:O$870)","v":7104.4618914431803},{"$f":"SUMIF('9.Non-elective admissions - Map'!$C$5:$C$870,'10.Non-elective admissions -HWB'!$D80,'9.Non-elective admissions - Map'!P$5:P$870)","v":7121.2261748882102},{"$f":"SUMIF('9.Non-elective admissions - Map'!$C$5:$C$870,'10.Non-elective admissions -HWB'!$D80,'9.Non-elective admissions - Map'!Q$5:Q$870)","v":6161.9156535712909},{"$f":"SUMIF('9.Non-elective admissions - Map'!$C$5:$C$870,'10.Non-elective admissions -HWB'!$D80,'9.Non-elective admissions - Map'!R$5:R$870)","v":6285.6042921760181},{"$f":"SUMIF('9.Non-elective admissions - Map'!$C$5:$C$870,'10.Non-elective admissions -HWB'!$D80,'9.Non-elective admissions - Map'!S$5:S$870)","v":6230.5390978180285},{"$f":"SUMIF('9.Non-elective admissions - Map'!$C$5:$C$870,'10.Non-elective admissions -HWB'!$D80,'9.Non-elective admissions - Map'!T$5:T$870)","v":6343.7162630960211},{"$f":"SUMIF('9.Non-elective admissions - Map'!$C$5:$C$870,'10.Non-elective admissions -HWB'!$D80,'9.Non-elective admissions - Map'!U$5:U$870)","v":5728.8998814374218}]
["Midlands & East","Q58","Hertfordshire And The South Midlands ","E10000021","Northamptonshire",{"$f":"SUMIF('9.Non-elective admissions - Map'!$C$5:$C$870,'10.Non-elective admissions -HWB'!$D81,'9.Non-elective admissions - Map'!J$5:J$870)","v":15712.377752157114},{"$f":"SUMIF('9.Non-elective admissions - Map'!$C$5:$C$870,'10.Non-elective admissions -HWB'!$D81,'9.Non-elective admissions - Map'!K$5:K$870)","v":16207.028944511372},{"$f":"SUMIF('9.Non-elective admissions - Map'!$C$5:$C$870,'10.Non-elective admissions -HWB'!$D81,'9.Non-elective admissions - Map'!L$5:L$870)","v":17270.868971441581},{"$f":"SUMIF('9.Non-elective admissions - Map'!$C$5:$C$870,'10.Non-elective admissions -HWB'!$D81,'9.Non-elective admissions - Map'!M$5:M$870)","v":17240.323878675419},{"$f":"SUMIF('9.Non-elective admissions - Map'!$C$5:$C$870,'10.Non-elective admissions -HWB'!$D81,'9.Non-elective admissions - Map'!N$5:N$870)","v":15221.708427100724},{"$f":"SUMIF('9.Non-elective admissions - Map'!$C$5:$C$870,'10.Non-elective admissions -HWB'!$D81,'9.Non-elective admissions - Map'!O$5:O$870)","v":15704.609847530261},{"$f":"SUMIF('9.Non-elective admissions - Map'!$C$5:$C$870,'10.Non-elective admissions -HWB'!$D81,'9.Non-elective admissions - Map'!P$5:P$870)","v":16405.176609975704},{"$f":"SUMIF('9.Non-elective admissions - Map'!$C$5:$C$870,'10.Non-elective admissions -HWB'!$D81,'9.Non-elective admissions - Map'!Q$5:Q$870)","v":15783.840763589842},{"$f":"SUMIF('9.Non-elective admissions - Map'!$C$5:$C$870,'10.Non-elective admissions -HWB'!$D81,'9.Non-elective admissions - Map'!R$5:R$870)","v":15407.636375247837},{"$f":"SUMIF('9.Non-elective admissions - Map'!$C$5:$C$870,'10.Non-elective admissions -HWB'!$D81,'9.Non-elective admissions - Map'!S$5:S$870)","v":15920.245453802117},{"$f":"SUMIF('9.Non-elective admissions - Map'!$C$5:$C$870,'10.Non-elective admissions -HWB'!$D81,'9.Non-elective admissions - Map'!T$5:T$870)","v":16627.702220982253},{"$f":"SUMIF('9.Non-elective admissions - Map'!$C$5:$C$870,'10.Non-elective admissions -HWB'!$D81,'9.Non-elective admissions - Map'!U$5:U$870)","v":16020.24671692869}]
["Midlands & East","Q59","Leicestershire And Lincolnshire ","E06000016","Leicester",{"$f":"SUMIF('9.Non-elective admissions - Map'!$C$5:$C$870,'10.Non-elective admissions -HWB'!$D82,'9.Non-elective admissions - Map'!J$5:J$870)","v":7194.4805765276096},{"$f":"SUMIF('9.Non-elective admissions - Map'!$C$5:$C$870,'10.Non-elective admissions -HWB'!$D82,'9.Non-elective admissions - Map'!K$5:K$870)","v":7126.1886834141123},{"$f":"SUMIF('9.Non-elective admissions - Map'!$C$5:$C$870,'10.Non-elective admissions -HWB'!$D82,'9.Non-elective admissions - Map'!L$5:L$870)","v":7557.3276109746712},{"$f":"SUMIF('9.Non-elective admissions - Map'!$C$5:$C$870,'10.Non-elective admissions -HWB'!$D82,'9.Non-elective admissions - Map'!M$5:M$870)","v":8276.4607079068955},{"$f":"SUMIF('9.Non-elective admissions - Map'!$C$5:$C$870,'10.Non-elective admissions -HWB'!$D82,'9.Non-elective admissions - Map'!N$5:N$870)","v":6629.3461144412522},{"$f":"SUMIF('9.Non-elective admissions - Map'!$C$5:$C$870,'10.Non-elective admissions -HWB'!$D82,'9.Non-elective admissions - Map'!O$5:O$870)","v":7050.3076498427881},{"$f":"SUMIF('9.Non-elective admissions - Map'!$C$5:$C$870,'10.Non-elective admissions -HWB'!$D82,'9.Non-elective admissions - Map'!P$5:P$870)","v":6975.9316246623948},{"$f":"SUMIF('9.Non-elective admissions - Map'!$C$5:$C$870,'10.Non-elective admissions -HWB'!$D82,'9.Non-elective admissions - Map'!Q$5:Q$870)","v":6857.4695999552951},{"$f":"SUMIF('9.Non-elective admissions - Map'!$C$5:$C$870,'10.Non-elective admissions -HWB'!$D82,'9.Non-elective admissions - Map'!R$5:R$870)","v":6330.2877000751305},{"$f":"SUMIF('9.Non-elective admissions - Map'!$C$5:$C$870,'10.Non-elective admissions -HWB'!$D82,'9.Non-elective admissions - Map'!S$5:S$870)","v":6732.195425488926},{"$f":"SUMIF('9.Non-elective admissions - Map'!$C$5:$C$870,'10.Non-elective admissions -HWB'!$D82,'9.Non-elective admissions - Map'!T$5:T$870)","v":6659.7484399062714},{"$f":"SUMIF('9.Non-elective admissions - Map'!$C$5:$C$870,'10.Non-elective admissions -HWB'!$D82,'9.Non-elective admissions - Map'!U$5:U$870)","v":6648.9906871141657}]
["Midlands & East","Q59","Leicestershire And Lincolnshire ","E10000018","Leicestershire",{"$f":"SUMIF('9.Non-elective admissions - Map'!$C$5:$C$870,'10.Non-elective admissions -HWB'!$D83,'9.Non-elective admissions - Map'!J$5:J$870)","v":13626.08972359266},{"$f":"SUMIF('9.Non-elective admissions - Map'!$C$5:$C$870,'10.Non-elective admissions -HWB'!$D83,'9.Non-elective admissions - Map'!K$5:K$870)","v":13597.295695696994},{"$f":"SUMIF('9.Non-elective admissions - Map'!$C$5:$C$870,'10.Non-elective admissions -HWB'!$D83,'9.Non-elective admissions - Map'!L$5:L$870)","v":14332.401597151334},{"$f":"SUMIF('9.Non-elective admissions - Map'!$C$5:$C$870,'10.Non-elective admissions -HWB'!$D83,'9.Non-elective admissions - Map'!M$5:M$870)","v":14866.396871043362},{"$f":"SUMIF('9.Non-elective admissions - Map'!$C$5:$C$870,'10.Non-elective admissions -HWB'!$D83,'9.Non-elective admissions - Map'!N$5:N$870)","v":12782.361285005329},{"$f":"SUMIF('9.Non-elective admissions - Map'!$C$5:$C$870,'10.Non-elective admissions -HWB'!$D83,'9.Non-elective admissions - Map'!O$5:O$870)","v":13531.122806593688},{"$f":"SUMIF('9.Non-elective admissions - Map'!$C$5:$C$870,'10.Non-elective admissions -HWB'!$D83,'9.Non-elective admissions - Map'!P$5:P$870)","v":13415.308029874024},{"$f":"SUMIF('9.Non-elective admissions - Map'!$C$5:$C$870,'10.Non-elective admissions -HWB'!$D83,'9.Non-elective admissions - Map'!Q$5:Q$870)","v":13187.557706952641},{"$f":"SUMIF('9.Non-elective admissions - Map'!$C$5:$C$870,'10.Non-elective admissions -HWB'!$D83,'9.Non-elective admissions - Map'!R$5:R$870)","v":12393.230559726735},{"$f":"SUMIF('9.Non-elective admissions - Map'!$C$5:$C$870,'10.Non-elective admissions -HWB'!$D83,'9.Non-elective admissions - Map'!S$5:S$870)","v":13119.601954093201},{"$f":"SUMIF('9.Non-elective admissions - Map'!$C$5:$C$870,'10.Non-elective admissions -HWB'!$D83,'9.Non-elective admissions - Map'!T$5:T$870)","v":13006.629652667649},{"$f":"SUMIF('9.Non-elective admissions - Map'!$C$5:$C$870,'10.Non-elective admissions -HWB'!$D83,'9.Non-elective admissions - Map'!U$5:U$870)","v":12960.601475477859}]
["Midlands & East","Q59","Leicestershire And Lincolnshire ","E10000019","Lincolnshire",{"$f":"SUMIF('9.Non-elective admissions - Map'!$C$5:$C$870,'10.Non-elective admissions -HWB'!$D84,'9.Non-elective admissions - Map'!J$5:J$870)","v":18610.081140034752},{"$f":"SUMIF('9.Non-elective admissions - Map'!$C$5:$C$870,'10.Non-elective admissions -HWB'!$D84,'9.Non-elective admissions - Map'!K$5:K$870)","v":18036.272328548115},{"$f":"SUMIF('9.Non-elective admissions - Map'!$C$5:$C$870,'10.Non-elective admissions -HWB'!$D84,'9.Non-elective admissions - Map'!L$5:L$870)","v":18639.645318577604},{"$f":"SUMIF('9.Non-elective admissions - Map'!$C$5:$C$870,'10.Non-elective admissions -HWB'!$D84,'9.Non-elective admissions - Map'!M$5:M$870)","v":18262.303795852611},{"$f":"SUMIF('9.Non-elective admissions - Map'!$C$5:$C$870,'10.Non-elective admissions -HWB'!$D84,'9.Non-elective admissions - Map'!N$5:N$870)","v":17796.084888689838},{"$f":"SUMIF('9.Non-elective admissions - Map'!$C$5:$C$870,'10.Non-elective admissions -HWB'!$D84,'9.Non-elective admissions - Map'!O$5:O$870)","v":17510.002604734713},{"$f":"SUMIF('9.Non-elective admissions - Map'!$C$5:$C$870,'10.Non-elective admissions -HWB'!$D84,'9.Non-elective admissions - Map'!P$5:P$870)","v":18265.911428937576},{"$f":"SUMIF('9.Non-elective admissions - Map'!$C$5:$C$870,'10.Non-elective admissions -HWB'!$D84,'9.Non-elective admissions - Map'!Q$5:Q$870)","v":17760.471874521572},{"$f":"SUMIF('9.Non-elective admissions - Map'!$C$5:$C$870,'10.Non-elective admissions -HWB'!$D84,'9.Non-elective admissions - Map'!R$5:R$870)","v":17075.966972138714},{"$f":"SUMIF('9.Non-elective admissions - Map'!$C$5:$C$870,'10.Non-elective admissions -HWB'!$D84,'9.Non-elective admissions - Map'!S$5:S$870)","v":16556.26024982502},{"$f":"SUMIF('9.Non-elective admissions - Map'!$C$5:$C$870,'10.Non-elective admissions -HWB'!$D84,'9.Non-elective admissions - Map'!T$5:T$870)","v":17138.752705235973},{"$f":"SUMIF('9.Non-elective admissions - Map'!$C$5:$C$870,'10.Non-elective admissions -HWB'!$D84,'9.Non-elective admissions - Map'!U$5:U$870)","v":16807.271701122547}]
["Midlands & East","Q59","Leicestershire And Lincolnshire ","E06000017","Rutland",{"$f":"SUMIF('9.Non-elective admissions - Map'!$C$5:$C$870,'10.Non-elective admissions -HWB'!$D85,'9.Non-elective admissions - Map'!J$5:J$870)","v":756.38105850369072},{"$f":"SUMIF('9.Non-elective admissions - Map'!$C$5:$C$870,'10.Non-elective admissions -HWB'!$D85,'9.Non-elective admissions - Map'!K$5:K$870)","v":746.59198615896662},{"$f":"SUMIF('9.Non-elective admissions - Map'!$C$5:$C$870,'10.Non-elective admissions -HWB'!$D85,'9.Non-elective admissions - Map'!L$5:L$870)","v":792.66432232167244},{"$f":"SUMIF('9.Non-elective admissions - Map'!$C$5:$C$870,'10.Non-elective admissions -HWB'!$D85,'9.Non-elective admissions - Map'!M$5:M$870)","v":801.70530823628087},{"$f":"SUMIF('9.Non-elective admissions - Map'!$C$5:$C$870,'10.Non-elective admissions -HWB'!$D85,'9.Non-elective admissions - Map'!N$5:N$870)","v":696.60680055083833},{"$f":"SUMIF('9.Non-elective admissions - Map'!$C$5:$C$870,'10.Non-elective admissions -HWB'!$D85,'9.Non-elective admissions - Map'!O$5:O$870)","v":727.33255398881727},{"$f":"SUMIF('9.Non-elective admissions - Map'!$C$5:$C$870,'10.Non-elective admissions -HWB'!$D85,'9.Non-elective admissions - Map'!P$5:P$870)","v":728.0463764401494},{"$f":"SUMIF('9.Non-elective admissions - Map'!$C$5:$C$870,'10.Non-elective admissions -HWB'!$D85,'9.Non-elective admissions - Map'!Q$5:Q$870)","v":711.36325957331542},{"$f":"SUMIF('9.Non-elective admissions - Map'!$C$5:$C$870,'10.Non-elective admissions -HWB'!$D85,'9.Non-elective admissions - Map'!R$5:R$870)","v":697.43768471033047},{"$f":"SUMIF('9.Non-elective admissions - Map'!$C$5:$C$870,'10.Non-elective admissions -HWB'!$D85,'9.Non-elective admissions - Map'!S$5:S$870)","v":728.19804317218302},{"$f":"SUMIF('9.Non-elective admissions - Map'!$C$5:$C$870,'10.Non-elective admissions -HWB'!$D85,'9.Non-elective admissions - Map'!T$5:T$870)","v":728.83253175510072},{"$f":"SUMIF('9.Non-elective admissions - Map'!$C$5:$C$870,'10.Non-elective admissions -HWB'!$D85,'9.Non-elective admissions - Map'!U$5:U$870)","v":720.78253784790968}]
["Midlands & East","Q60","Shropshire And Staffordshire ","E06000051","Shropshire",{"$f":"SUMIF('9.Non-elective admissions - Map'!$C$5:$C$870,'10.Non-elective admissions -HWB'!$D86,'9.Non-elective admissions - Map'!J$5:J$870)","v":6824.4310808012815},{"$f":"SUMIF('9.Non-elective admissions - Map'!$C$5:$C$870,'10.Non-elective admissions -HWB'!$D86,'9.Non-elective admissions - Map'!K$5:K$870)","v":6668.4261520244509},{"$f":"SUMIF('9.Non-elective admissions - Map'!$C$5:$C$870,'10.Non-elective admissions -HWB'!$D86,'9.Non-elective admissions - Map'!L$5:L$870)","v":7407.9929784063643},{"$f":"SUMIF('9.Non-elective admissions - Map'!$C$5:$C$870,'10.Non-elective admissions -HWB'!$D86,'9.Non-elective admissions - Map'!M$5:M$870)","v":7250.3163902983852},{"$f":"SUMIF('9.Non-elective admissions - Map'!$C$5:$C$870,'10.Non-elective admissions -HWB'!$D86,'9.Non-elective admissions - Map'!N$5:N$870)","v":7258.4083972319922},{"$f":"SUMIF('9.Non-elective admissions - Map'!$C$5:$C$870,'10.Non-elective admissions -HWB'!$D86,'9.Non-elective admissions - Map'!O$5:O$870)","v":6965.0130554175648},{"$f":"SUMIF('9.Non-elective admissions - Map'!$C$5:$C$870,'10.Non-elective admissions -HWB'!$D86,'9.Non-elective admissions - Map'!P$5:P$870)","v":7415.6660362765442},{"$f":"SUMIF('9.Non-elective admissions - Map'!$C$5:$C$870,'10.Non-elective admissions -HWB'!$D86,'9.Non-elective admissions - Map'!Q$5:Q$870)","v":6985.8437193052914},{"$f":"SUMIF('9.Non-elective admissions - Map'!$C$5:$C$870,'10.Non-elective admissions -HWB'!$D86,'9.Non-elective admissions - Map'!R$5:R$870)","v":7241.0246088675576},{"$f":"SUMIF('9.Non-elective admissions - Map'!$C$5:$C$870,'10.Non-elective admissions -HWB'!$D86,'9.Non-elective admissions - Map'!S$5:S$870)","v":6945.6394006228593},{"$f":"SUMIF('9.Non-elective admissions - Map'!$C$5:$C$870,'10.Non-elective admissions -HWB'!$D86,'9.Non-elective admissions - Map'!T$5:T$870)","v":7397.7734295966011},{"$f":"SUMIF('9.Non-elective admissions - Map'!$C$5:$C$870,'10.Non-elective admissions -HWB'!$D86,'9.Non-elective admissions - Map'!U$5:U$870)","v":6965.9244695795915}]
["Midlands & East","Q60","Shropshire And Staffordshire ","E10000028","Staffordshire",{"$f":"SUMIF('9.Non-elective admissions - Map'!$C$5:$C$870,'10.Non-elective admissions -HWB'!$D87,'9.Non-elective admissions - Map'!J$5:J$870)","v":21855.188734307259},{"$f":"SUMIF('9.Non-elective admissions - Map'!$C$5:$C$870,'10.Non-elective admissions -HWB'!$D87,'9.Non-elective admissions - Map'!K$5:K$870)","v":21515.212065240539},{"$f":"SUMIF('9.Non-elective admissions - Map'!$C$5:$C$870,'10.Non-elective admissions -HWB'!$D87,'9.Non-elective admissions - Map'!L$5:L$870)","v":23051.521200655439},{"$f":"SUMIF('9.Non-elective admissions - Map'!$C$5:$C$870,'10.Non-elective admissions -HWB'!$D87,'9.Non-elective admissions - Map'!M$5:M$870)","v":23083.510634603255},{"$f":"SUMIF('9.Non-elective admissions - Map'!$C$5:$C$870,'10.Non-elective admissions -HWB'!$D87,'9.Non-elective admissions - Map'!N$5:N$870)","v":21587.526671637544},{"$f":"SUMIF('9.Non-elective admissions - Map'!$C$5:$C$870,'10.Non-elective admissions -HWB'!$D87,'9.Non-elective admissions - Map'!O$5:O$870)","v":21547.213119898031},{"$f":"SUMIF('9.Non-elective admissions - Map'!$C$5:$C$870,'10.Non-elective admissions -HWB'!$D87,'9.Non-elective admissions - Map'!P$5:P$870)","v":21658.586876986014},{"$f":"SUMIF('9.Non-elective admissions - Map'!$C$5:$C$870,'10.Non-elective admissions -HWB'!$D87,'9.Non-elective admissions - Map'!Q$5:Q$870)","v":21630.31517411906},{"$f":"SUMIF('9.Non-elective admissions - Map'!$C$5:$C$870,'10.Non-elective admissions -HWB'!$D87,'9.Non-elective admissions - Map'!R$5:R$870)","v":20418.236163635371},{"$f":"SUMIF('9.Non-elective admissions - Map'!$C$5:$C$870,'10.Non-elective admissions -HWB'!$D87,'9.Non-elective admissions - Map'!S$5:S$870)","v":20578.675815856339},{"$f":"SUMIF('9.Non-elective admissions - Map'!$C$5:$C$870,'10.Non-elective admissions -HWB'!$D87,'9.Non-elective admissions - Map'!T$5:T$870)","v":20981.147896029899},{"$f":"SUMIF('9.Non-elective admissions - Map'!$C$5:$C$870,'10.Non-elective admissions -HWB'!$D87,'9.Non-elective admissions - Map'!U$5:U$870)","v":20955.21980780661}]
["Midlands & East","Q60","Shropshire And Staffordshire ","E06000021","Stoke-on-Trent",{"$f":"SUMIF('9.Non-elective admissions - Map'!$C$5:$C$870,'10.Non-elective admissions -HWB'!$D88,'9.Non-elective admissions - Map'!J$5:J$870)","v":7554.6200294589671},{"$f":"SUMIF('9.Non-elective admissions - Map'!$C$5:$C$870,'10.Non-elective admissions -HWB'!$D88,'9.Non-elective admissions - Map'!K$5:K$870)","v":7473.7767656260576},{"$f":"SUMIF('9.Non-elective admissions - Map'!$C$5:$C$870,'10.Non-elective admissions -HWB'!$D88,'9.Non-elective admissions - Map'!L$5:L$870)","v":8361.4612905678368},{"$f":"SUMIF('9.Non-elective admissions - Map'!$C$5:$C$870,'10.Non-elective admissions -HWB'!$D88,'9.Non-elective admissions - Map'!M$5:M$870)","v":8305.8323151303266},{"$f":"SUMIF('9.Non-elective admissions - Map'!$C$5:$C$870,'10.Non-elective admissions -HWB'!$D88,'9.Non-elective admissions - Map'!N$5:N$870)","v":6771.3421249284711},{"$f":"SUMIF('9.Non-elective admissions - Map'!$C$5:$C$870,'10.Non-elective admissions -HWB'!$D88,'9.Non-elective admissions - Map'!O$5:O$870)","v":6919.3332642104133},{"$f":"SUMIF('9.Non-elective admissions - Map'!$C$5:$C$870,'10.Non-elective admissions -HWB'!$D88,'9.Non-elective admissions - Map'!P$5:P$870)","v":6954.0341841196177},{"$f":"SUMIF('9.Non-elective admissions - Map'!$C$5:$C$870,'10.Non-elective admissions -HWB'!$D88,'9.Non-elective admissions - Map'!Q$5:Q$870)","v":7125.7910321431345},{"$f":"SUMIF('9.Non-elective admissions - Map'!$C$5:$C$870,'10.Non-elective admissions -HWB'!$D88,'9.Non-elective admissions - Map'!R$5:R$870)","v":6362.1963248726042},{"$f":"SUMIF('9.Non-elective admissions - Map'!$C$5:$C$870,'10.Non-elective admissions -HWB'!$D88,'9.Non-elective admissions - Map'!S$5:S$870)","v":6508.7601066194875},{"$f":"SUMIF('9.Non-elective admissions - Map'!$C$5:$C$870,'10.Non-elective admissions -HWB'!$D88,'9.Non-elective admissions - Map'!T$5:T$870)","v":6542.3645432813473},{"$f":"SUMIF('9.Non-elective admissions - Map'!$C$5:$C$870,'10.Non-elective admissions -HWB'!$D88,'9.Non-elective admissions - Map'!U$5:U$870)","v":6699.251845532649}]
["Midlands & East","Q60","Shropshire And Staffordshire ","E06000020","Telford and Wrekin",{"$f":"SUMIF('9.Non-elective admissions - Map'!$C$5:$C$870,'10.Non-elective admissions -HWB'!$D89,'9.Non-elective admissions - Map'!J$5:J$870)","v":4098.6732411749244},{"$f":"SUMIF('9.Non-elective admissions - Map'!$C$5:$C$870,'10.Non-elective admissions -HWB'!$D89,'9.Non-elective admissions - Map'!K$5:K$870)","v":4045.5230793061073},{"$f":"SUMIF('9.Non-elective admissions - Map'!$C$5:$C$870,'10.Non-elective admissions -HWB'!$D89,'9.Non-elective admissions - Map'!L$5:L$870)","v":4478.3223158149531},{"$f":"SUMIF('9.Non-elective admissions - Map'!$C$5:$C$870,'10.Non-elective admissions -HWB'!$D89,'9.Non-elective admissions - Map'!M$5:M$870)","v":4386.6000149532483},{"$f":"SUMIF('9.Non-elective admissions - Map'!$C$5:$C$870,'10.Non-elective admissions -HWB'!$D89,'9.Non-elective admissions - Map'!N$5:N$870)","v":3790.6892031138941},{"$f":"SUMIF('9.Non-elective admissions - Map'!$C$5:$C$870,'10.Non-elective admissions -HWB'!$D89,'9.Non-elective admissions - Map'!O$5:O$870)","v":3837.462283035944},{"$f":"SUMIF('9.Non-elective admissions - Map'!$C$5:$C$870,'10.Non-elective admissions -HWB'!$D89,'9.Non-elective admissions - Map'!P$5:P$870)","v":4079.4614609097362},{"$f":"SUMIF('9.Non-elective admissions - Map'!$C$5:$C$870,'10.Non-elective admissions -HWB'!$D89,'9.Non-elective admissions - Map'!Q$5:Q$870)","v":4159.5198822979728},{"$f":"SUMIF('9.Non-elective admissions - Map'!$C$5:$C$870,'10.Non-elective admissions -HWB'!$D89,'9.Non-elective admissions - Map'!R$5:R$870)","v":3277.5604146183873},{"$f":"SUMIF('9.Non-elective admissions - Map'!$C$5:$C$870,'10.Non-elective admissions -HWB'!$D89,'9.Non-elective admissions - Map'!S$5:S$870)","v":3319.5007593261093},{"$f":"SUMIF('9.Non-elective admissions - Map'!$C$5:$C$870,'10.Non-elective admissions -HWB'!$D89,'9.Non-elective admissions - Map'!T$5:T$870)","v":3526.7042436567435},{"$f":"SUMIF('9.Non-elective admissions - Map'!$C$5:$C$870,'10.Non-elective admissions -HWB'!$D89,'9.Non-elective admissions - Map'!U$5:U$870)","v":3590.313416771919}]
["London","Q71","London","E09000002","Barking and Dagenham",{"$f":"SUMIF('9.Non-elective admissions - Map'!$C$5:$C$870,'10.Non-elective admissions -HWB'!$D90,'9.Non-elective admissions - Map'!J$5:J$870)","v":5212.3497973071189},{"$f":"SUMIF('9.Non-elective admissions - Map'!$C$5:$C$870,'10.Non-elective admissions -HWB'!$D90,'9.Non-elective admissions - Map'!K$5:K$870)","v":4956.7346662174341},{"$f":"SUMIF('9.Non-elective admissions - Map'!$C$5:$C$870,'10.Non-elective admissions -HWB'!$D90,'9.Non-elective admissions - Map'!L$5:L$870)","v":4986.1575618438865},{"$f":"SUMIF('9.Non-elective admissions - Map'!$C$5:$C$870,'10.Non-elective admissions -HWB'!$D90,'9.Non-elective admissions - Map'!M$5:M$870)","v":5373.9460503386736},{"$f":"SUMIF('9.Non-elective admissions - Map'!$C$5:$C$870,'10.Non-elective admissions -HWB'!$D90,'9.Non-elective admissions - Map'!N$5:N$870)","v":5204.7898450536695},{"$f":"SUMIF('9.Non-elective admissions - Map'!$C$5:$C$870,'10.Non-elective admissions -HWB'!$D90,'9.Non-elective admissions - Map'!O$5:O$870)","v":4941.2777803571435},{"$f":"SUMIF('9.Non-elective admissions - Map'!$C$5:$C$870,'10.Non-elective admissions -HWB'!$D90,'9.Non-elective admissions - Map'!P$5:P$870)","v":4971.9913979464691},{"$f":"SUMIF('9.Non-elective admissions - Map'!$C$5:$C$870,'10.Non-elective admissions -HWB'!$D90,'9.Non-elective admissions - Map'!Q$5:Q$870)","v":5371.0479315536986},{"$f":"SUMIF('9.Non-elective admissions - Map'!$C$5:$C$870,'10.Non-elective admissions -HWB'!$D90,'9.Non-elective admissions - Map'!R$5:R$870)","v":5324.0623185021241},{"$f":"SUMIF('9.Non-elective admissions - Map'!$C$5:$C$870,'10.Non-elective admissions -HWB'!$D90,'9.Non-elective admissions - Map'!S$5:S$870)","v":5054.4557144087903},{"$f":"SUMIF('9.Non-elective admissions - Map'!$C$5:$C$870,'10.Non-elective admissions -HWB'!$D90,'9.Non-elective admissions - Map'!T$5:T$870)","v":5084.6996736619058},{"$f":"SUMIF('9.Non-elective admissions - Map'!$C$5:$C$870,'10.Non-elective admissions -HWB'!$D90,'9.Non-elective admissions - Map'!U$5:U$870)","v":5505.9246854130743}]
["London","Q71","London","E09000003","Barnet",{"$f":"SUMIF('9.Non-elective admissions - Map'!$C$5:$C$870,'10.Non-elective admissions -HWB'!$D91,'9.Non-elective admissions - Map'!J$5:J$870)","v":7201.8248434069719},{"$f":"SUMIF('9.Non-elective admissions - Map'!$C$5:$C$870,'10.Non-elective admissions -HWB'!$D91,'9.Non-elective admissions - Map'!K$5:K$870)","v":6804.5180818641356},{"$f":"SUMIF('9.Non-elective admissions - Map'!$C$5:$C$870,'10.Non-elective admissions -HWB'!$D91,'9.Non-elective admissions - Map'!L$5:L$870)","v":7322.3232934311854},{"$f":"SUMIF('9.Non-elective admissions - Map'!$C$5:$C$870,'10.Non-elective admissions -HWB'!$D91,'9.Non-elective admissions - Map'!M$5:M$870)","v":7458.4315121129239},{"$f":"SUMIF('9.Non-elective admissions - Map'!$C$5:$C$870,'10.Non-elective admissions -HWB'!$D91,'9.Non-elective admissions - Map'!N$5:N$870)","v":7940.4172930924624},{"$f":"SUMIF('9.Non-elective admissions - Map'!$C$5:$C$870,'10.Non-elective admissions -HWB'!$D91,'9.Non-elective admissions - Map'!O$5:O$870)","v":7688.9916782140799},{"$f":"SUMIF('9.Non-elective admissions - Map'!$C$5:$C$870,'10.Non-elective admissions -HWB'!$D91,'9.Non-elective admissions - Map'!P$5:P$870)","v":8424.0566564254532},{"$f":"SUMIF('9.Non-elective admissions - Map'!$C$5:$C$870,'10.Non-elective admissions -HWB'!$D91,'9.Non-elective admissions - Map'!Q$5:Q$870)","v":8556.8172917583597},{"$f":"SUMIF('9.Non-elective admissions - Map'!$C$5:$C$870,'10.Non-elective admissions -HWB'!$D91,'9.Non-elective admissions - Map'!R$5:R$870)","v":7127.8585976483091},{"$f":"SUMIF('9.Non-elective admissions - Map'!$C$5:$C$870,'10.Non-elective admissions -HWB'!$D91,'9.Non-elective admissions - Map'!S$5:S$870)","v":6846.3602799865839},{"$f":"SUMIF('9.Non-elective admissions - Map'!$C$5:$C$870,'10.Non-elective admissions -HWB'!$D91,'9.Non-elective admissions - Map'!T$5:T$870)","v":7669.1159127135761},{"$f":"SUMIF('9.Non-elective admissions - Map'!$C$5:$C$870,'10.Non-elective admissions -HWB'!$D91,'9.Non-elective admissions - Map'!U$5:U$870)","v":7795.6826685731303}]
["London","Q71","London","E09000007","Camden",{"$f":"SUMIF('9.Non-elective admissions - Map'!$C$5:$C$870,'10.Non-elective admissions -HWB'!$D92,'9.Non-elective admissions - Map'!J$5:J$870)","v":4331.4474249497434},{"$f":"SUMIF('9.Non-elective admissions - Map'!$C$5:$C$870,'10.Non-elective admissions -HWB'!$D92,'9.Non-elective admissions - Map'!K$5:K$870)","v":4262.2110793302109},{"$f":"SUMIF('9.Non-elective admissions - Map'!$C$5:$C$870,'10.Non-elective admissions -HWB'!$D92,'9.Non-elective admissions - Map'!L$5:L$870)","v":4116.0105633716848},{"$f":"SUMIF('9.Non-elective admissions - Map'!$C$5:$C$870,'10.Non-elective admissions -HWB'!$D92,'9.Non-elective admissions - Map'!M$5:M$870)","v":4167.7390373070448},{"$f":"SUMIF('9.Non-elective admissions - Map'!$C$5:$C$870,'10.Non-elective admissions -HWB'!$D92,'9.Non-elective admissions - Map'!N$5:N$870)","v":4628.4461764740845},{"$f":"SUMIF('9.Non-elective admissions - Map'!$C$5:$C$870,'10.Non-elective admissions -HWB'!$D92,'9.Non-elective admissions - Map'!O$5:O$870)","v":4673.8105191259256},{"$f":"SUMIF('9.Non-elective admissions - Map'!$C$5:$C$870,'10.Non-elective admissions -HWB'!$D92,'9.Non-elective admissions - Map'!P$5:P$870)","v":4728.8363977973713},{"$f":"SUMIF('9.Non-elective admissions - Map'!$C$5:$C$870,'10.Non-elective admissions -HWB'!$D92,'9.Non-elective admissions - Map'!Q$5:Q$870)","v":4740.8194365608533},{"$f":"SUMIF('9.Non-elective admissions - Map'!$C$5:$C$870,'10.Non-elective admissions -HWB'!$D92,'9.Non-elective admissions - Map'!R$5:R$870)","v":4321.2563106942625},{"$f":"SUMIF('9.Non-elective admissions - Map'!$C$5:$C$870,'10.Non-elective admissions -HWB'!$D92,'9.Non-elective admissions - Map'!S$5:S$870)","v":4357.666383521937},{"$f":"SUMIF('9.Non-elective admissions - Map'!$C$5:$C$870,'10.Non-elective admissions -HWB'!$D92,'9.Non-elective admissions - Map'!T$5:T$870)","v":4433.3311167988859},{"$f":"SUMIF('9.Non-elective admissions - Map'!$C$5:$C$870,'10.Non-elective admissions -HWB'!$D92,'9.Non-elective admissions - Map'!U$5:U$870)","v":4438.4752787332127}]
["London","Q71","London","E09000001","City of London",{"$f":"SUMIF('9.Non-elective admissions - Map'!$C$5:$C$870,'10.Non-elective admissions -HWB'!$D93,'9.Non-elective admissions - Map'!J$5:J$870)","v":146.82786237011305},{"$f":"SUMIF('9.Non-elective admissions - Map'!$C$5:$C$870,'10.Non-elective admissions -HWB'!$D93,'9.Non-elective admissions - Map'!K$5:K$870)","v":138.73807276751734},{"$f":"SUMIF('9.Non-elective admissions - Map'!$C$5:$C$870,'10.Non-elective admissions -HWB'!$D93,'9.Non-elective admissions - Map'!L$5:L$870)","v":140.23849862971531},{"$f":"SUMIF('9.Non-elective admissions - Map'!$C$5:$C$870,'10.Non-elective admissions -HWB'!$D93,'9.Non-elective admissions - Map'!M$5:M$870)","v":134.32387749377725},{"$f":"SUMIF('9.Non-elective admissions - Map'!$C$5:$C$870,'10.Non-elective admissions -HWB'!$D93,'9.Non-elective admissions - Map'!N$5:N$870)","v":167.64346272688698},{"$f":"SUMIF('9.Non-elective admissions - Map'!$C$5:$C$870,'10.Non-elective admissions -HWB'!$D93,'9.Non-elective admissions - Map'!O$5:O$870)","v":157.87972009303456},{"$f":"SUMIF('9.Non-elective admissions - Map'!$C$5:$C$870,'10.Non-elective admissions -HWB'!$D93,'9.Non-elective admissions - Map'!P$5:P$870)","v":165.88207563578183},{"$f":"SUMIF('9.Non-elective admissions - Map'!$C$5:$C$870,'10.Non-elective admissions -HWB'!$D93,'9.Non-elective admissions - Map'!Q$5:Q$870)","v":170.92480129967763},{"$f":"SUMIF('9.Non-elective admissions - Map'!$C$5:$C$870,'10.Non-elective admissions -HWB'!$D93,'9.Non-elective admissions - Map'!R$5:R$870)","v":172.35691605428954},{"$f":"SUMIF('9.Non-elective admissions - Map'!$C$5:$C$870,'10.Non-elective admissions -HWB'!$D93,'9.Non-elective admissions - Map'!S$5:S$870)","v":162.22004117502601},{"$f":"SUMIF('9.Non-elective admissions - Map'!$C$5:$C$870,'10.Non-elective admissions -HWB'!$D93,'9.Non-elective admissions - Map'!T$5:T$870)","v":170.53219847115594},{"$f":"SUMIF('9.Non-elective admissions - Map'!$C$5:$C$870,'10.Non-elective admissions -HWB'!$D93,'9.Non-elective admissions - Map'!U$5:U$870)","v":175.73866763451977}]
["London","Q71","London","E09000010","Enfield",{"$f":"SUMIF('9.Non-elective admissions - Map'!$C$5:$C$870,'10.Non-elective admissions -HWB'!$D94,'9.Non-elective admissions - Map'!J$5:J$870)","v":6233.9970681751165},{"$f":"SUMIF('9.Non-elective admissions - Map'!$C$5:$C$870,'10.Non-elective admissions -HWB'!$D94,'9.Non-elective admissions - Map'!K$5:K$870)","v":6001.5666482607803},{"$f":"SUMIF('9.Non-elective admissions - Map'!$C$5:$C$870,'10.Non-elective admissions -HWB'!$D94,'9.Non-elective admissions - Map'!L$5:L$870)","v":6472.5328560173193},{"$f":"SUMIF('9.Non-elective admissions - Map'!$C$5:$C$870,'10.Non-elective admissions -HWB'!$D94,'9.Non-elective admissions - Map'!M$5:M$870)","v":7242.3374738686007},{"$f":"SUMIF('9.Non-elective admissions - Map'!$C$5:$C$870,'10.Non-elective admissions -HWB'!$D94,'9.Non-elective admissions - Map'!N$5:N$870)","v":9333.7177815074901},{"$f":"SUMIF('9.Non-elective admissions - Map'!$C$5:$C$870,'10.Non-elective admissions -HWB'!$D94,'9.Non-elective admissions - Map'!O$5:O$870)","v":9307.8335720340419},{"$f":"SUMIF('9.Non-elective admissions - Map'!$C$5:$C$870,'10.Non-elective admissions -HWB'!$D94,'9.Non-elective admissions - Map'!P$5:P$870)","v":9254.5243888558707},{"$f":"SUMIF('9.Non-elective admissions - Map'!$C$5:$C$870,'10.Non-elective admissions -HWB'!$D94,'9.Non-elective admissions - Map'!Q$5:Q$870)","v":8854.3312010025838},{"$f":"SUMIF('9.Non-elective admissions - Map'!$C$5:$C$870,'10.Non-elective admissions -HWB'!$D94,'9.Non-elective admissions - Map'!R$5:R$870)","v":6315.8282258972868},{"$f":"SUMIF('9.Non-elective admissions - Map'!$C$5:$C$870,'10.Non-elective admissions -HWB'!$D94,'9.Non-elective admissions - Map'!S$5:S$870)","v":6193.9484171969525},{"$f":"SUMIF('9.Non-elective admissions - Map'!$C$5:$C$870,'10.Non-elective admissions -HWB'!$D94,'9.Non-elective admissions - Map'!T$5:T$870)","v":6420.427972751354},{"$f":"SUMIF('9.Non-elective admissions - Map'!$C$5:$C$870,'10.Non-elective admissions -HWB'!$D94,'9.Non-elective admissions - Map'!U$5:U$870)","v":5994.756058267134}]
["London","Q71","London","E09000012","Hackney",{"$f":"SUMIF('9.Non-elective admissions - Map'!$C$5:$C$870,'10.Non-elective admissions -HWB'!$D95,'9.Non-elective admissions - Map'!J$5:J$870)","v":5739.8850535111842},{"$f":"SUMIF('9.Non-elective admissions - Map'!$C$5:$C$870,'10.Non-elective admissions -HWB'!$D95,'9.Non-elective admissions - Map'!K$5:K$870)","v":5446.5251678386976},{"$f":"SUMIF('9.Non-elective admissions - Map'!$C$5:$C$870,'10.Non-elective admissions -HWB'!$D95,'9.Non-elective admissions - Map'!L$5:L$870)","v":5466.2592808724912},{"$f":"SUMIF('9.Non-elective admissions - Map'!$C$5:$C$870,'10.Non-elective admissions -HWB'!$D95,'9.Non-elective admissions - Map'!M$5:M$870)","v":5252.3801560044121},{"$f":"SUMIF('9.Non-elective admissions - Map'!$C$5:$C$870,'10.Non-elective admissions -HWB'!$D95,'9.Non-elective admissions - Map'!N$5:N$870)","v":7013.7640479437205},{"$f":"SUMIF('9.Non-elective admissions - Map'!$C$5:$C$870,'10.Non-elective admissions -HWB'!$D95,'9.Non-elective admissions - Map'!O$5:O$870)","v":6654.3994319062213},{"$f":"SUMIF('9.Non-elective admissions - Map'!$C$5:$C$870,'10.Non-elective admissions -HWB'!$D95,'9.Non-elective admissions - Map'!P$5:P$870)","v":6949.307373033359},{"$f":"SUMIF('9.Non-elective admissions - Map'!$C$5:$C$870,'10.Non-elective admissions -HWB'!$D95,'9.Non-elective admissions - Map'!Q$5:Q$870)","v":7279.0980709609557},{"$f":"SUMIF('9.Non-elective admissions - Map'!$C$5:$C$870,'10.Non-elective admissions -HWB'!$D95,'9.Non-elective admissions - Map'!R$5:R$870)","v":6963.2010186890011},{"$f":"SUMIF('9.Non-elective admissions - Map'!$C$5:$C$870,'10.Non-elective admissions -HWB'!$D95,'9.Non-elective admissions - Map'!S$5:S$870)","v":6580.4429494395472},{"$f":"SUMIF('9.Non-elective admissions - Map'!$C$5:$C$870,'10.Non-elective admissions -HWB'!$D95,'9.Non-elective admissions - Map'!T$5:T$870)","v":6912.9172754044066},{"$f":"SUMIF('9.Non-elective admissions - Map'!$C$5:$C$870,'10.Non-elective admissions -HWB'!$D95,'9.Non-elective admissions - Map'!U$5:U$870)","v":7250.3611354402537}]
["London","Q71","London","E09000014","Haringey",{"$f":"SUMIF('9.Non-elective admissions - Map'!$C$5:$C$870,'10.Non-elective admissions -HWB'!$D96,'9.Non-elective admissions - Map'!J$5:J$870)","v":5603.5839465309436},{"$f":"SUMIF('9.Non-elective admissions - Map'!$C$5:$C$870,'10.Non-elective admissions -HWB'!$D96,'9.Non-elective admissions - Map'!K$5:K$870)","v":5066.2939154452297},{"$f":"SUMIF('9.Non-elective admissions - Map'!$C$5:$C$870,'10.Non-elective admissions -HWB'!$D96,'9.Non-elective admissions - Map'!L$5:L$870)","v":4031.8569975709906},{"$f":"SUMIF('9.Non-elective admissions - Map'!$C$5:$C$870,'10.Non-elective admissions -HWB'!$D96,'9.Non-elective admissions - Map'!M$5:M$870)","v":4526.9499124273052},{"$f":"SUMIF('9.Non-elective admissions - Map'!$C$5:$C$870,'10.Non-elective admissions -HWB'!$D96,'9.Non-elective admissions - Map'!N$5:N$870)","v":38823.899360485768},{"$f":"SUMIF('9.Non-elective admissions - Map'!$C$5:$C$870,'10.Non-elective admissions -HWB'!$D96,'9.Non-elective admissions - Map'!O$5:O$870)","v":39897.467014506241},{"$f":"SUMIF('9.Non-elective admissions - Map'!$C$5:$C$870,'10.Non-elective admissions -HWB'!$D96,'9.Non-elective admissions - Map'!P$5:P$870)","v":37028.385886479278},{"$f":"SUMIF('9.Non-elective admissions - Map'!$C$5:$C$870,'10.Non-elective admissions -HWB'!$D96,'9.Non-elective admissions - Map'!Q$5:Q$870)","v":37859.508916139755},{"$f":"SUMIF('9.Non-elective admissions - Map'!$C$5:$C$870,'10.Non-elective admissions -HWB'!$D96,'9.Non-elective admissions - Map'!R$5:R$870)","v":5873.1771231342718},{"$f":"SUMIF('9.Non-elective admissions - Map'!$C$5:$C$870,'10.Non-elective admissions -HWB'!$D96,'9.Non-elective admissions - Map'!S$5:S$870)","v":5906.4078080047357},{"$f":"SUMIF('9.Non-elective admissions - Map'!$C$5:$C$870,'10.Non-elective admissions -HWB'!$D96,'9.Non-elective admissions - Map'!T$5:T$870)","v":6096.0873953736691},{"$f":"SUMIF('9.Non-elective admissions - Map'!$C$5:$C$870,'10.Non-elective admissions -HWB'!$D96,'9.Non-elective admissions - Map'!U$5:U$870)","v":6574.8911704884749}]
["London","Q71","London","E09000016","Havering",{"$f":"SUMIF('9.Non-elective admissions - Map'!$C$5:$C$870,'10.Non-elective admissions -HWB'!$D97,'9.Non-elective admissions - Map'!J$5:J$870)","v":6250.392537663357},{"$f":"SUMIF('9.Non-elective admissions - Map'!$C$5:$C$870,'10.Non-elective admissions -HWB'!$D97,'9.Non-elective admissions - Map'!K$5:K$870)","v":5982.1310879979083},{"$f":"SUMIF('9.Non-elective admissions - Map'!$C$5:$C$870,'10.Non-elective admissions -HWB'!$D97,'9.Non-elective admissions - Map'!L$5:L$870)","v":5944.5082118794335},{"$f":"SUMIF('9.Non-elective admissions - Map'!$C$5:$C$870,'10.Non-elective admissions -HWB'!$D97,'9.Non-elective admissions - Map'!M$5:M$870)","v":6517.7889193150459},{"$f":"SUMIF('9.Non-elective admissions - Map'!$C$5:$C$870,'10.Non-elective admissions -HWB'!$D97,'9.Non-elective admissions - Map'!N$5:N$870)","v":5842.6439752535516},{"$f":"SUMIF('9.Non-elective admissions - Map'!$C$5:$C$870,'10.Non-elective admissions -HWB'!$D97,'9.Non-elective admissions - Map'!O$5:O$870)","v":5584.0039165762637},{"$f":"SUMIF('9.Non-elective admissions - Map'!$C$5:$C$870,'10.Non-elective admissions -HWB'!$D97,'9.Non-elective admissions - Map'!P$5:P$870)","v":5553.4884398967552},{"$f":"SUMIF('9.Non-elective admissions - Map'!$C$5:$C$870,'10.Non-elective admissions -HWB'!$D97,'9.Non-elective admissions - Map'!Q$5:Q$870)","v":6146.2992855447947},{"$f":"SUMIF('9.Non-elective admissions - Map'!$C$5:$C$870,'10.Non-elective admissions -HWB'!$D97,'9.Non-elective admissions - Map'!R$5:R$870)","v":5920.3471574525793},{"$f":"SUMIF('9.Non-elective admissions - Map'!$C$5:$C$870,'10.Non-elective admissions -HWB'!$D97,'9.Non-elective admissions - Map'!S$5:S$870)","v":5658.24659216912},{"$f":"SUMIF('9.Non-elective admissions - Map'!$C$5:$C$870,'10.Non-elective admissions -HWB'!$D97,'9.Non-elective admissions - Map'!T$5:T$870)","v":5609.1735183467872},{"$f":"SUMIF('9.Non-elective admissions - Map'!$C$5:$C$870,'10.Non-elective admissions -HWB'!$D97,'9.Non-elective admissions - Map'!U$5:U$870)","v":6169.3857027903459}]
["London","Q71","London","E09000019","Islington",{"$f":"SUMIF('9.Non-elective admissions - Map'!$C$5:$C$870,'10.Non-elective admissions -HWB'!$D98,'9.Non-elective admissions - Map'!J$5:J$870)","v":4916.2492999509614},{"$f":"SUMIF('9.Non-elective admissions - Map'!$C$5:$C$870,'10.Non-elective admissions -HWB'!$D98,'9.Non-elective admissions - Map'!K$5:K$870)","v":4326.4779102943485},{"$f":"SUMIF('9.Non-elective admissions - Map'!$C$5:$C$870,'10.Non-elective admissions -HWB'!$D98,'9.Non-elective admissions - Map'!L$5:L$870)","v":2985.5145053328979},{"$f":"SUMIF('9.Non-elective admissions - Map'!$C$5:$C$870,'10.Non-elective admissions -HWB'!$D98,'9.Non-elective admissions - Map'!M$5:M$870)","v":3042.7551354523403},{"$f":"SUMIF('9.Non-elective admissions - Map'!$C$5:$C$870,'10.Non-elective admissions -HWB'!$D98,'9.Non-elective admissions - Map'!N$5:N$870)","v":5430.2419874825819},{"$f":"SUMIF('9.Non-elective admissions - Map'!$C$5:$C$870,'10.Non-elective admissions -HWB'!$D98,'9.Non-elective admissions - Map'!O$5:O$870)","v":5591.9301233729157},{"$f":"SUMIF('9.Non-elective admissions - Map'!$C$5:$C$870,'10.Non-elective admissions -HWB'!$D98,'9.Non-elective admissions - Map'!P$5:P$870)","v":5716.6114106726081},{"$f":"SUMIF('9.Non-elective admissions - Map'!$C$5:$C$870,'10.Non-elective admissions -HWB'!$D98,'9.Non-elective admissions - Map'!Q$5:Q$870)","v":5821.744324157331},{"$f":"SUMIF('9.Non-elective admissions - Map'!$C$5:$C$870,'10.Non-elective admissions -HWB'!$D98,'9.Non-elective admissions - Map'!R$5:R$870)","v":4861.2504575018002},{"$f":"SUMIF('9.Non-elective admissions - Map'!$C$5:$C$870,'10.Non-elective admissions -HWB'!$D98,'9.Non-elective admissions - Map'!S$5:S$870)","v":5003.0483445200616},{"$f":"SUMIF('9.Non-elective admissions - Map'!$C$5:$C$870,'10.Non-elective admissions -HWB'!$D98,'9.Non-elective admissions - Map'!T$5:T$870)","v":5172.7804539930603},{"$f":"SUMIF('9.Non-elective admissions - Map'!$C$5:$C$870,'10.Non-elective admissions -HWB'!$D98,'9.Non-elective admissions - Map'!U$5:U$870)","v":5271.343939595793}]
["London","Q71","London","E09000025","Newham",{"$f":"SUMIF('9.Non-elective admissions - Map'!$C$5:$C$870,'10.Non-elective admissions -HWB'!$D99,'9.Non-elective admissions - Map'!J$5:J$870)","v":7402.1264873843429},{"$f":"SUMIF('9.Non-elective admissions - Map'!$C$5:$C$870,'10.Non-elective admissions -HWB'!$D99,'9.Non-elective admissions - Map'!K$5:K$870)","v":7573.5255682562038},{"$f":"SUMIF('9.Non-elective admissions - Map'!$C$5:$C$870,'10.Non-elective admissions -HWB'!$D99,'9.Non-elective admissions - Map'!L$5:L$870)","v":8036.7527862883289},{"$f":"SUMIF('9.Non-elective admissions - Map'!$C$5:$C$870,'10.Non-elective admissions -HWB'!$D99,'9.Non-elective admissions - Map'!M$5:M$870)","v":7792.2962547260422},{"$f":"SUMIF('9.Non-elective admissions - Map'!$C$5:$C$870,'10.Non-elective admissions -HWB'!$D99,'9.Non-elective admissions - Map'!N$5:N$870)","v":7389.2917757279947},{"$f":"SUMIF('9.Non-elective admissions - Map'!$C$5:$C$870,'10.Non-elective admissions -HWB'!$D99,'9.Non-elective admissions - Map'!O$5:O$870)","v":7512.68003591041},{"$f":"SUMIF('9.Non-elective admissions - Map'!$C$5:$C$870,'10.Non-elective admissions -HWB'!$D99,'9.Non-elective admissions - Map'!P$5:P$870)","v":7920.5851906689495},{"$f":"SUMIF('9.Non-elective admissions - Map'!$C$5:$C$870,'10.Non-elective admissions -HWB'!$D99,'9.Non-elective admissions - Map'!Q$5:Q$870)","v":7622.6569006813825},{"$f":"SUMIF('9.Non-elective admissions - Map'!$C$5:$C$870,'10.Non-elective admissions -HWB'!$D99,'9.Non-elective admissions - Map'!R$5:R$870)","v":7323.9977606839393},{"$f":"SUMIF('9.Non-elective admissions - Map'!$C$5:$C$870,'10.Non-elective admissions -HWB'!$D99,'9.Non-elective admissions - Map'!S$5:S$870)","v":7443.8311310689205},{"$f":"SUMIF('9.Non-elective admissions - Map'!$C$5:$C$870,'10.Non-elective admissions -HWB'!$D99,'9.Non-elective admissions - Map'!T$5:T$870)","v":7851.0028615629517},{"$f":"SUMIF('9.Non-elective admissions - Map'!$C$5:$C$870,'10.Non-elective admissions -HWB'!$D99,'9.Non-elective admissions - Map'!U$5:U$870)","v":7540.0237543988442}]
["London","Q71","London","E09000026","Redbridge",{"$f":"SUMIF('9.Non-elective admissions - Map'!$C$5:$C$870,'10.Non-elective admissions -HWB'!$D100,'9.Non-elective admissions - Map'!J$5:J$870)","v":7061.745584965819},{"$f":"SUMIF('9.Non-elective admissions - Map'!$C$5:$C$870,'10.Non-elective admissions -HWB'!$D100,'9.Non-elective admissions - Map'!K$5:K$870)","v":6853.9034537206626},{"$f":"SUMIF('9.Non-elective admissions - Map'!$C$5:$C$870,'10.Non-elective admissions -HWB'!$D100,'9.Non-elective admissions - Map'!L$5:L$870)","v":6960.9115201489512},{"$f":"SUMIF('9.Non-elective admissions - Map'!$C$5:$C$870,'10.Non-elective admissions -HWB'!$D100,'9.Non-elective admissions - Map'!M$5:M$870)","v":7575.6169501041077},{"$f":"SUMIF('9.Non-elective admissions - Map'!$C$5:$C$870,'10.Non-elective admissions -HWB'!$D100,'9.Non-elective admissions - Map'!N$5:N$870)","v":7096.2640198764038},{"$f":"SUMIF('9.Non-elective admissions - Map'!$C$5:$C$870,'10.Non-elective admissions -HWB'!$D100,'9.Non-elective admissions - Map'!O$5:O$870)","v":6757.7737897752277},{"$f":"SUMIF('9.Non-elective admissions - Map'!$C$5:$C$870,'10.Non-elective admissions -HWB'!$D100,'9.Non-elective admissions - Map'!P$5:P$870)","v":6825.4695511723503},{"$f":"SUMIF('9.Non-elective admissions - Map'!$C$5:$C$870,'10.Non-elective admissions -HWB'!$D100,'9.Non-elective admissions - Map'!Q$5:Q$870)","v":7471.9039868276104},{"$f":"SUMIF('9.Non-elective admissions - Map'!$C$5:$C$870,'10.Non-elective admissions -HWB'!$D100,'9.Non-elective admissions - Map'!R$5:R$870)","v":7236.5319010112662},{"$f":"SUMIF('9.Non-elective admissions - Map'!$C$5:$C$870,'10.Non-elective admissions -HWB'!$D100,'9.Non-elective admissions - Map'!S$5:S$870)","v":6886.7214753185326},{"$f":"SUMIF('9.Non-elective admissions - Map'!$C$5:$C$870,'10.Non-elective admissions -HWB'!$D100,'9.Non-elective admissions - Map'!T$5:T$870)","v":6951.7561126244454},{"$f":"SUMIF('9.Non-elective admissions - Map'!$C$5:$C$870,'10.Non-elective admissions -HWB'!$D100,'9.Non-elective admissions - Map'!U$5:U$870)","v":8330.7261417872669}]
["London","Q71","London","E09000030","Tower Hamlets",{"$f":"SUMIF('9.Non-elective admissions - Map'!$C$5:$C$870,'10.Non-elective admissions -HWB'!$D101,'9.Non-elective admissions - Map'!J$5:J$870)","v":5676.4714536883321},{"$f":"SUMIF('9.Non-elective admissions - Map'!$C$5:$C$870,'10.Non-elective admissions -HWB'!$D101,'9.Non-elective admissions - Map'!K$5:K$870)","v":5135.9430097726226},{"$f":"SUMIF('9.Non-elective admissions - Map'!$C$5:$C$870,'10.Non-elective admissions -HWB'!$D101,'9.Non-elective admissions - Map'!L$5:L$870)","v":5491.3492695311161},{"$f":"SUMIF('9.Non-elective admissions - Map'!$C$5:$C$870,'10.Non-elective admissions -HWB'!$D101,'9.Non-elective admissions - Map'!M$5:M$870)","v":5074.1443472501187},{"$f":"SUMIF('9.Non-elective admissions - Map'!$C$5:$C$870,'10.Non-elective admissions -HWB'!$D101,'9.Non-elective admissions - Map'!N$5:N$870)","v":5572.8483546286516},{"$f":"SUMIF('9.Non-elective admissions - Map'!$C$5:$C$870,'10.Non-elective admissions -HWB'!$D101,'9.Non-elective admissions - Map'!O$5:O$870)","v":4970.3035792198552},{"$f":"SUMIF('9.Non-elective admissions - Map'!$C$5:$C$870,'10.Non-elective admissions -HWB'!$D101,'9.Non-elective admissions - Map'!P$5:P$870)","v":5310.2669221958622},{"$f":"SUMIF('9.Non-elective admissions - Map'!$C$5:$C$870,'10.Non-elective admissions -HWB'!$D101,'9.Non-elective admissions - Map'!Q$5:Q$870)","v":4822.7346814718885},{"$f":"SUMIF('9.Non-elective admissions - Map'!$C$5:$C$870,'10.Non-elective admissions -HWB'!$D101,'9.Non-elective admissions - Map'!R$5:R$870)","v":5700.9890272041794},{"$f":"SUMIF('9.Non-elective admissions - Map'!$C$5:$C$870,'10.Non-elective admissions -HWB'!$D101,'9.Non-elective admissions - Map'!S$5:S$870)","v":5083.4273622626333},{"$f":"SUMIF('9.Non-elective admissions - Map'!$C$5:$C$870,'10.Non-elective admissions -HWB'!$D101,'9.Non-elective admissions - Map'!T$5:T$870)","v":5432.4347243710063},{"$f":"SUMIF('9.Non-elective admissions - Map'!$C$5:$C$870,'10.Non-elective admissions -HWB'!$D101,'9.Non-elective admissions - Map'!U$5:U$870)","v":4932.0489685546763}]
["London","Q71","London","E09000031","Waltham Forest",{"$f":"SUMIF('9.Non-elective admissions - Map'!$C$5:$C$870,'10.Non-elective admissions -HWB'!$D102,'9.Non-elective admissions - Map'!J$5:J$870)","v":7126.7796225015409},{"$f":"SUMIF('9.Non-elective admissions - Map'!$C$5:$C$870,'10.Non-elective admissions -HWB'!$D102,'9.Non-elective admissions - Map'!K$5:K$870)","v":6823.8870975690979},{"$f":"SUMIF('9.Non-elective admissions - Map'!$C$5:$C$870,'10.Non-elective admissions -HWB'!$D102,'9.Non-elective admissions - Map'!L$5:L$870)","v":7417.9219303448854},{"$f":"SUMIF('9.Non-elective admissions - Map'!$C$5:$C$870,'10.Non-elective admissions -HWB'!$D102,'9.Non-elective admissions - Map'!M$5:M$870)","v":6976.5383537697435},{"$f":"SUMIF('9.Non-elective admissions - Map'!$C$5:$C$870,'10.Non-elective admissions -HWB'!$D102,'9.Non-elective admissions - Map'!N$5:N$870)","v":7326.1588457678936},{"$f":"SUMIF('9.Non-elective admissions - Map'!$C$5:$C$870,'10.Non-elective admissions -HWB'!$D102,'9.Non-elective admissions - Map'!O$5:O$870)","v":7018.7042751349027},{"$f":"SUMIF('9.Non-elective admissions - Map'!$C$5:$C$870,'10.Non-elective admissions -HWB'!$D102,'9.Non-elective admissions - Map'!P$5:P$870)","v":7617.9367803110854},{"$f":"SUMIF('9.Non-elective admissions - Map'!$C$5:$C$870,'10.Non-elective admissions -HWB'!$D102,'9.Non-elective admissions - Map'!Q$5:Q$870)","v":7172.3548412505361},{"$f":"SUMIF('9.Non-elective admissions - Map'!$C$5:$C$870,'10.Non-elective admissions -HWB'!$D102,'9.Non-elective admissions - Map'!R$5:R$870)","v":7671.499560476127},{"$f":"SUMIF('9.Non-elective admissions - Map'!$C$5:$C$870,'10.Non-elective admissions -HWB'!$D102,'9.Non-elective admissions - Map'!S$5:S$870)","v":7228.8933279835874},{"$f":"SUMIF('9.Non-elective admissions - Map'!$C$5:$C$870,'10.Non-elective admissions -HWB'!$D102,'9.Non-elective admissions - Map'!T$5:T$870)","v":7735.6577205070798},{"$f":"SUMIF('9.Non-elective admissions - Map'!$C$5:$C$870,'10.Non-elective admissions -HWB'!$D102,'9.Non-elective admissions - Map'!U$5:U$870)","v":6613.1951374888777}]
["London","Q71","London","E09000005","Brent",{"$f":"SUMIF('9.Non-elective admissions - Map'!$C$5:$C$870,'10.Non-elective admissions -HWB'!$D103,'9.Non-elective admissions - Map'!J$5:J$870)","v":7758.2683873954675},{"$f":"SUMIF('9.Non-elective admissions - Map'!$C$5:$C$870,'10.Non-elective admissions -HWB'!$D103,'9.Non-elective admissions - Map'!K$5:K$870)","v":7542.6151919082204},{"$f":"SUMIF('9.Non-elective admissions - Map'!$C$5:$C$870,'10.Non-elective admissions -HWB'!$D103,'9.Non-elective admissions - Map'!L$5:L$870)","v":7799.9445212180099},{"$f":"SUMIF('9.Non-elective admissions - Map'!$C$5:$C$870,'10.Non-elective admissions -HWB'!$D103,'9.Non-elective admissions - Map'!M$5:M$870)","v":7900.856277937597},{"$f":"SUMIF('9.Non-elective admissions - Map'!$C$5:$C$870,'10.Non-elective admissions -HWB'!$D103,'9.Non-elective admissions - Map'!N$5:N$870)","v":7787.5042794669253},{"$f":"SUMIF('9.Non-elective admissions - Map'!$C$5:$C$870,'10.Non-elective admissions -HWB'!$D103,'9.Non-elective admissions - Map'!O$5:O$870)","v":7537.9425891937153},{"$f":"SUMIF('9.Non-elective admissions - Map'!$C$5:$C$870,'10.Non-elective admissions -HWB'!$D103,'9.Non-elective admissions - Map'!P$5:P$870)","v":7757.5902439952079},{"$f":"SUMIF('9.Non-elective admissions - Map'!$C$5:$C$870,'10.Non-elective admissions -HWB'!$D103,'9.Non-elective admissions - Map'!Q$5:Q$870)","v":7873.7080623914699},{"$f":"SUMIF('9.Non-elective admissions - Map'!$C$5:$C$870,'10.Non-elective admissions -HWB'!$D103,'9.Non-elective admissions - Map'!R$5:R$870)","v":7520.1695983231721},{"$f":"SUMIF('9.Non-elective admissions - Map'!$C$5:$C$870,'10.Non-elective admissions -HWB'!$D103,'9.Non-elective admissions - Map'!S$5:S$870)","v":7258.1663039569057},{"$f":"SUMIF('9.Non-elective admissions - Map'!$C$5:$C$870,'10.Non-elective admissions -HWB'!$D103,'9.Non-elective admissions - Map'!T$5:T$870)","v":7491.8143411260417},{"$f":"SUMIF('9.Non-elective admissions - Map'!$C$5:$C$870,'10.Non-elective admissions -HWB'!$D103,'9.Non-elective admissions - Map'!U$5:U$870)","v":7608.9662781959114}]
["London","Q71","London","E09000009","Ealing",{"$f":"SUMIF('9.Non-elective admissions - Map'!$C$5:$C$870,'10.Non-elective admissions -HWB'!$D104,'9.Non-elective admissions - Map'!J$5:J$870)","v":8824.4566683941521},{"$f":"SUMIF('9.Non-elective admissions - Map'!$C$5:$C$870,'10.Non-elective admissions -HWB'!$D104,'9.Non-elective admissions - Map'!K$5:K$870)","v":9109.1200548506549},{"$f":"SUMIF('9.Non-elective admissions - Map'!$C$5:$C$870,'10.Non-elective admissions -HWB'!$D104,'9.Non-elective admissions - Map'!L$5:L$870)","v":9100.3134598466659},{"$f":"SUMIF('9.Non-elective admissions - Map'!$C$5:$C$870,'10.Non-elective admissions -HWB'!$D104,'9.Non-elective admissions - Map'!M$5:M$870)","v":8874.2640176570749},{"$f":"SUMIF('9.Non-elective admissions - Map'!$C$5:$C$870,'10.Non-elective admissions -HWB'!$D104,'9.Non-elective admissions - Map'!N$5:N$870)","v":9367.2024178034444},{"$f":"SUMIF('9.Non-elective admissions - Map'!$C$5:$C$870,'10.Non-elective admissions -HWB'!$D104,'9.Non-elective admissions - Map'!O$5:O$870)","v":9388.4263335812466},{"$f":"SUMIF('9.Non-elective admissions - Map'!$C$5:$C$870,'10.Non-elective admissions -HWB'!$D104,'9.Non-elective admissions - Map'!P$5:P$870)","v":9408.3495643740353},{"$f":"SUMIF('9.Non-elective admissions - Map'!$C$5:$C$870,'10.Non-elective admissions -HWB'!$D104,'9.Non-elective admissions - Map'!Q$5:Q$870)","v":9178.1871179925001},{"$f":"SUMIF('9.Non-elective admissions - Map'!$C$5:$C$870,'10.Non-elective admissions -HWB'!$D104,'9.Non-elective admissions - Map'!R$5:R$870)","v":9408.5645211871361},{"$f":"SUMIF('9.Non-elective admissions - Map'!$C$5:$C$870,'10.Non-elective admissions -HWB'!$D104,'9.Non-elective admissions - Map'!S$5:S$870)","v":9432.4552358353412},{"$f":"SUMIF('9.Non-elective admissions - Map'!$C$5:$C$870,'10.Non-elective admissions -HWB'!$D104,'9.Non-elective admissions - Map'!T$5:T$870)","v":9452.456794833186},{"$f":"SUMIF('9.Non-elective admissions - Map'!$C$5:$C$870,'10.Non-elective admissions -HWB'!$D104,'9.Non-elective admissions - Map'!U$5:U$870)","v":9222.7554716300165}]
["London","Q71","London","E09000013","Hammersmith and Fulham",{"$f":"SUMIF('9.Non-elective admissions - Map'!$C$5:$C$870,'10.Non-elective admissions -HWB'!$D105,'9.Non-elective admissions - Map'!J$5:J$870)","v":4598.2395537693092},{"$f":"SUMIF('9.Non-elective admissions - Map'!$C$5:$C$870,'10.Non-elective admissions -HWB'!$D105,'9.Non-elective admissions - Map'!K$5:K$870)","v":4917.972531226008},{"$f":"SUMIF('9.Non-elective admissions - Map'!$C$5:$C$870,'10.Non-elective admissions -HWB'!$D105,'9.Non-elective admissions - Map'!L$5:L$870)","v":4902.1949728700674},{"$f":"SUMIF('9.Non-elective admissions - Map'!$C$5:$C$870,'10.Non-elective admissions -HWB'!$D105,'9.Non-elective admissions - Map'!M$5:M$870)","v":4833.0369285172983},{"$f":"SUMIF('9.Non-elective admissions - Map'!$C$5:$C$870,'10.Non-elective admissions -HWB'!$D105,'9.Non-elective admissions - Map'!N$5:N$870)","v":5263.9008343110618},{"$f":"SUMIF('9.Non-elective admissions - Map'!$C$5:$C$870,'10.Non-elective admissions -HWB'!$D105,'9.Non-elective admissions - Map'!O$5:O$870)","v":5391.9967700353636},{"$f":"SUMIF('9.Non-elective admissions - Map'!$C$5:$C$870,'10.Non-elective admissions -HWB'!$D105,'9.Non-elective admissions - Map'!P$5:P$870)","v":5407.2938232009656},{"$f":"SUMIF('9.Non-elective admissions - Map'!$C$5:$C$870,'10.Non-elective admissions -HWB'!$D105,'9.Non-elective admissions - Map'!Q$5:Q$870)","v":5183.2319151392539},{"$f":"SUMIF('9.Non-elective admissions - Map'!$C$5:$C$870,'10.Non-elective admissions -HWB'!$D105,'9.Non-elective admissions - Map'!R$5:R$870)","v":5188.7718406014919},{"$f":"SUMIF('9.Non-elective admissions - Map'!$C$5:$C$870,'10.Non-elective admissions -HWB'!$D105,'9.Non-elective admissions - Map'!S$5:S$870)","v":5316.7978649343786},{"$f":"SUMIF('9.Non-elective admissions - Map'!$C$5:$C$870,'10.Non-elective admissions -HWB'!$D105,'9.Non-elective admissions - Map'!T$5:T$870)","v":5334.0909747166825},{"$f":"SUMIF('9.Non-elective admissions - Map'!$C$5:$C$870,'10.Non-elective admissions -HWB'!$D105,'9.Non-elective admissions - Map'!U$5:U$870)","v":5108.8787669201065}]
["London","Q71","London","E09000015","Harrow",{"$f":"SUMIF('9.Non-elective admissions - Map'!$C$5:$C$870,'10.Non-elective admissions -HWB'!$D106,'9.Non-elective admissions - Map'!J$5:J$870)","v":5552.5246057462682},{"$f":"SUMIF('9.Non-elective admissions - Map'!$C$5:$C$870,'10.Non-elective admissions -HWB'!$D106,'9.Non-elective admissions - Map'!K$5:K$870)","v":5526.7842824384588},{"$f":"SUMIF('9.Non-elective admissions - Map'!$C$5:$C$870,'10.Non-elective admissions -HWB'!$D106,'9.Non-elective admissions - Map'!L$5:L$870)","v":5631.0474736055276},{"$f":"SUMIF('9.Non-elective admissions - Map'!$C$5:$C$870,'10.Non-elective admissions -HWB'!$D106,'9.Non-elective admissions - Map'!M$5:M$870)","v":5876.4041866255457},{"$f":"SUMIF('9.Non-elective admissions - Map'!$C$5:$C$870,'10.Non-elective admissions -HWB'!$D106,'9.Non-elective admissions - Map'!N$5:N$870)","v":5578.8768235607768},{"$f":"SUMIF('9.Non-elective admissions - Map'!$C$5:$C$870,'10.Non-elective admissions -HWB'!$D106,'9.Non-elective admissions - Map'!O$5:O$870)","v":5348.1699224451768},{"$f":"SUMIF('9.Non-elective admissions - Map'!$C$5:$C$870,'10.Non-elective admissions -HWB'!$D106,'9.Non-elective admissions - Map'!P$5:P$870)","v":5448.2416414347572},{"$f":"SUMIF('9.Non-elective admissions - Map'!$C$5:$C$870,'10.Non-elective admissions -HWB'!$D106,'9.Non-elective admissions - Map'!Q$5:Q$870)","v":5647.5002302892926},{"$f":"SUMIF('9.Non-elective admissions - Map'!$C$5:$C$870,'10.Non-elective admissions -HWB'!$D106,'9.Non-elective admissions - Map'!R$5:R$870)","v":5520.0859159415404},{"$f":"SUMIF('9.Non-elective admissions - Map'!$C$5:$C$870,'10.Non-elective admissions -HWB'!$D106,'9.Non-elective admissions - Map'!S$5:S$870)","v":5279.4468557287382},{"$f":"SUMIF('9.Non-elective admissions - Map'!$C$5:$C$870,'10.Non-elective admissions -HWB'!$D106,'9.Non-elective admissions - Map'!T$5:T$870)","v":5387.0703829525146},{"$f":"SUMIF('9.Non-elective admissions - Map'!$C$5:$C$870,'10.Non-elective admissions -HWB'!$D106,'9.Non-elective admissions - Map'!U$5:U$870)","v":5589.8837885712037}]
["London","Q71","London","E09000017","Hillingdon",{"$f":"SUMIF('9.Non-elective admissions - Map'!$C$5:$C$870,'10.Non-elective admissions -HWB'!$D107,'9.Non-elective admissions - Map'!J$5:J$870)","v":6769.9958265382684},{"$f":"SUMIF('9.Non-elective admissions - Map'!$C$5:$C$870,'10.Non-elective admissions -HWB'!$D107,'9.Non-elective admissions - Map'!K$5:K$870)","v":6596.1773316581821},{"$f":"SUMIF('9.Non-elective admissions - Map'!$C$5:$C$870,'10.Non-elective admissions -HWB'!$D107,'9.Non-elective admissions - Map'!L$5:L$870)","v":7092.5357670917638},{"$f":"SUMIF('9.Non-elective admissions - Map'!$C$5:$C$870,'10.Non-elective admissions -HWB'!$D107,'9.Non-elective admissions - Map'!M$5:M$870)","v":7314.8705474270982},{"$f":"SUMIF('9.Non-elective admissions - Map'!$C$5:$C$870,'10.Non-elective admissions -HWB'!$D107,'9.Non-elective admissions - Map'!N$5:N$870)","v":6134.7020805091488},{"$f":"SUMIF('9.Non-elective admissions - Map'!$C$5:$C$870,'10.Non-elective admissions -HWB'!$D107,'9.Non-elective admissions - Map'!O$5:O$870)","v":5931.6719309530135},{"$f":"SUMIF('9.Non-elective admissions - Map'!$C$5:$C$870,'10.Non-elective admissions -HWB'!$D107,'9.Non-elective admissions - Map'!P$5:P$870)","v":6448.1889033154494},{"$f":"SUMIF('9.Non-elective admissions - Map'!$C$5:$C$870,'10.Non-elective admissions -HWB'!$D107,'9.Non-elective admissions - Map'!Q$5:Q$870)","v":6645.2975159704529},{"$f":"SUMIF('9.Non-elective admissions - Map'!$C$5:$C$870,'10.Non-elective admissions -HWB'!$D107,'9.Non-elective admissions - Map'!R$5:R$870)","v":5949.3756350062358},{"$f":"SUMIF('9.Non-elective admissions - Map'!$C$5:$C$870,'10.Non-elective admissions -HWB'!$D107,'9.Non-elective admissions - Map'!S$5:S$870)","v":5734.058237795527},{"$f":"SUMIF('9.Non-elective admissions - Map'!$C$5:$C$870,'10.Non-elective admissions -HWB'!$D107,'9.Non-elective admissions - Map'!T$5:T$870)","v":6277.9973706085384},{"$f":"SUMIF('9.Non-elective admissions - Map'!$C$5:$C$870,'10.Non-elective admissions -HWB'!$D107,'9.Non-elective admissions - Map'!U$5:U$870)","v":6482.7435948685834}]
["London","Q71","London","E09000018","Hounslow",{"$f":"SUMIF('9.Non-elective admissions - Map'!$C$5:$C$870,'10.Non-elective admissions -HWB'!$D108,'9.Non-elective admissions - Map'!J$5:J$870)","v":5769.0184676772724},{"$f":"SUMIF('9.Non-elective admissions - Map'!$C$5:$C$870,'10.Non-elective admissions -HWB'!$D108,'9.Non-elective admissions - Map'!K$5:K$870)","v":5765.1948346868285},{"$f":"SUMIF('9.Non-elective admissions - Map'!$C$5:$C$870,'10.Non-elective admissions -HWB'!$D108,'9.Non-elective admissions - Map'!L$5:L$870)","v":6157.4248535723955},{"$f":"SUMIF('9.Non-elective admissions - Map'!$C$5:$C$870,'10.Non-elective admissions -HWB'!$D108,'9.Non-elective admissions - Map'!M$5:M$870)","v":6096.2434782834844},{"$f":"SUMIF('9.Non-elective admissions - Map'!$C$5:$C$870,'10.Non-elective admissions -HWB'!$D108,'9.Non-elective admissions - Map'!N$5:N$870)","v":6978.0669727820441},{"$f":"SUMIF('9.Non-elective admissions - Map'!$C$5:$C$870,'10.Non-elective admissions -HWB'!$D108,'9.Non-elective admissions - Map'!O$5:O$870)","v":7014.7008424062296},{"$f":"SUMIF('9.Non-elective admissions - Map'!$C$5:$C$870,'10.Non-elective admissions -HWB'!$D108,'9.Non-elective admissions - Map'!P$5:P$870)","v":7027.6629442918229},{"$f":"SUMIF('9.Non-elective admissions - Map'!$C$5:$C$870,'10.Non-elective admissions -HWB'!$D108,'9.Non-elective admissions - Map'!Q$5:Q$870)","v":6895.7502619527077},{"$f":"SUMIF('9.Non-elective admissions - Map'!$C$5:$C$870,'10.Non-elective admissions -HWB'!$D108,'9.Non-elective admissions - Map'!R$5:R$870)","v":6924.19379079185},{"$f":"SUMIF('9.Non-elective admissions - Map'!$C$5:$C$870,'10.Non-elective admissions -HWB'!$D108,'9.Non-elective admissions - Map'!S$5:S$870)","v":6964.3501374204579},{"$f":"SUMIF('9.Non-elective admissions - Map'!$C$5:$C$870,'10.Non-elective admissions -HWB'!$D108,'9.Non-elective admissions - Map'!T$5:T$870)","v":6976.6144882302306},{"$f":"SUMIF('9.Non-elective admissions - Map'!$C$5:$C$870,'10.Non-elective admissions -HWB'!$D108,'9.Non-elective admissions - Map'!U$5:U$870)","v":6845.8353677796522}]
["London","Q71","London","E09000020","Kensington and Chelsea",{"$f":"SUMIF('9.Non-elective admissions - Map'!$C$5:$C$870,'10.Non-elective admissions -HWB'!$D109,'9.Non-elective admissions - Map'!J$5:J$870)","v":3056.8389942735589},{"$f":"SUMIF('9.Non-elective admissions - Map'!$C$5:$C$870,'10.Non-elective admissions -HWB'!$D109,'9.Non-elective admissions - Map'!K$5:K$870)","v":3074.3692864391114},{"$f":"SUMIF('9.Non-elective admissions - Map'!$C$5:$C$870,'10.Non-elective admissions -HWB'!$D109,'9.Non-elective admissions - Map'!L$5:L$870)","v":3055.9966787660014},{"$f":"SUMIF('9.Non-elective admissions - Map'!$C$5:$C$870,'10.Non-elective admissions -HWB'!$D109,'9.Non-elective admissions - Map'!M$5:M$870)","v":2992.7542230968793},{"$f":"SUMIF('9.Non-elective admissions - Map'!$C$5:$C$870,'10.Non-elective admissions -HWB'!$D109,'9.Non-elective admissions - Map'!N$5:N$870)","v":3440.2454797355922},{"$f":"SUMIF('9.Non-elective admissions - Map'!$C$5:$C$870,'10.Non-elective admissions -HWB'!$D109,'9.Non-elective admissions - Map'!O$5:O$870)","v":3438.2275562683822},{"$f":"SUMIF('9.Non-elective admissions - Map'!$C$5:$C$870,'10.Non-elective admissions -HWB'!$D109,'9.Non-elective admissions - Map'!P$5:P$870)","v":3313.6526743273471},{"$f":"SUMIF('9.Non-elective admissions - Map'!$C$5:$C$870,'10.Non-elective admissions -HWB'!$D109,'9.Non-elective admissions - Map'!Q$5:Q$870)","v":3465.9263149959747},{"$f":"SUMIF('9.Non-elective admissions - Map'!$C$5:$C$870,'10.Non-elective admissions -HWB'!$D109,'9.Non-elective admissions - Map'!R$5:R$870)","v":3372.2103176505716},{"$f":"SUMIF('9.Non-elective admissions - Map'!$C$5:$C$870,'10.Non-elective admissions -HWB'!$D109,'9.Non-elective admissions - Map'!S$5:S$870)","v":3369.4182043969604},{"$f":"SUMIF('9.Non-elective admissions - Map'!$C$5:$C$870,'10.Non-elective admissions -HWB'!$D109,'9.Non-elective admissions - Map'!T$5:T$870)","v":3244.3936841169525},{"$f":"SUMIF('9.Non-elective admissions - Map'!$C$5:$C$870,'10.Non-elective admissions -HWB'!$D109,'9.Non-elective admissions - Map'!U$5:U$870)","v":3399.2558742848009}]
["London","Q71","London","E09000033","Westminster",{"$f":"SUMIF('9.Non-elective admissions - Map'!$C$5:$C$870,'10.Non-elective admissions -HWB'!$D110,'9.Non-elective admissions - Map'!J$5:J$870)","v":4497.5280259010833},{"$f":"SUMIF('9.Non-elective admissions - Map'!$C$5:$C$870,'10.Non-elective admissions -HWB'!$D110,'9.Non-elective admissions - Map'!K$5:K$870)","v":4270.3453238589491},{"$f":"SUMIF('9.Non-elective admissions - Map'!$C$5:$C$870,'10.Non-elective admissions -HWB'!$D110,'9.Non-elective admissions - Map'!L$5:L$870)","v":4509.0668324170274},{"$f":"SUMIF('9.Non-elective admissions - Map'!$C$5:$C$870,'10.Non-elective admissions -HWB'!$D110,'9.Non-elective admissions - Map'!M$5:M$870)","v":4234.9671317410821},{"$f":"SUMIF('9.Non-elective admissions - Map'!$C$5:$C$870,'10.Non-elective admissions -HWB'!$D110,'9.Non-elective admissions - Map'!N$5:N$870)","v":4794.398142222205},{"$f":"SUMIF('9.Non-elective admissions - Map'!$C$5:$C$870,'10.Non-elective admissions -HWB'!$D110,'9.Non-elective admissions - Map'!O$5:O$870)","v":4717.0885046777494},{"$f":"SUMIF('9.Non-elective admissions - Map'!$C$5:$C$870,'10.Non-elective admissions -HWB'!$D110,'9.Non-elective admissions - Map'!P$5:P$870)","v":4658.0222012645308},{"$f":"SUMIF('9.Non-elective admissions - Map'!$C$5:$C$870,'10.Non-elective admissions -HWB'!$D110,'9.Non-elective admissions - Map'!Q$5:Q$870)","v":4438.5014388683157},{"$f":"SUMIF('9.Non-elective admissions - Map'!$C$5:$C$870,'10.Non-elective admissions -HWB'!$D110,'9.Non-elective admissions - Map'!R$5:R$870)","v":4731.4036033710127},{"$f":"SUMIF('9.Non-elective admissions - Map'!$C$5:$C$870,'10.Non-elective admissions -HWB'!$D110,'9.Non-elective admissions - Map'!S$5:S$870)","v":4649.6041306412426},{"$f":"SUMIF('9.Non-elective admissions - Map'!$C$5:$C$870,'10.Non-elective admissions -HWB'!$D110,'9.Non-elective admissions - Map'!T$5:T$870)","v":4592.2456569824735},{"$f":"SUMIF('9.Non-elective admissions - Map'!$C$5:$C$870,'10.Non-elective admissions -HWB'!$D110,'9.Non-elective admissions - Map'!U$5:U$870)","v":4369.0872404756428}]
["London","Q71","London","E09000004","Bexley",{"$f":"SUMIF('9.Non-elective admissions - Map'!$C$5:$C$870,'10.Non-elective admissions -HWB'!$D111,'9.Non-elective admissions - Map'!J$5:J$870)","v":5071.7034704619191},{"$f":"SUMIF('9.Non-elective admissions - Map'!$C$5:$C$870,'10.Non-elective admissions -HWB'!$D111,'9.Non-elective admissions - Map'!K$5:K$870)","v":5139.9321816168358},{"$f":"SUMIF('9.Non-elective admissions - Map'!$C$5:$C$870,'10.Non-elective admissions -HWB'!$D111,'9.Non-elective admissions - Map'!L$5:L$870)","v":5168.0524906594192},{"$f":"SUMIF('9.Non-elective admissions - Map'!$C$5:$C$870,'10.Non-elective admissions -HWB'!$D111,'9.Non-elective admissions - Map'!M$5:M$870)","v":5087.786932047642},{"$f":"SUMIF('9.Non-elective admissions - Map'!$C$5:$C$870,'10.Non-elective admissions -HWB'!$D111,'9.Non-elective admissions - Map'!N$5:N$870)","v":4888.6518297541243},{"$f":"SUMIF('9.Non-elective admissions - Map'!$C$5:$C$870,'10.Non-elective admissions -HWB'!$D111,'9.Non-elective admissions - Map'!O$5:O$870)","v":4924.6350861560322},{"$f":"SUMIF('9.Non-elective admissions - Map'!$C$5:$C$870,'10.Non-elective admissions -HWB'!$D111,'9.Non-elective admissions - Map'!P$5:P$870)","v":4974.377926863187},{"$f":"SUMIF('9.Non-elective admissions - Map'!$C$5:$C$870,'10.Non-elective admissions -HWB'!$D111,'9.Non-elective admissions - Map'!Q$5:Q$870)","v":4795.4812635314402},{"$f":"SUMIF('9.Non-elective admissions - Map'!$C$5:$C$870,'10.Non-elective admissions -HWB'!$D111,'9.Non-elective admissions - Map'!R$5:R$870)","v":4804.1662329011497},{"$f":"SUMIF('9.Non-elective admissions - Map'!$C$5:$C$870,'10.Non-elective admissions -HWB'!$D111,'9.Non-elective admissions - Map'!S$5:S$870)","v":4840.9810741712672},{"$f":"SUMIF('9.Non-elective admissions - Map'!$C$5:$C$870,'10.Non-elective admissions -HWB'!$D111,'9.Non-elective admissions - Map'!T$5:T$870)","v":4887.3398557526498},{"$f":"SUMIF('9.Non-elective admissions - Map'!$C$5:$C$870,'10.Non-elective admissions -HWB'!$D111,'9.Non-elective admissions - Map'!U$5:U$870)","v":4714.4068715065468}]
["London","Q71","London","E09000006","Bromley",{"$f":"SUMIF('9.Non-elective admissions - Map'!$C$5:$C$870,'10.Non-elective admissions -HWB'!$D112,'9.Non-elective admissions - Map'!J$5:J$870)","v":6211.4796959773139},{"$f":"SUMIF('9.Non-elective admissions - Map'!$C$5:$C$870,'10.Non-elective admissions -HWB'!$D112,'9.Non-elective admissions - Map'!K$5:K$870)","v":6035.7275413042744},{"$f":"SUMIF('9.Non-elective admissions - Map'!$C$5:$C$870,'10.Non-elective admissions -HWB'!$D112,'9.Non-elective admissions - Map'!L$5:L$870)","v":5804.0433496428805},{"$f":"SUMIF('9.Non-elective admissions - Map'!$C$5:$C$870,'10.Non-elective admissions -HWB'!$D112,'9.Non-elective admissions - Map'!M$5:M$870)","v":5891.4312601648398},{"$f":"SUMIF('9.Non-elective admissions - Map'!$C$5:$C$870,'10.Non-elective admissions -HWB'!$D112,'9.Non-elective admissions - Map'!N$5:N$870)","v":5973.4441352143594},{"$f":"SUMIF('9.Non-elective admissions - Map'!$C$5:$C$870,'10.Non-elective admissions -HWB'!$D112,'9.Non-elective admissions - Map'!O$5:O$870)","v":5804.3327827929043},{"$f":"SUMIF('9.Non-elective admissions - Map'!$C$5:$C$870,'10.Non-elective admissions -HWB'!$D112,'9.Non-elective admissions - Map'!P$5:P$870)","v":5677.0875379284089},{"$f":"SUMIF('9.Non-elective admissions - Map'!$C$5:$C$870,'10.Non-elective admissions -HWB'!$D112,'9.Non-elective admissions - Map'!Q$5:Q$870)","v":5598.1511061718747},{"$f":"SUMIF('9.Non-elective admissions - Map'!$C$5:$C$870,'10.Non-elective admissions -HWB'!$D112,'9.Non-elective admissions - Map'!R$5:R$870)","v":5982.4167462329979},{"$f":"SUMIF('9.Non-elective admissions - Map'!$C$5:$C$870,'10.Non-elective admissions -HWB'!$D112,'9.Non-elective admissions - Map'!S$5:S$870)","v":5811.4943444795335},{"$f":"SUMIF('9.Non-elective admissions - Map'!$C$5:$C$870,'10.Non-elective admissions -HWB'!$D112,'9.Non-elective admissions - Map'!T$5:T$870)","v":5685.0566578954895},{"$f":"SUMIF('9.Non-elective admissions - Map'!$C$5:$C$870,'10.Non-elective admissions -HWB'!$D112,'9.Non-elective admissions - Map'!U$5:U$870)","v":5606.4537543525566}]
["London","Q71","London","E09000008","Croydon",{"$f":"SUMIF('9.Non-elective admissions - Map'!$C$5:$C$870,'10.Non-elective admissions -HWB'!$D113,'9.Non-elective admissions - Map'!J$5:J$870)","v":8982.0187409125119},{"$f":"SUMIF('9.Non-elective admissions - Map'!$C$5:$C$870,'10.Non-elective admissions -HWB'!$D113,'9.Non-elective admissions - Map'!K$5:K$870)","v":9157.789670657934},{"$f":"SUMIF('9.Non-elective admissions - Map'!$C$5:$C$870,'10.Non-elective admissions -HWB'!$D113,'9.Non-elective admissions - Map'!L$5:L$870)","v":9215.6606599034931},{"$f":"SUMIF('9.Non-elective admissions - Map'!$C$5:$C$870,'10.Non-elective admissions -HWB'!$D113,'9.Non-elective admissions - Map'!M$5:M$870)","v":9130.4900544882767},{"$f":"SUMIF('9.Non-elective admissions - Map'!$C$5:$C$870,'10.Non-elective admissions -HWB'!$D113,'9.Non-elective admissions - Map'!N$5:N$870)","v":8348.3618016527616},{"$f":"SUMIF('9.Non-elective admissions - Map'!$C$5:$C$870,'10.Non-elective admissions -HWB'!$D113,'9.Non-elective admissions - Map'!O$5:O$870)","v":8516.5309685889661},{"$f":"SUMIF('9.Non-elective admissions - Map'!$C$5:$C$870,'10.Non-elective admissions -HWB'!$D113,'9.Non-elective admissions - Map'!P$5:P$870)","v":8478.4409769807608},{"$f":"SUMIF('9.Non-elective admissions - Map'!$C$5:$C$870,'10.Non-elective admissions -HWB'!$D113,'9.Non-elective admissions - Map'!Q$5:Q$870)","v":8634.2729134599758},{"$f":"SUMIF('9.Non-elective admissions - Map'!$C$5:$C$870,'10.Non-elective admissions -HWB'!$D113,'9.Non-elective admissions - Map'!R$5:R$870)","v":8615.0204124986394},{"$f":"SUMIF('9.Non-elective admissions - Map'!$C$5:$C$870,'10.Non-elective admissions -HWB'!$D113,'9.Non-elective admissions - Map'!S$5:S$870)","v":8788.9577492390581},{"$f":"SUMIF('9.Non-elective admissions - Map'!$C$5:$C$870,'10.Non-elective admissions -HWB'!$D113,'9.Non-elective admissions - Map'!T$5:T$870)","v":8747.9779534032587},{"$f":"SUMIF('9.Non-elective admissions - Map'!$C$5:$C$870,'10.Non-elective admissions -HWB'!$D113,'9.Non-elective admissions - Map'!U$5:U$870)","v":8909.5318564701283}]
["London","Q71","London","E09000011","Greenwich",{"$f":"SUMIF('9.Non-elective admissions - Map'!$C$5:$C$870,'10.Non-elective admissions -HWB'!$D114,'9.Non-elective admissions - Map'!J$5:J$870)","v":5300.5026881691683},{"$f":"SUMIF('9.Non-elective admissions - Map'!$C$5:$C$870,'10.Non-elective admissions -HWB'!$D114,'9.Non-elective admissions - Map'!K$5:K$870)","v":5231.9853297962909},{"$f":"SUMIF('9.Non-elective admissions - Map'!$C$5:$C$870,'10.Non-elective admissions -HWB'!$D114,'9.Non-elective admissions - Map'!L$5:L$870)","v":5395.7431957118033},{"$f":"SUMIF('9.Non-elective admissions - Map'!$C$5:$C$870,'10.Non-elective admissions -HWB'!$D114,'9.Non-elective admissions - Map'!M$5:M$870)","v":5176.183889837821},{"$f":"SUMIF('9.Non-elective admissions - Map'!$C$5:$C$870,'10.Non-elective admissions -HWB'!$D114,'9.Non-elective admissions - Map'!N$5:N$870)","v":5271.227157109116},{"$f":"SUMIF('9.Non-elective admissions - Map'!$C$5:$C$870,'10.Non-elective admissions -HWB'!$D114,'9.Non-elective admissions - Map'!O$5:O$870)","v":5197.2552415257505},{"$f":"SUMIF('9.Non-elective admissions - Map'!$C$5:$C$870,'10.Non-elective admissions -HWB'!$D114,'9.Non-elective admissions - Map'!P$5:P$870)","v":5437.3181291438732},{"$f":"SUMIF('9.Non-elective admissions - Map'!$C$5:$C$870,'10.Non-elective admissions -HWB'!$D114,'9.Non-elective admissions - Map'!Q$5:Q$870)","v":5058.1764634858637},{"$f":"SUMIF('9.Non-elective admissions - Map'!$C$5:$C$870,'10.Non-elective admissions -HWB'!$D114,'9.Non-elective admissions - Map'!R$5:R$870)","v":5167.5183585119257},{"$f":"SUMIF('9.Non-elective admissions - Map'!$C$5:$C$870,'10.Non-elective admissions -HWB'!$D114,'9.Non-elective admissions - Map'!S$5:S$870)","v":5095.3026852015864},{"$f":"SUMIF('9.Non-elective admissions - Map'!$C$5:$C$870,'10.Non-elective admissions -HWB'!$D114,'9.Non-elective admissions - Map'!T$5:T$870)","v":5329.0745440834689},{"$f":"SUMIF('9.Non-elective admissions - Map'!$C$5:$C$870,'10.Non-elective admissions -HWB'!$D114,'9.Non-elective admissions - Map'!U$5:U$870)","v":4958.0520815849522}]
["London","Q71","London","E09000021","Kingston upon Thames",{"$f":"SUMIF('9.Non-elective admissions - Map'!$C$5:$C$870,'10.Non-elective admissions -HWB'!$D115,'9.Non-elective admissions - Map'!J$5:J$870)","v":2878.6230063040794},{"$f":"SUMIF('9.Non-elective admissions - Map'!$C$5:$C$870,'10.Non-elective admissions -HWB'!$D115,'9.Non-elective admissions - Map'!K$5:K$870)","v":2898.4950524527394},{"$f":"SUMIF('9.Non-elective admissions - Map'!$C$5:$C$870,'10.Non-elective admissions -HWB'!$D115,'9.Non-elective admissions - Map'!L$5:L$870)","v":2847.2013762591123},{"$f":"SUMIF('9.Non-elective admissions - Map'!$C$5:$C$870,'10.Non-elective admissions -HWB'!$D115,'9.Non-elective admissions - Map'!M$5:M$870)","v":2950.9007431466403},{"$f":"SUMIF('9.Non-elective admissions - Map'!$C$5:$C$870,'10.Non-elective admissions -HWB'!$D115,'9.Non-elective admissions - Map'!N$5:N$870)","v":2890.679036716394},{"$f":"SUMIF('9.Non-elective admissions - Map'!$C$5:$C$870,'10.Non-elective admissions -HWB'!$D115,'9.Non-elective admissions - Map'!O$5:O$870)","v":2906.6823341904146},{"$f":"SUMIF('9.Non-elective admissions - Map'!$C$5:$C$870,'10.Non-elective admissions -HWB'!$D115,'9.Non-elective admissions - Map'!P$5:P$870)","v":2848.2353713874195},{"$f":"SUMIF('9.Non-elective admissions - Map'!$C$5:$C$870,'10.Non-elective admissions -HWB'!$D115,'9.Non-elective admissions - Map'!Q$5:Q$870)","v":2969.1605024893165},{"$f":"SUMIF('9.Non-elective admissions - Map'!$C$5:$C$870,'10.Non-elective admissions -HWB'!$D115,'9.Non-elective admissions - Map'!R$5:R$870)","v":2818.4530938170333},{"$f":"SUMIF('9.Non-elective admissions - Map'!$C$5:$C$870,'10.Non-elective admissions -HWB'!$D115,'9.Non-elective admissions - Map'!S$5:S$870)","v":2837.8518177673322},{"$f":"SUMIF('9.Non-elective admissions - Map'!$C$5:$C$870,'10.Non-elective admissions -HWB'!$D115,'9.Non-elective admissions - Map'!T$5:T$870)","v":2780.4244492826779},{"$f":"SUMIF('9.Non-elective admissions - Map'!$C$5:$C$870,'10.Non-elective admissions -HWB'!$D115,'9.Non-elective admissions - Map'!U$5:U$870)","v":2900.2716824443933}]
["London","Q71","London","E09000022","Lambeth",{"$f":"SUMIF('9.Non-elective admissions - Map'!$C$5:$C$870,'10.Non-elective admissions -HWB'!$D116,'9.Non-elective admissions - Map'!J$5:J$870)","v":6559.6336818528107},{"$f":"SUMIF('9.Non-elective admissions - Map'!$C$5:$C$870,'10.Non-elective admissions -HWB'!$D116,'9.Non-elective admissions - Map'!K$5:K$870)","v":6965.089654358515},{"$f":"SUMIF('9.Non-elective admissions - Map'!$C$5:$C$870,'10.Non-elective admissions -HWB'!$D116,'9.Non-elective admissions - Map'!L$5:L$870)","v":6916.1953754277347},{"$f":"SUMIF('9.Non-elective admissions - Map'!$C$5:$C$870,'10.Non-elective admissions -HWB'!$D116,'9.Non-elective admissions - Map'!M$5:M$870)","v":6707.0969157931395},{"$f":"SUMIF('9.Non-elective admissions - Map'!$C$5:$C$870,'10.Non-elective admissions -HWB'!$D116,'9.Non-elective admissions - Map'!N$5:N$870)","v":6545.852357846903},{"$f":"SUMIF('9.Non-elective admissions - Map'!$C$5:$C$870,'10.Non-elective admissions -HWB'!$D116,'9.Non-elective admissions - Map'!O$5:O$870)","v":6948.5468592423986},{"$f":"SUMIF('9.Non-elective admissions - Map'!$C$5:$C$870,'10.Non-elective admissions -HWB'!$D116,'9.Non-elective admissions - Map'!P$5:P$870)","v":6690.1450377393021},{"$f":"SUMIF('9.Non-elective admissions - Map'!$C$5:$C$870,'10.Non-elective admissions -HWB'!$D116,'9.Non-elective admissions - Map'!Q$5:Q$870)","v":6395.6279566543471},{"$f":"SUMIF('9.Non-elective admissions - Map'!$C$5:$C$870,'10.Non-elective admissions -HWB'!$D116,'9.Non-elective admissions - Map'!R$5:R$870)","v":6524.3918233595286},{"$f":"SUMIF('9.Non-elective admissions - Map'!$C$5:$C$870,'10.Non-elective admissions -HWB'!$D116,'9.Non-elective admissions - Map'!S$5:S$870)","v":6927.1182726255693},{"$f":"SUMIF('9.Non-elective admissions - Map'!$C$5:$C$870,'10.Non-elective admissions -HWB'!$D116,'9.Non-elective admissions - Map'!T$5:T$870)","v":6670.6828809679027},{"$f":"SUMIF('9.Non-elective admissions - Map'!$C$5:$C$870,'10.Non-elective admissions -HWB'!$D116,'9.Non-elective admissions - Map'!U$5:U$870)","v":6377.1116598487979}]
["London","Q71","London","E09000023","Lewisham",{"$f":"SUMIF('9.Non-elective admissions - Map'!$C$5:$C$870,'10.Non-elective admissions -HWB'!$D117,'9.Non-elective admissions - Map'!J$5:J$870)","v":6046.3418433471506},{"$f":"SUMIF('9.Non-elective admissions - Map'!$C$5:$C$870,'10.Non-elective admissions -HWB'!$D117,'9.Non-elective admissions - Map'!K$5:K$870)","v":6325.9411562746191},{"$f":"SUMIF('9.Non-elective admissions - Map'!$C$5:$C$870,'10.Non-elective admissions -HWB'!$D117,'9.Non-elective admissions - Map'!L$5:L$870)","v":6082.7196932173374},{"$f":"SUMIF('9.Non-elective admissions - Map'!$C$5:$C$870,'10.Non-elective admissions -HWB'!$D117,'9.Non-elective admissions - Map'!M$5:M$870)","v":5876.2289176733648},{"$f":"SUMIF('9.Non-elective admissions - Map'!$C$5:$C$870,'10.Non-elective admissions -HWB'!$D117,'9.Non-elective admissions - Map'!N$5:N$870)","v":6268.7771633236061},{"$f":"SUMIF('9.Non-elective admissions - Map'!$C$5:$C$870,'10.Non-elective admissions -HWB'!$D117,'9.Non-elective admissions - Map'!O$5:O$870)","v":6409.4046906193935},{"$f":"SUMIF('9.Non-elective admissions - Map'!$C$5:$C$870,'10.Non-elective admissions -HWB'!$D117,'9.Non-elective admissions - Map'!P$5:P$870)","v":6347.2835931193731},{"$f":"SUMIF('9.Non-elective admissions - Map'!$C$5:$C$870,'10.Non-elective admissions -HWB'!$D117,'9.Non-elective admissions - Map'!Q$5:Q$870)","v":6186.3062875252999},{"$f":"SUMIF('9.Non-elective admissions - Map'!$C$5:$C$870,'10.Non-elective admissions -HWB'!$D117,'9.Non-elective admissions - Map'!R$5:R$870)","v":6265.2177954158988},{"$f":"SUMIF('9.Non-elective admissions - Map'!$C$5:$C$870,'10.Non-elective admissions -HWB'!$D117,'9.Non-elective admissions - Map'!S$5:S$870)","v":6405.9046958801091},{"$f":"SUMIF('9.Non-elective admissions - Map'!$C$5:$C$870,'10.Non-elective admissions -HWB'!$D117,'9.Non-elective admissions - Map'!T$5:T$870)","v":6343.7113039095802},{"$f":"SUMIF('9.Non-elective admissions - Map'!$C$5:$C$870,'10.Non-elective admissions -HWB'!$D117,'9.Non-elective admissions - Map'!U$5:U$870)","v":6183.3769393792227}]
["London","Q71","London","E09000024","Merton",{"$f":"SUMIF('9.Non-elective admissions - Map'!$C$5:$C$870,'10.Non-elective admissions -HWB'!$D118,'9.Non-elective admissions - Map'!J$5:J$870)","v":4141.3220921626817},{"$f":"SUMIF('9.Non-elective admissions - Map'!$C$5:$C$870,'10.Non-elective admissions -HWB'!$D118,'9.Non-elective admissions - Map'!K$5:K$870)","v":4085.8486002676582},{"$f":"SUMIF('9.Non-elective admissions - Map'!$C$5:$C$870,'10.Non-elective admissions -HWB'!$D118,'9.Non-elective admissions - Map'!L$5:L$870)","v":4439.2124021134096},{"$f":"SUMIF('9.Non-elective admissions - Map'!$C$5:$C$870,'10.Non-elective admissions -HWB'!$D118,'9.Non-elective admissions - Map'!M$5:M$870)","v":4216.1068333712483},{"$f":"SUMIF('9.Non-elective admissions - Map'!$C$5:$C$870,'10.Non-elective admissions -HWB'!$D118,'9.Non-elective admissions - Map'!N$5:N$870)","v":4240.7766655259284},{"$f":"SUMIF('9.Non-elective admissions - Map'!$C$5:$C$870,'10.Non-elective admissions -HWB'!$D118,'9.Non-elective admissions - Map'!O$5:O$870)","v":4219.4088881858634},{"$f":"SUMIF('9.Non-elective admissions - Map'!$C$5:$C$870,'10.Non-elective admissions -HWB'!$D118,'9.Non-elective admissions - Map'!P$5:P$870)","v":4440.6615547893671},{"$f":"SUMIF('9.Non-elective admissions - Map'!$C$5:$C$870,'10.Non-elective admissions -HWB'!$D118,'9.Non-elective admissions - Map'!Q$5:Q$870)","v":4334.5318308539372},{"$f":"SUMIF('9.Non-elective admissions - Map'!$C$5:$C$870,'10.Non-elective admissions -HWB'!$D118,'9.Non-elective admissions - Map'!R$5:R$870)","v":4324.5924221947753},{"$f":"SUMIF('9.Non-elective admissions - Map'!$C$5:$C$870,'10.Non-elective admissions -HWB'!$D118,'9.Non-elective admissions - Map'!S$5:S$870)","v":4302.4023556493385},{"$f":"SUMIF('9.Non-elective admissions - Map'!$C$5:$C$870,'10.Non-elective admissions -HWB'!$D118,'9.Non-elective admissions - Map'!T$5:T$870)","v":4529.6512653204954},{"$f":"SUMIF('9.Non-elective admissions - Map'!$C$5:$C$870,'10.Non-elective admissions -HWB'!$D118,'9.Non-elective admissions - Map'!U$5:U$870)","v":4419.8259385799156}]
["London","Q71","London","E09000027","Richmond upon Thames",{"$f":"SUMIF('9.Non-elective admissions - Map'!$C$5:$C$870,'10.Non-elective admissions -HWB'!$D119,'9.Non-elective admissions - Map'!J$5:J$870)","v":3385.2915988117729},{"$f":"SUMIF('9.Non-elective admissions - Map'!$C$5:$C$870,'10.Non-elective admissions -HWB'!$D119,'9.Non-elective admissions - Map'!K$5:K$870)","v":3271.2216484260634},{"$f":"SUMIF('9.Non-elective admissions - Map'!$C$5:$C$870,'10.Non-elective admissions -HWB'!$D119,'9.Non-elective admissions - Map'!L$5:L$870)","v":3477.542296988915},{"$f":"SUMIF('9.Non-elective admissions - Map'!$C$5:$C$870,'10.Non-elective admissions -HWB'!$D119,'9.Non-elective admissions - Map'!M$5:M$870)","v":3432.0064444750815},{"$f":"SUMIF('9.Non-elective admissions - Map'!$C$5:$C$870,'10.Non-elective admissions -HWB'!$D119,'9.Non-elective admissions - Map'!N$5:N$870)","v":3434.3418489272453},{"$f":"SUMIF('9.Non-elective admissions - Map'!$C$5:$C$870,'10.Non-elective admissions -HWB'!$D119,'9.Non-elective admissions - Map'!O$5:O$870)","v":3321.7886926131564},{"$f":"SUMIF('9.Non-elective admissions - Map'!$C$5:$C$870,'10.Non-elective admissions -HWB'!$D119,'9.Non-elective admissions - Map'!P$5:P$870)","v":3453.9903320467224},{"$f":"SUMIF('9.Non-elective admissions - Map'!$C$5:$C$870,'10.Non-elective admissions -HWB'!$D119,'9.Non-elective admissions - Map'!Q$5:Q$870)","v":3527.6277891498644},{"$f":"SUMIF('9.Non-elective admissions - Map'!$C$5:$C$870,'10.Non-elective admissions -HWB'!$D119,'9.Non-elective admissions - Map'!R$5:R$870)","v":3401.3933637013729},{"$f":"SUMIF('9.Non-elective admissions - Map'!$C$5:$C$870,'10.Non-elective admissions -HWB'!$D119,'9.Non-elective admissions - Map'!S$5:S$870)","v":3285.333703733028},{"$f":"SUMIF('9.Non-elective admissions - Map'!$C$5:$C$870,'10.Non-elective admissions -HWB'!$D119,'9.Non-elective admissions - Map'!T$5:T$870)","v":3419.370849257004},{"$f":"SUMIF('9.Non-elective admissions - Map'!$C$5:$C$870,'10.Non-elective admissions -HWB'!$D119,'9.Non-elective admissions - Map'!U$5:U$870)","v":3493.9471416966148}]
["London","Q71","London","E09000028","Southwark",{"$f":"SUMIF('9.Non-elective admissions - Map'!$C$5:$C$870,'10.Non-elective admissions -HWB'!$D120,'9.Non-elective admissions - Map'!J$5:J$870)","v":6412.5961296881424},{"$f":"SUMIF('9.Non-elective admissions - Map'!$C$5:$C$870,'10.Non-elective admissions -HWB'!$D120,'9.Non-elective admissions - Map'!K$5:K$870)","v":6498.7986244435569},{"$f":"SUMIF('9.Non-elective admissions - Map'!$C$5:$C$870,'10.Non-elective admissions -HWB'!$D120,'9.Non-elective admissions - Map'!L$5:L$870)","v":6519.8614017729506},{"$f":"SUMIF('9.Non-elective admissions - Map'!$C$5:$C$870,'10.Non-elective admissions -HWB'!$D120,'9.Non-elective admissions - Map'!M$5:M$870)","v":6148.3265340688986},{"$f":"SUMIF('9.Non-elective admissions - Map'!$C$5:$C$870,'10.Non-elective admissions -HWB'!$D120,'9.Non-elective admissions - Map'!N$5:N$870)","v":6130.4152054084043},{"$f":"SUMIF('9.Non-elective admissions - Map'!$C$5:$C$870,'10.Non-elective admissions -HWB'!$D120,'9.Non-elective admissions - Map'!O$5:O$870)","v":6214.003854909417},{"$f":"SUMIF('9.Non-elective admissions - Map'!$C$5:$C$870,'10.Non-elective admissions -HWB'!$D120,'9.Non-elective admissions - Map'!P$5:P$870)","v":6081.7819410101492},{"$f":"SUMIF('9.Non-elective admissions - Map'!$C$5:$C$870,'10.Non-elective admissions -HWB'!$D120,'9.Non-elective admissions - Map'!Q$5:Q$870)","v":5509.277457379616},{"$f":"SUMIF('9.Non-elective admissions - Map'!$C$5:$C$870,'10.Non-elective admissions -HWB'!$D120,'9.Non-elective admissions - Map'!R$5:R$870)","v":5990.1396916885833},{"$f":"SUMIF('9.Non-elective admissions - Map'!$C$5:$C$870,'10.Non-elective admissions -HWB'!$D120,'9.Non-elective admissions - Map'!S$5:S$870)","v":6073.6402127033416},{"$f":"SUMIF('9.Non-elective admissions - Map'!$C$5:$C$870,'10.Non-elective admissions -HWB'!$D120,'9.Non-elective admissions - Map'!T$5:T$870)","v":5943.4836003197479},{"$f":"SUMIF('9.Non-elective admissions - Map'!$C$5:$C$870,'10.Non-elective admissions -HWB'!$D120,'9.Non-elective admissions - Map'!U$5:U$870)","v":5385.1364183508967}]
["London","Q71","London","E09000029","Sutton",{"$f":"SUMIF('9.Non-elective admissions - Map'!$C$5:$C$870,'10.Non-elective admissions -HWB'!$D121,'9.Non-elective admissions - Map'!J$5:J$870)","v":4173.2970548380381},{"$f":"SUMIF('9.Non-elective admissions - Map'!$C$5:$C$870,'10.Non-elective admissions -HWB'!$D121,'9.Non-elective admissions - Map'!K$5:K$870)","v":4225.1415666719204},{"$f":"SUMIF('9.Non-elective admissions - Map'!$C$5:$C$870,'10.Non-elective admissions -HWB'!$D121,'9.Non-elective admissions - Map'!L$5:L$870)","v":4722.542685897678},{"$f":"SUMIF('9.Non-elective admissions - Map'!$C$5:$C$870,'10.Non-elective admissions -HWB'!$D121,'9.Non-elective admissions - Map'!M$5:M$870)","v":4566.3786811292866},{"$f":"SUMIF('9.Non-elective admissions - Map'!$C$5:$C$870,'10.Non-elective admissions -HWB'!$D121,'9.Non-elective admissions - Map'!N$5:N$870)","v":4116.6014730956122},{"$f":"SUMIF('9.Non-elective admissions - Map'!$C$5:$C$870,'10.Non-elective admissions -HWB'!$D121,'9.Non-elective admissions - Map'!O$5:O$870)","v":4164.2924024571976},{"$f":"SUMIF('9.Non-elective admissions - Map'!$C$5:$C$870,'10.Non-elective admissions -HWB'!$D121,'9.Non-elective admissions - Map'!P$5:P$870)","v":4444.1730242082576},{"$f":"SUMIF('9.Non-elective admissions - Map'!$C$5:$C$870,'10.Non-elective admissions -HWB'!$D121,'9.Non-elective admissions - Map'!Q$5:Q$870)","v":4319.8660990034514},{"$f":"SUMIF('9.Non-elective admissions - Map'!$C$5:$C$870,'10.Non-elective admissions -HWB'!$D121,'9.Non-elective admissions - Map'!R$5:R$870)","v":3977.0419491093844},{"$f":"SUMIF('9.Non-elective admissions - Map'!$C$5:$C$870,'10.Non-elective admissions -HWB'!$D121,'9.Non-elective admissions - Map'!S$5:S$870)","v":4031.2036078430133},{"$f":"SUMIF('9.Non-elective admissions - Map'!$C$5:$C$870,'10.Non-elective admissions -HWB'!$D121,'9.Non-elective admissions - Map'!T$5:T$870)","v":4301.2273372297241},{"$f":"SUMIF('9.Non-elective admissions - Map'!$C$5:$C$870,'10.Non-elective admissions -HWB'!$D121,'9.Non-elective admissions - Map'!U$5:U$870)","v":4180.5630589040093}]
["London","Q71","London","E09000032","Wandsworth",{"$f":"SUMIF('9.Non-elective admissions - Map'!$C$5:$C$870,'10.Non-elective admissions -HWB'!$D122,'9.Non-elective admissions - Map'!J$5:J$870)","v":5980.5658261364169},{"$f":"SUMIF('9.Non-elective admissions - Map'!$C$5:$C$870,'10.Non-elective admissions -HWB'!$D122,'9.Non-elective admissions - Map'!K$5:K$870)","v":5980.914398369925},{"$f":"SUMIF('9.Non-elective admissions - Map'!$C$5:$C$870,'10.Non-elective admissions -HWB'!$D122,'9.Non-elective admissions - Map'!L$5:L$870)","v":6040.7337178741654},{"$f":"SUMIF('9.Non-elective admissions - Map'!$C$5:$C$870,'10.Non-elective admissions -HWB'!$D122,'9.Non-elective admissions - Map'!M$5:M$870)","v":5755.5694127997076},{"$f":"SUMIF('9.Non-elective admissions - Map'!$C$5:$C$870,'10.Non-elective admissions -HWB'!$D122,'9.Non-elective admissions - Map'!N$5:N$870)","v":6401.4420132636178},{"$f":"SUMIF('9.Non-elective admissions - Map'!$C$5:$C$870,'10.Non-elective admissions -HWB'!$D122,'9.Non-elective admissions - Map'!O$5:O$870)","v":6380.3417476848736},{"$f":"SUMIF('9.Non-elective admissions - Map'!$C$5:$C$870,'10.Non-elective admissions -HWB'!$D122,'9.Non-elective admissions - Map'!P$5:P$870)","v":6533.0992753378378},{"$f":"SUMIF('9.Non-elective admissions - Map'!$C$5:$C$870,'10.Non-elective admissions -HWB'!$D122,'9.Non-elective admissions - Map'!Q$5:Q$870)","v":6511.397358060859},{"$f":"SUMIF('9.Non-elective admissions - Map'!$C$5:$C$870,'10.Non-elective admissions -HWB'!$D122,'9.Non-elective admissions - Map'!R$5:R$870)","v":6489.7760834904775},{"$f":"SUMIF('9.Non-elective admissions - Map'!$C$5:$C$870,'10.Non-elective admissions -HWB'!$D122,'9.Non-elective admissions - Map'!S$5:S$870)","v":6469.4492941255949},{"$f":"SUMIF('9.Non-elective admissions - Map'!$C$5:$C$870,'10.Non-elective admissions -HWB'!$D122,'9.Non-elective admissions - Map'!T$5:T$870)","v":6625.1899668107108},{"$f":"SUMIF('9.Non-elective admissions - Map'!$C$5:$C$870,'10.Non-elective admissions -HWB'!$D122,'9.Non-elective admissions - Map'!U$5:U$870)","v":6599.814322443598}]
["South","Q64","Bath, Gloucestershire, Swindon And Wiltshire ","E06000022","Bath and North East Somerset",{"$f":"SUMIF('9.Non-elective admissions - Map'!$C$5:$C$870,'10.Non-elective admissions -HWB'!$D123,'9.Non-elective admissions - Map'!J$5:J$870)","v":3533.6841071754679},{"$f":"SUMIF('9.Non-elective admissions - Map'!$C$5:$C$870,'10.Non-elective admissions -HWB'!$D123,'9.Non-elective admissions - Map'!K$5:K$870)","v":3320.8045660776265},{"$f":"SUMIF('9.Non-elective admissions - Map'!$C$5:$C$870,'10.Non-elective admissions -HWB'!$D123,'9.Non-elective admissions - Map'!L$5:L$870)","v":3479.9000285745192},{"$f":"SUMIF('9.Non-elective admissions - Map'!$C$5:$C$870,'10.Non-elective admissions -HWB'!$D123,'9.Non-elective admissions - Map'!M$5:M$870)","v":3665.3335354109672},{"$f":"SUMIF('9.Non-elective admissions - Map'!$C$5:$C$870,'10.Non-elective admissions -HWB'!$D123,'9.Non-elective admissions - Map'!N$5:N$870)","v":3355.1237303368825},{"$f":"SUMIF('9.Non-elective admissions - Map'!$C$5:$C$870,'10.Non-elective admissions -HWB'!$D123,'9.Non-elective admissions - Map'!O$5:O$870)","v":3140.6573467236694},{"$f":"SUMIF('9.Non-elective admissions - Map'!$C$5:$C$870,'10.Non-elective admissions -HWB'!$D123,'9.Non-elective admissions - Map'!P$5:P$870)","v":3301.8868015666835},{"$f":"SUMIF('9.Non-elective admissions - Map'!$C$5:$C$870,'10.Non-elective admissions -HWB'!$D123,'9.Non-elective admissions - Map'!Q$5:Q$870)","v":3488.188752484697},{"$f":"SUMIF('9.Non-elective admissions - Map'!$C$5:$C$870,'10.Non-elective admissions -HWB'!$D123,'9.Non-elective admissions - Map'!R$5:R$870)","v":3241.9688175959964},{"$f":"SUMIF('9.Non-elective admissions - Map'!$C$5:$C$870,'10.Non-elective admissions -HWB'!$D123,'9.Non-elective admissions - Map'!S$5:S$870)","v":3026.5750201530013},{"$f":"SUMIF('9.Non-elective admissions - Map'!$C$5:$C$870,'10.Non-elective admissions -HWB'!$D123,'9.Non-elective admissions - Map'!T$5:T$870)","v":3185.4576460476919},{"$f":"SUMIF('9.Non-elective admissions - Map'!$C$5:$C$870,'10.Non-elective admissions -HWB'!$D123,'9.Non-elective admissions - Map'!U$5:U$870)","v":3374.6539809273881}]
["South","Q64","Bath, Gloucestershire, Swindon And Wiltshire ","E10000013","Gloucestershire",{"$f":"SUMIF('9.Non-elective admissions - Map'!$C$5:$C$870,'10.Non-elective admissions -HWB'!$D124,'9.Non-elective admissions - Map'!J$5:J$870)","v":12963.314805497354},{"$f":"SUMIF('9.Non-elective admissions - Map'!$C$5:$C$870,'10.Non-elective admissions -HWB'!$D124,'9.Non-elective admissions - Map'!K$5:K$870)","v":13194.636334069863},{"$f":"SUMIF('9.Non-elective admissions - Map'!$C$5:$C$870,'10.Non-elective admissions -HWB'!$D124,'9.Non-elective admissions - Map'!L$5:L$870)","v":14215.464174379269},{"$f":"SUMIF('9.Non-elective admissions - Map'!$C$5:$C$870,'10.Non-elective admissions -HWB'!$D124,'9.Non-elective admissions - Map'!M$5:M$870)","v":13911.346783900841},{"$f":"SUMIF('9.Non-elective admissions - Map'!$C$5:$C$870,'10.Non-elective admissions -HWB'!$D124,'9.Non-elective admissions - Map'!N$5:N$870)","v":12514.307561164307},{"$f":"SUMIF('9.Non-elective admissions - Map'!$C$5:$C$870,'10.Non-elective admissions -HWB'!$D124,'9.Non-elective admissions - Map'!O$5:O$870)","v":12756.287098729525},{"$f":"SUMIF('9.Non-elective admissions - Map'!$C$5:$C$870,'10.Non-elective admissions -HWB'!$D124,'9.Non-elective admissions - Map'!P$5:P$870)","v":13842.01627004997},{"$f":"SUMIF('9.Non-elective admissions - Map'!$C$5:$C$870,'10.Non-elective admissions -HWB'!$D124,'9.Non-elective admissions - Map'!Q$5:Q$870)","v":13958.942277846854},{"$f":"SUMIF('9.Non-elective admissions - Map'!$C$5:$C$870,'10.Non-elective admissions -HWB'!$D124,'9.Non-elective admissions - Map'!R$5:R$870)","v":12265.563076048731},{"$f":"SUMIF('9.Non-elective admissions - Map'!$C$5:$C$870,'10.Non-elective admissions -HWB'!$D124,'9.Non-elective admissions - Map'!S$5:S$870)","v":12506.868551181456},{"$f":"SUMIF('9.Non-elective admissions - Map'!$C$5:$C$870,'10.Non-elective admissions -HWB'!$D124,'9.Non-elective admissions - Map'!T$5:T$870)","v":13622.014041577442},{"$f":"SUMIF('9.Non-elective admissions - Map'!$C$5:$C$870,'10.Non-elective admissions -HWB'!$D124,'9.Non-elective admissions - Map'!U$5:U$870)","v":13740.070889738472}]
["South","Q64","Bath, Gloucestershire, Swindon And Wiltshire ","E06000030","Swindon",{"$f":"SUMIF('9.Non-elective admissions - Map'!$C$5:$C$870,'10.Non-elective admissions -HWB'!$D125,'9.Non-elective admissions - Map'!J$5:J$870)","v":4761.5238031105655},{"$f":"SUMIF('9.Non-elective admissions - Map'!$C$5:$C$870,'10.Non-elective admissions -HWB'!$D125,'9.Non-elective admissions - Map'!K$5:K$870)","v":4841.5695112358153},{"$f":"SUMIF('9.Non-elective admissions - Map'!$C$5:$C$870,'10.Non-elective admissions -HWB'!$D125,'9.Non-elective admissions - Map'!L$5:L$870)","v":5560.8730983609521},{"$f":"SUMIF('9.Non-elective admissions - Map'!$C$5:$C$870,'10.Non-elective admissions -HWB'!$D125,'9.Non-elective admissions - Map'!M$5:M$870)","v":5174.520998611134},{"$f":"SUMIF('9.Non-elective admissions - Map'!$C$5:$C$870,'10.Non-elective admissions -HWB'!$D125,'9.Non-elective admissions - Map'!N$5:N$870)","v":4509.6165239408119},{"$f":"SUMIF('9.Non-elective admissions - Map'!$C$5:$C$870,'10.Non-elective admissions -HWB'!$D125,'9.Non-elective admissions - Map'!O$5:O$870)","v":4591.5820424897884},{"$f":"SUMIF('9.Non-elective admissions - Map'!$C$5:$C$870,'10.Non-elective admissions -HWB'!$D125,'9.Non-elective admissions - Map'!P$5:P$870)","v":5333.04719465582},{"$f":"SUMIF('9.Non-elective admissions - Map'!$C$5:$C$870,'10.Non-elective admissions -HWB'!$D125,'9.Non-elective admissions - Map'!Q$5:Q$870)","v":4828.9360802699766},{"$f":"SUMIF('9.Non-elective admissions - Map'!$C$5:$C$870,'10.Non-elective admissions -HWB'!$D125,'9.Non-elective admissions - Map'!R$5:R$870)","v":4248.4644991325331},{"$f":"SUMIF('9.Non-elective admissions - Map'!$C$5:$C$870,'10.Non-elective admissions -HWB'!$D125,'9.Non-elective admissions - Map'!S$5:S$870)","v":4332.3433861692347},{"$f":"SUMIF('9.Non-elective admissions - Map'!$C$5:$C$870,'10.Non-elective admissions -HWB'!$D125,'9.Non-elective admissions - Map'!T$5:T$870)","v":5096.9493343960276},{"$f":"SUMIF('9.Non-elective admissions - Map'!$C$5:$C$870,'10.Non-elective admissions -HWB'!$D125,'9.Non-elective admissions - Map'!U$5:U$870)","v":4579.2900341320592}]
["South","Q64","Bath, Gloucestershire, Swindon And Wiltshire ","E06000054","Wiltshire",{"$f":"SUMIF('9.Non-elective admissions - Map'!$C$5:$C$870,'10.Non-elective admissions -HWB'!$D126,'9.Non-elective admissions - Map'!J$5:J$870)","v":9504.2241123918484},{"$f":"SUMIF('9.Non-elective admissions - Map'!$C$5:$C$870,'10.Non-elective admissions -HWB'!$D126,'9.Non-elective admissions - Map'!K$5:K$870)","v":9627.5557909923136},{"$f":"SUMIF('9.Non-elective admissions - Map'!$C$5:$C$870,'10.Non-elective admissions -HWB'!$D126,'9.Non-elective admissions - Map'!L$5:L$870)","v":9985.6981714883041},{"$f":"SUMIF('9.Non-elective admissions - Map'!$C$5:$C$870,'10.Non-elective admissions -HWB'!$D126,'9.Non-elective admissions - Map'!M$5:M$870)","v":10158.279863975369},{"$f":"SUMIF('9.Non-elective admissions - Map'!$C$5:$C$870,'10.Non-elective admissions -HWB'!$D126,'9.Non-elective admissions - Map'!N$5:N$870)","v":9262.9647288204633},{"$f":"SUMIF('9.Non-elective admissions - Map'!$C$5:$C$870,'10.Non-elective admissions -HWB'!$D126,'9.Non-elective admissions - Map'!O$5:O$870)","v":9385.8621085858886},{"$f":"SUMIF('9.Non-elective admissions - Map'!$C$5:$C$870,'10.Non-elective admissions -HWB'!$D126,'9.Non-elective admissions - Map'!P$5:P$870)","v":9735.7084556778191},{"$f":"SUMIF('9.Non-elective admissions - Map'!$C$5:$C$870,'10.Non-elective admissions -HWB'!$D126,'9.Non-elective admissions - Map'!Q$5:Q$870)","v":9777.2062943567871},{"$f":"SUMIF('9.Non-elective admissions - Map'!$C$5:$C$870,'10.Non-elective admissions -HWB'!$D126,'9.Non-elective admissions - Map'!R$5:R$870)","v":9077.3649129507921},{"$f":"SUMIF('9.Non-elective admissions - Map'!$C$5:$C$870,'10.Non-elective admissions -HWB'!$D126,'9.Non-elective admissions - Map'!S$5:S$870)","v":9196.1749898178841},{"$f":"SUMIF('9.Non-elective admissions - Map'!$C$5:$C$870,'10.Non-elective admissions -HWB'!$D126,'9.Non-elective admissions - Map'!T$5:T$870)","v":9537.8271688587665},{"$f":"SUMIF('9.Non-elective admissions - Map'!$C$5:$C$870,'10.Non-elective admissions -HWB'!$D126,'9.Non-elective admissions - Map'!U$5:U$870)","v":9575.4650796001224}]
["South","Q65","Bristol, North Somerset, Somerset And South Gloucestershire ","E06000023","Bristol, City of",{"$f":"SUMIF('9.Non-elective admissions - Map'!$C$5:$C$870,'10.Non-elective admissions -HWB'!$D127,'9.Non-elective admissions - Map'!J$5:J$870)","v":9186.3687099020717},{"$f":"SUMIF('9.Non-elective admissions - Map'!$C$5:$C$870,'10.Non-elective admissions -HWB'!$D127,'9.Non-elective admissions - Map'!K$5:K$870)","v":9462.1198105739331},{"$f":"SUMIF('9.Non-elective admissions - Map'!$C$5:$C$870,'10.Non-elective admissions -HWB'!$D127,'9.Non-elective admissions - Map'!L$5:L$870)","v":9622.3738862852897},{"$f":"SUMIF('9.Non-elective admissions - Map'!$C$5:$C$870,'10.Non-elective admissions -HWB'!$D127,'9.Non-elective admissions - Map'!M$5:M$870)","v":9377.9769932052004},{"$f":"SUMIF('9.Non-elective admissions - Map'!$C$5:$C$870,'10.Non-elective admissions -HWB'!$D127,'9.Non-elective admissions - Map'!N$5:N$870)","v":9241.748726560003},{"$f":"SUMIF('9.Non-elective admissions - Map'!$C$5:$C$870,'10.Non-elective admissions -HWB'!$D127,'9.Non-elective admissions - Map'!O$5:O$870)","v":9843.5504957425037},{"$f":"SUMIF('9.Non-elective admissions - Map'!$C$5:$C$870,'10.Non-elective admissions -HWB'!$D127,'9.Non-elective admissions - Map'!P$5:P$870)","v":9695.0143318799601},{"$f":"SUMIF('9.Non-elective admissions - Map'!$C$5:$C$870,'10.Non-elective admissions -HWB'!$D127,'9.Non-elective admissions - Map'!Q$5:Q$870)","v":9693.9484192140117},{"$f":"SUMIF('9.Non-elective admissions - Map'!$C$5:$C$870,'10.Non-elective admissions -HWB'!$D127,'9.Non-elective admissions - Map'!R$5:R$870)","v":9571.5419017914282},{"$f":"SUMIF('9.Non-elective admissions - Map'!$C$5:$C$870,'10.Non-elective admissions -HWB'!$D127,'9.Non-elective admissions - Map'!S$5:S$870)","v":9868.0733356201636},{"$f":"SUMIF('9.Non-elective admissions - Map'!$C$5:$C$870,'10.Non-elective admissions -HWB'!$D127,'9.Non-elective admissions - Map'!T$5:T$870)","v":9571.7376264223421},{"$f":"SUMIF('9.Non-elective admissions - Map'!$C$5:$C$870,'10.Non-elective admissions -HWB'!$D127,'9.Non-elective admissions - Map'!U$5:U$870)","v":9274.1011350271474}]
["South","Q65","Bristol, North Somerset, Somerset And South Gloucestershire ","E06000024","North Somerset",{"$f":"SUMIF('9.Non-elective admissions - Map'!$C$5:$C$870,'10.Non-elective admissions -HWB'!$D128,'9.Non-elective admissions - Map'!J$5:J$870)","v":4667.2863611445127},{"$f":"SUMIF('9.Non-elective admissions - Map'!$C$5:$C$870,'10.Non-elective admissions -HWB'!$D128,'9.Non-elective admissions - Map'!K$5:K$870)","v":4943.6869545447689},{"$f":"SUMIF('9.Non-elective admissions - Map'!$C$5:$C$870,'10.Non-elective admissions -HWB'!$D128,'9.Non-elective admissions - Map'!L$5:L$870)","v":5053.9804675248679},{"$f":"SUMIF('9.Non-elective admissions - Map'!$C$5:$C$870,'10.Non-elective admissions -HWB'!$D128,'9.Non-elective admissions - Map'!M$5:M$870)","v":5267.7669891792857},{"$f":"SUMIF('9.Non-elective admissions - Map'!$C$5:$C$870,'10.Non-elective admissions -HWB'!$D128,'9.Non-elective admissions - Map'!N$5:N$870)","v":4776.1460022508982},{"$f":"SUMIF('9.Non-elective admissions - Map'!$C$5:$C$870,'10.Non-elective admissions -HWB'!$D128,'9.Non-elective admissions - Map'!O$5:O$870)","v":5082.0789311299359},{"$f":"SUMIF('9.Non-elective admissions - Map'!$C$5:$C$870,'10.Non-elective admissions -HWB'!$D128,'9.Non-elective admissions - Map'!P$5:P$870)","v":5007.2521301017514},{"$f":"SUMIF('9.Non-elective admissions - Map'!$C$5:$C$870,'10.Non-elective admissions -HWB'!$D128,'9.Non-elective admissions - Map'!Q$5:Q$870)","v":5012.5926855551461},{"$f":"SUMIF('9.Non-elective admissions - Map'!$C$5:$C$870,'10.Non-elective admissions -HWB'!$D128,'9.Non-elective admissions - Map'!R$5:R$870)","v":4677.8157705170997},{"$f":"SUMIF('9.Non-elective admissions - Map'!$C$5:$C$870,'10.Non-elective admissions -HWB'!$D128,'9.Non-elective admissions - Map'!S$5:S$870)","v":4818.4213352568422},{"$f":"SUMIF('9.Non-elective admissions - Map'!$C$5:$C$870,'10.Non-elective admissions -HWB'!$D128,'9.Non-elective admissions - Map'!T$5:T$870)","v":4676.7687352409675},{"$f":"SUMIF('9.Non-elective admissions - Map'!$C$5:$C$870,'10.Non-elective admissions -HWB'!$D128,'9.Non-elective admissions - Map'!U$5:U$870)","v":4536.6959100366157}]
["South","Q65","Bristol, North Somerset, Somerset And South Gloucestershire ","E10000027","Somerset",{"$f":"SUMIF('9.Non-elective admissions - Map'!$C$5:$C$870,'10.Non-elective admissions -HWB'!$D129,'9.Non-elective admissions - Map'!J$5:J$870)","v":14488.625467996089},{"$f":"SUMIF('9.Non-elective admissions - Map'!$C$5:$C$870,'10.Non-elective admissions -HWB'!$D129,'9.Non-elective admissions - Map'!K$5:K$870)","v":14861.806781885783},{"$f":"SUMIF('9.Non-elective admissions - Map'!$C$5:$C$870,'10.Non-elective admissions -HWB'!$D129,'9.Non-elective admissions - Map'!L$5:L$870)","v":14440.30837849518},{"$f":"SUMIF('9.Non-elective admissions - Map'!$C$5:$C$870,'10.Non-elective admissions -HWB'!$D129,'9.Non-elective admissions - Map'!M$5:M$870)","v":14780.499493685489},{"$f":"SUMIF('9.Non-elective admissions - Map'!$C$5:$C$870,'10.Non-elective admissions -HWB'!$D129,'9.Non-elective admissions - Map'!N$5:N$870)","v":16702.137862794985},{"$f":"SUMIF('9.Non-elective admissions - Map'!$C$5:$C$870,'10.Non-elective admissions -HWB'!$D129,'9.Non-elective admissions - Map'!O$5:O$870)","v":16713.878478981223},{"$f":"SUMIF('9.Non-elective admissions - Map'!$C$5:$C$870,'10.Non-elective admissions -HWB'!$D129,'9.Non-elective admissions - Map'!P$5:P$870)","v":17427.681232360119},{"$f":"SUMIF('9.Non-elective admissions - Map'!$C$5:$C$870,'10.Non-elective admissions -HWB'!$D129,'9.Non-elective admissions - Map'!Q$5:Q$870)","v":16877.107798768509},{"$f":"SUMIF('9.Non-elective admissions - Map'!$C$5:$C$870,'10.Non-elective admissions -HWB'!$D129,'9.Non-elective admissions - Map'!R$5:R$870)","v":16656.136432506981},{"$f":"SUMIF('9.Non-elective admissions - Map'!$C$5:$C$870,'10.Non-elective admissions -HWB'!$D129,'9.Non-elective admissions - Map'!S$5:S$870)","v":16667.374659818146},{"$f":"SUMIF('9.Non-elective admissions - Map'!$C$5:$C$870,'10.Non-elective admissions -HWB'!$D129,'9.Non-elective admissions - Map'!T$5:T$870)","v":17376.508147144588},{"$f":"SUMIF('9.Non-elective admissions - Map'!$C$5:$C$870,'10.Non-elective admissions -HWB'!$D129,'9.Non-elective admissions - Map'!U$5:U$870)","v":16842.095605431507}]
["South","Q65","Bristol, North Somerset, Somerset And South Gloucestershire ","E06000025","South Gloucestershire",{"$f":"SUMIF('9.Non-elective admissions - Map'!$C$5:$C$870,'10.Non-elective admissions -HWB'!$D130,'9.Non-elective admissions - Map'!J$5:J$870)","v":5056.695561905166},{"$f":"SUMIF('9.Non-elective admissions - Map'!$C$5:$C$870,'10.Non-elective admissions -HWB'!$D130,'9.Non-elective admissions - Map'!K$5:K$870)","v":5018.8441059108454},{"$f":"SUMIF('9.Non-elective admissions - Map'!$C$5:$C$870,'10.Non-elective admissions -HWB'!$D130,'9.Non-elective admissions - Map'!L$5:L$870)","v":5333.4117439244146},{"$f":"SUMIF('9.Non-elective admissions - Map'!$C$5:$C$870,'10.Non-elective admissions -HWB'!$D130,'9.Non-elective admissions - Map'!M$5:M$870)","v":5534.0186475207656},{"$f":"SUMIF('9.Non-elective admissions - Map'!$C$5:$C$870,'10.Non-elective admissions -HWB'!$D130,'9.Non-elective admissions - Map'!N$5:N$870)","v":5201.1002337987438},{"$f":"SUMIF('9.Non-elective admissions - Map'!$C$5:$C$870,'10.Non-elective admissions -HWB'!$D130,'9.Non-elective admissions - Map'!O$5:O$870)","v":5520.5608612643646},{"$f":"SUMIF('9.Non-elective admissions - Map'!$C$5:$C$870,'10.Non-elective admissions -HWB'!$D130,'9.Non-elective admissions - Map'!P$5:P$870)","v":5457.1467486188303},{"$f":"SUMIF('9.Non-elective admissions - Map'!$C$5:$C$870,'10.Non-elective admissions -HWB'!$D130,'9.Non-elective admissions - Map'!Q$5:Q$870)","v":5456.2969951400337},{"$f":"SUMIF('9.Non-elective admissions - Map'!$C$5:$C$870,'10.Non-elective admissions -HWB'!$D130,'9.Non-elective admissions - Map'!R$5:R$870)","v":5371.5507325268118},{"$f":"SUMIF('9.Non-elective admissions - Map'!$C$5:$C$870,'10.Non-elective admissions -HWB'!$D130,'9.Non-elective admissions - Map'!S$5:S$870)","v":5528.5944752998148},{"$f":"SUMIF('9.Non-elective admissions - Map'!$C$5:$C$870,'10.Non-elective admissions -HWB'!$D130,'9.Non-elective admissions - Map'!T$5:T$870)","v":5387.4266081221358},{"$f":"SUMIF('9.Non-elective admissions - Map'!$C$5:$C$870,'10.Non-elective admissions -HWB'!$D130,'9.Non-elective admissions - Map'!U$5:U$870)","v":5229.5580410370367}]
["South","Q66","Devon, Cornwall And Isles Of Scilly ","E06000052","Cornwall",{"$f":"SUMIF('9.Non-elective admissions - Map'!$C$5:$C$870,'10.Non-elective admissions -HWB'!$D131,'9.Non-elective admissions - Map'!J$5:J$870)","v":13079.438546922895},{"$f":"SUMIF('9.Non-elective admissions - Map'!$C$5:$C$870,'10.Non-elective admissions -HWB'!$D131,'9.Non-elective admissions - Map'!K$5:K$870)","v":12818.594694652196},{"$f":"SUMIF('9.Non-elective admissions - Map'!$C$5:$C$870,'10.Non-elective admissions -HWB'!$D131,'9.Non-elective admissions - Map'!L$5:L$870)","v":13801.926015938174},{"$f":"SUMIF('9.Non-elective admissions - Map'!$C$5:$C$870,'10.Non-elective admissions -HWB'!$D131,'9.Non-elective admissions - Map'!M$5:M$870)","v":13635.74931222279},{"$f":"SUMIF('9.Non-elective admissions - Map'!$C$5:$C$870,'10.Non-elective admissions -HWB'!$D131,'9.Non-elective admissions - Map'!N$5:N$870)","v":11482.229852219414},{"$f":"SUMIF('9.Non-elective admissions - Map'!$C$5:$C$870,'10.Non-elective admissions -HWB'!$D131,'9.Non-elective admissions - Map'!O$5:O$870)","v":11428.516896912626},{"$f":"SUMIF('9.Non-elective admissions - Map'!$C$5:$C$870,'10.Non-elective admissions -HWB'!$D131,'9.Non-elective admissions - Map'!P$5:P$870)","v":11967.093432544445},{"$f":"SUMIF('9.Non-elective admissions - Map'!$C$5:$C$870,'10.Non-elective admissions -HWB'!$D131,'9.Non-elective admissions - Map'!Q$5:Q$870)","v":11862.056718202892},{"$f":"SUMIF('9.Non-elective admissions - Map'!$C$5:$C$870,'10.Non-elective admissions -HWB'!$D131,'9.Non-elective admissions - Map'!R$5:R$870)","v":10190.931286963189},{"$f":"SUMIF('9.Non-elective admissions - Map'!$C$5:$C$870,'10.Non-elective admissions -HWB'!$D131,'9.Non-elective admissions - Map'!S$5:S$870)","v":10153.12808154714},{"$f":"SUMIF('9.Non-elective admissions - Map'!$C$5:$C$870,'10.Non-elective admissions -HWB'!$D131,'9.Non-elective admissions - Map'!T$5:T$870)","v":10647.025073145356},{"$f":"SUMIF('9.Non-elective admissions - Map'!$C$5:$C$870,'10.Non-elective admissions -HWB'!$D131,'9.Non-elective admissions - Map'!U$5:U$870)","v":10519.603736814721}]
["South","Q66","Devon, Cornwall And Isles Of Scilly ","E10000008","Devon",{"$f":"SUMIF('9.Non-elective admissions - Map'!$C$5:$C$870,'10.Non-elective admissions -HWB'!$D132,'9.Non-elective admissions - Map'!J$5:J$870)","v":19646.085083059479},{"$f":"SUMIF('9.Non-elective admissions - Map'!$C$5:$C$870,'10.Non-elective admissions -HWB'!$D132,'9.Non-elective admissions - Map'!K$5:K$870)","v":20799.860581126395},{"$f":"SUMIF('9.Non-elective admissions - Map'!$C$5:$C$870,'10.Non-elective admissions -HWB'!$D132,'9.Non-elective admissions - Map'!L$5:L$870)","v":20865.674436086287},{"$f":"SUMIF('9.Non-elective admissions - Map'!$C$5:$C$870,'10.Non-elective admissions -HWB'!$D132,'9.Non-elective admissions - Map'!M$5:M$870)","v":20415.068881085717},{"$f":"SUMIF('9.Non-elective admissions - Map'!$C$5:$C$870,'10.Non-elective admissions -HWB'!$D132,'9.Non-elective admissions - Map'!N$5:N$870)","v":19342.757450164674},{"$f":"SUMIF('9.Non-elective admissions - Map'!$C$5:$C$870,'10.Non-elective admissions -HWB'!$D132,'9.Non-elective admissions - Map'!O$5:O$870)","v":19821.774660952266},{"$f":"SUMIF('9.Non-elective admissions - Map'!$C$5:$C$870,'10.Non-elective admissions -HWB'!$D132,'9.Non-elective admissions - Map'!P$5:P$870)","v":20080.341261953727},{"$f":"SUMIF('9.Non-elective admissions - Map'!$C$5:$C$870,'10.Non-elective admissions -HWB'!$D132,'9.Non-elective admissions - Map'!Q$5:Q$870)","v":19785.091257552936},{"$f":"SUMIF('9.Non-elective admissions - Map'!$C$5:$C$870,'10.Non-elective admissions -HWB'!$D132,'9.Non-elective admissions - Map'!R$5:R$870)","v":19531.881606045517},{"$f":"SUMIF('9.Non-elective admissions - Map'!$C$5:$C$870,'10.Non-elective admissions -HWB'!$D132,'9.Non-elective admissions - Map'!S$5:S$870)","v":20015.621323814175},{"$f":"SUMIF('9.Non-elective admissions - Map'!$C$5:$C$870,'10.Non-elective admissions -HWB'!$D132,'9.Non-elective admissions - Map'!T$5:T$870)","v":20278.132337034713},{"$f":"SUMIF('9.Non-elective admissions - Map'!$C$5:$C$870,'10.Non-elective admissions -HWB'!$D132,'9.Non-elective admissions - Map'!U$5:U$870)","v":19870.159272235047}]
["South","Q66","Devon, Cornwall And Isles Of Scilly ","E06000053","Isles of Scilly",{"$f":"SUMIF('9.Non-elective admissions - Map'!$C$5:$C$870,'10.Non-elective admissions -HWB'!$D133,'9.Non-elective admissions - Map'!J$5:J$870)","v":54.483619166999027},{"$f":"SUMIF('9.Non-elective admissions - Map'!$C$5:$C$870,'10.Non-elective admissions -HWB'!$D133,'9.Non-elective admissions - Map'!K$5:K$870)","v":53.372133354224829},{"$f":"SUMIF('9.Non-elective admissions - Map'!$C$5:$C$870,'10.Non-elective admissions -HWB'!$D133,'9.Non-elective admissions - Map'!L$5:L$870)","v":57.489210016523273},{"$f":"SUMIF('9.Non-elective admissions - Map'!$C$5:$C$870,'10.Non-elective admissions -HWB'!$D133,'9.Non-elective admissions - Map'!M$5:M$870)","v":56.810662497863369},{"$f":"SUMIF('9.Non-elective admissions - Map'!$C$5:$C$870,'10.Non-elective admissions -HWB'!$D133,'9.Non-elective admissions - Map'!N$5:N$870)","v":47.831355763204371},{"$f":"SUMIF('9.Non-elective admissions - Map'!$C$5:$C$870,'10.Non-elective admissions -HWB'!$D133,'9.Non-elective admissions - Map'!O$5:O$870)","v":47.598235143296677},{"$f":"SUMIF('9.Non-elective admissions - Map'!$C$5:$C$870,'10.Non-elective admissions -HWB'!$D133,'9.Non-elective admissions - Map'!P$5:P$870)","v":49.854509714546175},{"$f":"SUMIF('9.Non-elective admissions - Map'!$C$5:$C$870,'10.Non-elective admissions -HWB'!$D133,'9.Non-elective admissions - Map'!Q$5:Q$870)","v":49.417408552219243},{"$f":"SUMIF('9.Non-elective admissions - Map'!$C$5:$C$870,'10.Non-elective admissions -HWB'!$D133,'9.Non-elective admissions - Map'!R$5:R$870)","v":42.415464218563045},{"$f":"SUMIF('9.Non-elective admissions - Map'!$C$5:$C$870,'10.Non-elective admissions -HWB'!$D133,'9.Non-elective admissions - Map'!S$5:S$870)","v":42.248949490057548},{"$f":"SUMIF('9.Non-elective admissions - Map'!$C$5:$C$870,'10.Non-elective admissions -HWB'!$D133,'9.Non-elective admissions - Map'!T$5:T$870)","v":44.317894991738363},{"$f":"SUMIF('9.Non-elective admissions - Map'!$C$5:$C$870,'10.Non-elective admissions -HWB'!$D133,'9.Non-elective admissions - Map'!U$5:U$870)","v":43.789210728733401}]
["South","Q66","Devon, Cornwall And Isles Of Scilly ","E06000026","Plymouth",{"$f":"SUMIF('9.Non-elective admissions - Map'!$C$5:$C$870,'10.Non-elective admissions -HWB'!$D134,'9.Non-elective admissions - Map'!J$5:J$870)","v":7203.167236970703},{"$f":"SUMIF('9.Non-elective admissions - Map'!$C$5:$C$870,'10.Non-elective admissions -HWB'!$D134,'9.Non-elective admissions - Map'!K$5:K$870)","v":7583.478864554445},{"$f":"SUMIF('9.Non-elective admissions - Map'!$C$5:$C$870,'10.Non-elective admissions -HWB'!$D134,'9.Non-elective admissions - Map'!L$5:L$870)","v":7685.1317005208839},{"$f":"SUMIF('9.Non-elective admissions - Map'!$C$5:$C$870,'10.Non-elective admissions -HWB'!$D134,'9.Non-elective admissions - Map'!M$5:M$870)","v":7306.002082657682},{"$f":"SUMIF('9.Non-elective admissions - Map'!$C$5:$C$870,'10.Non-elective admissions -HWB'!$D134,'9.Non-elective admissions - Map'!N$5:N$870)","v":6301.2938201986899},{"$f":"SUMIF('9.Non-elective admissions - Map'!$C$5:$C$870,'10.Non-elective admissions -HWB'!$D134,'9.Non-elective admissions - Map'!O$5:O$870)","v":6468.8436980852339},{"$f":"SUMIF('9.Non-elective admissions - Map'!$C$5:$C$870,'10.Non-elective admissions -HWB'!$D134,'9.Non-elective admissions - Map'!P$5:P$870)","v":6496.6209265179232},{"$f":"SUMIF('9.Non-elective admissions - Map'!$C$5:$C$870,'10.Non-elective admissions -HWB'!$D134,'9.Non-elective admissions - Map'!Q$5:Q$870)","v":6429.541874877279},{"$f":"SUMIF('9.Non-elective admissions - Map'!$C$5:$C$870,'10.Non-elective admissions -HWB'!$D134,'9.Non-elective admissions - Map'!R$5:R$870)","v":6365.4178475379849},{"$f":"SUMIF('9.Non-elective admissions - Map'!$C$5:$C$870,'10.Non-elective admissions -HWB'!$D134,'9.Non-elective admissions - Map'!S$5:S$870)","v":6534.740740005338},{"$f":"SUMIF('9.Non-elective admissions - Map'!$C$5:$C$870,'10.Non-elective admissions -HWB'!$D134,'9.Non-elective admissions - Map'!T$5:T$870)","v":6563.4044757284328},{"$f":"SUMIF('9.Non-elective admissions - Map'!$C$5:$C$870,'10.Non-elective admissions -HWB'!$D134,'9.Non-elective admissions - Map'!U$5:U$870)","v":6449.0450352661892}]
["South","Q66","Devon, Cornwall And Isles Of Scilly ","E06000027","Torbay",{"$f":"SUMIF('9.Non-elective admissions - Map'!$C$5:$C$870,'10.Non-elective admissions -HWB'!$D135,'9.Non-elective admissions - Map'!J$5:J$870)","v":2365.6108651604309},{"$f":"SUMIF('9.Non-elective admissions - Map'!$C$5:$C$870,'10.Non-elective admissions -HWB'!$D135,'9.Non-elective admissions - Map'!K$5:K$870)","v":2608.5893263572775},{"$f":"SUMIF('9.Non-elective admissions - Map'!$C$5:$C$870,'10.Non-elective admissions -HWB'!$D135,'9.Non-elective admissions - Map'!L$5:L$870)","v":2438.1125027756189},{"$f":"SUMIF('9.Non-elective admissions - Map'!$C$5:$C$870,'10.Non-elective admissions -HWB'!$D135,'9.Non-elective admissions - Map'!M$5:M$870)","v":2863.8146857999336},{"$f":"SUMIF('9.Non-elective admissions - Map'!$C$5:$C$870,'10.Non-elective admissions -HWB'!$D135,'9.Non-elective admissions - Map'!N$5:N$870)","v":4117.8970661707563},{"$f":"SUMIF('9.Non-elective admissions - Map'!$C$5:$C$870,'10.Non-elective admissions -HWB'!$D135,'9.Non-elective admissions - Map'!O$5:O$870)","v":4196.7670908737646},{"$f":"SUMIF('9.Non-elective admissions - Map'!$C$5:$C$870,'10.Non-elective admissions -HWB'!$D135,'9.Non-elective admissions - Map'!P$5:P$870)","v":4375.5718052625734},{"$f":"SUMIF('9.Non-elective admissions - Map'!$C$5:$C$870,'10.Non-elective admissions -HWB'!$D135,'9.Non-elective admissions - Map'!Q$5:Q$870)","v":4247.71418757633},{"$f":"SUMIF('9.Non-elective admissions - Map'!$C$5:$C$870,'10.Non-elective admissions -HWB'!$D135,'9.Non-elective admissions - Map'!R$5:R$870)","v":4159.0466442766738},{"$f":"SUMIF('9.Non-elective admissions - Map'!$C$5:$C$870,'10.Non-elective admissions -HWB'!$D135,'9.Non-elective admissions - Map'!S$5:S$870)","v":4238.4065449095151},{"$f":"SUMIF('9.Non-elective admissions - Map'!$C$5:$C$870,'10.Non-elective admissions -HWB'!$D135,'9.Non-elective admissions - Map'!T$5:T$870)","v":4419.1707630176534},{"$f":"SUMIF('9.Non-elective admissions - Map'!$C$5:$C$870,'10.Non-elective admissions -HWB'!$D135,'9.Non-elective admissions - Map'!U$5:U$870)","v":4290.3333934717439}]
["South","Q67","Kent And Medway ","E10000016","Kent",{"$f":"SUMIF('9.Non-elective admissions - Map'!$C$5:$C$870,'10.Non-elective admissions -HWB'!$D136,'9.Non-elective admissions - Map'!J$5:J$870)","v":36072.395937259149},{"$f":"SUMIF('9.Non-elective admissions - Map'!$C$5:$C$870,'10.Non-elective admissions -HWB'!$D136,'9.Non-elective admissions - Map'!K$5:K$870)","v":35839.469689621248},{"$f":"SUMIF('9.Non-elective admissions - Map'!$C$5:$C$870,'10.Non-elective admissions -HWB'!$D136,'9.Non-elective admissions - Map'!L$5:L$870)","v":36092.78209768184},{"$f":"SUMIF('9.Non-elective admissions - Map'!$C$5:$C$870,'10.Non-elective admissions -HWB'!$D136,'9.Non-elective admissions - Map'!M$5:M$870)","v":36414.889635691812},{"$f":"SUMIF('9.Non-elective admissions - Map'!$C$5:$C$870,'10.Non-elective admissions -HWB'!$D136,'9.Non-elective admissions - Map'!N$5:N$870)","v":36171.925226708983},{"$f":"SUMIF('9.Non-elective admissions - Map'!$C$5:$C$870,'10.Non-elective admissions -HWB'!$D136,'9.Non-elective admissions - Map'!O$5:O$870)","v":36425.343341230793},{"$f":"SUMIF('9.Non-elective admissions - Map'!$C$5:$C$870,'10.Non-elective admissions -HWB'!$D136,'9.Non-elective admissions - Map'!P$5:P$870)","v":36328.8463357703},{"$f":"SUMIF('9.Non-elective admissions - Map'!$C$5:$C$870,'10.Non-elective admissions -HWB'!$D136,'9.Non-elective admissions - Map'!Q$5:Q$870)","v":35453.815092461846},{"$f":"SUMIF('9.Non-elective admissions - Map'!$C$5:$C$870,'10.Non-elective admissions -HWB'!$D136,'9.Non-elective admissions - Map'!R$5:R$870)","v":35187.91037349878},{"$f":"SUMIF('9.Non-elective admissions - Map'!$C$5:$C$870,'10.Non-elective admissions -HWB'!$D136,'9.Non-elective admissions - Map'!S$5:S$870)","v":35277.498232152197},{"$f":"SUMIF('9.Non-elective admissions - Map'!$C$5:$C$870,'10.Non-elective admissions -HWB'!$D136,'9.Non-elective admissions - Map'!T$5:T$870)","v":35124.000937918026},{"$f":"SUMIF('9.Non-elective admissions - Map'!$C$5:$C$870,'10.Non-elective admissions -HWB'!$D136,'9.Non-elective admissions - Map'!U$5:U$870)","v":34612.800518546603}]
["South","Q67","Kent And Medway ","E06000035","Medway",{"$f":"SUMIF('9.Non-elective admissions - Map'!$C$5:$C$870,'10.Non-elective admissions -HWB'!$D137,'9.Non-elective admissions - Map'!J$5:J$870)","v":5868.1084462654007},{"$f":"SUMIF('9.Non-elective admissions - Map'!$C$5:$C$870,'10.Non-elective admissions -HWB'!$D137,'9.Non-elective admissions - Map'!K$5:K$870)","v":5802.1676561193672},{"$f":"SUMIF('9.Non-elective admissions - Map'!$C$5:$C$870,'10.Non-elective admissions -HWB'!$D137,'9.Non-elective admissions - Map'!L$5:L$870)","v":6284.6283256089155},{"$f":"SUMIF('9.Non-elective admissions - Map'!$C$5:$C$870,'10.Non-elective admissions -HWB'!$D137,'9.Non-elective admissions - Map'!M$5:M$870)","v":6207.1826370947929},{"$f":"SUMIF('9.Non-elective admissions - Map'!$C$5:$C$870,'10.Non-elective admissions -HWB'!$D137,'9.Non-elective admissions - Map'!N$5:N$870)","v":5539.2459804220907},{"$f":"SUMIF('9.Non-elective admissions - Map'!$C$5:$C$870,'10.Non-elective admissions -HWB'!$D137,'9.Non-elective admissions - Map'!O$5:O$870)","v":5599.5306082890929},{"$f":"SUMIF('9.Non-elective admissions - Map'!$C$5:$C$870,'10.Non-elective admissions -HWB'!$D137,'9.Non-elective admissions - Map'!P$5:P$870)","v":5599.4394308933161},{"$f":"SUMIF('9.Non-elective admissions - Map'!$C$5:$C$870,'10.Non-elective admissions -HWB'!$D137,'9.Non-elective admissions - Map'!Q$5:Q$870)","v":5483.9500695051775},{"$f":"SUMIF('9.Non-elective admissions - Map'!$C$5:$C$870,'10.Non-elective admissions -HWB'!$D137,'9.Non-elective admissions - Map'!R$5:R$870)","v":5130.728820545226},{"$f":"SUMIF('9.Non-elective admissions - Map'!$C$5:$C$870,'10.Non-elective admissions -HWB'!$D137,'9.Non-elective admissions - Map'!S$5:S$870)","v":5101.6677393475138},{"$f":"SUMIF('9.Non-elective admissions - Map'!$C$5:$C$870,'10.Non-elective admissions -HWB'!$D137,'9.Non-elective admissions - Map'!T$5:T$870)","v":5197.5430840875142},{"$f":"SUMIF('9.Non-elective admissions - Map'!$C$5:$C$870,'10.Non-elective admissions -HWB'!$D137,'9.Non-elective admissions - Map'!U$5:U$870)","v":5183.0540820825245}]
["South","Q68","Surrey And Sussex ","E06000043","Brighton and Hove",{"$f":"SUMIF('9.Non-elective admissions - Map'!$C$5:$C$870,'10.Non-elective admissions -HWB'!$D138,'9.Non-elective admissions - Map'!J$5:J$870)","v":6189.2769974048961},{"$f":"SUMIF('9.Non-elective admissions - Map'!$C$5:$C$870,'10.Non-elective admissions -HWB'!$D138,'9.Non-elective admissions - Map'!K$5:K$870)","v":6430.4111736914183},{"$f":"SUMIF('9.Non-elective admissions - Map'!$C$5:$C$870,'10.Non-elective admissions -HWB'!$D138,'9.Non-elective admissions - Map'!L$5:L$870)","v":6469.0529020735703},{"$f":"SUMIF('9.Non-elective admissions - Map'!$C$5:$C$870,'10.Non-elective admissions -HWB'!$D138,'9.Non-elective admissions - Map'!M$5:M$870)","v":6090.7296420511047},{"$f":"SUMIF('9.Non-elective admissions - Map'!$C$5:$C$870,'10.Non-elective admissions -HWB'!$D138,'9.Non-elective admissions - Map'!N$5:N$870)","v":5977.0007337281859},{"$f":"SUMIF('9.Non-elective admissions - Map'!$C$5:$C$870,'10.Non-elective admissions -HWB'!$D138,'9.Non-elective admissions - Map'!O$5:O$870)","v":6088.5079154659243},{"$f":"SUMIF('9.Non-elective admissions - Map'!$C$5:$C$870,'10.Non-elective admissions -HWB'!$D138,'9.Non-elective admissions - Map'!P$5:P$870)","v":6089.8458690471389},{"$f":"SUMIF('9.Non-elective admissions - Map'!$C$5:$C$870,'10.Non-elective admissions -HWB'!$D138,'9.Non-elective admissions - Map'!Q$5:Q$870)","v":5714.1507161984919},{"$f":"SUMIF('9.Non-elective admissions - Map'!$C$5:$C$870,'10.Non-elective admissions -HWB'!$D138,'9.Non-elective admissions - Map'!R$5:R$870)","v":5785.0618694129153},{"$f":"SUMIF('9.Non-elective admissions - Map'!$C$5:$C$870,'10.Non-elective admissions -HWB'!$D138,'9.Non-elective admissions - Map'!S$5:S$870)","v":5890.6983425766048},{"$f":"SUMIF('9.Non-elective admissions - Map'!$C$5:$C$870,'10.Non-elective admissions -HWB'!$D138,'9.Non-elective admissions - Map'!T$5:T$870)","v":5892.0106881901793},{"$f":"SUMIF('9.Non-elective admissions - Map'!$C$5:$C$870,'10.Non-elective admissions -HWB'!$D138,'9.Non-elective admissions - Map'!U$5:U$870)","v":5593.7132917595954}]
["South","Q68","Surrey And Sussex ","E10000011","East Sussex",{"$f":"SUMIF('9.Non-elective admissions - Map'!$C$5:$C$870,'10.Non-elective admissions -HWB'!$D139,'9.Non-elective admissions - Map'!J$5:J$870)","v":12655.553183635649},{"$f":"SUMIF('9.Non-elective admissions - Map'!$C$5:$C$870,'10.Non-elective admissions -HWB'!$D139,'9.Non-elective admissions - Map'!K$5:K$870)","v":12975.738262137589},{"$f":"SUMIF('9.Non-elective admissions - Map'!$C$5:$C$870,'10.Non-elective admissions -HWB'!$D139,'9.Non-elective admissions - Map'!L$5:L$870)","v":13759.962004471707},{"$f":"SUMIF('9.Non-elective admissions - Map'!$C$5:$C$870,'10.Non-elective admissions -HWB'!$D139,'9.Non-elective admissions - Map'!M$5:M$870)","v":13586.699341469692},{"$f":"SUMIF('9.Non-elective admissions - Map'!$C$5:$C$870,'10.Non-elective admissions -HWB'!$D139,'9.Non-elective admissions - Map'!N$5:N$870)","v":12062.628007250669},{"$f":"SUMIF('9.Non-elective admissions - Map'!$C$5:$C$870,'10.Non-elective admissions -HWB'!$D139,'9.Non-elective admissions - Map'!O$5:O$870)","v":12170.252778652963},{"$f":"SUMIF('9.Non-elective admissions - Map'!$C$5:$C$870,'10.Non-elective admissions -HWB'!$D139,'9.Non-elective admissions - Map'!P$5:P$870)","v":12170.524084520961},{"$f":"SUMIF('9.Non-elective admissions - Map'!$C$5:$C$870,'10.Non-elective admissions -HWB'!$D139,'9.Non-elective admissions - Map'!Q$5:Q$870)","v":11956.787935178072},{"$f":"SUMIF('9.Non-elective admissions - Map'!$C$5:$C$870,'10.Non-elective admissions -HWB'!$D139,'9.Non-elective admissions - Map'!R$5:R$870)","v":12104.276812170565},{"$f":"SUMIF('9.Non-elective admissions - Map'!$C$5:$C$870,'10.Non-elective admissions -HWB'!$D139,'9.Non-elective admissions - Map'!S$5:S$870)","v":12211.27516654381},{"$f":"SUMIF('9.Non-elective admissions - Map'!$C$5:$C$870,'10.Non-elective admissions -HWB'!$D139,'9.Non-elective admissions - Map'!T$5:T$870)","v":12211.429144787342},{"$f":"SUMIF('9.Non-elective admissions - Map'!$C$5:$C$870,'10.Non-elective admissions -HWB'!$D139,'9.Non-elective admissions - Map'!U$5:U$870)","v":12008.949214810171}]
["South","Q68","Surrey And Sussex ","E10000030","Surrey",{"$f":"SUMIF('9.Non-elective admissions - Map'!$C$5:$C$870,'10.Non-elective admissions -HWB'!$D140,'9.Non-elective admissions - Map'!J$5:J$870)","v":23868.229305950368},{"$f":"SUMIF('9.Non-elective admissions - Map'!$C$5:$C$870,'10.Non-elective admissions -HWB'!$D140,'9.Non-elective admissions - Map'!K$5:K$870)","v":23789.897149442775},{"$f":"SUMIF('9.Non-elective admissions - Map'!$C$5:$C$870,'10.Non-elective admissions -HWB'!$D140,'9.Non-elective admissions - Map'!L$5:L$870)","v":25195.231119491975},{"$f":"SUMIF('9.Non-elective admissions - Map'!$C$5:$C$870,'10.Non-elective admissions -HWB'!$D140,'9.Non-elective admissions - Map'!M$5:M$870)","v":24833.909379800334},{"$f":"SUMIF('9.Non-elective admissions - Map'!$C$5:$C$870,'10.Non-elective admissions -HWB'!$D140,'9.Non-elective admissions - Map'!N$5:N$870)","v":24691.050881580715},{"$f":"SUMIF('9.Non-elective admissions - Map'!$C$5:$C$870,'10.Non-elective admissions -HWB'!$D140,'9.Non-elective admissions - Map'!O$5:O$870)","v":23701.526361034332},{"$f":"SUMIF('9.Non-elective admissions - Map'!$C$5:$C$870,'10.Non-elective admissions -HWB'!$D140,'9.Non-elective admissions - Map'!P$5:P$870)","v":24441.857296965976},{"$f":"SUMIF('9.Non-elective admissions - Map'!$C$5:$C$870,'10.Non-elective admissions -HWB'!$D140,'9.Non-elective admissions - Map'!Q$5:Q$870)","v":24004.00108895071},{"$f":"SUMIF('9.Non-elective admissions - Map'!$C$5:$C$870,'10.Non-elective admissions -HWB'!$D140,'9.Non-elective admissions - Map'!R$5:R$870)","v":23188.633276421908},{"$f":"SUMIF('9.Non-elective admissions - Map'!$C$5:$C$870,'10.Non-elective admissions -HWB'!$D140,'9.Non-elective admissions - Map'!S$5:S$870)","v":22640.278504694194},{"$f":"SUMIF('9.Non-elective admissions - Map'!$C$5:$C$870,'10.Non-elective admissions -HWB'!$D140,'9.Non-elective admissions - Map'!T$5:T$870)","v":23391.62604262049},{"$f":"SUMIF('9.Non-elective admissions - Map'!$C$5:$C$870,'10.Non-elective admissions -HWB'!$D140,'9.Non-elective admissions - Map'!U$5:U$870)","v":23068.47600605329}]
["South","Q68","Surrey And Sussex ","E10000032","West Sussex",{"$f":"SUMIF('9.Non-elective admissions - Map'!$C$5:$C$870,'10.Non-elective admissions -HWB'!$D141,'9.Non-elective admissions - Map'!J$5:J$870)","v":19172.290394197873},{"$f":"SUMIF('9.Non-elective admissions - Map'!$C$5:$C$870,'10.Non-elective admissions -HWB'!$D141,'9.Non-elective admissions - Map'!K$5:K$870)","v":19758.81828126805},{"$f":"SUMIF('9.Non-elective admissions - Map'!$C$5:$C$870,'10.Non-elective admissions -HWB'!$D141,'9.Non-elective admissions - Map'!L$5:L$870)","v":20610.990068295992},{"$f":"SUMIF('9.Non-elective admissions - Map'!$C$5:$C$870,'10.Non-elective admissions -HWB'!$D141,'9.Non-elective admissions - Map'!M$5:M$870)","v":20516.144415319377},{"$f":"SUMIF('9.Non-elective admissions - Map'!$C$5:$C$870,'10.Non-elective admissions -HWB'!$D141,'9.Non-elective admissions - Map'!N$5:N$870)","v":18288.54590983058},{"$f":"SUMIF('9.Non-elective admissions - Map'!$C$5:$C$870,'10.Non-elective admissions -HWB'!$D141,'9.Non-elective admissions - Map'!O$5:O$870)","v":18278.972581411716},{"$f":"SUMIF('9.Non-elective admissions - Map'!$C$5:$C$870,'10.Non-elective admissions -HWB'!$D141,'9.Non-elective admissions - Map'!P$5:P$870)","v":18791.76196352678},{"$f":"SUMIF('9.Non-elective admissions - Map'!$C$5:$C$870,'10.Non-elective admissions -HWB'!$D141,'9.Non-elective admissions - Map'!Q$5:Q$870)","v":18330.468468464656},{"$f":"SUMIF('9.Non-elective admissions - Map'!$C$5:$C$870,'10.Non-elective admissions -HWB'!$D141,'9.Non-elective admissions - Map'!R$5:R$870)","v":17612.77586528557},{"$f":"SUMIF('9.Non-elective admissions - Map'!$C$5:$C$870,'10.Non-elective admissions -HWB'!$D141,'9.Non-elective admissions - Map'!S$5:S$870)","v":17593.685224714955},{"$f":"SUMIF('9.Non-elective admissions - Map'!$C$5:$C$870,'10.Non-elective admissions -HWB'!$D141,'9.Non-elective admissions - Map'!T$5:T$870)","v":18076.978780987854},{"$f":"SUMIF('9.Non-elective admissions - Map'!$C$5:$C$870,'10.Non-elective admissions -HWB'!$D141,'9.Non-elective admissions - Map'!U$5:U$870)","v":17880.349252899097}]
["South","Q69","Thames Valley ","E06000036","Bracknell Forest",{"$f":"SUMIF('9.Non-elective admissions - Map'!$C$5:$C$870,'10.Non-elective admissions -HWB'!$D142,'9.Non-elective admissions - Map'!J$5:J$870)","v":2075.6016819562292},{"$f":"SUMIF('9.Non-elective admissions - Map'!$C$5:$C$870,'10.Non-elective admissions -HWB'!$D142,'9.Non-elective admissions - Map'!K$5:K$870)","v":2132.1476983642333},{"$f":"SUMIF('9.Non-elective admissions - Map'!$C$5:$C$870,'10.Non-elective admissions -HWB'!$D142,'9.Non-elective admissions - Map'!L$5:L$870)","v":2213.4674685005907},{"$f":"SUMIF('9.Non-elective admissions - Map'!$C$5:$C$870,'10.Non-elective admissions -HWB'!$D142,'9.Non-elective admissions - Map'!M$5:M$870)","v":2143.4933143392082},{"$f":"SUMIF('9.Non-elective admissions - Map'!$C$5:$C$870,'10.Non-elective admissions -HWB'!$D142,'9.Non-elective admissions - Map'!N$5:N$870)","v":1910.7170000985261},{"$f":"SUMIF('9.Non-elective admissions - Map'!$C$5:$C$870,'10.Non-elective admissions -HWB'!$D142,'9.Non-elective admissions - Map'!O$5:O$870)","v":1968.7094266346292},{"$f":"SUMIF('9.Non-elective admissions - Map'!$C$5:$C$870,'10.Non-elective admissions -HWB'!$D142,'9.Non-elective admissions - Map'!P$5:P$870)","v":2066.4435569575076},{"$f":"SUMIF('9.Non-elective admissions - Map'!$C$5:$C$870,'10.Non-elective admissions -HWB'!$D142,'9.Non-elective admissions - Map'!Q$5:Q$870)","v":2000.7415797520305},{"$f":"SUMIF('9.Non-elective admissions - Map'!$C$5:$C$870,'10.Non-elective admissions -HWB'!$D142,'9.Non-elective admissions - Map'!R$5:R$870)","v":1938.241515418888},{"$f":"SUMIF('9.Non-elective admissions - Map'!$C$5:$C$870,'10.Non-elective admissions -HWB'!$D142,'9.Non-elective admissions - Map'!S$5:S$870)","v":2001.0020456165057},{"$f":"SUMIF('9.Non-elective admissions - Map'!$C$5:$C$870,'10.Non-elective admissions -HWB'!$D142,'9.Non-elective admissions - Map'!T$5:T$870)","v":2096.2399166396626},{"$f":"SUMIF('9.Non-elective admissions - Map'!$C$5:$C$870,'10.Non-elective admissions -HWB'!$D142,'9.Non-elective admissions - Map'!U$5:U$870)","v":2031.4526217172872}]
["South","Q69","Thames Valley ","E10000002","Buckinghamshire",{"$f":"SUMIF('9.Non-elective admissions - Map'!$C$5:$C$870,'10.Non-elective admissions -HWB'!$D143,'9.Non-elective admissions - Map'!J$5:J$870)","v":9998.2719715735748},{"$f":"SUMIF('9.Non-elective admissions - Map'!$C$5:$C$870,'10.Non-elective admissions -HWB'!$D143,'9.Non-elective admissions - Map'!K$5:K$870)","v":9766.896481512933},{"$f":"SUMIF('9.Non-elective admissions - Map'!$C$5:$C$870,'10.Non-elective admissions -HWB'!$D143,'9.Non-elective admissions - Map'!L$5:L$870)","v":10470.843801827985},{"$f":"SUMIF('9.Non-elective admissions - Map'!$C$5:$C$870,'10.Non-elective admissions -HWB'!$D143,'9.Non-elective admissions - Map'!M$5:M$870)","v":10605.467195904803},{"$f":"SUMIF('9.Non-elective admissions - Map'!$C$5:$C$870,'10.Non-elective admissions -HWB'!$D143,'9.Non-elective admissions - Map'!N$5:N$870)","v":11474.302797737308},{"$f":"SUMIF('9.Non-elective admissions - Map'!$C$5:$C$870,'10.Non-elective admissions -HWB'!$D143,'9.Non-elective admissions - Map'!O$5:O$870)","v":11587.855638394574},{"$f":"SUMIF('9.Non-elective admissions - Map'!$C$5:$C$870,'10.Non-elective admissions -HWB'!$D143,'9.Non-elective admissions - Map'!P$5:P$870)","v":11623.45142633588},{"$f":"SUMIF('9.Non-elective admissions - Map'!$C$5:$C$870,'10.Non-elective admissions -HWB'!$D143,'9.Non-elective admissions - Map'!Q$5:Q$870)","v":11357.127179113415},{"$f":"SUMIF('9.Non-elective admissions - Map'!$C$5:$C$870,'10.Non-elective admissions -HWB'!$D143,'9.Non-elective admissions - Map'!R$5:R$870)","v":11434.634244944726},{"$f":"SUMIF('9.Non-elective admissions - Map'!$C$5:$C$870,'10.Non-elective admissions -HWB'!$D143,'9.Non-elective admissions - Map'!S$5:S$870)","v":11549.087426441469},{"$f":"SUMIF('9.Non-elective admissions - Map'!$C$5:$C$870,'10.Non-elective admissions -HWB'!$D143,'9.Non-elective admissions - Map'!T$5:T$870)","v":11594.041423789206},{"$f":"SUMIF('9.Non-elective admissions - Map'!$C$5:$C$870,'10.Non-elective admissions -HWB'!$D143,'9.Non-elective admissions - Map'!U$5:U$870)","v":11336.089489761209}]
["South","Q69","Thames Valley ","E10000025","Oxfordshire",{"$f":"SUMIF('9.Non-elective admissions - Map'!$C$5:$C$870,'10.Non-elective admissions -HWB'!$D144,'9.Non-elective admissions - Map'!J$5:J$870)","v":12668.902940247948},{"$f":"SUMIF('9.Non-elective admissions - Map'!$C$5:$C$870,'10.Non-elective admissions -HWB'!$D144,'9.Non-elective admissions - Map'!K$5:K$870)","v":12912.149718054688},{"$f":"SUMIF('9.Non-elective admissions - Map'!$C$5:$C$870,'10.Non-elective admissions -HWB'!$D144,'9.Non-elective admissions - Map'!L$5:L$870)","v":13055.823641948866},{"$f":"SUMIF('9.Non-elective admissions - Map'!$C$5:$C$870,'10.Non-elective admissions -HWB'!$D144,'9.Non-elective admissions - Map'!M$5:M$870)","v":12768.175536466255},{"$f":"SUMIF('9.Non-elective admissions - Map'!$C$5:$C$870,'10.Non-elective admissions -HWB'!$D144,'9.Non-elective admissions - Map'!N$5:N$870)","v":12302.776993952846},{"$f":"SUMIF('9.Non-elective admissions - Map'!$C$5:$C$870,'10.Non-elective admissions -HWB'!$D144,'9.Non-elective admissions - Map'!O$5:O$870)","v":12678.199779793},{"$f":"SUMIF('9.Non-elective admissions - Map'!$C$5:$C$870,'10.Non-elective admissions -HWB'!$D144,'9.Non-elective admissions - Map'!P$5:P$870)","v":12896.096878210197},{"$f":"SUMIF('9.Non-elective admissions - Map'!$C$5:$C$870,'10.Non-elective admissions -HWB'!$D144,'9.Non-elective admissions - Map'!Q$5:Q$870)","v":12288.391144128207},{"$f":"SUMIF('9.Non-elective admissions - Map'!$C$5:$C$870,'10.Non-elective admissions -HWB'!$D144,'9.Non-elective admissions - Map'!R$5:R$870)","v":12520.893247291653},{"$f":"SUMIF('9.Non-elective admissions - Map'!$C$5:$C$870,'10.Non-elective admissions -HWB'!$D144,'9.Non-elective admissions - Map'!S$5:S$870)","v":12905.884855985019},{"$f":"SUMIF('9.Non-elective admissions - Map'!$C$5:$C$870,'10.Non-elective admissions -HWB'!$D144,'9.Non-elective admissions - Map'!T$5:T$870)","v":13124.411350220877},{"$f":"SUMIF('9.Non-elective admissions - Map'!$C$5:$C$870,'10.Non-elective admissions -HWB'!$D144,'9.Non-elective admissions - Map'!U$5:U$870)","v":12508.847851980259}]
["South","Q69","Thames Valley ","E06000038","Reading",{"$f":"SUMIF('9.Non-elective admissions - Map'!$C$5:$C$870,'10.Non-elective admissions -HWB'!$D145,'9.Non-elective admissions - Map'!J$5:J$870)","v":2742.1237224120741},{"$f":"SUMIF('9.Non-elective admissions - Map'!$C$5:$C$870,'10.Non-elective admissions -HWB'!$D145,'9.Non-elective admissions - Map'!K$5:K$870)","v":2686.0049813534056},{"$f":"SUMIF('9.Non-elective admissions - Map'!$C$5:$C$870,'10.Non-elective admissions -HWB'!$D145,'9.Non-elective admissions - Map'!L$5:L$870)","v":2895.2379601541197},{"$f":"SUMIF('9.Non-elective admissions - Map'!$C$5:$C$870,'10.Non-elective admissions -HWB'!$D145,'9.Non-elective admissions - Map'!M$5:M$870)","v":2849.6130495112388},{"$f":"SUMIF('9.Non-elective admissions - Map'!$C$5:$C$870,'10.Non-elective admissions -HWB'!$D145,'9.Non-elective admissions - Map'!N$5:N$870)","v":2791.7598931255898},{"$f":"SUMIF('9.Non-elective admissions - Map'!$C$5:$C$870,'10.Non-elective admissions -HWB'!$D145,'9.Non-elective admissions - Map'!O$5:O$870)","v":2711.1149189346165},{"$f":"SUMIF('9.Non-elective admissions - Map'!$C$5:$C$870,'10.Non-elective admissions -HWB'!$D145,'9.Non-elective admissions - Map'!P$5:P$870)","v":2833.6882428491504},{"$f":"SUMIF('9.Non-elective admissions - Map'!$C$5:$C$870,'10.Non-elective admissions -HWB'!$D145,'9.Non-elective admissions - Map'!Q$5:Q$870)","v":2649.2944575761144},{"$f":"SUMIF('9.Non-elective admissions - Map'!$C$5:$C$870,'10.Non-elective admissions -HWB'!$D145,'9.Non-elective admissions - Map'!R$5:R$870)","v":2749.4639924328098},{"$f":"SUMIF('9.Non-elective admissions - Map'!$C$5:$C$870,'10.Non-elective admissions -HWB'!$D145,'9.Non-elective admissions - Map'!S$5:S$870)","v":2722.7390953373456},{"$f":"SUMIF('9.Non-elective admissions - Map'!$C$5:$C$870,'10.Non-elective admissions -HWB'!$D145,'9.Non-elective admissions - Map'!T$5:T$870)","v":2844.6053139022201},{"$f":"SUMIF('9.Non-elective admissions - Map'!$C$5:$C$870,'10.Non-elective admissions -HWB'!$D145,'9.Non-elective admissions - Map'!U$5:U$870)","v":2715.3928668966496}]
["South","Q69","Thames Valley ","E06000039","Slough",{"$f":"SUMIF('9.Non-elective admissions - Map'!$C$5:$C$870,'10.Non-elective admissions -HWB'!$D146,'9.Non-elective admissions - Map'!J$5:J$870)","v":3567.768231859834},{"$f":"SUMIF('9.Non-elective admissions - Map'!$C$5:$C$870,'10.Non-elective admissions -HWB'!$D146,'9.Non-elective admissions - Map'!K$5:K$870)","v":3845.084940401176},{"$f":"SUMIF('9.Non-elective admissions - Map'!$C$5:$C$870,'10.Non-elective admissions -HWB'!$D146,'9.Non-elective admissions - Map'!L$5:L$870)","v":4258.3195393038104},{"$f":"SUMIF('9.Non-elective admissions - Map'!$C$5:$C$870,'10.Non-elective admissions -HWB'!$D146,'9.Non-elective admissions - Map'!M$5:M$870)","v":3938.6707255446991},{"$f":"SUMIF('9.Non-elective admissions - Map'!$C$5:$C$870,'10.Non-elective admissions -HWB'!$D146,'9.Non-elective admissions - Map'!N$5:N$870)","v":3566.8989631896497},{"$f":"SUMIF('9.Non-elective admissions - Map'!$C$5:$C$870,'10.Non-elective admissions -HWB'!$D146,'9.Non-elective admissions - Map'!O$5:O$870)","v":3596.6695178954487},{"$f":"SUMIF('9.Non-elective admissions - Map'!$C$5:$C$870,'10.Non-elective admissions -HWB'!$D146,'9.Non-elective admissions - Map'!P$5:P$870)","v":3897.427377788651},{"$f":"SUMIF('9.Non-elective admissions - Map'!$C$5:$C$870,'10.Non-elective admissions -HWB'!$D146,'9.Non-elective admissions - Map'!Q$5:Q$870)","v":3699.0985021056181},{"$f":"SUMIF('9.Non-elective admissions - Map'!$C$5:$C$870,'10.Non-elective admissions -HWB'!$D146,'9.Non-elective admissions - Map'!R$5:R$870)","v":3300.6801593895798},{"$f":"SUMIF('9.Non-elective admissions - Map'!$C$5:$C$870,'10.Non-elective admissions -HWB'!$D146,'9.Non-elective admissions - Map'!S$5:S$870)","v":3333.3929768212051},{"$f":"SUMIF('9.Non-elective admissions - Map'!$C$5:$C$870,'10.Non-elective admissions -HWB'!$D146,'9.Non-elective admissions - Map'!T$5:T$870)","v":3607.1191545297224},{"$f":"SUMIF('9.Non-elective admissions - Map'!$C$5:$C$870,'10.Non-elective admissions -HWB'!$D146,'9.Non-elective admissions - Map'!U$5:U$870)","v":3421.3289246721229}]
["South","Q69","Thames Valley ","E06000037","West Berkshire",{"$f":"SUMIF('9.Non-elective admissions - Map'!$C$5:$C$870,'10.Non-elective admissions -HWB'!$D147,'9.Non-elective admissions - Map'!J$5:J$870)","v":2615.6013120144235},{"$f":"SUMIF('9.Non-elective admissions - Map'!$C$5:$C$870,'10.Non-elective admissions -HWB'!$D147,'9.Non-elective admissions - Map'!K$5:K$870)","v":2610.5839273863858},{"$f":"SUMIF('9.Non-elective admissions - Map'!$C$5:$C$870,'10.Non-elective admissions -HWB'!$D147,'9.Non-elective admissions - Map'!L$5:L$870)","v":2700.8921301299133},{"$f":"SUMIF('9.Non-elective admissions - Map'!$C$5:$C$870,'10.Non-elective admissions -HWB'!$D147,'9.Non-elective admissions - Map'!M$5:M$870)","v":2557.9648963626137},{"$f":"SUMIF('9.Non-elective admissions - Map'!$C$5:$C$870,'10.Non-elective admissions -HWB'!$D147,'9.Non-elective admissions - Map'!N$5:N$870)","v":2660.3161661096606},{"$f":"SUMIF('9.Non-elective admissions - Map'!$C$5:$C$870,'10.Non-elective admissions -HWB'!$D147,'9.Non-elective admissions - Map'!O$5:O$870)","v":2598.0810496252966},{"$f":"SUMIF('9.Non-elective admissions - Map'!$C$5:$C$870,'10.Non-elective admissions -HWB'!$D147,'9.Non-elective admissions - Map'!P$5:P$870)","v":2716.6090408286404},{"$f":"SUMIF('9.Non-elective admissions - Map'!$C$5:$C$870,'10.Non-elective admissions -HWB'!$D147,'9.Non-elective admissions - Map'!Q$5:Q$870)","v":2556.8700762836684},{"$f":"SUMIF('9.Non-elective admissions - Map'!$C$5:$C$870,'10.Non-elective admissions -HWB'!$D147,'9.Non-elective admissions - Map'!R$5:R$870)","v":2614.5442258687708},{"$f":"SUMIF('9.Non-elective admissions - Map'!$C$5:$C$870,'10.Non-elective admissions -HWB'!$D147,'9.Non-elective admissions - Map'!S$5:S$870)","v":2592.9052220410886},{"$f":"SUMIF('9.Non-elective admissions - Map'!$C$5:$C$870,'10.Non-elective admissions -HWB'!$D147,'9.Non-elective admissions - Map'!T$5:T$870)","v":2708.200683315576},{"$f":"SUMIF('9.Non-elective admissions - Map'!$C$5:$C$870,'10.Non-elective admissions -HWB'!$D147,'9.Non-elective admissions - Map'!U$5:U$870)","v":2587.1571078520888}]
["South","Q69","Thames Valley ","E06000040","Windsor and Maidenhead",{"$f":"SUMIF('9.Non-elective admissions - Map'!$C$5:$C$870,'10.Non-elective admissions -HWB'!$D148,'9.Non-elective admissions - Map'!J$5:J$870)","v":2917.8611620593351},{"$f":"SUMIF('9.Non-elective admissions - Map'!$C$5:$C$870,'10.Non-elective admissions -HWB'!$D148,'9.Non-elective admissions - Map'!K$5:K$870)","v":2983.4529137830918},{"$f":"SUMIF('9.Non-elective admissions - Map'!$C$5:$C$870,'10.Non-elective admissions -HWB'!$D148,'9.Non-elective admissions - Map'!L$5:L$870)","v":3189.3370251401011},{"$f":"SUMIF('9.Non-elective admissions - Map'!$C$5:$C$870,'10.Non-elective admissions -HWB'!$D148,'9.Non-elective admissions - Map'!M$5:M$870)","v":3128.4190166490375},{"$f":"SUMIF('9.Non-elective admissions - Map'!$C$5:$C$870,'10.Non-elective admissions -HWB'!$D148,'9.Non-elective admissions - Map'!N$5:N$870)","v":2716.7132953373425},{"$f":"SUMIF('9.Non-elective admissions - Map'!$C$5:$C$870,'10.Non-elective admissions -HWB'!$D148,'9.Non-elective admissions - Map'!O$5:O$870)","v":2764.3351455684046},{"$f":"SUMIF('9.Non-elective admissions - Map'!$C$5:$C$870,'10.Non-elective admissions -HWB'!$D148,'9.Non-elective admissions - Map'!P$5:P$870)","v":2956.3086961038348},{"$f":"SUMIF('9.Non-elective admissions - Map'!$C$5:$C$870,'10.Non-elective admissions -HWB'!$D148,'9.Non-elective admissions - Map'!Q$5:Q$870)","v":2815.5452388707045},{"$f":"SUMIF('9.Non-elective admissions - Map'!$C$5:$C$870,'10.Non-elective admissions -HWB'!$D148,'9.Non-elective admissions - Map'!R$5:R$870)","v":2754.7074361574173},{"$f":"SUMIF('9.Non-elective admissions - Map'!$C$5:$C$870,'10.Non-elective admissions -HWB'!$D148,'9.Non-elective admissions - Map'!S$5:S$870)","v":2807.0035820220346},{"$f":"SUMIF('9.Non-elective admissions - Map'!$C$5:$C$870,'10.Non-elective admissions -HWB'!$D148,'9.Non-elective admissions - Map'!T$5:T$870)","v":3000.1534730456269},{"$f":"SUMIF('9.Non-elective admissions - Map'!$C$5:$C$870,'10.Non-elective admissions -HWB'!$D148,'9.Non-elective admissions - Map'!U$5:U$870)","v":2858.3174979304222}]
["South","Q69","Thames Valley ","E06000041","Wokingham",{"$f":"SUMIF('9.Non-elective admissions - Map'!$C$5:$C$870,'10.Non-elective admissions -HWB'!$D149,'9.Non-elective admissions - Map'!J$5:J$870)","v":2379.4329173803144},{"$f":"SUMIF('9.Non-elective admissions - Map'!$C$5:$C$870,'10.Non-elective admissions -HWB'!$D149,'9.Non-elective admissions - Map'!K$5:K$870)","v":2383.6493273292235},{"$f":"SUMIF('9.Non-elective admissions - Map'!$C$5:$C$870,'10.Non-elective admissions -HWB'!$D149,'9.Non-elective admissions - Map'!L$5:L$870)","v":2560.063199902479},{"$f":"SUMIF('9.Non-elective admissions - Map'!$C$5:$C$870,'10.Non-elective admissions -HWB'!$D149,'9.Non-elective admissions - Map'!M$5:M$870)","v":2519.4134916877892},{"$f":"SUMIF('9.Non-elective admissions - Map'!$C$5:$C$870,'10.Non-elective admissions -HWB'!$D149,'9.Non-elective admissions - Map'!N$5:N$870)","v":2423.9381585223073},{"$f":"SUMIF('9.Non-elective admissions - Map'!$C$5:$C$870,'10.Non-elective admissions -HWB'!$D149,'9.Non-elective admissions - Map'!O$5:O$870)","v":2358.9130744227682},{"$f":"SUMIF('9.Non-elective admissions - Map'!$C$5:$C$870,'10.Non-elective admissions -HWB'!$D149,'9.Non-elective admissions - Map'!P$5:P$870)","v":2465.6190433003435},{"$f":"SUMIF('9.Non-elective admissions - Map'!$C$5:$C$870,'10.Non-elective admissions -HWB'!$D149,'9.Non-elective admissions - Map'!Q$5:Q$870)","v":2306.4140151732117},{"$f":"SUMIF('9.Non-elective admissions - Map'!$C$5:$C$870,'10.Non-elective admissions -HWB'!$D149,'9.Non-elective admissions - Map'!R$5:R$870)","v":2378.1422646975825},{"$f":"SUMIF('9.Non-elective admissions - Map'!$C$5:$C$870,'10.Non-elective admissions -HWB'!$D149,'9.Non-elective admissions - Map'!S$5:S$870)","v":2359.4834140215271},{"$f":"SUMIF('9.Non-elective admissions - Map'!$C$5:$C$870,'10.Non-elective admissions -HWB'!$D149,'9.Non-elective admissions - Map'!T$5:T$870)","v":2463.2822025787332},{"$f":"SUMIF('9.Non-elective admissions - Map'!$C$5:$C$870,'10.Non-elective admissions -HWB'!$D149,'9.Non-elective admissions - Map'!U$5:U$870)","v":2352.1340348244521}]
["South","Q70","Wessex ","E06000028 & E06000029","Bournemouth & Poole",{"$f":"SUMIF('9.Non-elective admissions - Map'!$C$5:$C$870,'10.Non-elective admissions -HWB'!$D150,'9.Non-elective admissions - Map'!J$5:J$870)","v":8994.9757250378898},{"$f":"SUMIF('9.Non-elective admissions - Map'!$C$5:$C$870,'10.Non-elective admissions -HWB'!$D150,'9.Non-elective admissions - Map'!K$5:K$870)","v":9151.5050476508513},{"$f":"SUMIF('9.Non-elective admissions - Map'!$C$5:$C$870,'10.Non-elective admissions -HWB'!$D150,'9.Non-elective admissions - Map'!L$5:L$870)","v":9464.1086657761571},{"$f":"SUMIF('9.Non-elective admissions - Map'!$C$5:$C$870,'10.Non-elective admissions -HWB'!$D150,'9.Non-elective admissions - Map'!M$5:M$870)","v":9626.5533406971663},{"$f":"SUMIF('9.Non-elective admissions - Map'!$C$5:$C$870,'10.Non-elective admissions -HWB'!$D150,'9.Non-elective admissions - Map'!N$5:N$870)","v":8765.1870392252567},{"$f":"SUMIF('9.Non-elective admissions - Map'!$C$5:$C$870,'10.Non-elective admissions -HWB'!$D150,'9.Non-elective admissions - Map'!O$5:O$870)","v":8907.610521719027},{"$f":"SUMIF('9.Non-elective admissions - Map'!$C$5:$C$870,'10.Non-elective admissions -HWB'!$D150,'9.Non-elective admissions - Map'!P$5:P$870)","v":9228.4046276554745},{"$f":"SUMIF('9.Non-elective admissions - Map'!$C$5:$C$870,'10.Non-elective admissions -HWB'!$D150,'9.Non-elective admissions - Map'!Q$5:Q$870)","v":9093.7166058722287},{"$f":"SUMIF('9.Non-elective admissions - Map'!$C$5:$C$870,'10.Non-elective admissions -HWB'!$D150,'9.Non-elective admissions - Map'!R$5:R$870)","v":8546.3190038274806},{"$f":"SUMIF('9.Non-elective admissions - Map'!$C$5:$C$870,'10.Non-elective admissions -HWB'!$D150,'9.Non-elective admissions - Map'!S$5:S$870)","v":8685.1022695162992},{"$f":"SUMIF('9.Non-elective admissions - Map'!$C$5:$C$870,'10.Non-elective admissions -HWB'!$D150,'9.Non-elective admissions - Map'!T$5:T$870)","v":8998.6159418428415},{"$f":"SUMIF('9.Non-elective admissions - Map'!$C$5:$C$870,'10.Non-elective admissions -HWB'!$D150,'9.Non-elective admissions - Map'!U$5:U$870)","v":8867.11310976393}]
["South","Q70","Wessex ","E10000009","Dorset",{"$f":"SUMIF('9.Non-elective admissions - Map'!$C$5:$C$870,'10.Non-elective admissions -HWB'!$D151,'9.Non-elective admissions - Map'!J$5:J$870)","v":10846.89506804707},{"$f":"SUMIF('9.Non-elective admissions - Map'!$C$5:$C$870,'10.Non-elective admissions -HWB'!$D151,'9.Non-elective admissions - Map'!K$5:K$870)","v":11035.511801637647},{"$f":"SUMIF('9.Non-elective admissions - Map'!$C$5:$C$870,'10.Non-elective admissions -HWB'!$D151,'9.Non-elective admissions - Map'!L$5:L$870)","v":11405.781617311322},{"$f":"SUMIF('9.Non-elective admissions - Map'!$C$5:$C$870,'10.Non-elective admissions -HWB'!$D151,'9.Non-elective admissions - Map'!M$5:M$870)","v":11593.695122561061},{"$f":"SUMIF('9.Non-elective admissions - Map'!$C$5:$C$870,'10.Non-elective admissions -HWB'!$D151,'9.Non-elective admissions - Map'!N$5:N$870)","v":10595.094622451708},{"$f":"SUMIF('9.Non-elective admissions - Map'!$C$5:$C$870,'10.Non-elective admissions -HWB'!$D151,'9.Non-elective admissions - Map'!O$5:O$870)","v":10762.974998886433},{"$f":"SUMIF('9.Non-elective admissions - Map'!$C$5:$C$870,'10.Non-elective admissions -HWB'!$D151,'9.Non-elective admissions - Map'!P$5:P$870)","v":11151.545272916144},{"$f":"SUMIF('9.Non-elective admissions - Map'!$C$5:$C$870,'10.Non-elective admissions -HWB'!$D151,'9.Non-elective admissions - Map'!Q$5:Q$870)","v":10988.311871527834},{"$f":"SUMIF('9.Non-elective admissions - Map'!$C$5:$C$870,'10.Non-elective admissions -HWB'!$D151,'9.Non-elective admissions - Map'!R$5:R$870)","v":10339.615059597758},{"$f":"SUMIF('9.Non-elective admissions - Map'!$C$5:$C$870,'10.Non-elective admissions -HWB'!$D151,'9.Non-elective admissions - Map'!S$5:S$870)","v":10503.094626935012},{"$f":"SUMIF('9.Non-elective admissions - Map'!$C$5:$C$870,'10.Non-elective admissions -HWB'!$D151,'9.Non-elective admissions - Map'!T$5:T$870)","v":10883.110879419151},{"$f":"SUMIF('9.Non-elective admissions - Map'!$C$5:$C$870,'10.Non-elective admissions -HWB'!$D151,'9.Non-elective admissions - Map'!U$5:U$870)","v":10726.930467814058}]
["South","Q70","Wessex ","E10000014","Hampshire",{"$f":"SUMIF('9.Non-elective admissions - Map'!$C$5:$C$870,'10.Non-elective admissions -HWB'!$D152,'9.Non-elective admissions - Map'!J$5:J$870)","v":30096.903313173993},{"$f":"SUMIF('9.Non-elective admissions - Map'!$C$5:$C$870,'10.Non-elective admissions -HWB'!$D152,'9.Non-elective admissions - Map'!K$5:K$870)","v":30368.801593709402},{"$f":"SUMIF('9.Non-elective admissions - Map'!$C$5:$C$870,'10.Non-elective admissions -HWB'!$D152,'9.Non-elective admissions - Map'!L$5:L$870)","v":31368.265181843119},{"$f":"SUMIF('9.Non-elective admissions - Map'!$C$5:$C$870,'10.Non-elective admissions -HWB'!$D152,'9.Non-elective admissions - Map'!M$5:M$870)","v":30392.738494622612},{"$f":"SUMIF('9.Non-elective admissions - Map'!$C$5:$C$870,'10.Non-elective admissions -HWB'!$D152,'9.Non-elective admissions - Map'!N$5:N$870)","v":29706.101915083691},{"$f":"SUMIF('9.Non-elective admissions - Map'!$C$5:$C$870,'10.Non-elective admissions -HWB'!$D152,'9.Non-elective admissions - Map'!O$5:O$870)","v":29598.463359311398},{"$f":"SUMIF('9.Non-elective admissions - Map'!$C$5:$C$870,'10.Non-elective admissions -HWB'!$D152,'9.Non-elective admissions - Map'!P$5:P$870)","v":30677.102013025833},{"$f":"SUMIF('9.Non-elective admissions - Map'!$C$5:$C$870,'10.Non-elective admissions -HWB'!$D152,'9.Non-elective admissions - Map'!Q$5:Q$870)","v":30715.373686594485},{"$f":"SUMIF('9.Non-elective admissions - Map'!$C$5:$C$870,'10.Non-elective admissions -HWB'!$D152,'9.Non-elective admissions - Map'!R$5:R$870)","v":29099.143846965788},{"$f":"SUMIF('9.Non-elective admissions - Map'!$C$5:$C$870,'10.Non-elective admissions -HWB'!$D152,'9.Non-elective admissions - Map'!S$5:S$870)","v":28992.288164835089},{"$f":"SUMIF('9.Non-elective admissions - Map'!$C$5:$C$870,'10.Non-elective admissions -HWB'!$D152,'9.Non-elective admissions - Map'!T$5:T$870)","v":30337.737498166458},{"$f":"SUMIF('9.Non-elective admissions - Map'!$C$5:$C$870,'10.Non-elective admissions -HWB'!$D152,'9.Non-elective admissions - Map'!U$5:U$870)","v":30699.68358913096}]
["South","Q70","Wessex ","E06000046","Isle of Wight",{"$f":"SUMIF('9.Non-elective admissions - Map'!$C$5:$C$870,'10.Non-elective admissions -HWB'!$D153,'9.Non-elective admissions - Map'!J$5:J$870)","v":3003},{"$f":"SUMIF('9.Non-elective admissions - Map'!$C$5:$C$870,'10.Non-elective admissions -HWB'!$D153,'9.Non-elective admissions - Map'!K$5:K$870)","v":2869},{"$f":"SUMIF('9.Non-elective admissions - Map'!$C$5:$C$870,'10.Non-elective admissions -HWB'!$D153,'9.Non-elective admissions - Map'!L$5:L$870)","v":3165},{"$f":"SUMIF('9.Non-elective admissions - Map'!$C$5:$C$870,'10.Non-elective admissions -HWB'!$D153,'9.Non-elective admissions - Map'!M$5:M$870)","v":2819},{"$f":"SUMIF('9.Non-elective admissions - Map'!$C$5:$C$870,'10.Non-elective admissions -HWB'!$D153,'9.Non-elective admissions - Map'!N$5:N$870)","v":3090},{"$f":"SUMIF('9.Non-elective admissions - Map'!$C$5:$C$870,'10.Non-elective admissions -HWB'!$D153,'9.Non-elective admissions - Map'!O$5:O$870)","v":3081},{"$f":"SUMIF('9.Non-elective admissions - Map'!$C$5:$C$870,'10.Non-elective admissions -HWB'!$D153,'9.Non-elective admissions - Map'!P$5:P$870)","v":3073},{"$f":"SUMIF('9.Non-elective admissions - Map'!$C$5:$C$870,'10.Non-elective admissions -HWB'!$D153,'9.Non-elective admissions - Map'!Q$5:Q$870)","v":3063},{"$f":"SUMIF('9.Non-elective admissions - Map'!$C$5:$C$870,'10.Non-elective admissions -HWB'!$D153,'9.Non-elective admissions - Map'!R$5:R$870)","v":3139},{"$f":"SUMIF('9.Non-elective admissions - Map'!$C$5:$C$870,'10.Non-elective admissions -HWB'!$D153,'9.Non-elective admissions - Map'!S$5:S$870)","v":3128},{"$f":"SUMIF('9.Non-elective admissions - Map'!$C$5:$C$870,'10.Non-elective admissions -HWB'!$D153,'9.Non-elective admissions - Map'!T$5:T$870)","v":3119},{"$f":"SUMIF('9.Non-elective admissions - Map'!$C$5:$C$870,'10.Non-elective admissions -HWB'!$D153,'9.Non-elective admissions - Map'!U$5:U$870)","v":3112}]
["South","Q70","Wessex ","E06000044","Portsmouth",{"$f":"SUMIF('9.Non-elective admissions - Map'!$C$5:$C$870,'10.Non-elective admissions -HWB'!$D154,'9.Non-elective admissions - Map'!J$5:J$870)","v":4835.9042806897714},{"$f":"SUMIF('9.Non-elective admissions - Map'!$C$5:$C$870,'10.Non-elective admissions -HWB'!$D154,'9.Non-elective admissions - Map'!K$5:K$870)","v":4726.9886393625848},{"$f":"SUMIF('9.Non-elective admissions - Map'!$C$5:$C$870,'10.Non-elective admissions -HWB'!$D154,'9.Non-elective admissions - Map'!L$5:L$870)","v":5201.594918508812},{"$f":"SUMIF('9.Non-elective admissions - Map'!$C$5:$C$870,'10.Non-elective admissions -HWB'!$D154,'9.Non-elective admissions - Map'!M$5:M$870)","v":4870.7545897970631},{"$f":"SUMIF('9.Non-elective admissions - Map'!$C$5:$C$870,'10.Non-elective admissions -HWB'!$D154,'9.Non-elective admissions - Map'!N$5:N$870)","v":4708.0625852182047},{"$f":"SUMIF('9.Non-elective admissions - Map'!$C$5:$C$870,'10.Non-elective admissions -HWB'!$D154,'9.Non-elective admissions - Map'!O$5:O$870)","v":4631.6272623920022},{"$f":"SUMIF('9.Non-elective admissions - Map'!$C$5:$C$870,'10.Non-elective admissions -HWB'!$D154,'9.Non-elective admissions - Map'!P$5:P$870)","v":4701.397152833556},{"$f":"SUMIF('9.Non-elective admissions - Map'!$C$5:$C$870,'10.Non-elective admissions -HWB'!$D154,'9.Non-elective admissions - Map'!Q$5:Q$870)","v":4684.7967017837427},{"$f":"SUMIF('9.Non-elective admissions - Map'!$C$5:$C$870,'10.Non-elective admissions -HWB'!$D154,'9.Non-elective admissions - Map'!R$5:R$870)","v":4505.3051494284309},{"$f":"SUMIF('9.Non-elective admissions - Map'!$C$5:$C$870,'10.Non-elective admissions -HWB'!$D154,'9.Non-elective admissions - Map'!S$5:S$870)","v":4428.8854077323886},{"$f":"SUMIF('9.Non-elective admissions - Map'!$C$5:$C$870,'10.Non-elective admissions -HWB'!$D154,'9.Non-elective admissions - Map'!T$5:T$870)","v":4729.885343138405},{"$f":"SUMIF('9.Non-elective admissions - Map'!$C$5:$C$870,'10.Non-elective admissions -HWB'!$D154,'9.Non-elective admissions - Map'!U$5:U$870)","v":4752.0787293627836}]
["South","Q70","Wessex ","E06000045","Southampton",{"$f":"SUMIF('9.Non-elective admissions - Map'!$C$5:$C$870,'10.Non-elective admissions -HWB'!$D155,'9.Non-elective admissions - Map'!J$5:J$870)","v":7109.6642383585358},{"$f":"SUMIF('9.Non-elective admissions - Map'!$C$5:$C$870,'10.Non-elective admissions -HWB'!$D155,'9.Non-elective admissions - Map'!K$5:K$870)","v":7031.8039697646091},{"$f":"SUMIF('9.Non-elective admissions - Map'!$C$5:$C$870,'10.Non-elective admissions -HWB'!$D155,'9.Non-elective admissions - Map'!L$5:L$870)","v":7349.3550913086974},{"$f":"SUMIF('9.Non-elective admissions - Map'!$C$5:$C$870,'10.Non-elective admissions -HWB'!$D155,'9.Non-elective admissions - Map'!M$5:M$870)","v":6939.751618822741},{"$f":"SUMIF('9.Non-elective admissions - Map'!$C$5:$C$870,'10.Non-elective admissions -HWB'!$D155,'9.Non-elective admissions - Map'!N$5:N$870)","v":7094.9682026884657},{"$f":"SUMIF('9.Non-elective admissions - Map'!$C$5:$C$870,'10.Non-elective admissions -HWB'!$D155,'9.Non-elective admissions - Map'!O$5:O$870)","v":7079.1026688833836},{"$f":"SUMIF('9.Non-elective admissions - Map'!$C$5:$C$870,'10.Non-elective admissions -HWB'!$D155,'9.Non-elective admissions - Map'!P$5:P$870)","v":7360.1116688013217},{"$f":"SUMIF('9.Non-elective admissions - Map'!$C$5:$C$870,'10.Non-elective admissions -HWB'!$D155,'9.Non-elective admissions - Map'!Q$5:Q$870)","v":7189.0348609705497},{"$f":"SUMIF('9.Non-elective admissions - Map'!$C$5:$C$870,'10.Non-elective admissions -HWB'!$D155,'9.Non-elective admissions - Map'!R$5:R$870)","v":7028.0470253092635},{"$f":"SUMIF('9.Non-elective admissions - Map'!$C$5:$C$870,'10.Non-elective admissions -HWB'!$D155,'9.Non-elective admissions - Map'!S$5:S$870)","v":7012.1650074221288},{"$f":"SUMIF('9.Non-elective admissions - Map'!$C$5:$C$870,'10.Non-elective admissions -HWB'!$D155,'9.Non-elective admissions - Map'!T$5:T$870)","v":7290.343420809455},{"$f":"SUMIF('9.Non-elective admissions - Map'!$C$5:$C$870,'10.Non-elective admissions -HWB'!$D155,'9.Non-elective admissions - Map'!U$5:U$870)","v":7201.6338517613558}]
[null,null,null,null,"Total",{"$f":"SUM(F5:F155)","v":1333471},{"$f":"SUM(G5:G155)","v":1322137},1373818.0000000007,1364836.9999999998,1356745.5244463098,1357444.8625149059,1383126.0856959901,1361515.6817551136,1289364.2717483202,{"$f":"SUM(O5:O155)","v":1289198.1695529197},{"$f":"SUM(P5:P155)","v":1319624.2063894381},{"$f":"SUM(Q5:Q155)","v":1301242.7527257572}]
[]
["* NHS England: Monthly Activity Return (Unify2@dh.gsi.gov.uk)"]

{"sheet":"Data","index":17,"n_rows":159,"n_cols":167,"rows_kept":159,"cut":false,"hidden":true,"merged":[[2,77,2,84],[2,149,2,152],[2,153,2,160]]}
[null,"Blue indicates updates for July collection",null,null,"Residential admissions",null,null,null,null,null,null,null,null,null,null,null,null,"Reablement",null,null,null,null,null,null,null,null,null,null,null,"Delayed transfer days",null,null,null,null,null,null,null,null,null,null,null,null,null,null,null,null,null,null,null,null,null,null,null,null,null,null,null,null,null,null,null,null,null,null,null,null,null,null,null,null,null,null,null,null,null,null,null,null,null,null,null,null,null,null,null,null,null,null,null,null,null,"Avoidable emergency admissions"]
[null,null,null,null,"Numerator data",null,null,"Denominator data",null,null,null,null,"Rate data*",null,null,null,null,"Numerator data",null,null,"Denominator data**",null,null,"Proportion*",null,null,null,null,null,null,null,null,null,null,null,null,null,null,null,null,null,null,null,null,null,null,null,null,null,null,null,null,null,null,null,null,null,null,null,null,null,null,null,null,null,null,null,null,null,null,null,null,null,null,null,null,null,null,null,null,null,null,null,null,null,"Denominator data",null,null,null,null,null,null,null,null,null,null,null,null,null,null,null,null,null,null,null,null,null,null,null,null,null,null,null,null,null,null,null,null,null,null,null,null,null,null,null,null,null,null,null,null,null,null,null,null,null,null,null,null,null,null,null,null,null,null,null,null,null,null,null,null,null,null,null,null,null,null,null,null,null,null,null,"Denominators"]
[null,null,null,null,"Historic","Historic","Baseline","Historic","Historic","Baseline",null,null,"Historic","Historic","Baseline",null,null,"Historic","Historic","Baseline","Historic","Historic","Baseline","Historic","Historic","Baseline",null,null,null,1,2,3,4,5,6,7,8,9,10,11,12,13,14,15,16,17,18,19,20,21,22,23,24,25,26,27,28,29,30,31,32,33,34,35,36,37,38,39,40,41,42,43,44,"Baselining",null,null,null,"Forecasting (based on 44 months)",null,null,null,null,null,null,null,"Historic","Baseline","Apr 2015 payment","Oct 2015 payment",null,null,1,2,3,4,5,6,7,8,9,10,11,12,13,14,15,16,17,18,19,20,21,22,23,24,25,26,27,28,29,30,31,32,33,34,35,36,37,38,39,40,41,42,43,44,45,46,47,48,49,50,51,52,53,54,55,56,57,58,"Baselining",null,null,null,"Forecasting (based on 58 months)",null,null,null,null,null,null,null,"Historic",null,"Baseline","Apr 2015 payment","Oct 2015 payment"]
["AT code","AT","HWB Code","HWB Name"," Permanent admissions to residential and nursing care, aged 65+, 2011-12"," Permanent admissions to residential and nursing care, aged 65+, 2012-13"," Permanent admissions to residential and nursing care, aged 65+, 2013-14","ONS, 2011 mid-year population estimate (65+)","ONS, 2012 mid-year population estimate (65+)","ONS 2013 mid-year population estimate (65+)","2014 ONS population projection (65+)","2015 ONS projection (65+)","2011-12  admission rate per 100,000 (65+)","2012-13 admission rate per 100,000 (65+)","2013-14 admission rate per 100,000 (65+)","14-15 planned figure from assurance template","HWB Name","People discharged in to (and still in after 91 days) reablement/ rehabillitation services (65+), 2011-12","People discharged in to (and still in after 91 days) reablement/ rehabillitation services (65+), 2012-13","People discharged in to (and still in after 91 days) reablement/ rehabillitation services (65+), 2013-14","People discharged in to reablement/ rehabillitation services (65+), 2011-12","People discharged in to reablement/ rehabillitation services (65+), 2012-13","People discharged in to reablement/ rehabillitation services (65+), 2013-14","Effectiveness of reablement/ rehabiliation services, 2011-12 (%)","Effectiveness of reablement/ rehabiliation services 2012-13 (%)","Effectiveness of reablement/ rehabiliation services 2013-14 (%)","14-15 planned num from assurance template","14-15 planned denom from assurance template","HWB Name","2010-08-01","2010-09-01","2010-10-01","2010-11-01","2010-12-01","2011-01-01","2011-02-01","2011-03-01","2011-04-01","2011-05-01","2011-06-01","2011-07-01","2011-08-01","2011-09-01","2011-10-01","2011-11-01","2011-12-01","2012-01-01","2012-02-01","2012-03-01","2012-04-01","2012-05-01","2012-06-01","2012-07-01","2012-08-01","2012-09-01","2012-10-01","2012-11-01","2012-12-01","2013-01-01","2013-02-01","2013-03-01","2013-04-01","2013-05-01","2013-06-01","2013-07-01","2013-08-01","2013-09-01","2013-10-01","2013-11-01","2013-12-01","2014-01-01","2014-02-01","2014-03-01","Q1 13-14","Q2 13-14","Q3 13-14","Q4 13-14","Q1 14-15","Q2 14-15","Q3 14-15","Q4 14-15","Q1 15-16","Q2 15-16","Q3 15-16","Q4 15-16","2012 Mid-year pop estimate (18+)","2013 ONS pop estimate (18+)","2014 ONS pop projection (18+)","2015 ONS pop projection (18+)","2016 ONS pop projection (18+)","HWB Name","2009-04-01","2009-05-01","2009-06-01","2009-07-01","2009-08-01","2009-09-01","2009-10-01","2009-11-01","2009-12-01","2010-01-01","2010-02-01","2010-03-01","2010-04-01","2010-05-01","2010-06-01","2010-07-01","2010-08-01","2010-09-01","2010-10-01","2010-11-01","2010-12-01","2011-01-01","2011-02-01","2011-03-01","2011-04-01","2011-05-01","2011-06-01","2011-07-01","2011-08-01","2011-09-01","2011-10-01","2011-11-01","2011-12-01","2012-01-01","2012-02-01","2012-03-01","2012-04-01","2012-05-01","2012-06-01","2012-07-01","2012-08-01","2012-09-01","2012-10-01","2012-11-01","2012-12-01","2013-01-01","2013-02-01","2013-03-01","2013-04-01","2013-05-01","2013-06-01","2013-07-01","2013-08-01","2013-09-01","2013-10-01","2013-11-01","2013-12-01","2014-01-01","12-13 Q4","13-14 Q1","13-14 Q2","13-14 Q3","14-15 Q1","14-15 Q2","14-15 Q3","14-15 Q4","15-16 Q1","15-16 Q2","15-16 Q3","15-16 Q4","2011 Mid-year pop estimate (all ages)","2012 Mid-year pop estimate (all ages)","2013 ONS pop estimate (all ages)","2014 ONS pop projection (all ages)","2015 ONS pop projection (all ages)","2016 ONS pop projection (all ages)"]
["Q61","North East London ","E09000002","Barking and Dagenham",200,170,135,19340,19515,19539,19597.168999999998,19669.39,1044.5,871,696.8,144,"Barking and Dagenham",315,110,115,360,120,130,88.3,91.5,88.3,165,180,"Barking and Dagenham",377,588,642,595,495,251,459,609,512,687,634,697,484,565,450,718,773,644,438,444,335,463,678,574,756,473,409,397,211,218,153,225,270,249,238,187,148,158,183,174,237,151,172,151,757,493,594,474,457.45031712473565,356.80761099365736,256.16490486257908,155.52219873150113,54.87949260042285,0,0,0,134900,136747,139942.09299999999,142593.09099999996,145356.51999999999,"Barking and Dagenham",289,315,270,258,255,282,299,350,377,329,276,308,337,325,294,285,264,289,325,325,373,382,296,331,375,319,356,340,345,346,349,352,424,393,407,338,334,353,362,357,321,336,358,379,404,395,331,341,365,372,308,320,287,353,324,362,387,294,1067,1045,960,1073,1109.5324064105325,1119.2245224399398,1128.9166384693472,1138.6087544987543,1148.3008705281618,1157.9929865575687,1167.685102586976,1177.3772186163833,187029,190560,194352,198408.65299999999,202357.84599999999,206395.092]
["Q61","North East London ","E09000003","Barnet",255,245,240,47705,49295,50513,51959.179000000004,53379.548999999992,534.5,493,486.9,230,"Barnet",400,330,290,450,400,405,88.5,83.2,71.900000000000006,334,398,"Barnet",335,286,435,450,585,474,493,780,713,614,457,416,470,490,601,569,592,495,382,481,503,612,429,659,766,626,639,770,670,752,567,601,699,735,593,481,759,655,563,487,594,641,480,520,2027,1895,1644,1641,1961.2837209302324,1994.763847780127,2028.2439746300213,2061.7241014799156,2095.2042283298097,2128.6843551797042,2162.1644820295983,2195.6446088794928,278600,282465,287621.60599999991,292124.87,296808.07999999996,"Barnet",198,140,148,138,147,139,162,188,242,222,228,227,312,309,287,319,272,263,289,310,368,295,277,314,304,304,272,306,299,357,437,397,471,408,488,438,387,478,366,419,412,458,425,489,537,504,490,474,479,394,377,390,339,301,342,390,409,372,1468,1250,1030,1141,1495.6609861884401,1540.5851302716171,1585.5092743547941,1630.4334184379711,1675.3575625211481,1720.2817066043249,1765.2058506875019,1810.1299947706789,357538,363956,369088,375815.15500000003,381776.03499999997,388036.14899999998]
["Q51","South Yorkshire And Bassetlaw ","E08000016","Barnsley",300,290,310,40335,41820,42861,43847.201000000001,44694.465000000004,746.3,691,736.5,251,"Barnsley",180,165,120,210,195,160,86.1,82.7,77.2,175,197,"Barnsley",73,92,109,115,116,104,101,114,109,67,106,86,86,64,126,39,14,106,117,133,84,129,66,13,46,93,123,62,115,91,63,107,91,108,144,99,93,227,55,9,39,72,58,109,343,419,103,239,252.43911205073996,250.08414376321355,247.7291754756871,245.37420718816071,243.01923890063426,240.66427061310782,238.30930232558143,235.95433403805501,184500,186297,187127.04100000006,188488.77699999997,189785.29899999985,"Barnsley",493,508,491,567,528,554,703,680,670,585,636,586,507,554,499,509,493,519,571,544,700,684,603,644,515,511,437,484,430,465,533,535,618,611,606,613,595,599,517,560,491,552,595,666,687,698,606,639,641,537,520,517,507,555,589,577,648,562,1943,1698,1579,1814,1755.1856716601555,1759.4330493094219,1763.6804269586883,1767.9278046079546,1772.175182257221,1776.4225599064873,1780.6699375557537,1784.91731520502,231865,233671,235757,236388.01300000001,237865.864,239391.98300000001]
["Q64","Bath, Gloucestershire, Swindon And Wiltshire ","E06000022","Bath and North East Somerset",310,320,305,32060,33165,33933,34609.135999999999,35170.766999999993,973.2,970.8,913.6,322,"Bath and North East Somerset",75,120,140,80,140,160,93.9,86.2,86.3,455,550,"Bath and North East Somerset",385,264,320,269,249,288,300,280,651,207,189,282,305,532,504,405,544,500,439,339,529,448,472,542,501,454,271,270,351,432,360,456,320,275,294,242,188,335,447,328,356,387,476,592,889,765,1131,1455,1218.8928118393233,1230.2002114164904,1241.5076109936572,1252.8150105708246,1264.1224101479913,1275.4298097251585,1286.7372093023255,1298.0446088794924,143800,145883,145279.44500000001,146006.288,146750.21999999997,"Bath and North East Somerset",232,226,239,254,230,220,272,333,339,312,258,268,244,266,228,222,221,249,295,273,323,334,265,283,212,270,211,236,241,216,231,237,342,267,254,247,245,276,219,268,242,248,267,295,343,279,266,262,237,256,215,246,214,238,251,267,281,206,807,708,698,799,757.90562613430131,756.38656987295826,754.86751361161532,753.34845735027227,751.82940108892922,750.31034482758628,748.79128856624322,747.27223230490017,175538,177643,180097,179508.761,180374.992,181303.383]
["Q58","Hertfordshire And The South Midlands ","E06000055","Bedford",160,175,180,25135,26070,27067,27733.345999999998,28478.601000000002,640.5,663.6,682.8,185,"Bedford",75,80,0,120,95,0,62.8,83,0,81,94,"Bedford",127,160,154,292,277,186,252,215,109,134,95,229,310,351,306,271,376,426,307,359,250,360,257,218,192,266,346,224,230,257,146,230,151,206,240,174,439,497,511,561,597,124,315,279,597,1110,1669,718,1082.3871035940804,1116.0632135306555,1149.7393234672304,1183.4154334038055,1217.0915433403807,1250.7676532769558,1284.4437632135309,1318.1198731501058,123100,124626,126052.39800000002,127498.26699999999,129018.59100000004,"Bedford",220,205,217,202,210,189,220,198,263,247,209,262,265,237,224,220,244,308,276,258,326,296,262,247,246,245,203,229,212,213,223,238,292,247,218,262,263,253,258,256,224,209,247,255,323,240,249,233,264,272,242,248,255,235,236,267,317,217,722,778,738,820,788.26091236273032,793.24414777446248,798.22738318619463,803.21061859792667,808.19385400965893,813.17708942139097,818.16032483312313,823.14356024485528,157840,159207,161382,162676.60500000001,164397.052,166176.50200000001]
["Q63","South London ","E09000004","Bexley",255,210,215,37505,38520,39198,39751.574000000001,40184.825000000004,677.2,547.79999999999995,555.6,195,"Bexley",175,180,270,200,210,300,87.1,86.1,90,221,241,"Bexley",266,364,290,238,348,422,271,318,373,319,372,334,388,242,255,316,280,437,358,383,176,334,268,392,501,269,277,456,436,234,331,282,335,370,428,516,659,604,401,402,508,618,720,722,1133,1779,1311,2060,1577.3150105708244,1632.332980972516,1687.3509513742074,1742.3689217758986,1797.3868921775897,1852.4048625792811,1907.4228329809728,1962.4408033826637,179700,181780,182811.07699999996,184296.899,185886.59099999999,"Bexley",342,320,303,293,274,290,334,344,525,431,434,335,346,357,322,301,324,337,344,384,379,359,329,350,365,296,293,287,278,262,305,321,371,342,347,338,323,343,341,346,325,303,367,369,425,357,350,382,167,133,122,139,120,125,329,390,415,335,1089,422,384,1134,825.71094158540723,812.79937863360919,799.88781568181116,786.97625273001336,774.06468977821521,761.15312682641729,748.24156387461937,735.33000092282145,232774,234271,236687,238445.89,240685.473,243043.31599999999]
["Q54","Birmingham And The Black Country ","E08000025","Birmingham",1000,1045,1015,138770,141035,142548,143808.32500000001,145466.74600000001,720.6,742.4,721.1,1024,"Birmingham",920,910,0,1175,1265,0,78.599999999999994,71.900000000000006,0,911,1265,"Birmingham",3540,3110,4353,3134,4423,4464,4357,4866,4569,4791,4641,4593,4522,4414,4054,4170,3819,3569,3020,3998,4335,4215,4489,4129,4587,4021,4196,4378,4363,4696,5471,4513,4829,5252,4930,3712,4650,5209,4525,4711,4573,5007,3858,4746,15011,13571,13809,13611,14290.654968287527,14445.537420718818,14600.419873150107,14755.302325581395,14910.184778012685,15065.067230443976,15219.949682875264,15374.832135306555,808300,812307,821058.95600000012,827855.82799999998,834603.37699999975,"Birmingham",2251,2136,2200,2091,2003,2110,2372,2339,2775,2467,2243,2342,2247,2273,2225,2070,2042,2113,2325,2540,3055,2467,2092,2305,2193,2106,2079,1925,1820,1960,2043,2275,2594,2482,2459,2261,2269,2181,2125,2252,2017,2089,2387,2388,2676,2198,2133,2394,2382,2220,1988,2086,1875,1975,2176,2288,2756,2256,6725,6590,5936,7220,6691.789627487773,6686.9367867359806,6682.0839459841891,6677.2311052323976,6672.378264480606,6667.5254237288136,6662.6725829770221,6657.8197422252306,1074283,1085417,1092330,1101675.138,1109761.4210000001,1118285.2139999999]
["Q47","Lancashire ","E06000008","Blackburn with Darwen",185,195,225,19150,19825,20204,20724.734,21148.002000000008,960.8,988.7,1140,176,"Blackburn with Darwen",60,75,55,70,85,55,88.2,88.5,94.7,79,88,"Blackburn with Darwen",144,85,28,74,125,130,92,57,242,260,381,331,316,197,369,202,86,70,108,142,130,168,164,308,254,244,119,57,97,88,86,187,166,197,149,290,437,254,83,142,138,183,209,302,512,981,363,694,629.67272727272734,641.37272727272739,653.07272727272721,664.77272727272725,676.4727272727273,688.17272727272723,699.87272727272739,711.57272727272721,109100,108833,109691.85599999997,110020.56700000001,110274.35199999998,"Blackburn with Darwen",321,297,317,364,318,319,403,381,411,333,311,432,375,383,324,310,289,312,362,339,484,363,352,357,353,327,339,353,291,333,386,374,458,448,478,397,374,393,375,379,395,392,426,533,537,478,458,478,419,365,359,370,323,331,398,391,501,410,1414,1143,1024,1290,1305.2110492479005,1320.275093051155,1335.3391368544096,1350.4031806576641,1365.4672244609185,1380.5312682641729,1395.5953120674274,1410.659355870682,147657,147713,147369,148112.606,148328.427,148599.579]
["Q47","Lancashire ","E06000009","Blackpool",260,260,275,27355,27925,28179,28654.499999999996,28844.146999999994,946.8,934.6,988.3,263,"Blackpool",60,55,75,65,65,90,89.4,86.2,83.7,63,70,"Blackpool",6,38,45,135,152,310,299,129,464,194,201,225,229,250,183,63,248,201,199,279,291,231,219,349,618,479,295,285,162,190,70,142,291,213,222,229,312,181,362,274,161,286,275,434,726,722,797,995,928.54608879492605,956.37885835095153,984.2116279069769,1012.0443974630022,1039.8771670190276,1067.709936575053,1095.5427061310784,1123.3754756871037,112900,112370,112505.65699999998,112474.98199999997,112348.86300000001,"Blackpool",269,271,255,252,219,259,261,287,318,295,249,287,302,270,267,273,247,270,281,291,428,314,305,280,265,286,240,212,237,279,310,308,338,282,342,295,277,302,283,342,276,297,344,356,431,399,355,405,375,336,262,327,313,306,370,399,427,338,1159,973,946,1196,1096.9764065335753,1113.8983666061706,1130.8203266787659,1147.7422867513612,1164.6642468239565,1181.5862068965516,1198.5081669691469,1215.4301270417423,142080,141976,141400,141581.712,141482.99900000001,141435.69399999999]
["Q46","Greater Manchester ","E08000001","Bolton",345,350,380,42845,44385,45661,46915.532000000007,47965.933000000005,809.9,793.1,858.4,354,"Bolton",300,370,330,375,435,420,79.7,85.9,78.5,377,435,"Bolton",660,351,224,279,336,581,539,714,602,624,558,807,618,590,664,789,529,276,300,347,271,304,433,248,342,313,385,451,394,351,304,241,300,309,258,315,346,270,214,231,221,332,392,691,867,931,666,1415,827.7027484143764,774.04778012684983,720.39281183932349,666.73784355179703,613.08287526427068,559.42790697674423,505.77293868921782,452.11797040169148,213700,214210,216239.21999999991,217656.17600000001,218949.63599999997,"Bolton",454,480,413,425,379,439,527,574,646,534,507,547,469,495,387,384,394,418,424,496,638,527,470,498,483,462,408,443,381,421,445,470,507,525,468,482,502,480,454,498,479,464,602,613,615,543,502,574,590,547,480,545,465,476,553,545,668,590,1619,1617,1486,1766,1651.0081823495029,1665.8784336645238,1680.7486849795441,1695.6189362945645,1710.4891876095849,1725.3594389246055,1740.2296902396261,1755.0999415546462,277296,278984,280057,282162.58299999998,283846.23599999998,285567.25099999999]
["Q70","Wessex ","E06000028 & E06000029","Bournemouth & Poole",535,545,565,62965,64805,66046,67343.785999999993,68500.861000000004,848.13555943778294,845.61496798086569,873.39861121827016,585,"Bournemouth & Poole",700,385,410,885,515,505,79.905263157894737,75.154545454545456,81.023762376237627,1819.5,2146.5,"Bournemouth & Poole",1125,1175,1440,1147,1457,1263,1313,1115,1151,1347,1191,1184,1264,997,1392,893,940,1003,615,957,848,706,597,865,807,465,564,621,521,593,438,416,412,515,453,472,416,390,741,486,414,970,768,772,1380,1278,1641,2510,1039.178858350951,847.8835095137415,656.58816067653265,465.29281183932312,273.99746300211359,82.702114164904742,0,0,273200,274775,277918.66599999997,280198.58900000004,282548.18400000001,"Bournemouth & Poole",597,578,497,515,521,522,633,641,814,661,639,624,585,619,516,562,519,531,647,672,819,692,623,697,611,589,548,617,516,581,590,594,787,629,680,689,620,572,547,564,516,521,525,601,711,542,514,588,578,533,411,456,516,574,612,547,758,594,1644,1522,1546,1917,1718.1397459165153,1711.7531760435572,1705.366606170599,1698.9800362976405,1692.5934664246824,1686.2068965517242,1679.8203266787657,1673.4337568058077,331525,335359,337742,341423.60200000001,344329.13500000001,347354.07500000001]
["Q69","Thames Valley ","E06000036","Bracknell Forest",100,110,95,14265,14920,15557,15957.428000000002,16420.568999999996,700.9,750.6,623.29999999999995,96,"Bracknell Forest",100,70,65,110,80,80,91.1,88.8,80.8,73,80,"Bracknell Forest",10,161,80,113,40,63,86,15,50,58,32,49,35,103,70,150,77,61,157,277,232,173,96,181,78,70,101,90,117,94,88,147,83,128,89,51,222,204,124,232,170,34,147,251,300,477,526,432,495.77906976744185,516.51585623678648,537.25264270613104,557.98942917547561,578.72621564482029,599.46300211416485,620.19978858350953,640.9365750528541,88100,89178,90025.729999999967,90992.027999999991,92068.877999999997,"Bracknell Forest",123,119,103,107,107,127,123,133,125,132,131,111,117,106,101,117,107,94,117,115,174,126,109,148,124,121,129,137,124,117,141,124,119,139,159,147,128,134,147,154,136,152,149,173,161,141,157,164,149,168,146,148,122,152,150,181,176,145,462,463,422,507,488.55436955919902,496.4771601710296,504.39995078286006,512.32274139469064,520.24553200652122,528.16832261835179,536.09111323018237,544.01390384201295,113696,115058,116567,117329.96400000001,118495.546,119678.31299999999]
["Q52","West Yorkshire ","E08000032","Bradford",485,590,455,69785,71910,73572,75027.639999999985,76531.374999999971,692.1,821.8,629.9,556,"Bradford",115,205,165,135,225,175,85.7,92,93.2,279,300,"Bradford",187,204,405,352,221,379,267,361,423,254,406,385,244,217,205,237,228,283,179,322,314,193,241,268,468,341,300,293,340,518,552,588,406,413,361,424,561,463,500,473,516,462,365,596,1180,1448,1489,1423,1475.7915433403807,1527.406131078224,1579.0207188160678,1630.6353065539115,1682.249894291755,1733.8644820295983,1785.4790697674421,1837.0936575052856,387200,388064,392542.41599999979,395278.81000000006,398148.61900000001,"Bradford",1002,1021,967,963,915,994,1174,1146,1302,1067,999,1131,1154,1066,1047,1060,988,996,1143,1133,1505,1302,1107,1054,1175,1113,1049,1055,1040,1015,1199,1178,1362,1221,1236,1150,1115,1120,1127,1093,972,1044,1073,1216,1330,1055,993,1103,1134,1045,1006,1002,986,1118,1163,1231,1409,1075,3151,3185,3106,3803,3461.629118090374,3473.4978006090614,3485.3664831277483,3497.2351656464352,3509.1038481651231,3520.97253068381,3532.8412132024969,3544.7098957211847,523115,524619,526369,531260.68900000001,534645.34100000001,538161.26599999995]
["Q62","North West London ","E09000005","Brent",180,160,145,32840,33720,34525,35110.707999999999,36046.996999999996,548.1,480.4,424.1,139,"Brent",315,655,535,355,810,650,89.2,80.8,82.1,680,810,"Brent",383,459,396,292,305,297,255,560,429,416,587,626,499,753,703,768,701,571,603,644,421,800,745,622,559,580,513,691,803,731,504,538,560,980,845,874,839,815,937,709,494,622,681,620,2385,2528,2140,1923,2435.5767441860471,2513.8418604651165,2592.1069767441863,2670.3720930232557,2748.6372093023256,2826.9023255813954,2905.1674418604653,2983.4325581395351,243000,244716,246975.90900000001,249092.21600000001,251417.08300000007,"Brent",417,415,406,427,417,380,476,483,543,484,473,503,469,523,411,422,407,480,460,487,593,477,459,443,445,427,438,411,383,411,460,450,496,486,513,450,448,487,435,476,446,461,507,517,568,520,480,481,481,485,427,470,433,525,486,490,598,443,1481,1393,1428,1574,1488.0561075394507,1496.0777323202806,1504.0993571011104,1512.1209818819402,1520.1426066627703,1528.1642314436003,1536.1858562244302,1544.20748100526,312245,314660,317264,319793.78899999999,322418.19199999998,325436.06]
["Q68","Surrey And Sussex ","E06000043","Brighton and Hove",300,300,270,35850,36605,37193,37663.627,38101.977999999996,831.3,816.9,734.9,288,"Brighton and Hove",250,300,265,280,345,330,88.9,85.9,80.099999999999994,463,524,"Brighton and Hove",936,801,854,870,1048,1021,978,895,699,522,722,463,351,420,545,556,901,767,722,810,787,1270,1135,1012,893,746,737,785,680,714,456,831,672,472,596,446,530,503,442,406,541,637,418,609,1740,1479,1389,1664,1579.8334038054973,1509.9562367864696,1440.0790697674422,1370.2019027484148,1300.3247357293872,1230.4475687103597,1160.5704016913323,1090.6932346723047,225700,227451,228932.43500000008,230715.57799999998,232587.85100000008,"Brighton and Hove",357,350,355,333,322,343,374,378,400,382,350,362,368,411,332,350,391,344,369,384,426,400,393,368,359,357,330,357,358,356,385,394,408,403,348,373,355,361,362,349,310,329,402,440,439,405,375,355,376,375,321,368,377,341,399,406,471,327,1135,1072,1086,1276,1150.3899535513242,1153.8652065581839,1157.3404595650436,1160.8157125719031,1164.2909655787628,1167.7662185856225,1171.241471592482,1174.7167245993419,272952,275762,278112,279669.72100000002,281599.54200000002,283713.36599999998]
["Q65","Bristol, North Somerset, Somerset And South Gloucestershire ","E06000023","Bristol, City of",455,470,415,56075,57190,58026,58861.437000000005,59694.473999999987,811.4,818.3,725.7,430,"Bristol, City of",110,80,115,135,95,160,80,82.5,73.099999999999994,146,164,"Bristol, City of",1007,892,815,743,697,788,795,1235,559,923,999,968,922,978,839,1018,1114,881,1112,1012,778,877,775,654,770,765,962,1449,1379,1329,1159,1135,1108,1245,1335,1420,1316,1206,1289,2152,1679,2007,2043,2521,3688,3942,5120,6571,5062.3919661733617,5276.4980972515859,5490.6042283298102,5704.7103594080345,5918.8164904862588,6132.9226215644831,6347.0287526427073,6561.1348837209298,343100,346951,349786.98400000005,353208.54099999997,356666.27399999998,"Bristol, City of",653,601,563,567,481,568,664,616,744,602,642,632,701,693,617,581,542,580,622,617,866,725,612,581,611,590,607,567,541,571,624,621,756,647,705,648,653,666,634,706,627,592,647,666,731,748,613,640,734,639,612,650,656,648,628,725,800,601,2001,1985,1954,2153,2045.033252330124,2056.3169583807558,2067.6006644313884,2078.8843704820201,2090.1680765326523,2101.4517825832845,2112.7354886339167,2124.0191946845489,428074,432451,437492,441285.527,445810.34700000001,450455.02899999998]
["Q63","South London ","E09000006","Bromley",290,180,250,52400,54140,55409,56340.059000000008,57130.464000000007,549.6,336.2,458.1,168.27,"Bromley",380,525,70,470,650,85,80.599999999999994,80.599999999999994,82.6,540,650,"Bromley",212,236,326,254,145,172,224,246,190,217,258,175,191,175,135,241,111,172,154,148,145,137,108,244,162,394,277,263,192,264,132,184,211,204,185,148,193,188,260,223,225,179,135,233,600,529,708,547,582.70634249471459,579.90676532769555,577.10718816067651,574.30761099365759,571.50803382663844,568.7084566596194,565.90887949260036,563.10930232558144,244400,247450,249227.30100000001,251893.726,254503.94600000011,"Bromley",374,391,393,413,354,328,390,434,473,396,388,381,398,401,372,374,394,434,358,421,424,404,388,414,469,401,383,384,370,352,393,425,482,451,453,360,436,455,388,441,453,392,450,458,488,422,405,360,94,105,88,83,87,153,409,380,424,328,1187,287,323,1213,921.26152757697855,902.60290996339484,883.94429234981078,865.28567473622684,846.62705712264301,827.96843950905895,809.30982189547512,790.65120428189118,310554,314036,317899,320459.88099999999,323944.03700000001,327535.359]
["Q69","Thames Valley ","E10000002","Buckinghamshire",500,585,610,84945,88735,91814,94454.112999999998,96820.106,588.6,657,687.4,585,"Buckinghamshire",115,250,415,150,320,685,76.7,78.2,60.8,275,320,"Buckinghamshire",612,1128,999,1110,1150,1285,1208,1102,878,1085,1167,1318,1138,920,802,848,882,1035,751,1081,902,1013,989,1004,1076,987,832,689,641,849,708,519,450,666,858,777,965,875,913,680,547,627,551,712,1974,2617,2140,1890,1910.1315010570825,1811.6560253699788,1713.1805496828752,1614.7050739957713,1516.2295983086678,1417.7541226215644,1319.2786469344608,1220.8031712473571,394600,398213,400130.75400000036,403161.81900000008,406283.40600000019,"Buckinghamshire",600,575,505,513,475,586,613,585,633,573,539,571,505,548,501,511,531,518,561,635,751,649,557,569,534,522,477,502,504,544,579,621,738,630,632,625,649,625,579,603,504,510,635,642,775,623,516,612,576,598,518,563,497,516,547,653,771,575,1751,1692,1576,1971,1831.534375096127,1840.179457996247,1848.8245408963671,1857.469623796487,1866.1147066966068,1874.7597895967267,1883.404872496847,1892.0499553969667,506550,511488,516096,518468.78800000006,522287.36800000002,526356.027]
["Q46","Greater Manchester ","E08000002","Bury",255,280,225,29805,31080,31922,32720.036000000007,33453.204000000005,852.1,900.9,720.7,265,"Bury",245,165,90,285,195,115,86.7,84.5,81.400000000000006,168,195,"Bury",237,244,253,296,228,244,305,407,266,183,203,160,245,206,94,162,207,260,144,299,255,196,191,190,209,171,138,108,209,207,171,139,127,126,133,51,82,156,72,132,198,189,192,290,386,289,402,671,378.35095137420706,352.01374207188155,325.67653276955593,299.33932346723043,273.00211416490475,246.66490486257919,220.32769556025363,193.99048625792807,144000,144168,145284.60299999994,146057.28599999993,146812.58100000009,"Bury",392,378,350,352,303,345,433,417,382,340,393,423,379,421,371,343,316,349,406,455,550,450,409,481,464,377,358,406,372,381,437,493,483,489,491,490,481,464,418,450,407,442,593,538,533,448,408,462,437,384,370,400,343,395,391,421,492,406,1318,1191,1138,1304,1390.8012550370668,1402.8656679688702,1414.9300809006736,1426.9944938324772,1439.0589067642807,1451.1233196960841,1463.1877326278877,1475.2521455596911,185422,186199,186527,187921.946,188909.90400000001,189943.69500000001]
["Q52","West Yorkshire ","E08000033","Calderdale",245,200,230,32725,34140,35256,36214.811000000002,37127.326000000001,745.6,585.79999999999995,667.8,214,"Calderdale",75,55,45,95,80,65,79.2,70,71.900000000000006,255,320,"Calderdale",288,313,470,321,193,272,346,154,147,192,152,100,116,206,246,185,131,137,69,468,593,391,759,569,704,587,625,486,446,586,715,847,752,969,787,776,768,524,694,657,626,637,594,551,2508,2068,1977,1782,2381.8262156448204,2510.5109936575054,2639.1957716701909,2767.8805496828754,2896.5653276955609,3025.2501057082459,3153.9348837209304,3282.6196617336154,159700,160676,161892.12600000002,162994.40199999997,164090.11900000006,"Calderdale",391,393,350,323,340,358,420,440,458,392,422,443,408,419,368,340,344,336,414,399,555,506,476,434,379,421,384,407,328,374,442,471,510,466,483,417,443,451,420,466,357,354,440,498,547,460,435,458,490,461,413,364,322,398,443,492,534,406,1353,1364,1084,1469,1379.7489003045312,1390.3108677596974,1400.8728352148637,1411.43480267003,1421.9967701251962,1432.5587375803625,1443.1207050355285,1453.682672490695,204170,205293,206355,207806.25,209112.87100000001,210447.98800000001]
["Q56","East Anglia ","E10000003","Cambridgeshire",770,870,780,101350,106235,109840,113677.80800000012,116971.60700000002,759.7,819.9,734.2,735,"Cambridgeshire",305,335,450,370,405,540,82.9,82.1,83.7,525,606,"Cambridgeshire",1930,2227,1654,1567,1738,2187,1640,1604,1748,1915,2296,1837,1826,2104,2439,2247,1621,2132,2150,2627,2176,2078,2022,2752,3211,2835,2791,3157,2776,3030,2377,2903,2651,2979,2065,1653,2195,2356,2305,2197,2544,2423,2158,1971,7695,6204,7046,6552,7906.1503171247359,8052.9257928118395,8199.7012684989422,8346.4767441860458,8493.2522198731494,8640.0276955602531,8786.8031712473567,8933.5786469344603,499300,502057,507191.64999999985,511489.45999999979,516151.93300000002,"Cambridgeshire",815,764,807,818,739,734,913,960,1044,934,814,865,853,841,831,816,765,741,927,934,1225,957,857,961,872,854,843,761,827,806,871,937,1082,1024,985,910,957,973,872,982,814,845,932,955,1107,965,846,1041,1041,945,821,894,873,853,947,979,1181,903,2852,2807,2620,3107,2949.5081977298596,2971.5227475468337,2993.5372973638073,3015.5518471807809,3037.5663969977545,3059.5809468147286,3081.5954966317026,3103.6100464486758,622312,628339,632095,638354.30700000003,643842.897,649681.321]
["Q61","North East London ","E09000007","Camden",130,115,120,24170,25205,26190,26462.070000000003,27045.902999999998,529.6,456.3,468.2,109.25,"Camden",205,125,80,220,140,80,93.6,92,97.6,129,138,"Camden",191,110,142,136,121,181,99,78,93,74,19,33,62,128,145,148,88,32,79,31,148,166,157,120,137,202,63,213,131,229,224,235,480,421,211,243,310,280,201,232,259,254,203,311,1112,833,692,768,852.66575052854114,896.93255813953488,941.1993657505285,985.46617336152224,1029.7329809725161,1073.9997885835094,1118.2665961945031,1162.5334038054968,184200,187334,189448.29699999999,192001.698,194830.14599999998,"Camden",211,186,181,165,173,179,206,194,243,228,271,290,272,289,311,250,281,296,307,326,411,332,283,299,258,290,283,260,272,279,310,343,351,324,329,284,303,306,299,314,290,309,345,349,352,301,296,303,328,294,261,263,241,263,287,283,273,224,900,883,767,843,971.5816850718262,983.67516687686475,995.7686486819033,1007.8621304869421,1019.9556122919805,1032.0490940970194,1044.1425759020578,1056.2360577070963,220087,224962,229719,231468.38500000001,234537.592,237956.45300000001]
["Q58","Hertfordshire And The South Midlands ","E06000056","Central Bedfordshire",270,255,225,40275,42465,44151,45697.658000000003,47200.488999999994,675.4,602.9,529.9,236,"Central Bedfordshire",105,75,60,155,105,80,68.2,74,75,87,104,"Central Bedfordshire",264,242,352,459,311,473,237,200,240,261,475,305,496,426,363,348,301,324,284,424,374,437,302,335,334,248,326,317,314,494,475,485,460,508,350,323,168,145,176,177,31,485,232,474,1318,636,384,1191,954.18858350951371,947.57145877378423,940.95433403805487,934.33720930232539,927.72008456659614,921.10295983086667,914.48583509513742,907.86871035940806,202800,206519,208202.31099999999,210951.93299999999,213638.4010000001,"Central Bedfordshire",334,290,346,301,292,307,312,351,410,361,323,430,352,358,300,341,305,369,375,387,435,401,350,395,367,340,362,338,327,318,360,361,476,388,416,393,376,384,375,380,361,368,424,408,425,416,347,450,446,411,358,348,338,333,403,427,482,359,1213,1215,1019,1312,1242.2795225937434,1254.3467039896645,1266.4138853855857,1278.4810667815068,1290.5482481774279,1302.615429573349,1314.6826109692702,1326.7497923651913,255644,259969,264528,266324.02899999998,269599.60499999998,272985.42800000001]
["Q44","Cheshire, Warrington And Wirral ","E06000049","Cheshire East",470,425,460,72060,75325,78035,80257.284,82320.253999999986,652.20000000000005,561.6,613.29999999999995,543,"Cheshire East",200,260,235,255,330,270,79.2,79.3,86.6,276,328,"Cheshire East",770,777,743,833,842,1060,820,810,864,837,762,671,817,596,616,598,734,684,574,908,681,809,699,805,969,637,920,750,687,981,1036,1004,847,1013,978,826,789,824,958,962,561,937,871,964,2838,2439,2481,2772,2656.1221987315007,2683.3873150105705,2710.6524312896404,2737.9175475687102,2765.1826638477801,2792.4477801268499,2819.7128964059193,2846.9780126849892,297100,297777,299848.12899999996,301480.01700000005,303040.59699999989,"Cheshire East",693,639,563,637,531,573,688,767,764,663,649,739,683,671,550,547,561,636,672,690,899,743,732,792,706,672,615,570,506,521,544,621,750,697,652,675,677,667,616,570,583,598,643,639,785,705,668,710,712,641,587,554,584,595,604,695,770,596,2083,1940,1733,2069,1932.6560337137407,1930.5298532714016,1928.4036728290625,1926.2774923867232,1924.1513119443844,1922.0251315020455,1919.8989510597064,1917.7727706173673,370736,372146,372707,374671.19799999997,376148.50400000002,377728.826]
["Q44","Cheshire, Warrington And Wirral ","E06000050","Cheshire West and Chester",645,585,520,61600,63940,65877,67620.255999999994,69148.351000000024,1043.8,914.9,811.7,550,"Cheshire West and Chester",210,190,125,255,230,165,81.7,82.2,76.8,180,250,"Cheshire West and Chester",516,425,622,436,352,602,417,522,364,369,290,354,300,331,440,461,353,619,482,562,427,932,434,499,549,587,673,546,397,624,473,609,452,526,578,712,665,707,555,624,502,673,495,483,1556,2084,1681,1651,1846.2991543340381,1885.8160676532771,1925.332980972516,1964.8498942917549,2004.3668076109939,2043.8837209302324,2083.4006342494713,2122.9175475687102,264100,264903,265606.82900000009,266472.75700000004,267304.35800000001,"Cheshire West and Chester",536,485,518,580,424,538,602,640,644,625,504,668,522,538,503,487,488,531,564,591,728,614,607,678,572,561,534,479,412,456,485,575,636,586,654,644,571,584,494,543,496,511,570,594,725,612,578,564,618,511,446,474,446,515,539,581,659,533,1754,1575,1435,1779,1672.063182503307,1671.8414285274848,1671.6196745516627,1671.3979205758405,1671.1761666000184,1670.9544126241965,1670.7326586483746,1670.5109046725524,329526,330200,331026,331594.55499999999,332383.886,333229.299]
["Q61","North East London ","E09000001","City of London",0,0,5,1050,1105,1202,1170.5019999999997,1195.347,0,0,632.9,3,"City of London",0,20,10,0,20,10,0,86.4,100,10,22,"City of London",33,89,87,31,38,42,30,32,31,31,67,39,13,0,18,27,1,0,6,0,0,16,40,1,27,0,0,6,7,22,10,68,25,31,0,0,2,6,31,51,76,62,45,31,56,8,158,138,58.714376321353072,56.008668076109934,53.302959830866811,50.597251585623681,47.891543340380544,45.185835095137421,42.48012684989429,39.77441860465116,6800,6819,7250.2600000000011,7438.1330000000034,7625.6080000000002,"City of London",8,5,3,7,4,8,3,3,6,2,5,6,3,6,4,3,1,5,5,4,3,7,2,6,5,5,3,4,4,2,2,1,7,7,8,0,6,3,5,8,4,6,3,9,8,8,3,7,2,3,1,2,7,4,7,5,4,4,18,6,13,16,13.884585807007293,13.896213356301335,13.907840905595375,13.919468454889415,13.931096004183459,13.942723553477499,13.954351102771543,13.965978652065584,7412,7604,7648,8085.5820000000003,8297.0789999999997,8513.4009999999998]
["Q66","Devon, Cornwall And Isles Of Scilly ","E06000052","Cornwall",605,670,620,116500,121665,125448,129202.44699999997,132381.19,519.29999999999995,550.70000000000005,511.2,665,"Cornwall",50,0,100,55,0,120,90.9,0,83.5,680,800,"Cornwall",2899,2546,1979,2051,2315,1827,1664,1982,1889,1742,2089,2035,1869,1800,2022,1981,2087,2027,1336,1801,1719,1845,1741,1733,1642,1612,1876,1585,1661,1990,1614,1602,1893,1845,1669,2017,1866,2116,1739,1611,1624,2085,1753,2155,5407,5999,4974,5993,5064.8054968287524,4989.513742071882,4914.2219873150107,4838.9302325581393,4763.6384778012689,4688.3467230443975,4613.0549682875262,4537.7632135306558,434400,437101,442056.97200000007,446050.95600000001,449877.21699999995,"Cornwall",807,737,748,736,656,738,813,869,996,773,723,870,745,728,729,688,615,667,745,835,1056,895,816,883,841,726,756,716,708,673,768,788,884,864,856,825,774,794,676,753,677,612,700,777,909,780,766,891,1027,871,738,783,708,763,779,778,1022,895,2437,2636,2254,2579,2454.9778215263468,2463.1752437786463,2471.3726660309453,2479.5700882832448,2487.7675105355443,2495.9649327878433,2504.1623550401428,2512.3597772924422,533760,537914,541319,546585.37899999996,551058.63600000006,555669.98800000001]
["Q45","Durham, Darlington And Tees ","E06000047","County Durham",825,780,710,93015,96580,99000,101839.72399999999,104167.89100000003,888,809.7,736.2,761,"County Durham",215,285,295,250,335,330,86,85.4,89.4,308,360,"County Durham",497,381,426,425,376,443,564,522,355,280,227,220,224,324,650,509,586,802,1009,1294,938,1612,1047,905,982,1013,1210,1440,1232,1437,1264,1231,999,1248,1117,888,1426,1557,1349,1362,1175,1439,991,1099,3364,3871,3886,3529,4561.6183932346721,4803.8414376321352,5046.0644820295984,5288.2875264270615,5530.5105708245246,5772.7336152219877,6014.9566596194509,6257.179704016914,414100,415740,417422.84100000001,419379.27899999992,421273.27999999997,"County Durham",1026,944,903,954,831,927,1058,1006,1112,955,1046,1045,1138,1079,981,1017,974,988,1126,1174,1304,1395,1262,1274,1182,1080,1037,1039,1030,1005,1146,1034,1363,1316,1348,1223,1173,1241,1184,1148,1078,1032,1166,1223,1536,1277,1103,1094,1291,1150,1091,1162,1006,1027,1132,1077,1308,770,3474,3532,3195,3517,3632.40007382571,3659.3064997385341,3686.2129256513585,3713.1193515641826,3740.0257774770071,3766.9322033898306,3793.8386293026551,3820.7450552154787,512994,514348,515957,517988.70500000002,520058.63099999999,522212.17200000002]
["Q53","Arden, Herefordshire And Worcestershire ","E08000026","Coventry",295,355,370,46480,47435,48158,48802.705000000009,49475.991000000002,636.9,746.3,782.2,342,"Coventry",260,235,275,370,305,340,70.400000000000006,76.099999999999994,81.2,264,330,"Coventry",1794,1491,1958,1447,2219,1564,1875,1786,1170,1436,1603,1687,1844,1865,1845,1658,1390,1503,1193,1294,1367,1132,1299,2047,1797,1367,1167,1036,1000,1254,1214,1034,1238,1135,1050,1453,1475,1364,1365,1049,1039,1159,1323,1573,3423,4292,3453,4055,3329.5716701902747,3201.4019027484137,3073.2321353065536,2945.062367864693,2816.8926004228324,2688.7228329809723,2560.5530655391117,2432.3832980972511,251300,256633,258949.21300000002,262300.55300000001,265481.07799999998,"Coventry",482,515,520,471,450,525,590,571,636,615,534,562,528,560,472,503,504,533,571,610,800,653,538,542,605,550,538,502,474,529,537,524,639,599,674,610,574,648,598,587,524,561,697,622,691,672,593,665,702,645,568,620,611,567,620,650,762,610,1930,1915,1798,2032,1976.1498969516133,1996.9313728505954,2017.712848749577,2038.4943246485591,2059.2758005475407,2080.0572764465223,2100.838752345504,2121.620228244486,316915,323132,329810,332492.25300000003,336893.97600000002,341389.12400000001]
["Q63","South London ","E09000008","Croydon",255,100,175,44655,46235,47476,48423.700000000004,49375.137999999999,566.6,212,374.2,209,"Croydon",180,125,140,240,150,160,74.8,85.1,85.2,846.5,962.4,"Croydon",71,75,159,65,64,57,31,170,101,166,195,219,167,284,480,202,295,185,379,680,302,342,249,288,326,230,123,244,378,353,317,494,537,488,419,239,383,408,589,466,498,539,443,427,1444,1030,1553,1409,1577.0940803382664,1664.167019027484,1751.2399577167021,1838.3128964059197,1925.3858350951373,2012.4587737843551,2099.531712473573,2186.604651162791,278200,281124,284460.109,287696.51700000005,290842.9479999998,"Croydon",458,462,468,462,430,491,519,497,553,558,459,453,510,481,451,482,462,536,510,521,575,575,487,479,560,486,493,435,461,514,552,568,656,667,612,637,598,656,613,608,575,601,620,591,637,673,615,606,583,626,591,598,513,534,206,158,206,172,1894,1800,1645,570,1566.4399089482913,1567.3208342305209,1568.2017595127504,1569.08268479498,1569.9636100772095,1570.8445353594391,1571.7254606416682,1572.606385923898,364815,368886,372752,376740.42800000001,380843.88799999998,385207.64199999999]
["Q49","Cumbria, Northumberland, Tyne And Wear ","E10000006","Cumbria",695,720,655,103565,107560,110431,113426.69399999999,115811.738,669.1,670.3,609.9,695,"Cumbria",330,310,375,375,370,415,87.5,84.3,89.7,330,375,"Cumbria",1300,1368,1419,1200,1102,764,772,793,666,846,1460,1442,1792,1236,1270,1414,1690,1495,1274,2377,1976,2032,1811,1962,2019,1906,2216,2355,1890,1843,1389,1137,1094,1182,1084,856,1064,954,989,778,1140,906,794,885,3360,2874,2907,2585,3910.4412262156447,3887.9076109936573,3865.3739957716707,3842.8403805496828,3820.3067653276958,3797.7731501057078,3775.2395348837213,3752.7059196617338,404600,404065,404910.01200000022,405376.60000000033,405650.75199999998,"Cumbria",969,911,907,871,754,808,1039,958,1177,960,858,891,853,879,729,794,761,851,915,914,1295,1080,861,960,952,883,826,804,820,816,862,892,1074,1034,1016,954,937,984,895,954,956,947,1061,1024,1279,1176,941,1063,1121,1057,931,1053,915,993,1084,1134,1279,1066,3180,3109,2961,3497,3241.6102310129504,3274.5217324433233,3307.4332338736967,3340.3447353040701,3373.2562367344426,3406.167738164816,3439.0792395951894,3471.9907410255619,499817,499104,498070,498099.62300000002,497857.397,497737.63100000005]
["Q45","Durham, Darlington And Tees ","E06000005","Darlington",180,190,205,18570,19225,19648,20138.193000000003,20530.484,958.5,988.4,1076.8,168,"Darlington",100,275,120,135,300,150,72.8,90.4,81.2,384,405,"Darlington",95,120,93,115,93,186,109,77,383,493,461,383,422,575,358,451,489,482,406,419,386,539,445,437,510,361,576,546,323,388,430,441,365,474,318,401,514,469,562,314,357,487,332,392,1157,1384,1233,1211,1548.3065539112051,1601.6754756871037,1655.0443974630023,1708.4133192389008,1761.7822410147994,1815.1511627906975,1868.5200845665963,1921.8890063424947,82500,82637,82787.765999999989,83011.332000000009,83259.788,"Darlington",206,176,204,169,187,192,228,227,225,224,210,233,242,238,200,208,181,207,216,210,347,290,265,281,238,238,213,198,204,188,217,246,297,261,282,251,238,261,224,233,214,229,240,251,303,247,219,247,260,214,209,228,217,198,249,256,251,150,713,683,643,756,736.21498661909004,740.4953089913563,744.77563136362244,749.05595373588858,753.33627610815472,757.61659848042086,761.89692085268689,766.17724322495314,105584,105248,105396,105414.38800000001,105571.302,105746.304]
["Q55","Derbyshire And Nottinghamshire ","E06000015","Derby",215,220,240,37895,38865,39615,40184.673999999999,40742.511000000006,570,568.70000000000005,617.6,220,"Derby",145,130,170,165,140,190,89.6,95,90,157,185,"Derby",374,368,337,343,266,272,437,357,354,289,309,526,423,464,322,592,456,266,186,297,348,434,345,524,499,398,706,572,694,647,406,407,547,497,472,390,171,279,215,284,207,279,168,256,1516,840,706,703,1114.6133192389009,1109.0832980972518,1103.5532769556025,1098.0232558139537,1092.4932346723044,1086.9632135306556,1081.4331923890065,1075.9031712473575,193100,193588,196261.66000000006,197895.19400000002,199395.22100000008,"Derby",384,358,410,355,345,392,469,480,598,502,453,447,408,423,376,387,378,382,403,405,551,478,382,401,404,363,355,393,359,384,414,412,521,446,461,438,439,418,402,467,403,413,440,452,535,473,445,481,412,435,409,403,425,401,453,452,542,457,1399,1256,1229,1447,1355.1052323971821,1361.4300655203174,1367.7548986434526,1374.0797317665877,1380.4045648897229,1386.7293980128579,1393.0542311359932,1399.3790642591284,248943,250568,251423,254263.89,256130.79300000001,258060.57199999999]
["Q55","Derbyshire And Nottinghamshire ","E10000007","Derbyshire",1135,1140,1110,144045,150390,155117,159789.66000000018,163944.34700000007,787.2,758,738.1,1148,"Derbyshire",245,180,175,295,195,215,84,90.4,79.7,185,197,"Derbyshire",2063,2473,2085,2372,2637,2165,2248,2182,1994,2299,2435,2183,2006,2114,2067,1632,1677,1461,1321,1667,1354,1696,1243,1526,1642,1637,1992,1801,1572,1978,1559,2122,2356,1601,1587,2144,2273,2185,2316,2497,2258,2071,2069,2101,5544,6602,7071,6241,5663.8822410147995,5632.6283298097251,5601.3744186046515,5570.120507399577,5538.8665961945026,5507.612684989429,5476.3587737843554,5445.104862579281,617700,621361,625156.31699999911,629000.9329999995,632781.14200000023,"Derbyshire",1226,1258,1201,1144,1123,1230,1383,1492,1647,1400,1310,1437,1357,1293,1186,1197,1187,1214,1343,1353,1685,1654,1385,1354,1389,1234,1161,1211,1312,1274,1289,1346,1616,1574,1397,1341,1437,1391,1388,1453,1338,1316,1484,1588,1762,1599,1414,1594,1532,1470,1371,1395,1361,1350,1384,1432,1735,1431,4607,4373,4106,4551,4552.0784090559537,4588.2638961518351,4624.4493832477156,4660.634870343596,4696.8203574394784,4733.0058445353588,4769.1913316312402,4805.3768187271216,770688,773522,776160,779965.42999999993,783691.3280000001,787580.59199999995]
["Q66","Devon, Cornwall And Isles Of Scilly ","E10000008","Devon",1060,1105,980,169840,176490,181600,186142.57099999997,190357.33400000015,625.29999999999995,625,556.4,1105,"Devon",400,400,465,465,455,520,85.8,87.7,89.8,706,866,"Devon",2553,2788,2658,2305,3008,3127,2903,3285,2672,2599,2603,2506,2519,2694,2665,2864,2286,2446,2338,2295,2137,2194,2313,2487,2186,2597,2301,2416,1589,2302,2008,2067,2080,2298,2329,2205,2305,2319,2349,2117,1434,2091,1906,2241,6707,6829,5900,6238,5782.6492600422825,5603.5822410147994,5424.5152219873153,5245.4482029598312,5066.3811839323471,4887.3141649048621,4708.247145877378,4529.1801268498948,612100,616507,618201.4019999993,621893.41199999989,625377.68599999999,"Devon",1033,958,843,835,794,978,1117,1013,1241,1138,1019,1065,1074,952,911,958,963,971,1007,1097,1398,1232,1058,1130,1073,989,968,981,943,932,1011,1058,1158,1173,1239,1102,1082,1113,1098,1067,1034,1067,1170,1158,1365,1208,1042,1174,1290,1130,1011,1090,1097,1135,1090,1262,1494,1116,3424,3431,3322,3846,3631.6315481866559,3667.4718078070682,3703.3120674274815,3739.1523270478938,3774.992586668307,3810.8328462887193,3846.673105909133,3882.5133655295458,747709,753157,758052,760047.97,764130.41899999999,768456.72100000014]
["Q51","South Yorkshire And Bassetlaw ","E08000017","Doncaster",475,400,420,51460,53000,54281,55452.97,56407.101999999992,921.1,751,792.5,371,"Doncaster",80,105,145,135,150,190,56.9,69.3,77,122,157,"Doncaster",783,866,794,521,793,894,603,1145,884,1197,1497,1516,1013,1212,1255,1479,1181,969,722,332,314,272,183,240,362,168,406,291,329,303,243,270,373,462,395,528,544,380,456,396,472,398,350,386,1230,1452,1324,1134,607.73763213530685,440.06680761099392,272.39598308668099,104.72515856236805,0,0,0,0,237800,238646,238958.57599999997,239614.60200000004,240299.34600000008,"Doncaster",592,539,565,540,497,540,612,673,736,703,584,676,642,595,533,590,508,526,649,696,864,831,634,711,685,671,536,561,573,661,636,701,801,733,702,714,708,765,662,680,564,573,714,767,846,778,704,760,723,677,634,637,596,651,673,708,852,676,2242,2034,1884,2233,2213.9028269094711,2235.1214432926263,2256.340059675782,2277.5586760589376,2298.7772924420929,2319.9959088252481,2341.2145252084038,2362.4331415915594,302468,302739,303622,303588.91899999999,304186.98300000001,304876.58500000002]
["Q70","Wessex ","E10000009","Dorset",600,580,580,105000,109035,112255,114706.13399999992,117269.47000000002,569.5,533.79999999999995,531,551,"Dorset",500,495,600,710,650,670,70.7,76.3,89.9,529,650,"Dorset",1385,926,1177,1714,1868,1765,2014,2147,1694,1919,1847,1674,1655,1792,1666,1365,1313,1151,1134,1371,1013,1023,1178,1151,1124,1290,1576,1339,1158,1333,1272,1444,957,1106,1046,1425,1651,1619,1682,1427,1435,1917,1565,1415,3109,4695,4544,4897,3967.3439746300219,3919.1644820295987,3870.984989429176,3822.8054968287529,3774.6260042283297,3726.4465116279071,3678.2670190274848,3630.0875264270617,337800,339403,339362.65199999989,340756.12299999973,342139.76999999979,"Dorset",633,595,571,591,534,541,657,650,767,714,637,590,634,608,520,591,555,663,671,679,760,714,726,697,694,656,595,583,600,634,700,684,808,743,783,762,662,682,664,650,604,604,647,713,775,680,593,627,650,607,563,597,534,578,622,685,764,654,1900,1820,1709,2071,2006.0327909194377,2011.2289212218154,2016.4250515241933,2021.621181826571,2026.8173121289487,2032.0134424313269,2037.2095727337046,2042.4057030360823,413813,414940,416721,416730.28399999999,418055.34100000001,419550.87099999998]
["Q54","Birmingham And The Black Country ","E08000027","Dudley",360,475,480,58625,60410,61392,62846.311000000009,63872.403999999995,615.79999999999995,783,794.5,443,"Dudley",200,220,265,230,255,300,87.3,87.4,87.4,233,264,"Dudley",1555,1703,1996,1358,1833,1754,1291,1792,904,654,645,713,679,982,634,738,747,546,678,650,684,797,381,359,575,427,428,972,769,832,431,482,502,411,587,642,507,468,746,447,528,721,604,699,1500,1617,1721,2024,768.76680761099374,554.85792811839292,340.94904862579278,127.04016913319197,0,0,0,0,246200,246783,247808.84399999998,248668.90700000006,249464.19999999998,"Dudley",600,519,496,504,462,526,583,540,700,577,560,643,567,619,550,584,536,498,546,579,781,617,534,602,584,564,533,549,519,505,614,607,752,750,720,704,668,681,644,656,638,637,732,733,791,698,678,793,743,659,606,627,573,646,695,690,823,719,2169,2008,1846,2208,2200.2868744040115,2230.2942569749912,2260.3016395459717,2290.3090221169523,2320.3164046879328,2350.3237872589134,2380.331169829893,2410.3385524008736,313261,313589,314427,314746.28999999998,315521.91499999998,316388.14]
["Q62","North West London ","E09000009","Ealing",130,105,115,36455,37450,38462,39310.970000000008,40152.576000000001,359.3,285.7,304.39999999999998,120,"Ealing",265,225,165,285,240,180,93,93.7,93.3,279,300,"Ealing",780,701,686,850,903,935,790,944,637,917,846,719,788,618,651,830,980,614,649,807,739,877,873,912,877,920,700,861,798,750,700,887,752,685,547,655,596,663,985,889,762,862,815,954,1984,1914,2636,2631,2354.7150105708247,2353.2511627906979,2351.7873150105711,2350.3234672304438,2348.859619450317,2347.3957716701902,2345.9319238900634,2344.4680761099366,262600,262978,267965.19700000016,270622.62700000004,273579.66299999994,"Ealing",661,583,599,537,493,548,549,578,626,571,552,554,586,575,582,532,584,565,586,640,745,623,595,629,602,628,566,557,537,589,549,570,629,664,641,577,619,603,560,595,500,573,559,599,701,676,563,589,611,556,502,526,492,551,559,558,611,491,1828,1669,1569,1728,1718.4191762281216,1715.6822726014336,1712.9453689747456,1710.2084653480576,1707.4715617213697,1704.7346580946817,1701.9977544679937,1699.2608508413057,339314,340671,342494,347634.76699999999,351142.16499999998,354992.44699999999]
["Q50","North Yorkshire And Humber ","E06000011","East Riding of Yorkshire",540,545,550,72290,75700,78212,80651.66,82822.103000000003,748.4,718.6,727.9,575,"East Riding of Yorkshire",65,75,80,70,85,90,91.7,89.2,88.6,86,93,"East Riding of Yorkshire",122,105,156,351,302,413,409,357,367,560,674,716,684,544,773,713,635,654,644,502,668,646,618,574,679,662,644,621,662,602,640,672,661,540,396,462,480,543,586,617,523,600,451,594,1597,1485,1726,1645,1999.2236786469343,2047.0955602536997,2094.9674418604645,2142.8393234672303,2190.7112050739956,2238.583086680761,2286.4549682875263,2334.3268498942916,272000,272607,275147.54900000012,276778.93099999998,278332.68300000014,"East Riding of Yorkshire",454,418,415,423,438,446,459,474,517,534,488,493,482,499,496,463,491,496,519,517,629,601,556,558,541,556,471,483,470,548,546,597,643,583,698,619,597,618,538,590,537,521,619,662,702,643,570,591,611,556,454,569,523,534,563,597,653,503,1804,1621,1626,1813,1875.3276938693898,1898.6481282106495,1921.9685625519087,1945.2889968931679,1968.6094312344276,1991.9298655756866,2015.2502999169462,2038.5707342582054,334673,335887,336007,338711.80699999997,340237.527,341819.78399999999]
["Q68","Surrey And Sussex ","E10000011","East Sussex",755,720,770,120720,125710,129448,132508.61800000005,135358.79999999999,626.20000000000005,572,612.5,"TBD (June 14)","East Sussex",430,450,570,480,505,625,89.8,89.2,91.4,"TBD (June 14)","TBD (June 14)","East Sussex",2431,1779,1893,2019,1720,1964,943,1729,1374,1393,1495,1442,1610,1599,1421,1587,1481,1203,1693,2465,1467,1734,1387,1517,1759,1594,1740,1352,990,1843,1879,1796,1521,1716,1446,1787,1815,1662,1662,1503,923,1139,1215,1723,4683,5264,4088,4077,4347.4980972515859,4289.6361522198731,4231.7742071881603,4173.9122621564484,4116.0503171247356,4058.1883720930227,4000.3264270613104,3942.4644820295985,426500,429506,432100.67200000008,435371.86199999996,438771.5680000002,"East Sussex",872,885,839,783,798,772,903,888,1078,898,902,969,844,866,777,781,894,881,933,911,1101,1033,955,970,941,843,838,821,844,779,922,910,1032,971,1008,986,944,944,838,877,881,899,952,985,1062,921,885,904,964,926,817,821,867,817,921,949,1059,837,2710,2707,2505,2929,2800.6141991448521,2808.4788520102129,2816.3435048755728,2824.2081577409335,2832.0728106062938,2839.9374634716542,2847.8021163370145,2855.6667692023748,527209,531201,534402,537180.201,540621.07900000003,544279.46100000001]
["Q61","North East London ","E09000010","Enfield",200,205,180,39065,40115,40893,41651.655999999995,42405.163000000008,514.6,513.5,443.7,191,"Enfield",80,135,205,95,150,250,88.2,88.2,82.3,228.8,260,"Enfield",364,436,371,292,261,342,273,314,252,292,304,250,173,208,321,331,308,339,380,361,415,330,274,422,246,341,287,219,226,244,369,541,556,463,418,412,489,553,711,428,319,369,340,535,1437,1454,1458,1244,1359.9010570824523,1397.0344608879491,1434.1678646934461,1471.301268498943,1508.4346723044398,1545.5680761099363,1582.7014799154335,1619.8348837209301,237200,239600,244126.27099999998,247674.11500000002,251262.89300000001,"Enfield",213,195,253,216,171,199,228,203,213,214,200,218,212,185,177,217,168,176,193,194,261,207,181,190,204,224,256,243,237,274,302,338,348,366,397,359,399,443,395,390,357,382,373,380,483,404,413,365,448,415,372,371,396,403,438,454,526,475,1182,1235,1170,1418,1435.064013042542,1483.910240241164,1532.7564674397859,1581.6026946384077,1630.4489218370297,1679.2951490356518,1728.1413762342736,1776.9876034328952,313935,317287,320524,326727.97499999998,331469.217,336359.42700000003]
["Q57","Essex ","E10000012","Essex",1690,1575,1685,258175,270160,279177,286690.31800000003,293042.12900000031,653.79999999999995,583,624.4,1496,"Essex",635,690,1090,760,845,1330,83.3,82,81.7,915,1092,"Essex",2457,3206,3056,2632,3128,2436,2109,2327,1867,1830,2160,1896,1488,1840,1889,1823,1774,2057,2219,2129,1777,2199,2256,2616,2032,2129,2194,2208,2506,2467,2160,2001,1903,2384,2965,3329,3404,3236,2683,2641,2683,2716,2425,2695,7252,9969,8007,7836,7769.2433403805489,7856.4310782241018,7943.6188160676538,8030.8065539112049,8117.994291754756,8205.1820295983089,8292.3697674418618,8379.5575052854128,1109800,1118167,1126395.1159999997,1135221.247999999,1144254.1199999985,"Essex",1904,1802,1830,1785,1699,1840,1953,1997,2233,2065,1873,1942,1946,1968,1818,1781,1772,1814,1990,2043,2415,2241,1901,1991,1883,1864,1909,1823,1839,1819,1994,2046,2341,2136,2131,2037,2121,2308,2014,2055,1900,1933,2108,2164,2470,2341,2147,2306,2342,2182,2082,2087,2017,2147,2398,2426,2900,2237,6794,6606,6251,7724,6985.1717985788564,7061.2619274662402,7137.3520563536258,7213.4421852410114,7289.5323141283952,7365.6224430157818,7441.7125719031656,7517.8027007905512,1396599,1406517,1416405,1426001.7950000002,1436652.8580000002,1447781.4990000001]
["Q49","Cumbria, Northumberland, Tyne And Wear ","E08000020","Gateshead",320,325,345,35410,36440,37205,37849.583000000006,38422.75,903.7,889.1,944,305,"Gateshead",260,275,255,300,325,300,86.8,84.7,86,284,326,"Gateshead",403,584,494,317,330,374,273,266,222,211,234,150,926,711,618,380,312,148,167,331,273,220,211,217,220,212,194,262,336,532,620,391,283,225,438,553,343,299,297,211,270,130,164,258,946,1195,778,552,797.47441860465119,772.11331923890077,746.75221987315012,721.39112050739959,696.03002114164906,670.66892177589864,645.30782241014799,619.94672304439746,159800,159800,160937.15799999997,161543.91200000001,162100.74400000004,"Gateshead",527,464,417,447,405,432,570,569,584,552,485,526,508,520,461,456,400,427,458,447,582,617,478,469,480,521,441,456,469,440,483,545,534,572,556,567,503,509,478,505,467,425,491,611,652,559,468,508,512,478,422,484,404,501,509,465,551,470,1535,1412,1389,1525,1516.1591559260514,1518.4290196560953,1520.6988833861392,1522.9687471161831,1525.2386108462272,1527.5084745762711,1529.7783383063152,1532.0482020363593,200349,200153,199998,201050.149,201572.402,202144.65100000001]
["Q64","Bath, Gloucestershire, Swindon And Wiltshire ","E10000013","Gloucestershire",810,925,965,112405,117060,120356,124223.47700000004,127436.77900000004,719.7,791,822.6,907,"Gloucestershire",175,430,375,205,605,535,85.8,71.599999999999994,70.400000000000006,488,630,"Gloucestershire",960,1335,1662,1862,2419,1645,1325,1854,1973,2481,2916,1209,1052,1010,1306,1224,1512,1652,2086,1584,1686,1502,949,1177,1353,1446,1873,1560,1563,2003,1063,1800,1293,1636,718,741,920,656,1158,1030,616,783,901,750,3647,2317,2804,2434,2753.6414376321354,2563.3945031712478,2373.1475687103602,2182.9006342494722,1992.6536997885837,1802.4067653276959,1612.1598308668081,1421.9128964059203,479700,482920,486609.01500000036,490167.68,493741.64399999968,"Gloucestershire",852,748,754,665,688,764,893,856,1015,861,814,892,840,766,731,782,655,783,854,902,1033,942,877,926,881,777,737,764,783,848,804,907,1093,963,993,1066,897,917,931,954,856,881,1011,1109,1196,1104,952,1065,1148,1001,836,955,801,918,882,949,1145,797,3121,2985,2674,2976,3072.1638930757631,3108.3604540281149,3144.5570149804666,3180.7535759328184,3216.9501368851702,3253.146697837522,3289.3432587898733,3325.5398197422246,598289,602159,605654,609830.86300000001,613908.34900000005,618199.63599999994]
["Q63","South London ","E09000011","Greenwich",160,195,180,26230,27035,27623,27930.046999999999,28312.827999999998,617.6,717.6,665.8,186,"Greenwich",165,170,175,210,190,190,78.8,88.5,90.1,183,200,"Greenwich",369,524,504,416,442,581,280,302,300,393,283,271,361,460,303,146,502,396,363,360,286,366,243,273,200,106,107,324,252,299,223,275,271,368,333,288,264,359,244,346,355,342,309,422,972,911,945,1073,784.93467230443957,759.7048625792811,734.47505285412251,709.24524312896392,684.01543340380545,658.78562367864686,633.55581395348827,608.32600422832979,197600,200318,202251.79699999999,204638.353,207117.68099999998,"Greenwich",277,302,278,293,251,268,310,306,356,378,312,365,338,332,303,301,315,336,350,377,368,371,343,386,307,344,311,285,284,309,310,311,349,304,331,297,352,391,378,374,356,356,404,454,456,403,367,380,70,69,72,81,72,81,365,392,482,341,1150,211,234,1239,879.17441323941046,873.17459780368506,867.17478236795955,861.17496693223416,855.17515149650853,849.17533606078314,843.17552062505752,837.17570518933201,255483,260068,264008,265994.96600000001,269006.65700000001,272233.27600000001]
["Q61","North East London ","E09000012","Hackney",115,60,65,17425,17850,18323,18463.608999999997,18793.306,665.7,347.4,369.8,69,"Hackney",200,235,225,220,260,250,90.5,90.8,90.4,238,261,"Hackney",232,343,401,409,238,248,216,227,148,273,229,231,241,298,349,272,329,300,249,342,229,234,159,129,165,202,394,649,559,552,419,562,928,819,929,1022,908,679,557,443,444,448,339,416,2676,2609,1444,1203,1947.5272727272729,2041.5636363636363,2135.6,2229.636363636364,2323.6727272727271,2417.7090909090907,2511.7454545454548,2605.7818181818184,194300,198401,200432.28000000003,203368.24799999996,206360.74400000015,"Hackney",67,62,60,72,51,63,59,63,59,76,55,66,73,63,62,72,64,57,72,87,89,73,62,62,73,73,78,49,68,75,82,78,91,93,72,78,85,91,90,87,90,79,82,85,98,85,91,80,60,73,75,94,48,61,69,50,79,53,256,208,203,198,241.28567473622689,243.48605001691837,245.6864252976099,247.88680057830135,250.08717585899288,252.28755113968435,254.48792642037586,256.68830170106742,247182,252119,257379,259293.70499999999,262802.26699999999,266428.022]
["Q48","Merseyside ","E06000006","Halton",140,80,125,18650,19605,20306,21048.040000000005,21730.182000000001,740,418.3,637.70000000000005,"N/A","Halton",80,70,65,110,95,100,74.099999999999994,72.599999999999994,63.6,"N/A","N/A","Halton",171,323,248,198,217,165,135,252,123,125,162,196,255,206,277,278,184,119,150,206,174,180,223,181,109,98,122,94,119,142,71,132,168,148,98,141,188,201,224,157,175,280,245,268,414,530,556,793,490.04778012685,483.601268498943,477.15475687103606,470.708245243129,464.26173361522206,457.81522198731511,451.36871035940806,444.92219873150111,97700,97818,98124.283000000025,98391.087000000058,98683.068999999974,"Halton",295,266,276,286,232,249,306,299,329,295,297,297,318,302,305,268,264,274,343,300,389,358,276,320,273,265,277,248,277,239,315,308,336,339,296,297,309,310,286,305,290,274,292,322,348,348,340,342,344,277,287,312,245,261,284,294,355,293,1030,908,818,933,932.53277553908151,935.86046940847143,939.18816327786158,942.51585714725161,945.84355101664153,949.17124488603167,952.49893875542148,955.82663262481162,125722,125692,125970,126098.436,126380.03,126657.91800000001]
["Q62","North West London ","E09000013","Hammersmith and Fulham",110,115,140,16525,16985,17497,17669.178,17923.346000000001,671.8,665.2,835.9,109,"Hammersmith and Fulham",90,140,260,90,160,280,100,88.6,92.9,141,158,"Hammersmith and Fulham",190,250,224,328,281,263,224,195,245,355,315,335,249,348,319,291,330,320,237,298,404,430,370,380,511,531,414,334,277,284,205,375,364,298,358,183,347,278,276,349,281,178,215,192,1020,808,906,585,944.39217758985183,948.04862579281166,951.7050739957715,955.36152219873134,959.01797040169117,962.67441860465101,966.33086680761085,969.98731501057068,147000,145357,146350.57700000002,146342.20899999997,146615.97899999999,"Hammersmith and Fulham",231,242,233,195,192,237,249,268,275,296,233,236,271,292,249,269,252,292,322,264,351,287,245,302,238,232,252,261,240,253,309,268,334,306,303,272,264,311,274,300,282,275,303,321,338,320,296,301,293,330,275,279,301,279,305,242,304,260,917,898,859,851,929.30899135623963,938.67968870159018,948.05038604694084,957.42108339229139,966.79178073764183,976.16247808299227,985.53317542834282,994.90387277369337,182445,179850,178685,179806.723,180048.592,180646.516]
["Q70","Wessex ","E10000014","Hampshire",1540,1670,1590,245970,257370,265944,274480.88800000004,281524.71199999994,626.9,649.29999999999995,617.79999999999995,1688,"Hampshire",855,925,695,1035,1135,860,82.5,81.3,80.599999999999994,700,840,"Hampshire",2380,2934,2377,2871,2874,2671,2620,2903,2828,2673,2061,2211,2326,2399,2247,2031,2218,2009,2082,2124,2093,2955,2468,2381,2039,2284,2569,2363,2007,2391,2268,1960,2136,2153,2153,1896,2374,2217,2874,2291,2384,3023,2837,2581,6442,6487,7549,8441,6864.4801268498941,6822.2048625792813,6779.9295983086677,6737.654334038054,6695.3790697674413,6653.1038054968294,6610.8285412262157,6568.553276955603,1048700,1056193,1063858.7670000002,1071788.0239999988,1079476.3440000017,"Hampshire",1679,1669,1570,1592,1545,1580,1782,1920,2119,1790,1825,1814,1704,1724,1575,1570,1518,1552,1650,1729,2224,1999,1779,1846,1759,1736,1607,1627,1644,1526,1654,1837,2093,1848,1944,1865,1797,1822,1580,1656,1485,1565,1814,2016,2219,1804,1663,1768,1864,1757,1595,1679,1505,1653,1795,1888,2084,1512,5235,5216,4837,5767,5353.6732597126947,5363.6441600787466,5373.6150604447994,5383.5859608108522,5393.5568611769049,5403.5277615429568,5413.4986619090096,5423.4695622750623,1322118,1330153,1337730,1346084.449,1354638.8,1363534.9010000001]
["Q61","North East London ","E09000014","Haringey",110,105,110,22495,23135,23806,24264.778000000006,24910.158999999996,497.9,458.2,484.1,94,"Haringey",55,75,80,65,85,90,84.6,88.4,87.6,80,86,"Haringey",438,351,489,526,671,570,540,475,416,326,364,381,410,405,347,362,297,289,384,373,330,295,472,515,352,485,558,376,497,559,371,518,629,623,528,436,456,448,509,592,824,843,477,544,1780,1340,1925,1864,1677.120084566596,1711.4729386892177,1745.8257928118392,1780.1786469344606,1814.5315010570823,1848.884355179704,1883.2372093023255,1917.5900634249469,200700,204425,207758.274,211287.56200000001,214889.44400000005,"Haringey",297,307,280,283,260,263,332,322,351,308,303,322,300,326,242,277,261,290,313,342,371,352,321,335,333,314,301,242,279,311,331,337,368,342,336,322,311,314,285,292,305,331,309,316,352,346,351,321,356,337,351,325,315,201,207,212,268,277,1018,1044,841,687,917.53388292472846,916.97520686579105,916.41653080685342,915.85785474791589,915.29917868897849,914.74050263004096,914.18182657110333,913.62315051216592,255540,258912,263386,266068.78999999998,269575.065,273301.17200000002]
["Q62","North West London ","E09000015","Harrow",135,120,105,33885,34740,35519,36362.474000000002,37195.760000000002,404.3,339.7,308,135,"Harrow",290,380,280,340,455,345,85,83.6,82,380,455,"Harrow",120,211,226,306,300,167,242,254,287,325,280,332,306,277,257,302,354,306,334,410,449,506,440,407,334,286,479,617,425,222,273,430,459,492,375,320,241,235,407,435,458,330,394,213,1326,796,1300,937,1258.1841437632133,1289.783086680761,1321.3820295983087,1352.9809725158561,1384.5799154334036,1416.1788583509513,1447.7778012684987,1479.3767441860464,187200,187629,191365.04800000001,193591.44399999993,195858.60499999989,"Harrow",304,273,261,254,277,289,386,328,353,281,316,348,323,285,253,268,291,250,271,293,352,310,294,276,315,323,335,309,294,271,306,348,374,330,367,327,360,373,315,385,350,377,368,374,425,371,385,354,339,382,328,359,345,340,360,361,385,375,1110,1049,1044,1106,1147.1710603217568,1162.1279645636591,1177.0848688055614,1192.0417730474637,1206.9986772893658,1221.9555815312681,1236.9124857731704,1251.8693900150724,240499,242377,243372,247909.59700000001,250791.302,253820.96599999999]
["Q45","Durham, Darlington And Tees ","E06000001","Hartlepool",140,140,145,15690,16205,16650,16992.156000000003,17331.191000000003,898.8,857.8,907.2,140,"Hartlepool",30,55,55,35,65,65,86.5,83.6,87.5,60,65,"Hartlepool",19,20,65,94,54,11,65,58,97,92,79,132,95,157,95,120,153,142,91,198,128,108,148,107,120,112,95,116,116,194,131,150,116,122,80,64,146,209,175,199,130,164,182,201,318,419,504,547,537.77505285412258,561.601268498943,585.42748414376319,609.2536997885835,633.07991543340381,656.90613107822412,680.73234672304443,704.55856236786462,71900,72478,72533.66,72833.429000000004,73024.455000000075,"Hartlepool",280,232,248,230,229,208,249,288,302,270,255,276,233,245,247,270,222,213,276,275,307,313,261,280,217,208,205,209,199,205,190,246,291,307,260,220,222,234,226,236,201,186,267,232,322,275,213,225,253,242,222,223,211,195,225,206,236,206,713,717,629,667,665.53388292472857,660.00968962441164,654.48549632409481,648.96130302377799,643.43710972346116,637.91291642314434,632.38872312282751,626.86452982251069,92088,92238,92665,92639.206000000006,92900.89,93171.778000000006]
["Q61","North East London ","E09000016","Havering",230,295,255,42555,43955,44815,45639.189999999995,46309.9,538.1,675.7,584.70000000000005,266,"Havering",165,185,195,215,230,245,77.2,82,80.7,218,250,"Havering",506,1014,779,462,515,540,760,724,399,639,629,684,519,818,773,990,767,593,756,574,745,896,599,526,862,761,628,477,305,314,229,323,337,193,189,320,429,301,220,253,448,245,322,235,719,1050,921,802,781.92346723044409,676.34503171247377,570.76659619450345,465.18816067653313,359.60972515856247,254.03128964059215,148.45285412262183,42.87441860465151,188300,189960,191795.60800000004,193581.67600000004,195337.008,"Havering",361,348,293,294,309,313,336,343,436,412,357,337,360,356,354,357,349,288,379,382,460,457,373,407,417,381,372,425,431,382,424,446,544,438,455,417,420,464,405,423,451,391,499,442,548,499,458,392,462,451,407,394,368,369,418,450,458,378,1349,1320,1131,1326,1405.1625703651296,1423.4322187701866,1441.7018671752437,1459.9715155803005,1478.2411639853576,1496.5108123904147,1514.7804607954718,1533.0501092005288,237927,239733,242080,244430.739,246998.39,249708.682]
["Q53","Arden, Herefordshire And Worcestershire ","E06000019","Herefordshire, County of",240,220,250,39375,40820,41972,43325.722999999998,44387.295000000006,614.6,539,607.5,220,"Herefordshire, County of",90,135,30,95,155,35,93.8,87.3,83.3,145,155,"Herefordshire, County of",845,824,858,458,489,406,465,409,106,147,351,613,615,517,381,280,518,381,583,464,192,169,204,242,82,259,161,241,137,222,287,203,127,224,185,193,199,166,325,296,165,484,279,256,536,558,786,1019,363.90147991543324,279.72642706131057,195.55137420718808,111.37632135306558,27.201268498942909,0,0,0,148900,150027,150903.97499999995,151878.54100000003,153008.68099999998,"Herefordshire, County of",125,131,116,140,137,121,135,159,211,147,138,170,141,123,125,136,112,128,135,133,184,132,106,156,134,106,97,95,108,196,256,308,345,265,348,310,265,306,279,241,235,252,300,352,387,332,305,346,296,277,249,256,235,263,281,278,369,220,983,822,754,928,1010.1478667445938,1044.9853886616015,1079.822910578609,1114.6604324956165,1149.497954412624,1184.3354763296318,1219.1729982466393,1254.010520163647,183619,184932,186087,186684.06700000001,187667.20600000001,188724.42800000001]
["Q58","Hertfordshire And The South Midlands ","E10000015","Hertfordshire",1230,1280,1175,175350,181945,186655,190879.69699999993,194817.6939999999,700.9,703.5,645.79999999999995,1257,"Hertfordshire",395,385,480,455,460,565,87.4,84.1,85.6,398,460,"Hertfordshire",3198,3371,2840,2854,2338,2413,2922,2848,3019,3054,3243,3043,3276,2322,2726,2730,2948,3441,3467,3043,2605,3431,2962,3191,2970,3603,3520,3810,3699,4514,4184,4575,3651,4295,4325,4335,4370,3992,3842,3152,3072,3254,3363,3136,12271,12697,10066,9753,11938.189217758985,12183.177589852008,12428.165961945033,12673.154334038056,12918.142706131079,13163.131078224103,13408.119450317125,13653.107822410147,873100,882292,889220.70199999958,897667.68900000001,906206.59799999907,"Hertfordshire",1071,1164,1202,1137,1064,1143,1263,1328,1469,1244,1185,1121,1156,1223,1182,1185,1196,1199,1346,1391,1576,1476,1284,1316,1337,1362,1220,1242,1180,1186,1380,1463,1616,1430,1509,1405,1452,1509,1481,1578,1383,1464,1574,1669,1832,1640,1527,1655,1646,1541,1369,1492,1525,1483,1645,1642,1991,1581,4822,4556,4500,5278,5109.7906733519958,5195.0604755606146,5280.3302777692334,5365.6000799778521,5450.8698821864718,5536.1396843950915,5621.4094866037103,5706.6792888123291,1119824,1129096,1140706,1150545.294,1161995.9670000002,1173932.1089999999]
["Q62","North West London ","E09000017","Hillingdon",235,205,100,35410,36655,37557,38168.974999999999,38895.298000000003,663.6,553.79999999999995,272.8,197,"Hillingdon",190,60,100,225,70,120,84.8,88.4,81.099999999999994,107,120,"Hillingdon",576,705,633,540,538,625,635,429,544,563,612,532,647,677,697,662,471,491,455,521,405,595,561,446,362,237,219,260,495,622,665,616,470,314,329,291,260,403,380,362,341,226,142,148,1113,954,1083,516,800.46025369978861,722.45517970401716,644.45010570824547,566.44503171247379,488.43995771670211,410.43488372093043,332.42980972515875,254.42473572938707,215800,219259,222520.77899999992,225846.37100000004,229302.65300000005,"Hillingdon",425,430,422,402,357,406,405,428,490,553,483,421,468,414,389,419,418,361,387,441,556,444,389,365,458,441,443,379,407,438,444,447,530,505,499,477,444,440,377,441,415,439,477,509,563,541,484,459,490,466,414,454,416,475,466,513,490,472,1484,1370,1345,1469,1450.5559691162448,1460.3823556553571,1470.2087421944693,1480.0351287335814,1489.8615152726936,1499.6879018118061,1509.5142883509182,1519.3406748900304,275499,281756,286806,291094.821,295704.09899999999,300395.071]
["Q62","North West London ","E09000018","Hounslow",95,185,90,27015,27815,28660,29235.963999999993,29945.340999999993,344.3,661.6,316.39999999999998,163,"Hounslow",35,35,165,40,35,185,92.5,91.9,89.7,33,35,"Hounslow",469,592,503,506,380,476,457,555,319,415,309,327,428,297,180,228,199,260,293,324,266,388,357,421,426,425,268,183,272,451,375,360,418,402,490,498,500,476,503,515,493,615,436,555,1310,1474,1511,1606,1314.9126849894292,1329.4953488372093,1344.0780126849895,1358.6606765327697,1373.2433403805499,1387.8260042283298,1402.4086680761102,1416.9913319238901,199800,201963,206800.84900000002,210101.99600000013,213487.03500000009,"Hounslow",374,369,317,356,280,321,315,362,396,390,335,325,348,344,345,355,351,356,358,329,449,365,290,344,362,367,314,315,325,357,349,362,427,384,384,395,388,403,394,373,382,350,383,353,450,419,374,363,444,407,350,333,313,329,374,376,413,391,1156,1201,975,1163,1168.6509274354794,1175.8935064136085,1183.1360853917374,1190.3786643698668,1197.6212433479959,1204.863822326125,1212.1064013042542,1219.3489802823833,254927,259052,262407,267802.98800000001,272048.71299999999,276453.74]
["Q70","Wessex ","E06000046","Isle of Wight",285,395,290,33245,34545,35362,36323.858999999997,37040.044000000002,854.3,1137.7,839.5,387.75,"Isle of Wight",155,130,40,185,165,40,85.3,79.8,95.2,141.69999999999999,163,"Isle of Wight",4,29,16,2,0,5,0,18,0,0,3,0,12,0,3,0,20,0,10,33,7,0,22,9,0,20,16,0,4,0,9,0,0,10,11,0,4,15,20,243,480,148,286,330,21,19,743,764,403.54503171247359,439.48985200845664,475.43467230443969,511.37949260042291,547.3243128964059,583.26913319238906,619.213953488372,655.15877378435528,112800,112702,113893.39399999997,114550.65299999999,115106.086,"Isle of Wight",188,194,174,165,130,157,144,140,143,126,159,138,160,151,116,132,137,138,138,171,198,190,192,188,174,155,136,147,141,119,162,177,230,155,169,168,154,164,126,147,108,142,142,132,191,144,206,219,185,192,151,137,156,112,160,145,204,112,569,528,405,509,477.46067242917354,477.93767879664102,478.41468516410845,478.89169153157593,479.36869789904335,479.84570426651089,480.32271063397832,480.79971700144586,138392,138748,138393,139483.76999999999,139957.22700000001,140483.74100000001]
["Q66","Devon, Cornwall And Isles Of Scilly ","E06000053","Isles of Scilly",0,0,0,515,545,549,551.54899999999998,554.95399999999995,0,0,0,0,"Isles of Scilly",0,0,0,0,0,5,0,0,0,0,0,"Isles of Scilly",null,null,null,null,null,null,null,null,null,null,null,null,null,null,null,null,null,null,null,null,null,null,null,null,null,null,null,null,null,null,null,null,null,null,null,null,null,null,null,null,null,null,null,null,0,0,0,0,0,0,0,0,0,0,0,0,1900,1876,1828.3200000000002,1804.2909999999999,1786.1070000000002,"Isles of Scilly",7,8,4,5,4,4,4,4,4,8,3,0,2,3,3,2,4,3,3,0,5,2,3,5,5,1,4,5,6,0,1,3,6,2,6,2,2,3,3,2,3,0,7,3,3,4,5,5,2,3,5,3,3,3,7,6,5,5,14,10,9,18,10.690331908086993,10.660155649204839,10.629979390322681,10.599803131440527,10.56962687255837,10.539450613676216,10.509274354794059,10.479098095911905,2224,2264,2251,2197.7139999999999,2175.1439999999998,2156.89]
["Q61","North East London ","E09000019","Islington",160,115,130,18095,18620,19164,19302.144000000004,19550.713000000003,889.7,606.9,698.2,115,"Islington",155,290,175,175,300,195,89,96.7,91.2,294,300,"Islington",234,121,83,123,152,170,170,165,202,181,49,133,198,223,163,129,61,83,143,216,90,125,86,141,162,107,162,139,77,109,118,229,305,224,179,276,249,333,309,239,103,130,128,185,708,858,651,443,602.75961945031713,617.0035940803383,631.24756871035936,645.49154334038053,659.7355179704017,673.97949260042287,688.22346723044393,702.46744186046499,173600,177322,181159.65400000001,184574.71999999991,188045.16599999997,"Islington",255,268,290,278,281,282,306,336,340,337,290,296,294,314,272,283,266,300,350,327,427,349,320,310,317,275,303,268,257,298,294,304,389,357,347,288,274,282,286,333,314,292,345,372,359,374,329,328,286,348,300,275,293,174,124,110,119,115,1031,934,742,353,781.88117136792903,772.41025562152026,762.93933987511161,753.46842412870296,743.9975083822942,734.52659263588555,725.0556768894769,715.58476114306825,206285,211047,215667,219686.49100000001,223619.92499999999,227669.37]
["Q62","North West London ","E09000020","Kensington and Chelsea",35,30,40,19315,20240,21063,21696.303999999996,22415.495999999996,176,138.30000000000001,207.5,29,"Kensington and Chelsea",85,110,680,90,130,695,92.3,84.7,98.1,113,131,"Kensington and Chelsea",212,196,124,289,100,68,100,140,104,164,163,199,319,299,180,173,252,324,351,420,526,489,284,230,144,175,219,210,138,143,211,364,427,401,423,412,479,354,453,363,447,570,532,315,1251,1245,1263,1417,1344.9175475687102,1407.9302325581396,1470.9429175475686,1533.9556025369977,1596.968287526427,1659.9809725158561,1722.9936575052852,1786.0063424947145,129000,128272,128076.84299999999,127919.43,128032.03799999996,"Kensington and Chelsea",180,170,157,171,182,167,191,205,227,211,212,210,237,193,247,215,209,237,221,201,264,221,196,188,194,194,204,201,189,213,216,188,222,215,200,192,207,182,212,183,176,190,205,235,215,227,195,178,194,191,165,187,180,194,187,168,198,187,600,550,561,553,584.29339567504394,582.86265341905323,581.43191116306264,580.00116890707204,578.57042665108133,577.13968439509063,575.70894213910003,574.27819988310944,158251,155930,155594,155594.11600000001,155586.06599999999,155889.37700000001]
["Q67","Kent And Medway ","E10000016","Kent",2240,2170,1905,264930,277125,286310,294091.53700000013,300997.93799999991,845.5,782.7,688.1,2043,"Kent",1225,1350,1240,1430,1605,1480,85.9,84,83.8,0,0,"Kent",2357,2577,2701,2936,2946,3562,3048,2676,2303,2285,2391,2768,2541,2540,2970,2400,2209,2242,2480,3093,2596,2978,2653,2464,2669,3117,3092,2845,2517,2992,2219,2182,2204,2199,1948,1625,1966,1969,2420,2503,2483,2294,2122,2148,6351,5560,7406,6564,6567.0539112050737,6437.2484143763213,6307.4429175475689,6177.6374207188155,6047.8319238900631,5918.0264270613116,5788.2209302325582,5658.4154334038049,1155900,1167474,1175525.3249999993,1186575.1659999993,1197971.2930000005,"Kent",2266,2102,2082,1970,1888,2087,2225,2276,2656,2288,2179,2282,2206,2190,2151,2133,2115,2165,2314,2351,2778,2544,2332,2403,2362,2200,2202,2194,2003,2139,2292,2332,2662,2437,2405,2382,2441,2302,2354,2244,2132,2088,2311,2417,2699,2495,2325,2508,2596,2455,2213,2232,2082,2237,2396,2408,2781,2276,7328,7264,6551,7585,7329.0118121135692,7367.7296133378459,7406.4474145621225,7445.1652157863973,7483.8830170106739,7522.6008182349506,7561.3186194592272,7600.0364206835029,1466466,1480166,1493512,1502703.5469999998,1515197.3910000001,1528305.4959999998]
["Q50","North Yorkshire And Humber ","E06000010","Kingston upon Hull, City of",350,295,330,35905,36850,37662,38187.160000000003,38715.311000000009,972,803.2,895.5,276,"Kingston upon Hull, City of",70,75,185,90,90,210,79.8,84.1,88.5,82,90,"Kingston upon Hull, City of",209,284,210,443,319,376,562,847,798,836,1122,1089,935,941,942,1013,890,824,749,892,930,849,923,851,1030,915,776,612,872,990,653,721,778,727,547,649,679,681,668,749,614,833,521,372,2052,2009,2031,1726,2356.4329809725159,2376.8006342494714,2397.1682875264269,2417.5359408033828,2437.9035940803383,2458.2712473572938,2478.6389006342492,2499.0065539112052,202300,202325,203153.82499999992,203784.321,204306.62100000016,"Kingston upon Hull, City of",463,476,423,441,397,426,459,424,503,463,435,485,453,485,498,506,462,488,590,575,668,635,576,589,568,537,514,551,530,493,556,537,647,603,699,653,553,569,567,617,541,556,600,646,679,660,606,644,609,584,538,550,501,532,586,575,697,597,1910,1731,1583,1858,1944.0178104524903,1971.5637515764863,1999.1096927004828,2026.6556338244793,2054.2015749484758,2081.7475160724725,2109.2934571964688,2136.8393983204651,256123,257204,257589,258020.81099999999,258628.742,259358.31599999999]
["Q63","South London ","E09000021","Kingston upon Thames",85,75,95,20505,21260,21808,22536.7,23078.965999999997,404.8,348.1,442.2,70,"Kingston upon Thames",50,40,45,60,50,55,82.3,77.599999999999994,82.1,103,125,"Kingston upon Thames",107,61,62,65,76,86,67,183,183,249,147,198,124,78,160,123,216,288,273,219,217,271,266,190,180,232,266,188,243,278,228,174,155,222,156,211,146,181,266,204,262,333,246,432,533,538,732,1011,865.08625792811836,901.43382663847785,937.78139534883712,974.12896405919673,1010.476532769556,1046.8241014799155,1083.1716701902749,1119.5192389006343,129000,131100,133249.12600000008,135312.40500000003,137386.44399999993,"Kingston upon Thames",175,190,183,194,195,207,188,204,231,168,157,137,111,162,135,138,150,141,148,151,153,169,112,152,173,165,154,167,149,177,181,175,193,196,212,180,195,179,204,233,237,207,204,223,253,243,200,208,217,219,190,209,197,203,194,204,225,203,651,626,609,623,648.35676274262516,657.02205543080379,665.68734811898241,674.35264080716104,683.01793349533978,691.6832261835184,700.34851887169702,709.01381155987576,160436,163906,166793,169696.73,172516.65599999999,175417.54399999999]
["Q52","West Yorkshire ","E08000034","Kirklees",440,375,360,64740,67460,69640,71381.403000000006,73109.429999999993,681.2,555.9,533.6,367,"Kirklees",100,135,160,110,155,175,92.6,88.9,89.8,178,190,"Kirklees",318,310,328,315,233,363,299,234,259,494,277,357,499,388,475,403,378,489,418,883,745,1011,1169,1424,1046,933,910,861,802,718,1115,1365,1468,1436,1261,931,1110,1020,865,936,716,628,662,701,4165,3061,2517,1991,3577.4033826638479,3759.4539112050738,3941.5044397463002,4123.5549682875262,4305.6054968287535,4487.656025369979,4669.7065539112054,4851.7570824524319,328200,330310,332800.25099999993,335160.77300000016,337499.12800000008,"Kirklees",720,662,620,643,562,679,727,819,842,658,727,761,704,751,675,700,626,684,776,786,1020,867,821,790,782,766,691,737,651,709,788,849,918,866,936,803,829,825,841,875,798,774,913,991,1077,873,854,952,891,846,759,797,709,720,871,830,1028,779,2679,2496,2226,2729,2727.991387000523,2760.4256052170167,2792.8598234335104,2825.2940416500046,2857.7282598664983,2890.1624780829925,2922.5966962994862,2955.0309145159799,422970,425517,428279,431002.19199999998,433836.16499999998,436787.67499999999]
["Q48","Merseyside ","E08000011","Knowsley",200,195,210,23095,23670,24037,24360.419000000002,24732.466999999993,866.1,819.5,882.9,181,"Knowsley",90,70,90,115,95,115,79.8,75.3,77.599999999999994,84,100,"Knowsley",110,405,178,63,144,102,163,291,133,212,217,149,181,202,236,272,180,177,143,212,131,172,116,218,192,145,102,132,182,318,189,189,162,268,157,172,213,135,220,308,220,290,295,154,587,520,748,739,646.15940803382659,655.09852008456653,664.03763213530647,672.97674418604652,681.91585623678645,690.85496828752639,699.79408033826633,708.73319238900626,113500,113703,113862.85600000003,114107.58100000002,114223.10900000001,"Knowsley",411,393,411,399,360,394,450,464,498,421,385,495,440,415,367,378,391,421,395,456,570,517,394,409,329,343,321,264,353,295,335,316,385,366,372,411,375,360,335,400,374,349,406,418,412,413,381,402,395,384,325,378,357,351,384,399,468,335,1196,1104,1086,1251,1084.6851641084008,1076.3086222276909,1067.9320803469809,1059.5555384662707,1051.178996585561,1042.802454704851,1034.4259128241411,1026.0493709434311,145903,145936,146086,145955.079,146038.89300000001,146149.61799999999]
["Q63","South London ","E09000022","Lambeth",185,175,185,23225,23735,24239,24263.491000000002,24610.716,805.1,728.8,775.2,160,"Lambeth",175,235,305,195,250,320,89.3,92.9,95.6,332,354,"Lambeth",310,298,477,449,284,173,225,308,289,319,335,444,371,332,266,338,280,321,514,491,593,375,459,473,460,418,424,368,928,914,737,853,830,647,576,561,741,759,779,912,559,494,438,450,2053,2061,2250,1382,2220.324101479916,2316.0057082452431,2411.6873150105712,2507.3689217758983,2603.0505285412264,2698.732135306554,2794.4137420718816,2890.0953488372097,248800,252274,255814.147,258981.95000000004,262285.44100000005,"Lambeth",349,358,363,384,336,329,368,400,442,418,389,352,360,407,374,344,374,376,357,400,514,443,371,426,428,409,419,386,372,397,420,478,469,478,458,399,426,421,445,410,395,459,440,443,512,462,443,455,469,433,415,428,370,477,445,477,494,306,1360,1317,1275,1416,1388.4679011965918,1402.178996585561,1415.8900919745302,1429.6011873634993,1443.3122827524685,1457.0233781414377,1470.7344735304068,1484.445568919376,304481,310200,314242,317737.67599999998,321327.46899999998,325105.40399999998]
["Q47","Lancashire ","E10000017","Lancashire",1970,1940,1810,212930,221035,227263,232529.48899999971,237289.13199999995,924.2,876.8,818.9,1939,"Lancashire",410,385,445,525,470,565,78.099999999999994,82,78.8,464,566,"Lancashire",1068,1107,865,2049,1944,2847,1948,2179,2437,2125,2612,2146,2110,2088,2341,2207,1734,2071,2469,2416,2045,2289,2506,3012,2857,2448,2295,2256,1859,2509,2001,2394,2134,2667,2505,2267,3018,2414,2341,2691,2091,2462,2198,2440,7306,7699,7123,7100,7888.6063424947151,8038.6431289640595,8188.6799154334039,8338.7167019027493,8488.7534883720928,8638.7902748414381,8788.8270613107816,8938.8638477801269,932700,936101,937366.46300000115,940626.39400000079,943505.4599999988,"Lancashire",2155,2138,2009,2122,1889,2004,2509,2534,2849,2267,2263,2515,2271,2197,2077,2113,1981,2161,2489,2452,3311,2630,2407,2607,2353,2227,2127,2185,2018,2096,2325,2327,2680,2524,2762,2603,2405,2534,2252,2455,2217,2213,2746,2890,2904,2639,2502,2766,2656,2345,2140,2226,2094,2268,2511,2573,3045,2019,7907,7141,6588,8129,7674.1286412993322,7720.8688978436739,7767.6091543880166,7814.3494109323583,7861.0896674766991,7907.8299240210399,7954.5701805653825,8001.3104371097243,1171558,1175979,1180076,1181020.7249999999,1184155.345,1187586.102]
["Q52","West Yorkshire ","E08000035","Leeds",760,775,650,110210,113350,115481,117764.44999999998,119621.258,687.8,684.6,572.6,756,"Leeds",55,60,80,65,70,90,85.7,89.7,90,269,300,"Leeds",1375,1666,1671,1647,1817,1679,2065,2046,1413,1613,1674,2330,2340,2037,2080,1977,2207,2422,2076,1329,1072,1394,1104,1751,1522,1673,1978,2067,1447,2013,1614,1803,1736,1171,1189,1391,2116,1369,1190,1345,1382,1502,2193,1840,4096,4876,3917,5535,4672.97822410148,4613.8864693446094,4554.7947145877388,4495.7029598308673,4436.6112050739957,4377.5194503171251,4318.4276955602545,4259.335940803383,600800,602908,611329.16100000031,615433.86999999965,619310.24600000004,"Leeds",1217,1191,1255,1243,1163,1276,1557,1457,1502,1301,1334,1463,1435,1390,1259,1309,1215,1310,1441,1498,1855,1778,1540,1671,1451,1624,1442,1468,1395,1457,1357,1452,1525,1421,1458,1378,1294,1372,1312,1360,1297,1268,1433,1431,1630,1303,1249,1270,1314,1297,1172,1227,1154,1173,1242,1290,1388,1278,3822,3783,3554,3920,3986.1523885693186,3972.8964286812875,3959.6404687932568,3946.3845089052256,3933.1285490171949,3919.8725891291642,3906.6166292411326,3893.3606693531019,750683,757655,761481,770068.13500000001,775666.22100000002,781245.42200000002]
["Q59","Leicestershire And Lincolnshire ","E06000016","Leicester",215,280,290,37395,38080,38755,39438.365000000013,40216.061999999998,580.29999999999995,735.3,764.2,260,"Leicester",155,180,200,200,220,230,77.2,83.1,87,0,0,"Leicester",549,713,606,797,579,410,719,693,831,837,576,560,587,650,489,390,406,356,527,672,523,698,802,774,978,817,896,1019,791,1015,703,750,1188,1289,1061,1280,1401,1056,1092,1034,871,1480,997,977,3538,3737,2997,3454,3492.9879492600421,3630.4380549682874,3767.8881606765326,3905.3382663847779,4042.7883720930231,4180.2384778012693,4317.6885835095136,4455.1386892177588,253200,254324,256128.31200000003,257793.01699999999,259335.31399999998,"Leicester",663,673,639,704,536,618,704,704,846,735,669,741,655,645,572,565,516,548,561,677,811,737,614,680,471,460,454,433,448,463,491,436,503,542,518,458,484,507,454,472,431,454,510,517,557,463,392,510,357,370,331,384,353,329,389,381,430,366,1365,1058,1066,1200,1001.0921283336921,945.81946537881799,890.5468024239442,835.27413946907006,780.00147651419616,724.72881355932213,669.456150604448,614.18348764957409,329627,331606,333812,335699.71399999998,337739.62800000003,339932.73700000002]
["Q59","Leicestershire And Lincolnshire ","E10000018","Leicestershire",805,930,920,116525,121930,126081,130328.52100000014,133952.47599999997,690.8,762.7,756.2,939,"Leicestershire",365,395,405,470,505,515,77.900000000000006,78.599999999999994,78.599999999999994,480,584,"Leicestershire",1174,1085,1269,882,1026,914,1065,1098,749,890,1121,912,1079,1062,978,903,868,838,970,824,762,1594,1343,1732,1954,1661,1518,1575,1387,1735,1093,1170,1327,1816,1355,1273,1397,1508,1912,1882,1931,2183,1630,1947,4498,4178,5725,5760,5466.972515856236,5665.3403805496819,5863.7082452431296,6062.0761099365754,6260.4439746300213,6458.8118393234672,6657.1797040169131,6855.547568710359,522200,526919,530419.6749999997,534195.16100000008,537924.18600000045,"Leicestershire",946,942,894,909,839,827,997,1056,1234,1034,998,1066,983,920,870,839,825,856,843,916,1323,1045,922,1023,799,691,711,738,732,706,777,752,930,960,811,830,847,872,789,844,769,744,842,876,992,880,841,869,705,672,591,633,621,645,677,663,820,657,2590,1968,1899,2160,2046.6940539542898,1999.7910117198317,1952.8879694853731,1905.984927250915,1859.0818850164569,1812.1788427819986,1765.2758005475405,1718.3727583130824,651179,656698,661575,665121.03800000006,669461.58599999989,673874.01199999999]
["Q63","South London ","E09000023","Lewisham",145,165,140,26220,26755,27124,27385.221000000001,27685.571999999996,560.70000000000005,612.9,527,147,"Lewisham",100,130,155,115,150,175,89.4,86.5,86.9,264,300,"Lewisham",73,60,87,159,217,119,116,164,131,80,150,104,107,138,112,230,356,163,325,319,174,316,294,454,488,197,254,374,196,233,197,170,190,184,165,165,273,344,252,224,340,346,420,225,539,782,816,991,978.03805496828761,1018.5951374207189,1059.1522198731502,1099.7093023255816,1140.2663847780127,1180.8234672304443,1221.3805496828754,1261.9376321353066,217000,220491,223564.58599999998,226820.44899999994,230015.20399999997,"Lewisham",400,379,409,408,380,404,440,402,458,410,392,380,395,436,376,388,363,395,416,435,509,430,399,383,388,434,400,413,391,393,380,434,471,427,420,388,442,473,399,417,381,402,481,464,494,465,417,369,429,416,420,449,385,422,459,433,458,369,1251,1265,1256,1350,1303.9595189024576,1308.9244824510133,1313.8894459995695,1318.854409548125,1323.8193730966809,1328.7843366452366,1333.7493001937924,1338.7142637423483,276938,281556,286180,289794.12900000002,293946.98499999999,298245.48700000002]
["Q59","Leicestershire And Lincolnshire ","E10000019","Lincolnshire",895,1215,1045,149150,155115,159953,164313.86200000005,168468.45599999986,600.1,784.6,674.3,1214,"Lincolnshire",430,655,870,580,900,1165,74.400000000000006,72.400000000000006,74.599999999999994,761,1000,"Lincolnshire",2023,1786,1657,1813,2175,1728,1486,2025,1925,1760,1816,1692,1830,1775,1720,1683,1449,1342,1285,1472,1507,1587,1401,1531,1382,1615,1610,1658,1414,1485,1477,1491,1557,1489,1463,1203,1448,1321,1345,1143,1324,1467,1394,1449,4509,3972,3812,4310,3793.2365750528538,3675.1323467230436,3557.0281183932339,3438.9238900634246,3320.8196617336143,3202.7154334038055,3084.6112050739953,2966.5069767441855,579100,583728,587562.19200000027,591829.05200000003,596120.31299999997,"Lincolnshire",1169,1190,1080,1125,977,1042,1227,1209,1347,1201,1222,1199,1157,1274,1108,1188,1071,1181,1259,1235,1468,1462,1272,1318,1307,1174,1113,1144,1134,1166,1247,1247,1463,1460,1436,1398,1318,1384,1298,1338,1218,1155,1435,1488,1681,1466,1379,1498,1459,1356,1312,1280,1174,1154,1281,1291,1502,1299,4343,4127,3608,4074,4256.5659971084933,4295.9922483004702,4335.418499492449,4374.8447506844259,4414.2710018764046,4453.6972530683815,4493.1235042603585,4532.5497554523363,714768,718838,724453,728287.65500000003,733219.51599999995,738418.09000000008]
["Q48","Merseyside ","E08000012","Liverpool",565,520,515,65715,67380,68278,69057.295000000013,69829.771999999997,859.8,771.8,767.3,472,"Liverpool",290,275,330,355,345,415,81.8,79.900000000000006,78.900000000000006,1886,2300,"Liverpool",1024,1217,1166,1255,976,720,638,658,710,732,811,741,831,744,775,904,1129,978,965,1103,996,904,856,887,994,830,1003,761,717,897,1188,1071,874,939,798,855,751,804,854,793,944,939,760,851,2611,2410,2591,2550,2565.4492600422836,2550.5095137420722,2535.5697674418607,2520.6300211416492,2505.6902748414377,2490.7505285412262,2475.8107822410147,2460.8710359408033,380300,381379,381404.93399999989,382069.32299999992,382665.13900000002,"Liverpool",1082,1123,1024,1030,966,1063,1228,1230,1383,1044,1104,1267,1157,1262,1044,1073,964,1066,1218,1221,1579,1364,1058,1029,879,900,823,814,840,939,937,931,957,1010,904,878,937,881,808,803,770,771,880,926,999,1029,912,974,903,897,832,816,808,810,814,905,1182,949,2915,2632,2434,2901,2435.3801408840632,2383.2757082654034,2331.1712756467441,2279.0668430280848,2226.9624104094255,2174.8579777907657,2122.753545172106,2070.6491125534467,465656,469690,470780,470355.022,470978.12800000003,471988.11599999998]
["Q58","Hertfordshire And The South Midlands ","E06000032","Luton",110,105,110,23995,24500,24981,25278.129000000004,25724.429999999997,462.6,432.7,449,106.8577733619,"Luton",145,120,95,250,165,115,57.8,73.900000000000006,80.3,118.13838750000002,145,"Luton",248,236,169,287,283,288,372,485,500,400,435,455,481,540,338,523,352,414,419,476,448,418,525,530,607,561,565,531,533,505,542,481,382,427,450,665,307,528,421,310,635,571,394,405,1259,1500,1366,1370,1617.6169133192388,1654.8968287526427,1692.1767441860463,1729.4566596194504,1766.7365750528543,1804.0164904862579,1841.2964059196615,1878.5763213530654,153000,154310,156818.00299999994,158759.35699999999,160760.12200000003,"Luton",363,349,364,321,287,286,389,379,430,378,350,426,361,354,341,330,324,339,415,386,504,376,375,389,383,351,316,381,306,393,382,466,508,469,439,464,404,429,392,441,370,428,430,484,507,465,446,440,476,468,411,393,381,392,441,483,590,385,1351,1355,1166,1514,1416.8819403857392,1436.2811221507889,1455.6803039158387,1475.0794856808884,1494.4786674459381,1513.8778492109877,1533.2770309760374,1552.6762127410871,203641,205843,207989,211110.94200000001,213695.91699999999,216419.11799999999]
["Q46","Greater Manchester ","E08000003","Manchester",380,400,375,47625,48430,48997,49392.116999999991,49894.067000000003,800,821.8,770.2,398,"Manchester",285,295,245,410,465,365,69.2,63.4,66.8,319,495,"Manchester",807,876,955,1218,1032,818,867,1027,786,935,1026,928,1057,957,840,803,619,622,763,729,828,720,749,932,892,590,655,796,767,1122,1123,1089,787,904,986,1179,925,690,755,721,561,705,759,911,2677,2794,2037,2375,2377.8355179704017,2352.2797040169135,2326.7238900634252,2301.1680761099369,2275.6122621564482,2250.0564482029595,2224.5006342494717,2198.9448202959834,400000,401609,405097.23699999996,407974.75700000016,411022.81799999991,"Manchester",975,936,922,952,847,1009,1126,1127,1081,934,1053,1136,1065,1102,1005,1135,986,987,1152,1257,1566,1346,1182,1310,1163,1207,1121,1092,953,1102,1217,1218,1233,1306,1130,1124,1180,1267,1178,1132,1105,1138,1335,1377,1432,1314,1331,1437,1277,1252,1089,1139,1039,1193,1276,1312,1481,1231,4082,3618,3371,4069,4010.6486819034726,4058.2374726998673,4105.826263496263,4153.4150542926573,4201.0038450890524,4248.5926358854467,4296.1814266818419,4343.7702174782371,502902,510772,514417,518245.12199999997,522148.13,526407.49699999997]
["Q67","Kent And Medway ","E06000035","Medway",295,295,245,37330,39105,40569,41707.519999999997,42716.178,795.6,759.5,626.5,267,"Medway",120,105,110,135,115,120,89.5,92.2,92.5,231,250,"Medway",607,242,317,480,515,600,358,343,254,229,252,246,252,369,315,303,154,224,140,268,335,252,246,290,399,235,277,175,197,237,199,170,265,352,311,219,235,185,204,255,238,206,355,635,928,639,697,1196,686.45264270613097,661.45433403805487,636.45602536997876,611.45771670190265,586.45940803382655,561.46109936575044,536.46279069767434,511.46448202959823,206800,209266,210863.77100000007,213004.57700000008,215061.64799999999,"Medway",467,447,375,400,334,366,436,455,550,406,452,471,477,440,393,385,429,428,495,515,497,477,461,480,470,392,410,368,392,405,466,481,528,500,518,551,502,466,441,463,448,405,484,531,542,496,445,499,505,448,416,465,383,420,523,491,599,417,1440,1369,1268,1613,1474.9092251376542,1484.5008459195915,1494.0924667015288,1503.6840874834661,1513.2757082654034,1522.8673290473407,1532.458949829278,1542.0505706112153,264885,268218,271105,272864.93199999997,275315.87699999998,277856.75199999998]
["Q63","South London ","E09000024","Merton",150,100,125,23215,23765,24227,24799.505999999998,25299.301999999996,641.79999999999995,420.8,517.6,100,"Merton",50,25,45,65,30,55,81,84.4,83.3,60,70,"Merton",171,103,237,198,85,160,133,126,241,221,149,73,86,135,103,128,100,42,183,85,129,160,58,90,116,113,73,150,132,150,157,174,160,123,173,207,96,115,156,158,77,130,32,99,456,418,391,261,337.56701902748415,330.29027484143762,323.01353065539115,315.73678646934468,308.46004228329809,301.18329809725162,293.90655391120509,286.62980972515862,157800,158248,161565.72300000006,163542.08299999998,165579.34800000009,"Merton",219,224,211,231,192,219,247,246,289,237,247,204,209,228,193,196,215,203,249,249,275,240,225,240,235,241,217,227,239,220,239,247,285,274,311,234,284,275,224,285,235,256,281,311,346,307,260,248,272,287,257,253,221,286,277,265,361,245,815,816,760,903,869.55372358423824,880.62287366575424,891.69202374727013,902.7611738287859,913.83032391030179,924.89947399181779,935.96862407333356,947.03777415484956,200543,202225,203223,207588.42499999999,210322.15,213186.84]
["Q45","Durham, Darlington And Tees ","E06000002","Middlesbrough",145,195,270,20835,21295,21662,22006.345000000001,22350.764999999999,691.1,911.1,1277.4000000000001,202.99831195658186,"Middlesbrough",60,65,65,70,80,80,81.7,83.3,85.9,70,83,"Middlesbrough",271,300,314,452,123,349,500,473,477,283,448,467,614,385,469,455,376,544,363,479,413,498,500,356,535,489,367,454,579,557,611,511,278,339,467,419,384,553,597,547,536,570,289,370,1084,1356,1680,1229,1521.8651162790698,1547.6264270613106,1573.3877378435518,1599.1490486257926,1624.9103594080336,1650.6716701902749,1676.4329809725159,1702.1942917547567,107100,107219,107793.485,108127.70099999999,108385.74700000002,"Middlesbrough",384,327,334,393,325,361,408,423,482,377,361,380,397,359,328,382,340,323,375,409,527,472,421,397,384,332,392,355,347,310,401,380,460,424,365,409,389,387,346,348,367,357,473,455,591,447,388,439,488,396,344,319,312,363,413,422,433,428,1274,1228,994,1268,1242.555169337722,1248.6366544649175,1254.7181395921129,1260.7996247193087,1266.8811098465042,1272.9625949736997,1279.0440801008954,1285.1255652280909,138368,138744,138939,139510.75,139937.432,140403.408]
["Q58","Hertfordshire And The South Midlands ","E06000042","Milton Keynes",240,230,200,27895,29490,30877,32445.806,33939.107999999993,867.5,779.9,671.4,239,"Milton Keynes",60,215,80,70,235,80,84.1,91.5,97.5,220,240,"Milton Keynes",222,657,308,296,383,384,431,369,381,335,385,337,319,268,262,180,237,263,207,291,224,288,237,312,343,191,308,329,411,219,301,247,304,451,354,686,803,591,500,423,543,627,496,553,1109,2080,1466,1676,1430.5570824524314,1471.6881606765328,1512.8192389006342,1553.9503171247356,1595.0813953488371,1636.2124735729385,1677.3435517970399,1718.4746300211414,189500,191511,194335.78700000007,196885.14400000003,199456.8060000001,"Milton Keynes",355,287,312,296,280,310,388,399,450,394,365,442,382,340,278,331,287,288,350,394,471,425,362,436,379,338,354,314,312,301,330,377,442,384,401,405,368,357,344,378,311,272,394,444,527,406,357,474,505,464,385,437,369,368,391,455,568,354,1237,1354,1174,1414,1293.0606293641761,1307.9198068227261,1322.7789842812761,1337.638161739826,1352.4973391983758,1367.3565166569258,1382.2156941154758,1397.0748715740258,249895,252358,255692,259456.66500000001,263051.12300000002,266701.11]
["Q49","Cumbria, Northumberland, Tyne And Wear ","E08000021","Newcastle upon Tyne",355,305,340,38895,40040,40813,41333.249000000003,42062.704000000005,917.9,766.7,844.2,318,"Newcastle upon Tyne",165,180,210,205,230,245,81.099999999999994,78.900000000000006,84.6,249,294,"Newcastle upon Tyne",942,862,1034,549,855,1181,1053,975,711,744,852,813,790,611,685,664,620,764,523,584,529,732,671,666,616,457,333,531,616,746,609,423,464,515,522,651,757,724,513,385,435,849,650,689,1501,2132,1333,2188,1443.1194503171246,1367.1395348837209,1291.159619450317,1215.1797040169131,1139.1997885835094,1063.2198731501053,987.23995771670172,911.26004228329805,227900,231453,229176.81500000009,229885.94099999993,230670.978,"Newcastle upon Tyne",510,483,489,464,416,481,581,496,526,397,384,414,383,411,396,435,378,405,408,431,525,495,477,536,435,395,382,386,373,357,444,421,547,472,493,495,614,592,590,611,487,401,487,492,530,426,391,504,453,561,488,540,418,505,609,594,621,489,1321,1502,1463,1824,1571.4962318127289,1585.1430988341692,1598.7899658556094,1612.4368328770497,1626.0836998984896,1639.73056691993,1653.3774339413699,1667.0243009628102,279092,282442,286821,284274.82400000002,285146.93800000002,286217.234]
["Q61","North East London ","E09000025","Newham",50,100,95,20700,21230,21869,22075.871000000003,22690.649000000001,246.4,480.4,447.4,103,"Newham",95,55,60,95,65,65,95.9,88.9,95.4,72,80,"Newham",516,363,440,477,423,395,457,603,483,508,649,654,653,588,675,642,614,642,578,592,470,628,484,425,373,571,474,301,367,325,94,1262,89,360,302,485,503,466,436,248,346,106,43,31,751,1454,1030,180,901.86384778012689,841.68689217758993,781.50993657505296,721.332980972516,661.15602536997881,600.97906976744184,540.80211416490488,480.62515856236791,234300,237000,244033.77799999999,248496.978,253134.24499999988,"Newham",130,174,176,160,144,174,187,183,193,160,165,167,188,176,184,154,158,152,161,212,236,180,150,183,196,209,195,160,141,143,192,221,206,174,187,173,156,193,199,168,149,162,198,198,209,203,179,170,177,203,145,167,122,166,161,162,160,127,552,525,455,483,518.69611492202159,518.2670029837891,517.8378910455566,517.40877910732411,516.97966716909161,516.55055523085912,516.12144329262662,515.69233135439413,310460,314084,318227,325102.88500000001,330328.06199999998,335954.739]
["Q56","East Anglia ","E10000020","Norfolk",1425,1515,1555,186930,194680,200310,205335.89899999992,209789.1039999999,761.3,778.7,799.3,1386,"Norfolk",550,610,885,630,690,1015,87.3,88.7,87,619,690,"Norfolk",1492,1542,1447,1540,1458,1631,1308,1300,1412,1507,928,1015,1483,1394,1710,1508,1528,1693,1870,1835,1597,1570,1890,2390,2897,2378,2470,2306,2806,3018,2380,2131,2991,3335,2769,2585,2928,2767,2898,2593,2000,1530,1956,2045,9095,8280,7491,5531,8411.7545454545452,8721.1090909090908,9030.4636363636364,9339.8181818181802,9649.1727272727276,9958.5272727272732,10267.881818181817,10577.236363636363,699500,703639,710213.86699999974,715694.21799999999,720945.321,"Norfolk",1378,1273,1203,1237,1188,1217,1486,1474,1520,1625,1456,1548,1381,1422,1306,1312,1205,1352,1406,1453,1804,1803,1537,1582,1500,1383,1400,1373,1308,1430,1392,1420,1731,1648,1569,1721,1653,1580,1426,1407,1382,1356,1664,1628,1803,1697,1668,1734,1741,1618,1577,1583,1540,1515,1624,1522,1824,1582,5099,4936,4638,4970,5069.1677074041045,5120.9089175305307,5172.650127656957,5224.3913377833833,5276.1325479098105,5327.8737580362367,5379.614968162663,5431.3561782890902,859426,865302,870146,876599.16400000011,882569.15899999999,888799.41800000006]
["Q50","North Yorkshire And Humber ","E06000012","North East Lincolnshire",140,210,205,28515,29480,30145,30730.026000000005,31272.061999999998,491,705.5,698.8,195,"North East Lincolnshire",70,50,50,70,55,55,98.6,98.1,94.4,61,69,"North East Lincolnshire",230,203,180,152,330,201,187,180,273,225,250,396,244,195,421,305,373,237,240,348,415,127,114,200,389,350,297,273,257,219,132,282,293,275,482,466,455,334,408,97,294,384,223,190,1050,1255,799,797,972.44291754756864,991.03911205073985,1009.6353065539113,1028.2315010570824,1046.8276955602537,1065.423890063425,1084.0200845665963,1102.6162790697674,125400,125404,125675.34100000001,125951.38200000004,126136.242,"North East Lincolnshire",237,229,247,213,218,221,215,237,306,230,222,242,196,207,204,181,162,203,273,238,344,320,224,254,238,204,213,221,202,212,223,238,297,243,250,264,244,258,254,254,266,239,262,367,371,322,267,310,339,293,308,325,285,274,294,278,336,222,899,940,884,908,916.93035774708551,930.92605124734689,944.92174474760827,958.91743824786977,972.91313174813126,986.90882524839265,1000.9045187486543,1014.9002122489155,159735,159727,159827,159832.45199999999,159998.84599999999,160191.78899999999]
["Q50","North Yorkshire And Humber ","E06000013","North Lincolnshire",200,205,225,30315,31545,32522,33431.636000000006,34332.663,666.3,649.9,706.9,203,"North Lincolnshire",70,95,90,85,105,100,81.900000000000006,92.2,90,106,113,"North Lincolnshire",91,71,71,60,188,228,311,372,233,232,76,90,88,98,61,127,197,113,120,77,15,48,67,90,146,121,101,76,75,100,61,118,92,139,91,94,140,92,124,355,254,221,197,301,322,326,733,719,456.99471458773792,462.91860465116275,468.8424947145877,474.76638477801265,480.6902748414376,486.61416490486255,492.5380549682875,498.46194503171245,132900,133409,134432.63499999998,135200.15599999999,135947.36499999993,"North Lincolnshire",310,295,254,309,233,239,299,306,335,278,282,291,287,290,248,260,273,306,310,301,384,360,292,355,332,264,241,269,226,311,271,267,328,339,336,334,311,322,337,345,271,291,345,446,496,463,403,455,444,420,358,416,381,420,402,417,479,431,1321,1222,1217,1298,1280.318127287828,1306.5055830693036,1332.6930388507799,1358.8804946322557,1385.0679504137315,1411.2554061952076,1437.4428619766832,1463.6303177581594,167516,168372,168760,169816.45,170606.93400000001,171448.285]
["Q65","Bristol, North Somerset, Somerset And South Gloucestershire ","E06000024","North Somerset",325,325,320,43045,44795,46236,47760.094000000005,48969.013000000006,757.3,723.3,718.8,305,"North Somerset",80,70,70,95,85,80,83.2,84.5,84.1,0,0,"North Somerset",342,301,115,194,151,164,217,205,261,205,269,170,188,164,307,198,285,326,268,373,487,297,338,335,380,331,394,432,314,521,580,651,650,553,457,254,351,585,644,844,559,383,405,564,1660,1190,2047,1352,1782.835940803383,1871.0625792811841,1959.2892177589852,2047.5158562367862,2135.7424947145882,2223.9691331923891,2312.19577167019,2400.4224101479922,162600,163910,165823.91500000001,167539.22800000003,169110.53799999997,"North Somerset",257,245,199,221,195,243,237,259,297,229,259,251,264,212,197,216,218,235,280,221,298,256,204,177,188,170,178,160,180,231,201,212,284,242,258,263,266,219,205,238,211,214,228,252,330,273,239,281,295,237,255,237,244,252,255,209,277,259,793,787,733,741,749.61093850933594,753.33258482266456,757.05423113599318,760.7758774493218,764.49752376265042,768.21917007597892,771.94081638930766,775.66246270263628,203091,204385,206135,208335.70699999999,210427.02900000001,212562.486]
["Q49","Cumbria, Northumberland, Tyne And Wear ","E08000022","North Tyneside",305,280,280,35585,36905,37836,38633.938000000009,39423.298999999992,854.2,756,758.7,253,"North Tyneside",155,285,260,175,315,285,87.6,89.6,91.3,296,315,"North Tyneside",189,265,288,297,293,209,241,260,207,204,166,164,94,86,123,148,162,255,186,144,242,294,149,271,297,243,196,261,218,314,171,243,311,391,328,240,245,410,248,247,234,394,327,197,1030,895,729,918,867.33890063424951,887.08816067653277,906.83742071881602,926.58668076109927,946.33594080338253,966.08520084566578,985.83446088794926,1005.5837209302326,161100,161678,163217.70900000006,164319.52999999997,165422.68100000004,"North Tyneside",478,468,445,461,448,433,558,491,581,522,514,573,481,518,488,464,460,501,492,502,710,630,578,524,492,497,445,439,482,453,498,506,564,567,590,604,534,562,469,526,496,499,470,547,579,503,433,514,492,423,379,393,414,423,442,440,597,462,1450,1294,1230,1479,1449.359900335292,1444.427604663324,1439.4953089913563,1434.5630133193886,1429.6307176474209,1424.6984219754531,1419.7661263034852,1414.8338306315175,201206,201446,202152,203668.73199999999,204881.728,206125.41200000001]
["Q50","North Yorkshire And Humber ","E10000023","North Yorkshire",610,675,680,124320,129800,133541,137667.08600000001,140882.61699999988,489.9,518.5,525.4,656,"North Yorkshire",475,395,485,510,460,565,92.6,85.7,85.5,408,475,"North Yorkshire",645,859,732,953,847,1361,995,976,857,804,742,1059,825,967,585,916,1064,1154,1026,971,1156,1132,807,1097,1401,1211,1162,1132,1069,1252,1292,1228,811,868,1047,897,751,1058,1163,954,1048,1182,1000,1225,2726,2706,3165,3407,3407.7238900634247,3457.3279069767441,3506.9319238900639,3556.5359408033823,3606.1399577167022,3655.7439746300215,3705.3479915433404,3754.9520084566593,484100,484432,487300.91399999987,489218.29500000016,491166.68800000026,"North Yorkshire",904,880,825,796,814,899,933,970,1110,976,948,1052,942,947,916,872,852,905,1018,983,1282,1109,944,1030,959,955,878,832,840,894,922,1030,1181,1006,1082,1057,968,1020,916,1034,893,904,1014,1078,1199,1160,1026,1026,1103,1053,880,998,879,966,1026,1042,1240,996,3212,3036,2843,3308,3188.1948383524559,3210.5130886831339,3232.8313390138119,3255.1495893444894,3277.4678396751665,3299.786090005844,3322.104340336522,3344.4225906672,601206,602628,602749,605153.83600000001,606636.17200000002,608311.59100000001]
["Q58","Hertfordshire And The South Midlands ","E10000021","Northamptonshire",860,845,880,107290,112910,117433,121580.77499999997,125359.13100000005,802.5,748.4,780.3,841,"Northamptonshire",400,385,290,580,550,495,68.900000000000006,69.599999999999994,58.9,410,550,"Northamptonshire",2328,2224,1869,1959,1590,1405,1479,1584,1404,1511,1408,1343,2024,1708,1574,1788,2103,1937,2175,2198,1776,2151,2009,2094,1951,2045,2797,2834,3002,3192,2581,2500,2524,2470,2180,2529,2554,2048,2256,2707,3859,3743,4030,5105,7174,7131,8822,12878,9958.2509513742079,10354.341014799153,10750.431078224101,11146.521141649049,11542.611205073996,11938.701268498942,12334.791331923889,12730.881395348835,542800,547423,551850.59900000039,556679.31700000016,561473.4840000004,"Northamptonshire",1098,1036,1026,919,874,912,1142,1045,1344,1139,1137,1207,1092,1090,1050,983,993,1035,1104,1089,1532,1280,1107,1109,1094,1111,1046,1062,1091,1064,1139,1193,1396,1225,1237,1165,1137,1260,1079,1066,1007,1039,1271,1353,1462,1184,1149,1312,1379,1208,1194,1186,1095,1192,1249,1277,1582,1179,3645,3781,3473,4108,3873.9513365529547,3911.5288074071796,3949.106278261404,3986.6837491156293,4024.2612199698542,4061.8386908240791,4099.416161678304,4136.9936325325289,693967,700576,706647,712217.36499999987,718282.46200000006,724532.91600000008]
["Q49","Cumbria, Northumberland, Tyne And Wear ","E06000048","Northumberland",450,440,345,63875,66690,68997,71103.488000000012,73002.305999999997,707.7,659.8,517.29999999999995,521,"Northumberland",425,475,415,460,525,450,92.8,90.8,92.2,490,525,"Northumberland",171,301,314,433,338,545,823,689,494,473,286,338,346,424,434,416,254,291,335,265,370,389,497,526,419,481,497,364,320,337,236,304,368,335,382,392,303,283,252,329,323,538,471,323,1085,978,904,1332,1039.0596194503171,1023.6581395348835,1008.2566596194501,992.85517970401679,977.45369978858344,962.05221987314985,946.6507399577165,931.24926004228314,255100,255418,256589.13400000002,257392.06200000001,258163.3869999999,"Northumberland",602,627,538,614,546,669,705,636,693,637,627,729,654,688,643,584,660,681,711,727,923,806,755,800,749,700,627,610,662,677,670,635,819,777,731,732,747,742,736,697,699,653,676,643,874,620,566,627,640,582,506,584,549,562,622,587,719,631,1813,1728,1695,1928,1974.0859146697835,1970.5511396843951,1967.0163646990063,1963.4815897136177,1959.9468147282291,1956.4120397428403,1952.8772647574515,1949.3424897720629,316278,316116,315806,316762.74300000002,317222.58,317747.65100000001]
["Q55","Derbyshire And Nottinghamshire ","E06000018","Nottingham",335,500,265,35615,36185,36696,36849.93,37257.887000000002,935,1376.3,729.6,435,"Nottingham",65,75,185,80,100,300,79.7,76,61.5,81,100,"Nottingham",789,779,640,825,883,860,1939,1613,1305,1352,1291,1428,1329,1295,1333,1498,1441,1169,1003,1143,932,1016,951,1003,1113,988,936,933,1029,1156,998,1155,1037,826,798,869,752,896,809,1244,937,785,516,789,2661,2517,2990,2090,2582.3750528541227,2508.3194503171248,2434.2638477801274,2360.2082452431291,2286.1526427061312,2212.0970401691338,2138.0414376321355,2063.9858350951376,245700,246983,248300.40100000004,249536.78000000003,250783.44100000008,"Nottingham",475,483,481,485,490,436,554,552,564,539,510,536,511,497,456,455,466,499,527,503,659,580,499,548,454,483,464,437,449,430,490,489,555,608,508,533,572,516,528,537,515,540,611,605,693,531,127,601,519,492,459,443,363,441,489,497,569,447,1259,1470,1247,1555,1492.8975053062229,1490.809529668707,1488.7215540311913,1486.6335783936756,1484.5456027561597,1482.457627118644,1480.3696514811281,1478.2816758436124,303899,308735,310837,312186.09700000001,313809.21799999999,315559.26]
["Q55","Derbyshire And Nottinghamshire ","E10000024","Nottinghamshire",960,970,975,143730,149420,154088,157948.41900000005,161709.11400000003,668.6,648.5,651.20000000000005,950,"Nottinghamshire",640,630,525,720,755,590,89.2,83.2,88.8,653,755,"Nottinghamshire",1624,1274,1364,1689,1938,2011,1787,2276,2244,2432,3144,3316,3432,3464,3064,2973,2897,3125,3115,3444,3169,2807,2895,3240,3144,3029,2877,2968,3186,3592,2115,3200,2890,2719,2316,2546,2501,2251,2255,2406,2850,2723,2346,2580,7925,7298,7511,7649,8950.9562367864692,9073.3587737843554,9195.7613107822399,9318.1638477801262,9440.5663847780124,9562.9689217758987,9685.3714587737832,9807.7739957716694,628000,633576,635757.3199999996,640001.53400000033,643866.88699999999,"Nottinghamshire",1254,1218,1239,1110,1161,1237,1392,1374,1526,1383,1275,1353,1322,1280,1213,1220,1173,1242,1323,1302,1573,1540,1348,1404,1320,1295,1140,1167,1198,1182,1242,1292,1514,1497,1447,1438,1393,1413,1365,1363,1306,1224,1474,1511,1702,1560,1059,1515,1458,1337,1237,1314,1229,1226,1338,1372,1577,1249,4134,4032,3769,4287,4206.2519302347037,4224.8958749884641,4243.5398197422246,4262.1837644959851,4280.8277092497456,4299.471654003506,4318.1155987572665,4336.759543511027,786796,790173,796216,798309.00699999998,802758.43799999997,807355.07300000009]
["Q46","Greater Manchester ","E08000004","Oldham",205,225,250,33150,34305,35357,35890.811999999998,36580.33,624.4,653,725.9,224,"Oldham",120,130,160,145,160,190,82.6,82,85.6,139,160,"Oldham",101,184,170,203,192,80,190,190,154,173,157,200,140,221,322,240,211,230,227,202,149,143,130,195,223,116,54,72,69,129,132,134,122,95,99,169,185,174,170,170,202,224,146,253,316,528,542,623,469.2509513742072,465.25010570824526,461.24926004228331,457.24841437632136,453.24756871035942,449.24672304439747,445.24587737843552,441.24503171247358,169200,170144,170664.2980000001,171627.10799999992,172405.97400000007,"Oldham",501,392,425,429,452,518,556,549,578,481,474,519,482,512,489,489,455,536,601,651,725,653,575,674,627,601,546,567,546,569,626,574,681,625,621,582,574,639,558,507,540,557,607,642,723,640,560,652,583,599,572,551,540,545,595,575,695,560,1852,1754,1636,1865,1916.4489833584546,1936.293611000031,1956.1382386416071,1975.9828662831831,1995.8274939247594,2015.6721215663358,2035.5167492079117,2055.3613768494879,225157,225875,227312,227516.421,228452.005,229399.908]
["Q69","Thames Valley ","E10000025","Oxfordshire",555,580,625,104640,109015,112426,115693.13499999995,118779.95000000001,532.29999999999995,533.9,574.20000000000005,546,"Oxfordshire",525,345,375,615,480,435,85.2,71.7,86.2,400,500,"Oxfordshire",3327,4621,4992,4583,4932,3486,3154,4742,4029,4075,3565,4196,4819,5635,6335,5327,5969,5437,5784,6332,5775,5467,4976,4488,4492,4762,4350,3436,3628,4876,5224,5552,4953,4241,4113,4379,4710,4917,4818,4184,4445,4564,4304,4116,13307,14006,13447,12984,14137.882452431291,14148.724312896404,14159.566173361522,14170.408033826639,14181.249894291755,14192.09175475687,14202.933615221988,14213.775475687104,521400,525858,526767.17799999984,529940.62399999995,533140.44900000014,"Oxfordshire",828,721,738,719,685,751,808,844,968,868,803,820,771,793,759,783,724,749,852,824,994,838,744,816,819,768,801,763,808,726,761,872,946,859,798,826,766,890,787,884,793,842,945,978,1065,988,878,899,915,865,795,884,792,845,941,925,1055,791,2765,2575,2521,2921,2752.7249377095573,2775.4008736042329,2798.076809498908,2820.7527453935836,2843.4286812882588,2866.1046171829339,2888.7805530776091,2911.4564889722842,654791,660772,666082,668170.74100000004,672255.38900000008,676596.10000000009]
["Q56","East Anglia ","E06000031","Peterborough",140,125,155,25075,25980,26644,27225.861999999997,27878.891000000003,554.29999999999995,481.2,592.79999999999995,147,"Peterborough",110,160,50,125,200,65,88.9,78.599999999999994,73.8,400,800,"Peterborough",123,200,208,198,184,245,242,270,250,207,190,191,258,289,125,127,130,143,147,244,195,204,271,220,242,172,266,440,463,397,246,416,559,677,573,447,690,658,582,433,535,660,410,589,1809,1795,1550,1659,1734.2416490486262,1831.0268498942919,1927.8120507399576,2024.5972515856238,2121.3824524312895,2218.1676532769561,2314.9528541226218,2411.7380549682875,141400,142556,144611.56499999994,146185.34999999995,147792.94799999997,"Peterborough",332,378,354,323,291,290,384,372,399,321,280,311,256,296,253,264,281,234,305,343,404,306,318,312,318,325,294,266,305,296,327,318,397,389,394,329,338,336,351,351,292,309,339,375,447,354,344,331,334,313,284,287,274,312,317,395,490,348,1029,931,873,1202,1045.7686794426158,1051.1743824786981,1056.5800855147806,1061.9857885508629,1067.3914915869452,1072.7971946230275,1078.2028976591098,1083.6086006951921,184457,186372,188373,190754.003,192953.24900000001,195250.54800000001]
["Q66","Devon, Cornwall And Isles Of Scilly ","E06000026","Plymouth",305,305,290,41995,43475,44485,45400.310000000005,46174.205999999998,726.3,697,664.7,290,"Plymouth",510,335,300,635,375,370,80.3,89.3,80.8,337,375,"Plymouth",734,562,641,597,371,420,507,382,349,523,376,446,452,193,283,355,387,460,294,380,254,555,484,658,863,571,416,364,270,616,332,531,481,874,742,731,830,746,1188,537,726,978,1024,1285,2097,2307,2451,3287,2447.3052854122625,2544.1450317124732,2640.9847780126847,2737.8245243128963,2834.6642706131079,2931.504016913319,3028.3437632135301,3125.1835095137421,207100,207877,209033.59300000002,209832.99199999994,210494.71799999996,"Plymouth",222,235,226,215,195,206,255,256,301,273,301,301,240,215,229,202,199,182,230,289,301,229,217,269,222,186,175,199,182,164,191,221,252,244,239,275,235,203,211,191,165,172,205,242,267,218,226,274,534,554,459,483,464,437,458,439,599,440,718,1547,1384,1496,1158.9770832692484,1190.4550739795134,1221.9330646897781,1253.4110554000431,1284.8890461103078,1316.3670368205726,1347.8450275308378,1379.3230182411023,256589,258026,259175,260354.747,261315.05499999999,262277.96999999997]
["Q70","Wessex ","E06000044","Portsmouth",235,240,215,27560,28480,28981,29486.730999999992,29920.294999999998,856.3,849.7,747.9,247,"Portsmouth",85,150,80,120,210,100,70.5,71.599999999999994,81.8,229,300,"Portsmouth",419,457,463,547,355,438,284,342,130,126,159,86,184,246,300,270,201,150,204,135,221,238,123,108,165,150,78,113,69,159,86,103,85,151,56,121,179,258,267,176,117,103,81,63,292,558,560,247,142.59661733615224,84.500634249471432,26.404651162790799,0,0,0,0,0,164400,164660,167223.07200000001,168437.182,169697.33200000005,"Portsmouth",357,339,361,338,297,323,354,357,432,342,329,321,291,256,260,238,223,272,302,309,439,320,334,360,324,283,261,279,263,245,277,311,380,284,304,270,243,222,210,256,198,230,220,294,339,216,197,237,278,201,172,203,175,209,249,287,296,247,650,651,587,832,632.01608785259464,611.98680365437269,591.95751945615064,571.92823525792858,551.89895105970663,531.86966686148457,511.84038266326252,491.81109846504046,205433,206836,207460,210054.69500000001,211516.71799999999,213011.845]
["Q69","Thames Valley ","E06000038","Reading",140,170,115,17905,18470,18840,19249.667999999994,19537.066999999999,776.4,931.3,633.5,158,"Reading",110,60,80,125,70,90,87.2,84.5,87.8,66,70,"Reading",234,454,315,272,233,295,229,304,311,274,238,346,362,203,219,182,248,311,171,293,166,218,165,236,147,204,112,195,227,264,149,195,257,312,295,308,270,227,264,442,333,575,334,293,864,805,1039,1202,846.12325581395339,852.45813953488368,858.79302325581398,865.12790697674404,871.46279069767434,877.79767441860463,884.13255813953481,890.4674418604651,122900,124171,123838.17999999995,124415.05900000002,124970.53,"Reading",240,220,173,181,176,188,209,257,283,255,194,226,245,234,202,201,186,190,203,191,308,277,238,243,232,231,186,173,165,175,188,198,225,212,240,185,177,212,171,218,172,189,203,241,249,216,223,219,228,212,217,211,198,190,224,240,247,187,658,657,599,711,630.79104248054387,629.93780183949059,629.08456119843731,628.23132055738415,627.37807991633088,626.5248392752776,625.67159863422432,624.81835799317105,155339,157112,159247,158834.223,159764.003,160697.87100000001]
["Q61","North East London ","E09000026","Redbridge",85,110,115,33575,34365,35016,35551.450000000004,36230.370000000003,259.10000000000002,323,337.6,90,"Redbridge",200,265,190,290,325,235,69.7,81.5,81,292,338,"Redbridge",392,443,502,265,309,153,253,439,540,373,414,471,398,496,392,394,318,1108,529,683,404,467,489,416,512,421,397,428,372,227,342,296,252,446,194,120,319,315,205,504,374,525,330,221,892,754,1083,1076,1021.6585623678649,1000.2145877378437,978.77061310782256,957.32663847780123,935.88266384778012,914.43868921775902,892.99471458773792,871.55073995771681,212700,215220,220330.80999999991,224279.08099999998,228122.86399999997,"Redbridge",368,405,384,391,363,376,444,443,433,395,379,401,399,430,394,391,384,421,416,450,473,457,416,452,456,469,443,443,411,459,496,456,477,494,412,455,464,496,447,480,409,436,461,482,532,482,473,472,487,456,402,463,437,412,488,445,491,461,1427,1345,1312,1424,1460.397213079455,1473.3951521117231,1486.3930911439911,1499.3910301762589,1512.388969208527,1525.386908240795,1538.3848472730629,1551.3827863053311,281395,284617,288272,295093.53100000002,300473.022,305979.49200000003]
["Q45","Durham, Darlington And Tees ","E06000003","Redcar and Cleveland",245,250,215,26425,27395,28019,28698.743999999995,29223.231,923.4,916.2,784.8,219,"Redcar and Cleveland",25,40,65,30,40,80,90,97.6,80.8,43,51,"Redcar and Cleveland",234,271,485,490,433,390,438,423,518,390,409,583,371,513,589,747,527,445,642,526,503,626,506,413,410,466,432,550,406,720,495,567,314,355,570,548,403,427,414,471,385,493,463,428,1239,1378,1270,1384,1472.803382663848,1479.872093023256,1486.9408033826639,1494.0095137420719,1501.0782241014799,1508.1469344608881,1515.2156448202961,1522.2843551797041,107500,107472,107610.97199999998,107715.249,107749.986,"Redcar and Cleveland",336,268,263,282,250,285,344,330,386,303,294,308,300,271,288,236,272,252,319,352,397,396,323,372,317,299,290,265,296,286,317,340,396,313,332,331,321,320,316,334,322,318,329,325,443,352,302,336,366,344,291,295,291,322,318,413,403,358,990,1001,908,1134,1058.7828601310405,1067.5766095542772,1076.3703589775139,1085.1641084007506,1093.9578578239871,1102.7516072472238,1111.5453566704605,1120.3391060936972,135164,134998,134945,134750.10999999999,134740.378,134758.057]
["Q63","South London ","E09000027","Richmond upon Thames",105,135,115,25500,26590,27465,28247.316999999995,28900.364000000005,407.8,503.9,436.2,105,"Richmond upon Thames",120,110,185,140,150,210,83.7,74.3,88.5,128,150,"Richmond upon Thames",315,178,78,41,186,219,134,143,50,88,115,122,112,167,235,304,203,308,462,466,255,262,304,339,178,223,216,307,277,369,433,258,311,240,276,206,254,316,432,337,343,355,277,393,827,776,1112,1025,1117.4890063424948,1163.6452431289642,1209.8014799154334,1255.9577167019029,1302.1139534883723,1348.2701902748415,1394.426427061311,1440.5826638477804,147300,148509,150456.75700000001,151993.19399999996,153791.60499999998,"Richmond upon Thames",192,197,176,217,171,214,223,250,223,221,188,176,158,200,197,180,181,164,214,206,234,192,155,183,186,176,180,186,181,206,222,214,234,221,219,186,204,226,237,199,208,200,237,229,271,229,210,198,217,234,206,225,167,195,199,200,230,198,637,657,587,629,649.01713371681694,652.38635454797134,655.75557537912584,659.12479621028024,662.49401704143474,665.86323787258914,669.23245870374365,672.60167953489804,187527,189145,191365,194039.24299999999,196510.10399999999,199126.98]
["Q46","Greater Manchester ","E08000005","Rochdale",260,240,250,31035,32230,33038,33715.188000000002,34454.507999999994,831.3,750.9,778.8,235,"Rochdale",120,1065,125,165,1515,165,70.7,70.2,77.400000000000006,284,379,"Rochdale",229,327,337,278,287,434,327,400,227,214,457,432,258,266,250,299,156,88,49,94,121,84,193,241,176,151,141,296,334,206,233,239,184,245,176,285,252,190,179,51,170,241,154,180,605,727,400,575,446.6133192389006,415.44693446088786,384.28054968287529,353.11416490486255,321.94778012684981,290.78139534883724,259.6150105708245,228.44862579281178,161300,161558,162198.777,162688.37399999998,163140.12800000006,"Rochdale",506,480,421,449,446,484,626,542,548,443,447,521,490,491,463,474,473,478,518,547,661,575,500,535,626,579,591,566,543,541,561,562,721,629,635,618,656,648,528,581,562,564,615,649,688,578,578,684,594,544,453,531,462,491,549,513,710,597,1840,1591,1484,1772,1854.1972992094495,1872.2584822664489,1890.3196653234486,1908.3808483804485,1926.4420314374479,1944.5032144944473,1962.5643975514472,1980.6255806084469,211929,212020,212120,212742.25899999999,213193.95699999999,213697.24600000001]
["Q51","South Yorkshire And Bassetlaw ","E08000018","Rotherham",415,345,325,45130,46645,47792,48841.529999999992,49863.968000000008,917.3,739.6,694.6,317,"Rotherham",120,110,115,140,130,130,85.5,86.7,87.7,117,130,"Rotherham",163,248,599,475,389,175,219,180,212,340,442,240,286,423,282,253,214,229,151,162,165,115,219,292,315,372,347,322,147,130,244,112,334,294,193,153,224,296,313,244,231,330,354,412,821,673,788,1096,742.77441860465103,734.54059196617322,726.30676532769542,718.07293868921772,709.83911205073991,701.60528541226211,693.3714587737843,685.13763213530649,202200,202588,203866.61500000005,204794.26199999996,205610.06300000008,"Rotherham",617,546,542,591,556,509,647,597,705,608,551,583,644,618,578,593,537,602,629,707,708,722,627,651,661,592,581,574,584,614,642,617,710,677,688,631,603,592,524,495,524,497,527,627,676,647,634,582,606,523,468,498,468,513,561,551,704,544,1863,1597,1479,1816,1709.1896705527702,1701.7477621581718,1694.3058537635734,1686.8639453689748,1679.4220369743766,1671.980128579778,1664.5382201851796,1657.0963117905812,257716,258352,258689,259888.98300000001,260781.595,261739.33199999999]
["Q59","Leicestershire And Lincolnshire ","E06000017","Rutland",40,55,45,7960,8245,8544,8808.5540000000001,9076.5010000000002,502.4,691.4,521.6,47,"Rutland",50,0,20,50,25,30,96.2,0,62.1,5,30,"Rutland",56,30,38,38,68,187,75,65,40,2,49,61,35,79,36,80,53,50,63,25,137,195,109,29,41,108,152,84,60,98,140,153,100,78,115,128,169,173,115,141,42,67,93,140,293,470,298,300,386.00993657505279,402.23847780126852,418.46701902748418,434.6955602536998,450.92410147991541,467.15264270613108,483.38118393234674,499.60972515856236,29200,29838,29151.670000000002,29200.405000000006,29300.604999999996,"Rutland",58,50,47,53,45,48,46,58,67,45,49,63,32,43,40,47,41,30,48,45,61,54,46,52,44,43,41,42,25,27,35,34,46,51,45,42,45,44,34,42,47,36,43,51,59,36,39,50,56,51,34,43,38,37,50,48,46,45,125,141,118,144,123.74628564397551,122.6740594912178,121.60183333846011,120.52960718570242,119.45738103294472,118.38515488018703,117.31292872742934,116.24070257467162,37581,37015,37606,36928.707000000002,36985.343999999997,37086.453000000001]
["Q46","Greater Manchester ","E08000006","Salford",295,310,310,33320,34315,34897,35249.821000000004,35744.223000000005,885.3,900.4,906.3,310,"Salford",445,265,150,540,335,200,82.7,78.8,73.599999999999994,272,335,"Salford",600,484,616,562,505,399,407,576,421,476,360,406,264,300,228,329,469,445,422,392,315,295,127,135,187,183,280,260,272,329,286,315,516,472,576,386,411,518,341,476,376,548,495,375,1564,1315,1193,1418,1057.6268498942918,1043.4989429175475,1029.3710359408033,1015.2431289640592,1001.115221987315,986.9873150105708,972.85940803382664,958.73150105708237,185500,186744,189546.32499999992,191525.83899999998,193409.66399999996,"Salford",503,479,465,481,417,470,571,578,591,496,518,637,564,619,524,536,500,536,503,601,756,639,545,609,565,530,504,468,478,450,523,558,638,571,649,582,510,589,536,551,503,525,595,618,653,595,496,626,616,488,459,503,472,489,577,608,689,552,1717,1563,1464,1874,1725.7259835737793,1732.6969762219692,1739.6679688701588,1746.6389615183484,1753.6099541665385,1760.5809468147281,1767.5519394629177,1774.5229321111078,234487,237085,239013,242140.65400000001,244716.47399999999,247338.76500000001]
["Q54","Birmingham And The Black Country ","E08000028","Sandwell",285,320,290,47015,47625,48046,48659.07699999999,49157.76400000001,610.4,674,611,320,"Sandwell",110,150,145,135,205,215,83.6,72.7,68.099999999999994,164,205,"Sandwell",1355,1669,1709,1775,1623,1370,1727,2101,1729,1635,1988,2145,2391,1747,1119,1380,1679,1401,1336,1150,1021,1304,704,704,600,766,525,710,940,898,695,750,767,776,704,602,916,864,735,632,667,792,798,915,2247,2382,2034,2505,1328.8503171247357,1047.4985200845665,766.14672304439728,484.79492600422873,203.4431289640595,0,0,0,235600,237462,239599.03299999997,241665.64,243715.27599999998,"Sandwell",664,635,616,604,583,656,702,725,885,704,712,719,712,664,661,666,597,663,700,701,878,748,688,727,670,664,617,620,591,618,718,683,824,833,811,741,767,782,711,758,667,677,799,898,923,776,712,857,830,704,691,681,632,669,730,844,871,775,2345,2225,1982,2445,2365.786582177243,2384.8109139007661,2403.8352456242887,2422.8595773478114,2441.8839090713345,2460.9082407948572,2479.9325725183799,2498.9569042419025,309042,311304,314329,316726.75599999999,319570.96500000003,322543.61599999998]
["Q48","Merseyside ","E08000014","Sefton",520,485,485,57365,59130,60189,61188.698999999993,62102.954000000012,903,821.9,818.5,0,"Sefton",335,270,185,385,310,200,87.7,87.1,91,0,0,"Sefton",378,449,368,299,252,219,267,271,339,246,138,263,395,352,349,222,238,297,302,339,254,156,341,509,412,481,436,392,389,562,466,486,537,413,477,326,326,434,526,479,478,447,430,680,1427,1086,1483,1557,1511.0862579281184,1561.0701902748415,1611.0541226215648,1661.0380549682875,1711.0219873150108,1761.005919661734,1810.9898520084569,1860.9737843551798,219900,219646,220482.94799999992,221017.40899999999,221321.20899999997,"Sefton",580,589,514,560,527,540,588,661,731,621,579,667,623,616,569,547,559,582,561,617,710,675,587,626,573,499,508,504,521,530,516,554,600,620,603,578,609,591,585,556,562,555,629,708,696,685,628,567,642,588,516,547,570,531,589,634,709,618,1880,1746,1648,1932,1809.1091697683721,1812.0985573225878,1815.0879448768037,1818.0773324310194,1821.0667199852351,1824.0561075394507,1827.0454950936664,1830.0348826478826,273969,273697,273207,273623.571,273795.98200000002,274012.38900000002]
["Q51","South Yorkshire And Bassetlaw ","E08000019","Sheffield",380,685,610,86185,88420,89893,91083.81,92084.095999999976,443.2,775.8,688.8,560,"Sheffield",590,660,545,685,860,795,86.2,76.8,69,714,860,"Sheffield",909,855,766,210,1064,1099,1028,648,434,484,417,500,530,513,411,564,415,516,462,453,472,569,636,620,455,319,343,405,427,481,287,298,434,395,494,578,2681,2207,3056,2266,2844,3563,3440,2941,1323,5466,8166,9944,5844.0511627906972,6220.2733615221987,6596.4955602536993,6972.7177589851999,7348.9399577167005,7725.1621564482039,8101.3843551797045,8477.606553911206,443400,445431,449009.32000000012,451720.02999999997,454518.41099999985,"Sheffield",983,1061,974,1013,928,982,1155,1200,1257,1030,998,1083,1032,1032,933,861,896,925,1057,1135,1221,1129,1045,1030,1002,949,897,895,816,887,953,1056,1265,1122,1226,1014,1112,1140,1046,1129,933,1051,1217,1336,1370,1200,1137,1324,1245,1198,1034,1031,978,966,1166,1137,1226,979,3661,3477,2975,3529,3446.126088160202,3468.2231382078812,3490.3201882555604,3512.4172383032396,3534.5142883509188,3556.611338398598,3578.7083884462763,3600.805438493956,551756,557382,560085,563817.11199999996,566870.70499999996,570227.79]
["Q60","Shropshire And Staffordshire ","E06000051","Shropshire",540,520,500,63930,66475,68668,70883.409000000014,72634.97,841.6,780.7,749.2,500,"Shropshire",60,80,120,65,125,155,89.2,64.599999999999994,76.8,93,125,"Shropshire",606,650,609,861,621,683,566,615,457,547,446,235,264,277,551,607,551,621,496,607,553,557,542,1056,821,618,1188,885,648,657,638,416,775,907,604,459,523,751,481,273,323,481,574,603,2286,1733,1077,1658,1800.6930232558138,1802.4961945031712,1804.2993657505283,1806.1025369978856,1807.9057082452427,1809.7088794926003,1811.5120507399574,1813.315221987315,247700,248550,250337.19,251893.26799999998,253354.27499999997,"Shropshire",368,405,414,392,351,352,399,434,470,490,406,436,421,444,399,387,307,395,387,447,476,454,405,407,418,395,343,379,330,349,333,392,497,438,440,435,431,438,383,462,374,369,447,473,469,396,379,410,429,397,374,387,312,369,393,435,513,384,1185,1200,1068,1341,1229.4792518994739,1230.1998831092928,1230.9205143191116,1231.6411455289303,1232.3617767387491,1233.0824079485681,1233.8030391583868,1234.5236703682056,307108,308207,308567,310277.57400000002,311518.18099999998,312808.01199999999]
["Q69","Thames Valley ","E06000039","Slough",80,105,75,12875,13100,13320,13632.510000000002,13950.675000000001,636.9,801.4,564.79999999999995,100.11122267790159,"Slough",65,40,55,65,40,55,98.4,95.2,100,65,66,"Slough",180,203,184,87,53,155,311,165,146,143,153,145,266,241,283,185,181,151,86,327,337,261,277,244,198,270,241,214,175,123,265,164,141,187,201,145,166,175,215,259,107,164,185,126,529,486,581,475,586.05961945031709,587.0217758985201,587.98393234672301,588.94608879492603,589.90824524312893,590.87040169133195,591.83255813953485,592.79471458773787,103500,104010,106020.39999999997,107338.77700000002,108614.19499999999,"Slough",247,238,240,231,214,226,287,248,340,221,238,247,224,269,276,200,200,240,205,252,288,283,236,213,229,199,192,222,199,233,203,233,291,286,297,229,255,252,221,235,189,206,271,293,306,284,232,248,248,281,241,219,220,225,248,284,322,252,764,770,664,854,762.41093235719336,764.95072133870622,767.49051032021907,770.0302993017317,772.57008828324467,775.10987726475742,777.64966624627027,780.18945522778313,140713,141838,143024,145573.74100000001,147441.00099999999,149354.11900000001]
["Q54","Birmingham And The Black Country ","E08000029","Solihull",235,285,255,39895,41270,42297,43338.899999999994,44079.411,594,695.4,613,261,"Solihull",80,85,90,110,120,115,70.3,70.5,78.900000000000006,98,120,"Solihull",444,857,791,876,699,539,661,969,882,737,658,641,576,626,807,606,395,335,394,834,576,557,698,739,688,716,657,577,502,546,549,381,437,643,417,375,394,373,425,426,421,348,240,262,1497,1142,1272,850,1049.0306553911205,962.96300211416485,876.89534883720921,790.82769556025369,704.76004228329793,618.69238900634252,532.62473572938677,446.55708245243102,162300,163587,163909.08499999999,164766.06799999991,165591.8440000001,"Solihull",376,435,364,320,345,386,409,493,493,396,373,420,384,392,357,411,364,364,434,466,484,469,407,417,421,365,365,379,344,374,357,427,476,414,444,430,402,408,414,398,363,363,385,383,444,345,336,364,372,360,354,362,375,329,400,375,419,364,1045,1086,1066,1194,1128.6940539542898,1123.6875634439696,1118.6810729336491,1113.674582423329,1108.6680919130088,1103.6616014026886,1098.6551108923684,1093.6486203820482,206856,207380,208861,209224.13399999999,210271.77299999999,211388.01500000001]
["Q65","Bristol, North Somerset, Somerset And South Gloucestershire ","E10000027","Somerset",895,815,695,112725,117480,121159,124873.85999999996,128169.47199999999,794,694.6,589.9,737.45579999999995,"Somerset",240,215,775,285,250,965,85.5,85.5,80.2,1181,1430,"Somerset",1521,1434,1241,1609,1423,1455,1374,1165,876,851,1271,1270,1092,1123,865,933,845,696,484,726,627,629,924,1015,1018,902,1050,1124,914,1521,1377,1312,1419,1171,1358,1295,1100,1340,1334,1451,1227,1621,1524,1579,3948,3735,4012,4724,3760.9928118393236,3796.4638477801273,3831.9348837209304,3867.4059196617336,3902.8769556025372,3938.3479915433409,3973.819027484144,4009.2900634249468,426300,429382,431577.9599999999,434547.20700000046,437469.79900000023,"Somerset",755,686,703,666,608,748,810,818,972,807,708,849,751,788,718,727,689,738,811,822,970,871,836,814,881,776,712,694,755,727,822,858,964,931,932,869,938,902,873,840,848,802,933,951,1103,962,876,929,952,856,799,897,770,810,836,817,963,747,2767,2607,2477,2616,2764.0133501491896,2790.0230705343138,2816.0327909194375,2842.0425113045617,2868.0522316896859,2894.0619520748105,2920.0716724599342,2946.0813928450584,531581,534950,538104,540461.87199999997,543602.348,546953.53800000006]
["Q65","Bristol, North Somerset, Somerset And South Gloucestershire ","E06000025","South Gloucestershire",340,365,370,44755,46600,48211,49233.017,50419.678999999996,757.4,787.5,798.2,352,"South Gloucestershire",205,160,140,245,190,155,84,83.9,89,280,320,"South Gloucestershire",738,516,492,389,670,566,827,964,620,652,725,440,562,543,612,734,746,537,412,601,525,658,569,444,489,516,716,555,470,665,606,515,392,557,520,527,513,425,694,616,627,541,373,516,1469,1465,1937,1430,1522.9608879492603,1496.5158562367865,1470.0708245243129,1443.6257928118393,1417.1807610993658,1390.7357293868922,1364.2906976744189,1337.8456659619451,209100,212159,213959.01500000004,216151.80799999996,218172.32900000003,"South Gloucestershire",330,286,262,279,258,248,334,353,371,331,329,274,304,298,305,270,316,294,278,321,410,345,323,260,304,288,270,289,303,296,313,317,398,339,362,360,338,375,304,321,333,286,352,360,382,385,306,312,394,354,318,295,295,311,359,347,415,347,1003,1066,901,1121,1065.2174167153712,1074.2279368790182,1083.2384570426652,1092.248977206312,1101.259497369959,1110.2700175336061,1119.2805376972531,1128.2910578609001,263417,266147,269107,270973.00599999999,273285.97499999998,275591.83]
["Q49","Cumbria, Northumberland, Tyne And Wear ","E08000023","South Tyneside",335,240,235,26950,27710,28222,28753.735000000001,29261.171000000002,1239.3,862.6,848.1,222,"South Tyneside",285,250,150,350,315,180,81.2,79,81.3,277,332,"South Tyneside",470,376,316,331,326,205,219,179,268,214,170,148,154,176,173,167,169,117,158,163,109,133,157,237,134,143,278,313,238,295,203,127,92,55,32,82,198,199,127,123,94,95,99,115,179,479,344,309,253.1604651162792,214.30570824524324,175.45095137420728,136.59619450317132,97.741437632135444,58.886680761099399,20.031923890063524,0,118900,119084,119824.23899999997,120269.06899999996,120609.28099999999,"South Tyneside",364,315,332,318,341,314,427,439,491,421,338,436,407,387,336,345,336,390,395,423,489,438,441,426,392,368,353,346,329,345,371,395,388,444,393,426,366,340,377,401,362,356,371,374,443,362,342,422,372,371,340,304,363,334,374,375,396,392,1126,1083,1001,1145,1122.5238856931926,1120.9298040542617,1119.335722415331,1117.7416407764003,1116.1475591374697,1114.553477498539,1112.9593958596081,1111.3653142206774,148164,148428,148526,149006.973,149366.63500000001,149753.74900000001]
["Q70","Wessex ","E06000045","Southampton",275,320,310,30945,31720,32194,32789.952999999994,33332.49,885.5,1005.6,971,291,"Southampton",190,185,175,215,210,235,87.9,87.7,75.099999999999994,191,212,"Southampton",2284,2112,324,683,331,547,527,608,916,772,527,633,780,685,599,656,546,459,644,655,935,1052,917,821,1087,1037,697,858,571,812,1061,1529,974,973,661,732,679,810,1020,1052,434,835,679,818,2608,2221,2506,2332,2392.7109936575052,2381.9274841437636,2371.1439746300216,2360.3604651162791,2349.5769556025371,2338.793446088795,2328.009936575053,2317.2264270613114,192400,194254,195523.73499999996,196899.01199999999,198085.75699999998,"Southampton",376,350,348,331,335,324,473,440,507,438,423,424,396,414,374,354,350,349,451,456,556,475,451,469,438,417,360,415,373,402,477,520,626,496,513,499,471,513,431,454,429,396,481,540,503,510,429,472,464,454,403,460,405,464,510,522,520,372,1411,1321,1329,1552,1494.9848349687777,1510.7409948014395,1526.4971546341012,1542.2533144667632,1558.0094742994247,1573.7656341320865,1589.521793964748,1605.2779537974097,235870,239428,242141,243395.682,245095.80900000001,246882.14600000001]
["Q57","Essex ","E06000033","Southend-on-Sea",210,285,210,30990,31955,32816,33381.262999999999,33949.798000000003,671.1,888.8,650.9,200,"Southend-on-Sea",255,185,110,300,230,140,84.3,79.900000000000006,80,860,1000,"Southend-on-Sea",319,536,456,563,745,194,128,302,220,221,269,382,358,164,187,168,96,103,133,109,76,137,100,147,143,101,281,253,244,330,232,219,218,234,265,157,61,40,41,207,172,250,229,263,717,258,420,742,333.463424947146,288.53128964059204,243.59915433403813,198.66701902748429,153.73488372093044,108.80274841437642,63.870613107822578,18.938477801268732,137200,137929,139191.905,140337.38499999998,141427.60899999997,"Southend-on-Sea",243,272,252,266,259,278,272,302,296,322,280,300,263,274,271,243,249,244,283,274,300,323,240,252,256,263,210,219,229,271,243,246,298,271,283,278,312,278,248,261,241,258,300,289,331,324,301,327,323,291,286,309,274,282,290,271,322,253,952,900,865,883,872.62478082992402,876.8012857977792,880.97779076563415,885.15429573348933,889.3308007013444,893.50730566919935,897.68381063705442,901.86031560490937,174274,174838,175798,177100.95199999999,178329.53899999999,179638.443]
["Q63","South London ","E09000028","Southwark",150,175,165,22425,22965,23476,23527.443000000003,23842.931,664.5,770.8,709.8,167,"Southwark",100,110,185,110,145,210,90.7,77.2,88.1,136,160,"Southwark",81,161,222,110,134,132,190,195,134,132,251,311,376,301,325,235,248,438,383,416,333,306,267,260,375,401,344,119,152,270,227,158,280,199,250,185,122,152,284,221,271,234,410,478,729,459,776,1122,909.21775898520082,928.90803382663842,948.59830866807613,968.28858350951384,987.97885835095144,1007.6691331923889,1027.3594080338266,1047.0496828752644,233300,237369,241086.86900000001,244755.46400000004,248373.80500000002,"Southwark",358,415,334,436,334,361,427,425,458,457,394,391,361,400,358,385,394,453,423,456,545,517,450,436,435,420,423,413,409,407,437,430,534,440,493,458,436,463,412,450,389,426,434,462,521,528,476,493,478,480,435,479,396,441,468,462,531,333,1497,1393,1316,1461,1435.8699129471838,1447.8069765295763,1459.7440401119691,1471.6811036943616,1483.6181672767543,1495.5552308591468,1507.4922944415393,1519.4293580239319,288717,293530,298464,302289.79599999997,306486.57699999999,310934.13299999997]
["Q48","Merseyside ","E08000013","St. Helens",335,230,285,31660,33060,33972,34829.252,35577.510000000009,1051.8,689.7,862.1,251,"St. Helens",65,75,95,70,90,105,93,84.6,88.6,112,132,"St. Helens",170,306,181,83,168,215,201,264,202,324,252,289,237,211,264,169,206,169,266,340,266,228,359,329,149,190,400,202,142,346,218,244,290,276,297,255,231,160,190,258,205,331,210,299,863,646,653,840,798.69344608879499,808.46088794926004,818.22832980972521,827.99577167019038,837.76321353065543,847.53065539112049,857.29809725158566,867.06553911205083,139700,139950,140919.82600000003,141649.14199999996,142261.85099999997,"St. Helens",355,337,356,406,324,369,466,447,489,355,361,425,419,394,376,361,402,423,379,435,503,476,428,456,408,376,395,393,368,350,384,386,427,413,416,390,437,410,399,421,368,345,469,434,503,448,427,462,461,384,373,433,340,372,359,390,506,361,1337,1218,1145,1255,1256.0549386323787,1259.5581531268263,1263.0613676212743,1266.5645821157218,1270.0677966101696,1273.5710111046171,1277.0742255990649,1280.5774400935127,175405,176114,176221,177303.44099999999,178018.55499999999,178762.23]
["Q60","Shropshire And Staffordshire ","E10000028","Staffordshire",960,1095,1120,158280,165475,170882,176422.27400000006,181236.736,606.5,661.1,676.2,1155,"Staffordshire",1315,455,615,1525,530,715,86.1,85.9,86.3,455,530,"Staffordshire",2411,2432,2113,1937,1618,1707,1988,1996,1682,1878,1963,1857,1678,1503,1314,1328,1440,1556,1460,1525,1590,1741,2440,2175,1910,2077,1749,1929,1465,2070,1727,1471,1744,1876,1592,1771,1669,1815,1835,1819,1694,1902,1710,1971,5212,5255,5348,5583,5148.4651162790697,5116.9809725158557,5085.4968287526426,5054.0126849894295,5022.5285412262156,4991.0443974630016,4959.5602536997885,4928.0761099365745,681600,686778,688204.0480000003,692095.93099999882,695674.81400000083,"Staffordshire",1318,1387,1266,1342,1224,1379,1562,1564,1887,1398,1442,1557,1512,1451,1371,1377,1334,1374,1457,1506,1944,1758,1475,1659,1461,1393,1321,1317,1348,1327,1534,1462,1891,1747,1712,1662,1621,1624,1580,1621,1510,1496,1660,1843,2141,1825,1769,1978,1772,1613,1487,1493,1380,1483,1656,1621,1869,1427,5572,4872,4356,5146,5182.1573102833063,5229.9044572272296,5277.6516041711529,5325.3987511150754,5373.1458980589987,5420.893045002922,5468.6401919468444,5516.3873388907687,849546,852123,857007,857471.46299999999,860592.255,863822.52799999993]
["Q46","Greater Manchester ","E08000007","Stockport",380,400,415,51395,53240,54507,55636.521000000001,56663.595000000001,743.3,753.2,775.7,415,"Stockport",365,410,330,405,475,370,90.2,86.2,88.9,403,477,"Stockport",198,256,296,586,686,627,744,1093,631,728,547,571,474,732,591,512,649,716,588,714,611,666,602,610,506,281,339,548,382,471,370,323,431,381,280,197,398,439,423,292,274,468,291,379,1092,1034,989,1138,1017.7898520084568,957.09281183932353,896.39577167019036,835.69873150105707,775.00169133192389,714.30465116279061,653.60761099365754,592.91057082452448,223200,224011,225009.12600000002,226152.609,227114.34499999988,"Stockport",585,519,549,612,532,494,633,603,662,602,575,699,584,600,560,553,521,554,667,700,837,738,637,686,635,633,641,588,578,529,643,594,727,681,744,709,684,684,601,627,632,579,734,787,777,705,704,809,770,651,647,657,572,647,732,744,819,691,2218,2068,1876,2295,2208.082777077117,2232.1111076932539,2256.1394383093912,2280.1677689255284,2304.1960995416653,2328.2244301578025,2352.2527607739394,2376.2810913900767,283253,283897,285032,286080.685,287357.27899999998,288696.53399999999]
["Q45","Durham, Darlington And Tees ","E06000004","Stockton-on-Tees",295,270,285,30200,31395,32343,33124.792999999991,33924.955999999998,976.8,856.8,907.8,255,"Stockton-on-Tees",70,85,60,85,110,70,78.2,79.099999999999994,85.3,93,110,"Stockton-on-Tees",62,84,190,324,161,176,220,194,175,125,126,179,279,262,295,354,301,387,350,305,178,213,180,195,200,149,117,155,120,179,79,136,113,151,92,130,195,120,114,144,175,225,200,166,356,445,433,591,464.6251585623678,451.91289640591964,439.20063424947136,426.48837209302314,413.77610993657498,401.06384778012682,388.3515856236786,375.63932346723038,150300,150920,151971.09300000002,152926.16499999995,153768.78600000002,"Stockton-on-Tees",426,424,437,420,354,399,492,468,529,494,452,459,444,452,394,383,343,417,496,511,575,544,508,480,372,402,334,370,353,347,341,388,418,377,381,395,386,379,349,366,371,335,371,416,472,405,351,440,446,449,348,349,362,341,419,398,453,437,1196,1243,1052,1270,1126.7852902273216,1116.1023408902149,1105.4193915531082,1094.7364422160017,1084.053492878895,1073.3705435417883,1062.6875942046818,1052.0046448675753,191824,192406,193196,194500.163,195665.19,196855.323]
["Q60","Shropshire And Staffordshire ","E06000021","Stoke-on-Trent",340,360,410,39005,40175,40894,41632.435000000005,42329.671999999999,876.9,891.1,1020.5,474,"Stoke-on-Trent",135,80,75,170,100,85,80,80.2,85.1,81,101,"Stoke-on-Trent",1236,1287,1188,861,586,557,440,635,605,717,833,946,977,1084,877,631,584,506,565,375,501,465,321,406,468,627,621,461,331,553,311,578,599,622,572,572,786,673,516,428,440,527,399,458,1793,2031,1384,1384,1132.7515856236787,1036.0380549682873,939.3245243128963,842.61099365750522,745.89746300211414,649.18393234672305,552.47040169133197,455.75687103594089,195100,195150,195918.22499999998,196553.18900000007,197069.92300000004,"Stoke-on-Trent",535,616,612,636,474,567,713,681,768,583,562,661,573,612,528,602,550,584,542,627,913,726,602,737,613,520,505,548,491,534,524,619,778,749,702,795,663,732,572,675,584,571,662,748,829,638,642,748,697,665,614,595,555,576,658,710,916,686,2028,1976,1726,2284,2084.6229351871789,2099.828447506844,2115.0339598265095,2130.2394721461751,2145.4449844658402,2160.6504967855053,2175.8560091051709,2191.0615214248364,248719,249903,250227,251232.06299999999,252014.46100000001,252852.42300000001]
["Q56","East Anglia ","E10000029","Suffolk",1110,1220,995,146340,153000,158046,162516.67199999993,166650.26300000001,759.2,797.4,649,1222,"Suffolk",145,155,465,220,250,630,66.2,62.9,73.7,0,0,"Suffolk",1247,957,906,1082,946,1269,1276,1106,880,1106,1293,1162,1344,1485,1093,991,1042,1227,1268,1289,1154,1235,1257,1576,1806,1750,1492,1869,1463,1679,1296,1429,1396,1904,1610,1581,1591,1777,2269,1798,1618,1711,1392,1591,4910,4949,5685,4694,5459.5107822410155,5623.6678646934461,5787.8249471458766,5951.9820295983091,6116.1391120507396,6280.2961945031711,6444.4532769556026,6608.6103594080341,581000,584752,587653.96099999954,591525.48599999945,595064.14700000023,"Suffolk",1129,1005,1039,957,971,1006,1179,1191,1329,1244,1151,1175,1197,1147,1012,982,950,1036,1072,1174,1502,1383,1100,1167,1083,1048,1031,1022,955,970,1069,1128,1431,1284,1154,1185,1270,1185,1101,1161,1079,1047,1234,1296,1549,1356,1149,1359,1371,1270,1130,1180,1082,1097,1268,1201,1567,1139,3864,3771,3359,4036,3818.0310375588306,3847.9495524316344,3877.8680673044391,3907.786582177243,3937.7050970500482,3967.6236119228524,3997.5421267956567,4027.460641668461,730133,732332,735898,738981.07,742735.01800000004,746749.7379999999]
["Q49","Cumbria, Northumberland, Tyne And Wear ","E08000024","Sunderland",380,480,480,47110,48755,49817,50972.722999999991,51940.109000000011,802.4,988.6,982.4,462,"Sunderland",270,245,265,315,320,310,86.3,76.3,85.5,256,320,"Sunderland",979,1201,1026,696,753,910,1042,836,782,818,821,1050,1031,1185,981,792,834,807,904,904,727,867,664,700,858,868,983,710,1099,1185,687,560,649,773,734,878,1017,1004,1102,399,294,289,249,221,2156,2899,1795,759,1764.118604651163,1677.1192389006342,1590.1198731501058,1503.1205073995773,1416.1211416490485,1329.1217758985199,1242.1224101479916,1155.1230443974632,221100,221536,221602.71200000003,221986.67200000005,222354.67400000003,"Sunderland",488,454,468,438,460,499,611,570,672,575,604,530,556,578,521,510,527,583,608,616,795,760,673,613,650,597,592,571,552,556,607,614,678,686,771,707,670,710,673,658,618,645,695,689,825,691,612,695,611,540,519,529,488,508,593,593,632,584,1998,1670,1525,1818,1982.8292780460797,1998.4262511919778,2014.0232243378759,2029.6201974837741,2045.2171706296722,2060.8141437755698,2076.411116921468,2092.0080900673661,275330,275743,276080,275914.10100000002,276132.61700000003,276431.364]
["Q68","Surrey And Sussex ","E10000030","Surrey",1425,1155,1190,196140,203275,208694,214252.73200000005,218722.93499999997,727,567.70000000000005,585.9,1221.164076,"Surrey",250,225,360,335,315,515,74,72,69.599999999999994,243,315,"Surrey",2715,2619,2608,2867,3205,3362,3289,3511,3313,3539,3259,2788,2580,2605,2877,3050,3069,3458,3697,3371,3277,3272,2696,2336,2201,2537,2294,2304,2108,2074,2388,2496,2131,2443,2563,2105,2054,2465,2508,2302,2452,2271,2099,2308,7137,6624,7262,6678,6404.9186046511622,6182.7283298097245,5960.5380549682868,5738.3477801268491,5516.1575052854114,5293.9672304439737,5071.776955602536,4849.5866807610983,893700,899844,907171.80400000117,914466.73999999906,921915.20500000042,"Surrey",1372,1296,1262,1336,1248,1342,1573,1473,1649,1473,1412,1486,1408,1364,1262,1352,1250,1380,1469,1464,1663,1554,1370,1391,1419,1317,1299,1267,1387,1311,1334,1534,1694,1486,1511,1423,1443,1442,1396,1370,1286,1318,1534,1616,1661,1556,1412,1411,1522,1452,1351,1352,1289,1375,1416,1555,1706,1391,4379,4325,4016,4677,4425.4401857947023,4439.1598634224374,4452.8795410501707,4466.599218677904,4480.3188963056382,4494.0385739333724,4507.7582515611057,4521.4779291888399,1135367,1143509,1152114,1161581.3699999999,1171223.5510000002,1181300.8230000001]
["Q63","South London ","E09000029","Sutton",45,45,65,27540,28755,29419,30029.608,30542.51,170.6,153,233,78,"Sutton",170,80,155,215,110,165,80,74.099999999999994,93.4,378,420,"Sutton",126,130,91,130,103,163,243,170,217,391,334,357,402,376,392,334,272,223,230,163,215,224,226,212,266,188,228,362,178,165,172,189,226,276,272,209,317,372,231,345,395,478,294,304,774,898,971,1076,958.16215644820295,983.07357293868927,1007.9849894291756,1032.8964059196617,1057.8078224101478,1082.7192389006341,1107.6306553911204,1132.5420718816067,149700,151229,153382.32300000003,155346.55900000001,157334.092,"Sutton",172,177,195,160,171,140,155,173,178,132,121,131,152,117,126,138,157,173,173,158,186,144,205,205,228,165,189,164,201,220,233,222,270,207,253,227,216,266,228,229,206,272,298,299,321,247,252,257,254,268,258,255,299,290,305,309,396,316,756,780,844,1010,950.31932695561227,978.55516933772174,1006.7910117198314,1035.0268541019409,1063.2626964840506,1091.4985388661601,1119.7343812482695,1147.9702236303792,191123,193630,195914,198815.75399999999,201532.06299999999,204328.00700000001]
["Q64","Bath, Gloucestershire, Swindon And Wiltshire ","E06000030","Swindon",195,180,225,29070,30345,31361,32319.025999999994,33253.375000000007,670.8,586.6,744.7,193,"Swindon",65,55,65,75,70,65,89,80,94,61,72,"Swindon",516,471,620,434,382,231,261,451,434,899,936,1387,1296,907,1093,706,561,565,294,316,387,312,254,210,95,91,218,513,359,481,420,578,346,537,520,309,487,645,577,613,323,538,357,577,1403,1441,1513,1472,1220.716490486258,1180.6503171247359,1140.5841437632134,1100.5179704016914,1060.4517970401689,1020.3856236786469,980.31945031712462,940.25327695560236,164600,166064,168678.37299999996,170776.0419999999,172775.69800000006,"Swindon",258,293,257,242,266,283,279,313,348,347,295,305,261,319,269,272,264,272,315,308,389,344,373,343,303,290,297,276,304,289,320,324,422,393,389,342,356,381,340,381,343,362,363,417,417,371,348,360,385,357,355,318,293,374,378,326,411,319,1079,1097,985,1115,1160.679227290904,1176.5344981389767,1192.3897689870496,1208.2450398351225,1224.1003106831952,1239.9555815312681,1255.810852379341,1271.6661232274139,209709,211934,214037,217059.383,219655.73199999999,222298.889]
["Q46","Greater Manchester ","E08000008","Tameside",160,250,220,34525,35990,37024,37974.564999999995,38810.573000000011,469.2,700.2,616.79999999999995,251,"Tameside",215,355,385,240,390,440,88.4,91.1,87.3,0,0,"Tameside",113,175,190,133,126,111,117,44,50,22,0,51,62,57,49,48,35,45,55,38,54,116,130,174,909,914,1416,115,158,232,218,157,214,217,304,333,293,201,186,170,166,152,113,116,735,827,522,381,917.55369978858357,960.0160676532771,1002.4784355179706,1044.9408033826639,1087.4031712473575,1129.8655391120508,1172.3279069767443,1214.7902748414378,171700,171930,173626.50900000005,174683.55199999994,175632.21900000004,"Tameside",476,454,395,388,407,462,600,542,597,510,563,549,512,489,429,423,421,492,527,550,646,606,548,645,559,544,540,561,515,482,571,645,642,596,670,585,565,597,552,561,529,525,632,641,713,703,693,702,654,607,545,583,513,527,252,166,237,153,2098,1806,1623,655,1606.1971761665998,1607.44879879418,1608.7004214217602,1609.9520440493402,1611.2036666769204,1612.4552893045002,1613.7069119320804,1614.9585345596602,219727,220241,220597,222633.42499999999,223973.21,225326.08100000001]
["Q60","Shropshire And Staffordshire ","E06000020","Telford and Wrekin",175,165,165,24345,25445,26391,27290.926999999996,28138.809000000001,723,652.4,656.4,149,"Telford and Wrekin",80,70,60,110,135,95,74.3,53.7,64.900000000000006,86,135,"Telford and Wrekin",137,104,55,154,149,366,201,134,333,270,389,89,139,33,125,115,110,92,89,69,46,49,79,60,149,186,267,274,214,230,139,202,228,95,80,91,155,205,255,124,265,248,327,254,403,451,644,829,588.62832980972507,599.57991543340381,610.53150105708244,621.48308668076106,632.4346723044398,643.38625792811843,654.33784355179705,665.28942917547568,128700,129499,130105.55999999994,130872.92999999996,131523.636,"Telford and Wrekin",290,268,266,247,224,235,294,276,336,245,260,301,240,250,245,252,271,280,286,273,406,338,277,338,345,271,310,303,268,311,321,311,364,354,310,370,292,336,299,324,275,268,377,370,380,353,310,379,370,343,309,320,269,293,377,361,413,339,1042,1022,882,1151,1092.2448245101357,1107.6366544649172,1123.0284844196992,1138.420314374481,1153.8121443292625,1169.2039742840445,1184.5958042388263,1199.9876341936078,166831,167682,168452,168971.054,169644.36199999999,170343.416]
["Q57","Essex ","E06000034","Thurrock",115,180,135,20240,21090,21815,22369.222000000002,22974.648000000001,558.29999999999995,858.2,644.9,135,"Thurrock",80,75,135,85,85,150,92,89.3,89.9,205,220,"Thurrock",163,217,589,641,651,326,302,322,205,126,173,199,285,227,152,125,104,111,68,307,388,412,218,192,120,197,190,248,276,234,90,170,114,271,309,237,277,219,304,282,302,184,245,290,694,733,888,719,589.37949260042262,568.33509513742047,547.29069767441842,526.24630021141627,505.20190274841411,484.15750528541201,463.11310782240992,442.06871035940776,120500,121434,122892.50099999999,124177.56000000004,125377.04899999997,"Thurrock",204,167,219,202,171,189,211,238,228,189,211,173,218,208,179,164,169,145,199,195,229,191,158,201,206,185,189,179,145,183,172,207,252,223,213,186,226,226,178,196,200,184,214,216,224,204,177,197,239,203,200,211,192,162,189,201,260,172,578,642,565,650,610.31040634901092,611.88760035682412,613.46479436463744,615.04198837245065,616.61918238026385,618.19637638807706,619.77357039589026,621.35076440370358,158268,159533,160849,162633.80600000001,164265.465,165975.10999999999]
["Q66","Devon, Cornwall And Isles Of Scilly ","E06000027","Torbay",135,230,205,31150,32295,33054,33804.046999999999,34404.275000000001,436.6,718.4,628.6,230,"Torbay",145,125,110,175,155,135,82.3,81.3,81.5,221,295,"Torbay",0,111,26,7,11,40,13,27,87,32,79,14,46,12,54,60,31,14,29,61,39,82,63,59,128,138,69,56,90,146,128,97,109,84,62,153,154,78,124,35,99,133,74,169,255,385,258,376,381.35179704016912,402.85221987315015,424.35264270613112,445.85306553911209,467.35348837209307,488.85391120507404,510.35433403805501,531.85475687103599,106600,107155,107447.61799999999,107902.75200000001,108396.17299999997,"Torbay",273,224,214,213,226,246,226,217,268,259,247,266,246,262,244,233,224,236,263,256,312,262,221,234,240,236,237,231,256,221,246,253,182,174,156,256,270,276,289,263,262,250,273,275,305,319,279,282,273,273,250,286,232,285,249,275,334,253,880,796,803,858,829.77735396351773,836.60189485988485,843.4264357562522,850.25097665261933,857.07551754898645,863.90005844535358,870.72459934172082,877.54914023808794,131193,131492,132075,132208.89199999999,132663.44,133174.84700000001]
["Q61","North East London ","E09000030","Tower Hamlets",135,105,105,15605,16040,16610,16243.984,16437.518,877.8,654.70000000000005,667.2,94,"Tower Hamlets",105,65,75,120,75,90,86.6,81.8,80.400000000000006,68,75,"Tower Hamlets",228,221,414,342,438,409,414,615,299,626,665,671,717,725,469,439,659,703,685,663,490,580,450,416,506,203,324,337,225,258,225,162,383,417,978,621,431,293,239,314,224,7,122,43,1778,1345,777,172,864.17145877378437,812.16046511627906,760.14947145877375,708.13847780126866,656.12748414376324,604.11649048625804,552.10549682875262,500.09450317124737,205300,212378,216027.87199999983,221042.45899999989,225990.0590000001,"Tower Hamlets",66,67,88,89,74,64,84,52,90,76,62,78,95,85,75,87,61,68,86,102,116,86,113,93,94,67,97,90,81,95,96,69,147,97,114,136,133,116,125,153,141,128,178,166,192,188,182,138,129,133,94,125,129,108,124,123,112,103,508,356,362,359,454.39908948291247,466.93248023624233,479.46587098957207,491.99926174290192,504.53265249623178,517.06604324956163,529.59943400289148,542.13282475622134,256012,263003,272890,276402.10800000001,282713.56199999998,289176.19500000001]
["Q46","Greater Manchester ","E08000009","Trafford",285,255,260,36465,37520,38449,39007.364999999998,39714.175999999999,781.5,685,698.3,260,"Trafford",135,120,170,195,160,200,68.599999999999994,75.900000000000006,85.5,137,175,"Trafford",517,715,549,583,534,653,719,808,643,533,571,586,374,561,480,518,328,418,551,439,323,292,247,288,474,413,496,409,373,430,400,421,299,327,211,257,347,313,380,366,484,713,599,729,837,917,1230,2041,1073.087949260042,1030.1562367864692,987.22452431289639,944.29281183932335,901.36109936575053,858.42938689217749,815.49767441860456,772.56596194503163,176200,177254,178061.36799999996,179203.291,180371.489,"Trafford",337,292,303,325,345,357,387,413,388,383,357,370,394,349,357,357,322,363,372,428,534,439,425,412,396,343,359,407,351,368,408,415,477,409,391,410,395,454,441,437,397,401,468,464,495,472,454,446,493,397,398,417,406,448,465,473,568,420,1372,1288,1271,1506,1432.6055246239503,1452.3961672152327,1472.1868098065152,1491.9774523977976,1511.7680949890801,1531.5587375803623,1551.3493801716447,1571.1400227629272,227091,228466,230179,231327.90900000001,232920.14300000001,234567.48699999999]
["Q52","West Yorkshire ","E08000036","Wakefield",385,410,410,55565,57745,59264,60838.518999999986,62227.428999999996,694.7,706.5,711.7,414,"Wakefield",155,150,165,220,215,205,71.400000000000006,70.7,82.3,203,250,"Wakefield",257,340,373,346,579,482,530,475,637,719,619,746,806,538,732,596,693,527,663,933,697,899,823,1118,833,670,1140,711,799,624,701,543,861,956,1237,1500,1046,868,1262,1153,846,813,895,977,3054,3414,3261,2685,3351.1179704016913,3486.7858350951374,3622.453699788583,3758.1215644820295,3893.7894291754756,4029.4572938689216,4165.1251585623677,4300.7930232558138,259200,260843,262042.66199999995,263540.82099999994,264858.31400000001,"Wakefield",723,704,586,599,531,620,763,756,807,660,737,794,727,758,660,700,611,651,712,741,924,862,717,718,724,719,670,662,622,576,668,692,783,763,837,742,790,783,690,703,677,661,794,831,889,824,732,762,875,780,673,696,627,667,725,762,888,689,2318,2328,1990,2375,2308.8853240641047,2321.3060383278471,2333.7267525915895,2346.1474668553319,2358.5681811190743,2370.9888953828167,2383.4096096465591,2395.8303239103016,326433,327627,329708,330582.81699999998,332239.93699999998,333964.25300000003]
["Q54","Birmingham And The Black Country ","E08000030","Walsall",155,205,215,46095,47200,47940,48770.587,49448.737000000001,331.9,430.1,455.5,202,"Walsall",75,215,325,95,270,430,78.5,79.599999999999994,75.400000000000006,583,777,"Walsall",733,630,539,442,571,484,436,490,507,623,632,704,561,758,723,716,794,698,675,669,552,490,377,342,287,455,389,370,370,382,452,376,275,346,350,264,284,174,295,328,351,291,131,254,971,722,974,676,697.62917547568725,607.64566596194504,517.66215644820284,427.67864693446097,337.69513742071877,247.7116279069769,157.72811839323469,67.744608879492489,207400,208276,209323.73499999993,210431.17499999996,211510.18099999995,"Walsall",490,465,483,446,434,483,557,506,578,526,418,440,473,570,533,535,531,490,552,534,643,573,503,546,538,499,487,478,442,476,502,460,609,600,532,571,544,525,490,558,498,478,556,600,660,619,572,594,647,615,594,591,481,542,582,551,664,529,1785,1856,1614,1797,1781.3658371527886,1797.8224184072101,1814.278999661632,1830.735580916054,1847.1921621704757,1863.6487434248975,1880.1053246793194,1896.5619059337414,269524,270924,272161,273393.40999999997,274754.40000000002,276185.92099999997]
["Q61","North East London ","E09000031","Waltham Forest",95,110,95,25770,26435,27023,27250.756999999998,27548.576000000005,372.5,412.3,366.9,106,"Waltham Forest",490,150,145,595,165,160,82.1,88.6,91.2,623.70000000000027,693,"Waltham Forest",183,354,302,292,248,293,297,190,179,298,289,268,292,298,238,151,136,103,120,136,131,213,197,180,242,269,250,305,311,200,205,35,181,251,224,441,522,322,498,393,443,169,319,34,656,1285,1334,522,835.86913319238897,846.81374207188162,857.75835095137427,868.7029598308668,879.64756871035934,890.5921775898521,901.53678646934452,912.48139534883717,199700,202000,204364.11200000011,206703.48700000005,209313.36199999996,"Waltham Forest",351,340,390,376,290,377,393,426,403,330,341,395,400,359,362,345,356,345,403,443,496,389,386,385,392,412,418,378,395,339,389,358,398,449,412,416,419,395,393,384,334,356,455,445,459,404,414,427,400,408,393,418,382,380,423,442,448,405,1245,1201,1180,1313,1275.8391214740534,1284.649204835584,1293.4592881971146,1302.2693715586452,1311.079454920176,1319.8895382817066,1328.6996216432372,1337.509705004768,259742,262566,265797,268758.95199999999,271973.14199999999,275482.28000000003]
["Q63","South London ","E09000032","Wandsworth",190,155,145,27080,27795,28251,28844.771999999997,29331.818999999996,709,554,521.6,135,"Wandsworth",205,130,120,240,135,130,85.3,93.4,93,154,171,"Wandsworth",285,299,345,257,246,434,414,461,335,575,478,612,517,344,311,339,326,381,264,208,201,151,107,104,174,199,183,117,214,243,200,109,157,154,84,189,167,179,161,251,311,221,155,324,395,535,723,700,392.1173361522201,339.58879492600448,287.06025369978869,234.53171247357307,182.00317124735744,129.47463002114182,76.946088794926197,24.417547568710575,251400,252281,254833.11999999991,256739.07499999998,258924.24600000007,"Wandsworth",371,376,321,354,365,376,381,391,450,402,372,273,343,332,328,307,321,365,395,412,476,394,349,386,350,344,330,314,350,358,367,374,433,393,424,343,383,391,371,391,342,355,408,423,493,415,426,456,398,423,350,396,392,383,423,384,489,357,1297,1171,1171,1296,1238.8380448491187,1247.8230951428836,1256.8081454366484,1265.7931957304131,1274.7782460241779,1283.7632963179428,1292.7483466117076,1301.7333969054723,307710,308312,310516,314025.18599999999,317002.38099999999,320297.37699999998]
["Q44","Cheshire, Warrington And Wirral ","E06000007","Warrington",205,250,250,32510,33990,35064,35979.879000000001,36870.187000000013,636.79999999999995,729.6,738.4,244,"Warrington",350,370,430,405,415,475,87.1,89.6,90.5,423,463,"Warrington",286,341,305,260,237,94,22,10,63,83,148,308,382,457,445,589,427,534,439,206,231,148,153,126,142,158,175,141,148,125,89,130,185,204,396,372,313,337,404,401,364,419,608,639,785,1022,1169,1666,1085.8126849894293,1119.5953488372093,1153.3780126849895,1187.1606765327697,1220.9433403805499,1254.7260042283301,1288.5086680761101,1322.2913319238903,159500,160810,162168.91899999999,163545.17600000001,164830.26200000005,"Warrington",368,359,370,355,344,329,399,403,511,381,394,427,383,379,356,357,346,384,412,398,455,421,387,411,365,318,342,375,344,373,416,412,450,470,447,390,435,480,387,434,351,369,381,418,501,462,378,404,393,426,348,394,342,352,374,374,425,347,1244,1167,1088,1173,1209.642375957427,1212.4136085391738,1215.1848411209203,1217.9560737026668,1220.7273062844135,1223.4985388661601,1226.2697714479066,1229.0410040296533,202709,203652,205109,206608.51199999999,208141.073,209732.31200000001]
["Q53","Arden, Herefordshire And Worcestershire ","E10000031","Warwickshire",570,705,580,100300,104380,107421,110671.815,113448.69400000005,567.29999999999995,673.5,554.70000000000005,684,"Warwickshire",435,695,785,535,845,890,81.2,82.2,87.9,804,944,"Warwickshire",2382,2208,2102,2096,2090,2499,2770,2949,2234,1914,2068,1884,2434,2249,2405,2449,2234,1952,2012,2396,1952,1849,1667,1836,1974,2147,1524,1533,1297,1332,1745,1356,1387,1132,1259,1346,1440,1230,1370,1193,1170,1197,1174,1235,3778,4016,3733,3606,3179.577167019027,2883.3065539112044,2587.0359408033819,2290.7653276955598,1994.4947145877368,1698.2241014799145,1401.9534883720921,1105.6828752642691,436100,436800,440430.24000000028,443195.10799999966,446011.66599999991,"Warwickshire",743,736,737,737,714,765,804,775,899,860,708,845,805,785,714,769,727,744,803,828,1058,939,808,802,848,775,813,798,791,785,803,887,1008,877,924,963,912,902,885,900,914,877,925,955,1047,948,907,873,964,944,818,858,820,818,886,965,1107,935,2728,2726,2496,2958,2905.8464732843213,2937.5622750622906,2969.2780768402599,3000.9938786182292,3032.7096803961981,3064.425482174167,3096.1412839521363,3127.8570857301061,546554,547974,548729,552709.57199999993,555744.10499999998,559083.10900000005]
["Q69","Thames Valley ","E06000037","West Berkshire",140,185,170,23885,25110,26140,26947.357999999997,27736.852999999999,594.6,740.7,673,167,"West Berkshire",65,30,55,75,40,60,91.8,81.599999999999994,88.7,33,38,"West Berkshire",831,1245,904,744,686,479,488,617,613,438,473,564,389,586,655,669,667,746,476,644,797,1129,1000,871,1116,791,722,702,519,440,473,459,458,766,762,487,270,599,734,737,540,838,346,592,1986,1356,2011,1776,1755.8999999999999,1727.1000000000001,1698.3000000000002,1669.5,1640.6999999999998,1611.8999999999999,1583.1000000000001,1554.3000000000002,119000,119664,120369.16400000008,121183.53000000004,121979.48299999999,"West Berkshire",171,169,125,162,156,158,165,197,263,189,172,191,177,185,154,174,173,177,203,192,253,202,203,186,146,178,137,158,160,148,174,189,214,169,174,192,162,180,179,187,163,158,180,215,223,172,169,179,241,183,160,166,187,192,207,179,227,164,520,584,545,613,567.76926389615187,570.00313759266658,572.2370112891814,574.47088498569633,576.70475868221104,578.93863237872586,581.17250607524068,583.4063797717555,154148,154486,155392,156254.67199999999,157230.783,158256.07199999999]
["Q68","Surrey And Sussex ","E10000032","West Sussex",935,1635,1095,168055,174450,179275,183606.4329999999,187443.34599999987,557.6,936.1,627.70000000000005,1199.25,"West Sussex",440,310,200,505,345,270,87.3,91,74.400000000000006,326.35030094582976,363.19630266552019,"West Sussex",3184,2790,2364,2653,2845,2458,2479,2782,2754,2904,3238,2873,2572,3014,3116,3048,2714,2860,2834,2727,2295,2863,2664,2268,2157,2323,2022,1945,2278,2682,1957,2109,2249,3000,2695,2530,2835,2770,2702,2720,2308,2216,2283,2109,7944,8135,7730,6608,6955.1196617336154,6849.0991543340388,6743.0786469344621,6637.0581395348845,6531.0376321353069,6425.0171247357302,6318.9966173361536,6212.976109936576,649100,653832,658976.03500000003,664414.67100000044,670182.59400000062,"West Sussex",610,537,570,522,489,539,672,706,871,678,741,676,655,611,588,630,931,1059,644,612,1362,1134,1054,1124,1085,1049,1018,1045,1013,1074,1049,1152,1351,1164,1309,1255,1215,1101,1018,1093,1055,950,1162,1204,1370,1154,1097,1119,1110,1018,985,955,987,1048,1116,1225,1349,1051,3370,3113,2990,3690,3957.2152019440773,4055.3088067919653,4153.4024116398532,4251.4960164877421,4349.58962133563,4447.6832261835189,4545.7768310314059,4643.8704358792947,808919,815119,821356,826881.13600000006,833315.34199999995,840098.10600000003]
["Q62","North West London ","E09000033","Westminster",180,120,105,24625,25385,26375,26574.498000000003,27162.895000000004,735.1,472.7,417.5,122,"Westminster",120,180,325,170,210,355,70.2,86.1,92.4,182,208,"Westminster",514,579,351,353,311,294,253,282,180,209,169,203,292,362,295,227,264,307,433,453,546,627,559,452,317,314,544,457,316,536,476,467,624,786,511,328,362,270,308,210,485,602,452,591,1921,960,1003,1645,1487.100845665962,1524.8748414376321,1562.6488372093022,1600.4228329809725,1638.1968287526429,1675.9708245243132,1713.7448202959833,1751.5188160676535,186300,187732,190566.177,192643.72400000007,195040.99299999999,"Westminster",256,276,251,233,257,264,296,313,354,314,298,270,320,320,310,270,270,311,325,295,404,322,326,284,330,267,252,267,255,245,301,305,338,317,330,272,282,291,298,260,274,273,277,317,308,272,283,266,300,281,248,237,247,248,302,266,294,256,821,829,732,862,829.85302531606612,826.72964409855729,823.60626288104822,820.48288166353927,817.35950044603032,814.23611922852126,811.1127380110122,807.98935679350325,219582,223858,226841,229875.47399999999,232630.30799999999,235761.198]
["Q46","Greater Manchester ","E08000010","Wigan",390,395,440,52040,54465,56266,57940.526000000013,59328.164999999994,747.5,728.9,811.5,440,"Wigan",220,230,225,285,285,285,77,81.099999999999994,78.7,235,286,"Wigan",340,386,322,556,578,618,548,688,606,759,595,450,466,530,211,452,453,439,337,276,374,482,462,450,471,321,290,349,223,297,287,163,282,590,494,401,554,429,359,306,338,460,380,336,1366,1384,1003,1176,989.69006342494686,953.19788583509489,916.70570824524304,880.21353065539097,843.72135306553889,807.22917547568682,770.73699788583485,734.24482029598289,251000,251917,254212.59699999998,255842.22999999995,257234.56999999998,"Wigan",666,611,599,556,565,562,659,721,742,657,647,703,602,626,640,615,619,631,611,632,827,789,647,687,637,634,667,639,640,636,625,653,734,677,666,657,759,647,628,694,648,626,719,652,731,696,640,674,637,576,549,546,521,543,583,549,663,607,2010,1762,1610,1795,1881.8649604724844,1877.1654926328092,1872.4660247931342,1867.7665569534588,1863.0670891137838,1858.3676212741086,1853.6681534344334,1848.968685594758,318122,318670,319690,321873.90600000002,323596.84000000003,325389.56699999998]
["Q64","Bath, Gloucestershire, Swindon And Wiltshire ","E06000054","Wiltshire",510,550,585,86435,90345,93642,96647.505999999994,99288.18700000002,587.70000000000005,606.6,647.5,575,"Wiltshire",650,1005,885,790,1205,1285,82.3,83.6,68.900000000000006,1462,1700,"Wiltshire",377,623,975,1065,869,1138,1409,1280,1113,1559,1978,1532,1553,1600,1749,1557,1615,1526,1068,1069,1290,1496,1575,1542,1760,1718,1572,1573,1324,1379,808,1034,1369,1635,1460,1474,1565,1607,1657,1719,1758,1497,1368,1075,4464,4646,5134,3940,4851.9230443974629,4941.1530655391116,5030.3830866807612,5119.6131078224098,5208.8431289640594,5298.0731501057089,5387.3031712473567,5476.5331923890062,373300,376198,378062.39499999996,381008.32300000015,383603.44799999997,"Wiltshire",560,633,556,599,574,573,630,647,779,634,570,656,539,624,583,587,566,566,617,594,777,765,622,661,631,595,572,566,584,593,558,618,735,670,670,606,714,685,695,689,667,607,675,686,810,703,626,682,685,598,651,632,571,627,624,682,715,509,2011,1934,1830,2021,2002.8784951859486,2011.8513642375956,2020.8242332892432,2029.7971023408902,2038.7699713925376,2047.7428404441848,2056.715709495832,2065.6885785474792,474319,476816,479634,481691.97,484400.761,487190.60499999998]
["Q69","Thames Valley ","E06000040","Windsor and Maidenhead",175,130,130,24265,25200,25939,26632.680000000004,27198.092000000004,713,523.79999999999995,511.9,120,"Windsor and Maidenhead",85,90,105,105,110,120,81,78.599999999999994,87.4,95.2,112,"Windsor and Maidenhead",139,150,172,212,119,183,193,193,200,201,180,164,201,183,212,291,185,260,191,289,154,176,244,216,345,308,432,439,340,306,376,182,278,316,477,386,339,240,434,287,179,213,162,193,1071,965,900,568,1000.046934460888,1032.490063424947,1064.9331923890063,1097.3763213530656,1129.8194503171246,1162.2625792811837,1194.7057082452429,1227.1488372093022,112900,113296,114281.95400000004,115140.409,116157.10299999996,"Windsor and Maidenhead",161,193,193,186,164,179,235,235,219,197,172,190,159,188,181,166,168,154,189,199,241,171,153,169,167,142,151,161,145,143,148,180,216,193,205,155,179,180,197,164,167,157,183,252,268,219,203,207,225,197,199,176,188,194,215,202,242,190,629,621,558,659,600.53625149958475,604.06161370697339,607.58697591436214,611.11233812175089,614.63770032913953,618.16306253652829,621.68842474391704,625.21378695130579,145098,145822,146335,147983.54999999999,149243.67300000001,150552.796]
["Q44","Cheshire, Warrington And Wirral ","E08000015","Wirral",515,560,540,61425,63335,64634,66014.449999999983,67156.59699999998,835.1,881.1,852.6,500,"Wirral",180,170,220,195,185,245,91.4,92.4,89.4,298,350,"Wirral",357,213,420,268,223,136,111,196,152,290,189,137,167,75,44,116,154,162,155,112,198,314,240,302,191,135,59,373,306,231,152,205,196,117,101,179,170,117,158,213,196,196,165,201,414,466,567,562,495.67019027484139,485.90274841437633,476.13530655391116,466.36786469344611,456.60042283298094,446.83298097251588,437.06553911205071,427.29809725158566,252600,252839,253287.16800000006,253834.51499999996,254279.62299999999,"Wirral",711,698,582,600,607,584,758,786,839,705,704,704,703,776,641,597,588,644,675,750,882,783,607,732,669,605,550,576,538,562,692,736,888,779,769,722,760,739,771,714,697,662,810,869,949,838,802,878,891,838,736,753,649,744,716,827,888,713,2518,2465,2146,2431,2423.038051001261,2446.2394413854627,2469.4408317696634,2492.6422221538651,2515.8436125380663,2539.0450029222675,2562.2463933064687,2585.4477836906703,319837,320229,320295,320776.098,321268.57799999998,321836.95699999999]
["Q69","Thames Valley ","E06000041","Wokingham",160,125,150,24055,25280,26301,27228.937000000002,28024.167000000005,665.2,498.4,601.20000000000005,125,"Wokingham",50,45,65,60,70,95,85,66.7,65.599999999999994,61,70,"Wokingham",94,121,92,156,66,144,102,104,96,107,90,150,77,171,161,162,127,150,149,110,148,229,222,269,160,233,372,264,156,210,201,362,252,280,253,346,363,247,261,236,204,344,408,399,785,956,701,1151,1033.0097251585621,1087.8697674418604,1142.7298097251585,1197.5898520084568,1252.4498942917548,1307.3099365750527,1362.169978858351,1417.0300211416488,120700,121369,123189.11799999997,124351.52,125608.79599999997,"Wokingham",181,146,154,170,131,148,182,182,230,177,147,173,163,181,148,170,116,138,145,185,211,194,149,189,166,158,135,135,150,149,141,140,191,164,180,160,176,174,139,158,145,148,158,164,194,161,156,186,188,151,149,162,149,132,169,203,204,139,503,488,443,576,488.7342274447077,488.56645851917932,488.39868959365094,488.23092066812274,488.06315174259436,487.89538281706609,487.72761389153777,487.55984496600945,154943,156663,157866,159808.196,161375.20300000001,163015.076]
["Q54","Birmingham And The Black Country ","E08000031","Wolverhampton",285,315,305,40765,41440,41960,42337.866000000016,42787.05,696.7,760.2,736,282,"Wolverhampton",255,325,300,295,380,350,86.5,85.6,85.8,340,380,"Wolverhampton",493,511,807,933,1048,875,942,1062,735,632,705,739,666,828,790,908,983,841,816,818,939,739,745,727,982,651,705,998,668,1331,728,879,804,650,600,552,555,393,567,419,432,513,744,672,2054,1500,1418,1929,1876.0788583509516,1827.2562367864696,1778.4336152219873,1729.6109936575051,1680.7883720930236,1631.9657505285413,1583.1431289640591,1534.3205073995773,194600,194708,195604.70800000007,196273.79699999999,196856.82800000004,"Wolverhampton",588,506,522,497,385,417,549,564,684,538,456,500,472,455,435,420,390,464,482,461,685,552,531,547,462,425,400,393,404,486,499,515,586,615,589,553,556,557,512,502,486,475,593,695,729,640,631,688,621,639,565,617,593,545,591,623,785,629,1959,1825,1755,1999,1900.7907348734198,1926.8101448829555,1952.8295548924912,1978.8489649020271,2004.868374911563,2030.887784921099,2056.9071949306344,2082.9266049401704,249852,250970,251557,252141.07199999999,252899.97,253783.965]
["Q53","Arden, Herefordshire And Worcestershire ","E10000034","Worcestershire",705,685,720,110170,114660,118324,122256.82099999998,125560.311,641.70000000000005,597.4,628,674,"Worcestershire",395,395,430,530,510,560,74.099999999999994,77.3,76.599999999999994,418,510,"Worcestershire",2097,1889,2046,1691,1804,1577,1822,2283,1836,1887,1426,1446,1333,1795,1849,1989,1568,1601,1943,1903,1718,2000,1341,1551,1172,939,975,1294,793,1054,921,1162,1370,1054,1480,1540,1505,1616,1527,1764,1279,1763,1413,1412,3904,4661,4570,4588,3663.7399577167016,3535.8498942917549,3407.9598308668078,3280.0697674418602,3152.1797040169131,3024.289640591966,2896.3995771670188,2768.5095137420717,454500,457206,458319.26200000005,460583.93400000042,462817.80999999982,"Worcestershire",897,833,878,872,822,816,948,1031,1174,959,876,916,907,932,836,778,777,848,873,905,1256,1036,847,905,942,908,875,833,802,851,923,882,1045,1019,920,986,953,958,1024,1052,919,869,1023,1018,1140,896,876,1092,1047,1004,844,886,807,860,919,921,1263,913,2864,2895,2553,3103,2948.4882032667874,2961.9147005444647,2975.3411978221416,2988.7676950998184,3002.1941923774953,3015.6206896551726,3029.0471869328494,3042.4736842105262,566557,569032,572168,572366.07400000002,574357.06700000004,576543.41599999997]
["Q50","North Yorkshire And Humber ","E06000014","York",205,215,275,33695,34805,35700,36428.35,37112.149999999994,608.4,617.70000000000005,787.2,193,"York",20,30,55,20,45,70,100,69.8,80.900000000000006,40,48,"York",362,466,542,1245,1200,809,893,1313,665,993,960,862,1083,913,779,1000,987,935,812,1076,1008,1420,1155,1214,1308,1036,934,1125,994,1150,869,484,444,993,868,926,829,749,1088,855,654,1031,1023,910,2305,2504,2597,2964,2872.793446088795,2882.9972515856234,2893.2010570824523,2903.4048625792811,2913.60866807611,2923.8124735729389,2934.0162790697677,2944.2200845665966,164000,166102,166302.01699999999,167516.87400000001,168658.42099999997,"York",293,304,263,259,266,254,358,287,394,330,320,305,289,278,270,246,257,269,329,250,410,344,346,314,265,257,243,301,241,264,273,318,382,416,351,361,364,331,320,320,321,298,369,417,429,443,372,382,404,388,305,340,310,318,358,370,373,306,1197,1097,968,1101,1121.0120274385554,1134.991387000523,1148.9707465624904,1162.9501061244578,1176.9294656864251,1190.9088252483925,1204.8881848103601,1218.8675443723275,197783,200018,202433,202863.36300000001,204254.09599999999,205644.76800000001]
[null,null,"-","England",null,null,null,null,null,null,null,null,null,null,null,null,"England",null,null,null,null,null,null,null,null,null,null,null,"England",{"$f":"SUM(AD5:AD155)","v":109789},{"$f":"SUM(AE5:AE155)","v":115615},113003,112865,116291,113918,111969,122878,107750,113162,116819,115286,117073,116898,116615,114409,111878,111559,109140,119482,108258,119183,110190,116906,119701,113884,116413,115709,107260,125287,108738,114519,112741,119898,112590,111613,122037,118476,123406,116606,112348,123862,112466,121940,{"$f":"SUM(BJ156:BL156)","v":345229},{"$f":"SUM(BM156:BO156)","v":352126},{"$f":"SUM(BP156:BR156)","v":352360},{"$f":"SUM(BS156:BU156)","v":358268},{"$f":"FORECAST(46,$AD156:$BU156,$AD$3:$BU$3)*3","v":352634.76300211414},{"$f":"FORECAST(49,$AD156:$BU156,$AD$3:$BU$3)*3","v":353518.63023255812},{"$f":"FORECAST(52,$AD156:$BU156,$AD$3:$BU$3)*3","v":354402.4974630021},{"$f":"FORECAST(55,$AD156:$BU156,$AD$3:$BU$3)*3","v":355286.36469344608},{"$f":"FORECAST(58,$AD156:$BU156,$AD$3:$BU$3)*3","v":356170.23192389007},{"$f":"FORECAST(61,$AD156:$BU156,$AD$3:$BU$3)*3","v":357054.09915433405},{"$f":"FORECAST(64,$AD156:$BU156,$AD$3:$BU$3)*3","v":357937.96638477803},{"$f":"FORECAST(67,$AD156:$BU156,$AD$3:$BU$3)*3","v":358821.83361522201},{"$f":"SUM(CH5:CH155)","v":42070200},{"$f":"SUM(CI5:CI155)","v":42359366},42688941.001000009,43014837.050000027,43338731.10900002,"England",null,null,null,null,null,null,null,null,null,null,null,null,null,null,null,null,null,null,null,null,null,null,null,null,null,null,null,null,null,null,null,null,null,null,null,null,null,null,null,null,null,null,null,null,null,null,null,null,null,null,null,null,null,null,null,null,null,null,null,null,null,null,null,null,null,null,null,null,null,null,{"$f":"SUM(FF5:FF155)","v":53107169},{"$f":"SUM(FG5:FG155)","v":53493729},53865817,54227859.001000002,54613417.001999997,55019792.990999974]
[]
[]
["NB. The admission figures for Bromley, Bexley and Greenwich are low for the period Apr-13 to Sep-13 and this should be taken in to account when setting plans.  The HES monthly data quality note published by the HSCIC (http://www.hscic.gov.uk/searchcatalogue?productid=14625&q=title%3a%22Provisional+Monthly+Hospital+Episode+Statistics%22&sort=Relevance&size=10&page=1#top ) confirms that data has been stripped out of the provisional monthly HES data following the closure of a Trust that covers these areas."]

{"sheet":"Sheet2","index":18,"n_rows":12,"n_cols":1,"rows_kept":12,"cut":false,"hidden":true,"merged":[]}
["<Please select>"]
["Acute"]
["Mental Health"]
["Community Health"]
["Continuing Care"]
["Primary Care"]
["Social Care"]
["Other"]
[]
["<Please select>"]
["Increase"]
["Decrease"]